{"text_format":"1","workbook":"xlsx","n_sheets":20,"sheets":["Component Weights","Structural Building Materials","Building Exterior","Windows","Insulation","Roofing","Heating","Cooling","Water Heating","Primary Heating Fuel Types","Ventilation","Ventilation Filters","Rainwater Catchment","Water Pipes","Plumbing Fixtures","Lighting","Interior Paints & Stains","Wood Finishes","Flooring","Top Picks"],"not_rendered":{"charts":0,"images":0,"macros":1,"external_links":0,"defined_names":2,"comments":18,"pivot_tables":0},"unopened":[],"bounds":{"document_bytes":16777216,"sheet_cells":100000,"rows_first":2000,"rows_last":500,"rows_between":2000,"halvings":0,"cell_chars":16384,"cell_head_chars":4096},"cells_cut":0,"cells_raw":0,"read":"whole","date_system":"1900"}

{"sheet":"Component Weights","index":0,"n_rows":19,"n_cols":10,"rows_kept":19,"cut":false,"hidden":false,"merged":[[18,0,18,3]]}
["Green Component Weightings",null,null,"Detailed instructions and options for using this tool are found in the Using the DYO® GBD Kit Decision Matrix Software Section of your DYO® Green Building Decision Kit."]
[]
["Components","Weight"]
[]
["Incremental Energy Savings",0.08,"M","The amount of incremental energy, expressed in Btu/Hr, that a product saves or generates for the structure."]
["Use of Recycled Content",0.12,"H","The amount of recycled content, expressed as a percentage, found in a product."]
["Low Energy Usage Manufacturing Process",0.08,"M","The amount of energy used in manufacture of the product."]
["Easily Biodegradable",0.12,"H","The amount of time it will take the product to degrade once its useful life is over."]
["Made from Natural Materials",0.05,"L","The amount, expressed as a percentage, of natural (not man-made) materials used to make the product."]
["Available Locally",0.23,"H+","The distance in miles that the product must travel to the destination of final use."]
["Low Emissions Potential",0.12,"H","The amount of time it will take the product to stop outgassing."]
["Listed in Other Programs (e.g. EnergyStar)",0.08,"M","The level of product recommendation in recognized energy and environmental programs."]
["Non Hazardous as Waste",0.12,"H","The amount of hazardous materials and components found in the product."]
["Total Weightings Must Equal 100%",{"$f":"SUM(B5:B13)","v":1},null,{"$f":"IF(B14<>100%,\"Keep Working - Weightings must equal 100%\",\" \")","v":" "}]
[]
["Score:","H","L","M","N","X","X","X","X","X"]
["Score Weight",3,1,2,0,4,5,6,7,8]
["Instructions:",null,null,"       [Warning: Your screen will flash.]"]
["Use this page to weight (prioritize) the green components found in the products you will be using for your project.  These weightings represent what is most important to you overall for your situation and interests.  You may find it helpful to first rank the components as High, Medium, or Low in importance to you, then to assign percentage weightings.  The total of all percentage weightings must add up to 100%.  Once you've finished, use the \"Populate Product Tables\" button to populate the tables on each product tab that follows with these values.  Then, using the tabs at the bottom, choose the product(s) for which you have decisions to make.  You may then change the percentage weighting values on the product tab (if you wish) to reflect your preferences for each particular product type.  When finished with the products tabs, import your prioritized lists using the instructions on the Top Picks Report tab to print a report showing the top products that match your priorities.  "]

{"sheet":"Structural Building Materials","index":1,"n_rows":18,"n_cols":29,"rows_kept":18,"cut":false,"hidden":false,"merged":[]}
["Instructions:\nScroll down to see all products.  New products may be added to the end of the list.  Rate the performance of each product as \"N, L, M or H.\" (Hover over the component title for the rating description.)  Use your Backspace button to clear values.  The Sort button (below) will incorporate your priorities as currently stated on the table to the right.  (Scroll to the right to see the table.)\n\n","Available Locally","Incremental Energy Savings","Use of Recycled Content","Low Energy Usage Manufacturing Process","Easily Biodegradable","Made from Natural Materials","Low Emissions Potential","Listed in Other Programs","Non Hazardous as Waste","Total Raw Score","Incremental Energy Savings Weighted Score","Use of Recycled Content Weighted Score","Low Energy Usage Mfg. Process Weighted Score","Easily Biodegradable Weighted Score","Made from Natural Materials Weighted Score","Available Locally Weighted Score","Low Emissions Potential Weighted Score","Listed in Other Programs Weighted Score","Non Hazardous as Waste Weighted Score","Total Weighted Score","Force Ranking",null,"Weighted Score for Force Rank Calculation ",null,"Detailed instructions and options for using this tool are found in the Using the DYO® GBD Kit Decision Matrix Software Section of your DYO® Green Building Decision Kit."]
["Straw Bale Construction",null,"H","H","H","H","H","H","M","H",{"$f":"SUM(IF(ISBLANK(C2),,LOOKUP(C2,'Component Weights'!$B$16:$J$16,'Component Weights'!$B$17:$J$17)),IF(ISBLANK(D2),,LOOKUP(D2,'Component Weights'!$B$16:$J$16,'Component Weights'!$B$17:$J$17)),IF(ISBLANK(E2),,LOOKUP(E2,'Component Weights'!$B$16:$J$16,'Component Weights'!$B$17:$J$17)),IF(ISBLANK(F2),,LOOKUP(F2,'Component Weights'!$B$16:$J$16,'Component Weights'!$B$17:$J$17)),IF(ISBLANK(G2),,LOOKUP(G2,'Component Weights'!$B$16:$J$16,'Component Weights'!$B$17:$J$17)),IF(ISBLANK(B2),,LOOKUP(B2,'Component Weights'!$B$16:$J$16,'Component Weights'!$B$17:$J$17)),IF(ISBLANK(H2),,LOOKUP(H2,'Component Weights'!$B$16:$J$16,'Component Weights'!$B$17:$J$17)),IF(ISBLANK(I2),,LOOKUP(I2,'Component Weights'!$B$16:$J$16,'Component Weights'!$B$17:$J$17)),IF(ISBLANK(J2),,LOOKUP(J2,'Component Weights'!$B$16:$J$16,'Component Weights'!$B$17:$J$17)))","v":23},{"$f":"IF(ISBLANK(C2),\" \",(LOOKUP(C2,'Component Weights'!$B$16:$J$16,'Component Weights'!$B$17:$J$17)*$AA$4))","v":0.24},{"$f":"IF(ISBLANK(D2),\" \",(LOOKUP(D2,'Component Weights'!$B$16:$J$16,'Component Weights'!$B$17:$J$17)*$AA$5))","v":0.36},{"$f":"IF(ISBLANK(E2),\" \",(LOOKUP(E2,'Component Weights'!$B$16:$J$16,'Component Weights'!$B$17:$J$17)*$AA$6))","v":0.24},{"$f":"IF(ISBLANK(F2),\" \",(LOOKUP(F2,'Component Weights'!$B$16:$J$16,'Component Weights'!$B$17:$J$17)*$AA$7))","v":0.03},{"$f":"IF(ISBLANK(G2),\" \",(LOOKUP(G2,'Component Weights'!$B$16:$J$16,'Component Weights'!$B$17:$J$17)*$AA$8))","v":0.15000000000000002},{"$f":"IF(ISBLANK(B2),\" \",(LOOKUP(B2,'Component Weights'!$B$16:$J$16,'Component Weights'!$B$17:$J$17)*$AA$9))","v":" "},{"$f":"IF(ISBLANK(H2),\" \",(LOOKUP(H2,'Component Weights'!$B$16:$J$16,'Component Weights'!$B$17:$J$17)*$AA$10))","v":0.36},{"$f":"IF(ISBLANK(I2),\" \",(LOOKUP(I2,'Component Weights'!$B$16:$J$16,'Component Weights'!$B$17:$J$17)*$AA$11))","v":0.16},{"$f":"IF(ISBLANK(J2),\" \",(LOOKUP(J2,'Component Weights'!$B$16:$J$16,'Component Weights'!$B$17:$J$17)*$AA$12))","v":0.33},{"$f":"SUM(L2:T2)","v":1.8699999999999999},{"$f":"IF($U2>0,RANK($U2,X$2:X$182,0),99)","v":1},null,{"$f":"U2","v":1.8699999999999999},null,"Component Weights for","Weight"]
["Rammed Earth",null,"H","M","H","H","H","H","M","H",{"$f":"SUM(IF(ISBLANK(C3),,LOOKUP(C3,'Component Weights'!$B$16:$J$16,'Component Weights'!$B$17:$J$17)),IF(ISBLANK(D3),,LOOKUP(D3,'Component Weights'!$B$16:$J$16,'Component Weights'!$B$17:$J$17)),IF(ISBLANK(E3),,LOOKUP(E3,'Component Weights'!$B$16:$J$16,'Component Weights'!$B$17:$J$17)),IF(ISBLANK(F3),,LOOKUP(F3,'Component Weights'!$B$16:$J$16,'Component Weights'!$B$17:$J$17)),IF(ISBLANK(G3),,LOOKUP(G3,'Component Weights'!$B$16:$J$16,'Component Weights'!$B$17:$J$17)),IF(ISBLANK(B3),,LOOKUP(B3,'Component Weights'!$B$16:$J$16,'Component Weights'!$B$17:$J$17)),IF(ISBLANK(H3),,LOOKUP(H3,'Component Weights'!$B$16:$J$16,'Component Weights'!$B$17:$J$17)),IF(ISBLANK(I3),,LOOKUP(I3,'Component Weights'!$B$16:$J$16,'Component Weights'!$B$17:$J$17)),IF(ISBLANK(J3),,LOOKUP(J3,'Component Weights'!$B$16:$J$16,'Component Weights'!$B$17:$J$17)))","v":22},{"$f":"IF(ISBLANK(C3),\" \",(LOOKUP(C3,'Component Weights'!$B$16:$J$16,'Component Weights'!$B$17:$J$17)*$AA$4))","v":0.24},{"$f":"IF(ISBLANK(D3),\" \",(LOOKUP(D3,'Component Weights'!$B$16:$J$16,'Component Weights'!$B$17:$J$17)*$AA$5))","v":0.24},{"$f":"IF(ISBLANK(E3),\" \",(LOOKUP(E3,'Component Weights'!$B$16:$J$16,'Component Weights'!$B$17:$J$17)*$AA$6))","v":0.24},{"$f":"IF(ISBLANK(F3),\" \",(LOOKUP(F3,'Component Weights'!$B$16:$J$16,'Component Weights'!$B$17:$J$17)*$AA$7))","v":0.03},{"$f":"IF(ISBLANK(G3),\" \",(LOOKUP(G3,'Component Weights'!$B$16:$J$16,'Component Weights'!$B$17:$J$17)*$AA$8))","v":0.15000000000000002},{"$f":"IF(ISBLANK(B3),\" \",(LOOKUP(B3,'Component Weights'!$B$16:$J$16,'Component Weights'!$B$17:$J$17)*$AA$9))","v":" "},{"$f":"IF(ISBLANK(H3),\" \",(LOOKUP(H3,'Component Weights'!$B$16:$J$16,'Component Weights'!$B$17:$J$17)*$AA$10))","v":0.36},{"$f":"IF(ISBLANK(I3),\" \",(LOOKUP(I3,'Component Weights'!$B$16:$J$16,'Component Weights'!$B$17:$J$17)*$AA$11))","v":0.16},{"$f":"IF(ISBLANK(J3),\" \",(LOOKUP(J3,'Component Weights'!$B$16:$J$16,'Component Weights'!$B$17:$J$17)*$AA$12))","v":0.33},1.75,2,null,1.75,null,"Structural Building Materials "]
["Wood Framing - \"Stick Built\"",null,"M","L","H","H","H","H","M","H",{"$f":"SUM(IF(ISBLANK(C4),,LOOKUP(C4,'Component Weights'!$B$16:$J$16,'Component Weights'!$B$17:$J$17)),IF(ISBLANK(D4),,LOOKUP(D4,'Component Weights'!$B$16:$J$16,'Component Weights'!$B$17:$J$17)),IF(ISBLANK(E4),,LOOKUP(E4,'Component Weights'!$B$16:$J$16,'Component Weights'!$B$17:$J$17)),IF(ISBLANK(F4),,LOOKUP(F4,'Component Weights'!$B$16:$J$16,'Component Weights'!$B$17:$J$17)),IF(ISBLANK(G4),,LOOKUP(G4,'Component Weights'!$B$16:$J$16,'Component Weights'!$B$17:$J$17)),IF(ISBLANK(B4),,LOOKUP(B4,'Component Weights'!$B$16:$J$16,'Component Weights'!$B$17:$J$17)),IF(ISBLANK(H4),,LOOKUP(H4,'Component Weights'!$B$16:$J$16,'Component Weights'!$B$17:$J$17)),IF(ISBLANK(I4),,LOOKUP(I4,'Component Weights'!$B$16:$J$16,'Component Weights'!$B$17:$J$17)),IF(ISBLANK(J4),,LOOKUP(J4,'Component Weights'!$B$16:$J$16,'Component Weights'!$B$17:$J$17)))","v":20},{"$f":"IF(ISBLANK(C4),\" \",(LOOKUP(C4,'Component Weights'!$B$16:$J$16,'Component Weights'!$B$17:$J$17)*$AA$4))","v":0.16},{"$f":"IF(ISBLANK(D4),\" \",(LOOKUP(D4,'Component Weights'!$B$16:$J$16,'Component Weights'!$B$17:$J$17)*$AA$5))","v":0.12},{"$f":"IF(ISBLANK(E4),\" \",(LOOKUP(E4,'Component Weights'!$B$16:$J$16,'Component Weights'!$B$17:$J$17)*$AA$6))","v":0.24},{"$f":"IF(ISBLANK(F4),\" \",(LOOKUP(F4,'Component Weights'!$B$16:$J$16,'Component Weights'!$B$17:$J$17)*$AA$7))","v":0.03},{"$f":"IF(ISBLANK(G4),\" \",(LOOKUP(G4,'Component Weights'!$B$16:$J$16,'Component Weights'!$B$17:$J$17)*$AA$8))","v":0.15000000000000002},{"$f":"IF(ISBLANK(B4),\" \",(LOOKUP(B4,'Component Weights'!$B$16:$J$16,'Component Weights'!$B$17:$J$17)*$AA$9))","v":" "},{"$f":"IF(ISBLANK(H4),\" \",(LOOKUP(H4,'Component Weights'!$B$16:$J$16,'Component Weights'!$B$17:$J$17)*$AA$10))","v":0.36},{"$f":"IF(ISBLANK(I4),\" \",(LOOKUP(I4,'Component Weights'!$B$16:$J$16,'Component Weights'!$B$17:$J$17)*$AA$11))","v":0.16},{"$f":"IF(ISBLANK(J4),\" \",(LOOKUP(J4,'Component Weights'!$B$16:$J$16,'Component Weights'!$B$17:$J$17)*$AA$12))","v":0.33},1.55,4,null,1.55,null,"Incremental Energy Savings",0.08,"M","The amount of incremental energy, expressed in Btu/Hr, that a product saves or generates for the structure."]
["Adobe",null,"M","L","H","H","H","H","M","H",{"$f":"SUM(IF(ISBLANK(C5),,LOOKUP(C5,'Component Weights'!$B$16:$J$16,'Component Weights'!$B$17:$J$17)),IF(ISBLANK(D5),,LOOKUP(D5,'Component Weights'!$B$16:$J$16,'Component Weights'!$B$17:$J$17)),IF(ISBLANK(E5),,LOOKUP(E5,'Component Weights'!$B$16:$J$16,'Component Weights'!$B$17:$J$17)),IF(ISBLANK(F5),,LOOKUP(F5,'Component Weights'!$B$16:$J$16,'Component Weights'!$B$17:$J$17)),IF(ISBLANK(G5),,LOOKUP(G5,'Component Weights'!$B$16:$J$16,'Component Weights'!$B$17:$J$17)),IF(ISBLANK(B5),,LOOKUP(B5,'Component Weights'!$B$16:$J$16,'Component Weights'!$B$17:$J$17)),IF(ISBLANK(H5),,LOOKUP(H5,'Component Weights'!$B$16:$J$16,'Component Weights'!$B$17:$J$17)),IF(ISBLANK(I5),,LOOKUP(I5,'Component Weights'!$B$16:$J$16,'Component Weights'!$B$17:$J$17)),IF(ISBLANK(J5),,LOOKUP(J5,'Component Weights'!$B$16:$J$16,'Component Weights'!$B$17:$J$17)))","v":20},{"$f":"IF(ISBLANK(C5),\" \",(LOOKUP(C5,'Component Weights'!$B$16:$J$16,'Component Weights'!$B$17:$J$17)*$AA$4))","v":0.16},{"$f":"IF(ISBLANK(D5),\" \",(LOOKUP(D5,'Component Weights'!$B$16:$J$16,'Component Weights'!$B$17:$J$17)*$AA$5))","v":0.12},{"$f":"IF(ISBLANK(E5),\" \",(LOOKUP(E5,'Component Weights'!$B$16:$J$16,'Component Weights'!$B$17:$J$17)*$AA$6))","v":0.24},{"$f":"IF(ISBLANK(F5),\" \",(LOOKUP(F5,'Component Weights'!$B$16:$J$16,'Component Weights'!$B$17:$J$17)*$AA$7))","v":0.03},{"$f":"IF(ISBLANK(G5),\" \",(LOOKUP(G5,'Component Weights'!$B$16:$J$16,'Component Weights'!$B$17:$J$17)*$AA$8))","v":0.15000000000000002},{"$f":"IF(ISBLANK(B5),\" \",(LOOKUP(B5,'Component Weights'!$B$16:$J$16,'Component Weights'!$B$17:$J$17)*$AA$9))","v":" "},{"$f":"IF(ISBLANK(H5),\" \",(LOOKUP(H5,'Component Weights'!$B$16:$J$16,'Component Weights'!$B$17:$J$17)*$AA$10))","v":0.36},{"$f":"IF(ISBLANK(I5),\" \",(LOOKUP(I5,'Component Weights'!$B$16:$J$16,'Component Weights'!$B$17:$J$17)*$AA$11))","v":0.16},{"$f":"IF(ISBLANK(J5),\" \",(LOOKUP(J5,'Component Weights'!$B$16:$J$16,'Component Weights'!$B$17:$J$17)*$AA$12))","v":0.33},1.55,4,null,1.55,null,"Use of Recycled Content",0.12,"H","The amount of recycled content, expressed as a percentage, found in a product."]
["Engineered Wood – Trusses – Laminated Beams",null,"M","H","M","M","H","M","H","H",{"$f":"SUM(IF(ISBLANK(C6),,LOOKUP(C6,'Component Weights'!$B$16:$J$16,'Component Weights'!$B$17:$J$17)),IF(ISBLANK(D6),,LOOKUP(D6,'Component Weights'!$B$16:$J$16,'Component Weights'!$B$17:$J$17)),IF(ISBLANK(E6),,LOOKUP(E6,'Component Weights'!$B$16:$J$16,'Component Weights'!$B$17:$J$17)),IF(ISBLANK(F6),,LOOKUP(F6,'Component Weights'!$B$16:$J$16,'Component Weights'!$B$17:$J$17)),IF(ISBLANK(G6),,LOOKUP(G6,'Component Weights'!$B$16:$J$16,'Component Weights'!$B$17:$J$17)),IF(ISBLANK(B6),,LOOKUP(B6,'Component Weights'!$B$16:$J$16,'Component Weights'!$B$17:$J$17)),IF(ISBLANK(H6),,LOOKUP(H6,'Component Weights'!$B$16:$J$16,'Component Weights'!$B$17:$J$17)),IF(ISBLANK(I6),,LOOKUP(I6,'Component Weights'!$B$16:$J$16,'Component Weights'!$B$17:$J$17)),IF(ISBLANK(J6),,LOOKUP(J6,'Component Weights'!$B$16:$J$16,'Component Weights'!$B$17:$J$17)))","v":20},{"$f":"IF(ISBLANK(C6),\" \",(LOOKUP(C6,'Component Weights'!$B$16:$J$16,'Component Weights'!$B$17:$J$17)*$AA$4))","v":0.16},{"$f":"IF(ISBLANK(D6),\" \",(LOOKUP(D6,'Component Weights'!$B$16:$J$16,'Component Weights'!$B$17:$J$17)*$AA$5))","v":0.36},{"$f":"IF(ISBLANK(E6),\" \",(LOOKUP(E6,'Component Weights'!$B$16:$J$16,'Component Weights'!$B$17:$J$17)*$AA$6))","v":0.16},{"$f":"IF(ISBLANK(F6),\" \",(LOOKUP(F6,'Component Weights'!$B$16:$J$16,'Component Weights'!$B$17:$J$17)*$AA$7))","v":0.02},{"$f":"IF(ISBLANK(G6),\" \",(LOOKUP(G6,'Component Weights'!$B$16:$J$16,'Component Weights'!$B$17:$J$17)*$AA$8))","v":0.15000000000000002},{"$f":"IF(ISBLANK(B6),\" \",(LOOKUP(B6,'Component Weights'!$B$16:$J$16,'Component Weights'!$B$17:$J$17)*$AA$9))","v":" "},{"$f":"IF(ISBLANK(H6),\" \",(LOOKUP(H6,'Component Weights'!$B$16:$J$16,'Component Weights'!$B$17:$J$17)*$AA$10))","v":0.24},{"$f":"IF(ISBLANK(I6),\" \",(LOOKUP(I6,'Component Weights'!$B$16:$J$16,'Component Weights'!$B$17:$J$17)*$AA$11))","v":0.24},{"$f":"IF(ISBLANK(J6),\" \",(LOOKUP(J6,'Component Weights'!$B$16:$J$16,'Component Weights'!$B$17:$J$17)*$AA$12))","v":0.33},1.6600000000000001,3,null,1.6600000000000001,null,"Low Energy Usage Manufacturing Process",0.08,"M","The amount of energy used in manufacture of the product."]
["Structural Insulated Panels (SIPS)",null,"H","M","H","L","L","M","H","M",{"$f":"SUM(IF(ISBLANK(C7),,LOOKUP(C7,'Component Weights'!$B$16:$J$16,'Component Weights'!$B$17:$J$17)),IF(ISBLANK(D7),,LOOKUP(D7,'Component Weights'!$B$16:$J$16,'Component Weights'!$B$17:$J$17)),IF(ISBLANK(E7),,LOOKUP(E7,'Component Weights'!$B$16:$J$16,'Component Weights'!$B$17:$J$17)),IF(ISBLANK(F7),,LOOKUP(F7,'Component Weights'!$B$16:$J$16,'Component Weights'!$B$17:$J$17)),IF(ISBLANK(G7),,LOOKUP(G7,'Component Weights'!$B$16:$J$16,'Component Weights'!$B$17:$J$17)),IF(ISBLANK(B7),,LOOKUP(B7,'Component Weights'!$B$16:$J$16,'Component Weights'!$B$17:$J$17)),IF(ISBLANK(H7),,LOOKUP(H7,'Component Weights'!$B$16:$J$16,'Component Weights'!$B$17:$J$17)),IF(ISBLANK(I7),,LOOKUP(I7,'Component Weights'!$B$16:$J$16,'Component Weights'!$B$17:$J$17)),IF(ISBLANK(J7),,LOOKUP(J7,'Component Weights'!$B$16:$J$16,'Component Weights'!$B$17:$J$17)))","v":17},{"$f":"IF(ISBLANK(C7),\" \",(LOOKUP(C7,'Component Weights'!$B$16:$J$16,'Component Weights'!$B$17:$J$17)*$AA$4))","v":0.24},{"$f":"IF(ISBLANK(D7),\" \",(LOOKUP(D7,'Component Weights'!$B$16:$J$16,'Component Weights'!$B$17:$J$17)*$AA$5))","v":0.24},{"$f":"IF(ISBLANK(E7),\" \",(LOOKUP(E7,'Component Weights'!$B$16:$J$16,'Component Weights'!$B$17:$J$17)*$AA$6))","v":0.24},{"$f":"IF(ISBLANK(F7),\" \",(LOOKUP(F7,'Component Weights'!$B$16:$J$16,'Component Weights'!$B$17:$J$17)*$AA$7))","v":0.01},{"$f":"IF(ISBLANK(G7),\" \",(LOOKUP(G7,'Component Weights'!$B$16:$J$16,'Component Weights'!$B$17:$J$17)*$AA$8))","v":0.05},{"$f":"IF(ISBLANK(B7),\" \",(LOOKUP(B7,'Component Weights'!$B$16:$J$16,'Component Weights'!$B$17:$J$17)*$AA$9))","v":" "},{"$f":"IF(ISBLANK(H7),\" \",(LOOKUP(H7,'Component Weights'!$B$16:$J$16,'Component Weights'!$B$17:$J$17)*$AA$10))","v":0.24},{"$f":"IF(ISBLANK(I7),\" \",(LOOKUP(I7,'Component Weights'!$B$16:$J$16,'Component Weights'!$B$17:$J$17)*$AA$11))","v":0.24},{"$f":"IF(ISBLANK(J7),\" \",(LOOKUP(J7,'Component Weights'!$B$16:$J$16,'Component Weights'!$B$17:$J$17)*$AA$12))","v":0.22},1.48,6,null,1.48,null,"Easily Biodegradable",0.01,"H","The amount of time it will take the product to degrade once its useful life is over."]
["Insulated Concrete Forms (ICFs)",null,"M","L","L","N","L","M","M","M",{"$f":"SUM(IF(ISBLANK(C8),,LOOKUP(C8,'Component Weights'!$B$16:$J$16,'Component Weights'!$B$17:$J$17)),IF(ISBLANK(D8),,LOOKUP(D8,'Component Weights'!$B$16:$J$16,'Component Weights'!$B$17:$J$17)),IF(ISBLANK(E8),,LOOKUP(E8,'Component Weights'!$B$16:$J$16,'Component Weights'!$B$17:$J$17)),IF(ISBLANK(F8),,LOOKUP(F8,'Component Weights'!$B$16:$J$16,'Component Weights'!$B$17:$J$17)),IF(ISBLANK(G8),,LOOKUP(G8,'Component Weights'!$B$16:$J$16,'Component Weights'!$B$17:$J$17)),IF(ISBLANK(B8),,LOOKUP(B8,'Component Weights'!$B$16:$J$16,'Component Weights'!$B$17:$J$17)),IF(ISBLANK(H8),,LOOKUP(H8,'Component Weights'!$B$16:$J$16,'Component Weights'!$B$17:$J$17)),IF(ISBLANK(I8),,LOOKUP(I8,'Component Weights'!$B$16:$J$16,'Component Weights'!$B$17:$J$17)),IF(ISBLANK(J8),,LOOKUP(J8,'Component Weights'!$B$16:$J$16,'Component Weights'!$B$17:$J$17)))","v":11},{"$f":"IF(ISBLANK(C8),\" \",(LOOKUP(C8,'Component Weights'!$B$16:$J$16,'Component Weights'!$B$17:$J$17)*$AA$4))","v":0.16},{"$f":"IF(ISBLANK(D8),\" \",(LOOKUP(D8,'Component Weights'!$B$16:$J$16,'Component Weights'!$B$17:$J$17)*$AA$5))","v":0.12},{"$f":"IF(ISBLANK(E8),\" \",(LOOKUP(E8,'Component Weights'!$B$16:$J$16,'Component Weights'!$B$17:$J$17)*$AA$6))","v":0.08},{"$f":"IF(ISBLANK(F8),\" \",(LOOKUP(F8,'Component Weights'!$B$16:$J$16,'Component Weights'!$B$17:$J$17)*$AA$7))","v":0},{"$f":"IF(ISBLANK(G8),\" \",(LOOKUP(G8,'Component Weights'!$B$16:$J$16,'Component Weights'!$B$17:$J$17)*$AA$8))","v":0.05},{"$f":"IF(ISBLANK(B8),\" \",(LOOKUP(B8,'Component Weights'!$B$16:$J$16,'Component Weights'!$B$17:$J$17)*$AA$9))","v":" "},{"$f":"IF(ISBLANK(H8),\" \",(LOOKUP(H8,'Component Weights'!$B$16:$J$16,'Component Weights'!$B$17:$J$17)*$AA$10))","v":0.24},{"$f":"IF(ISBLANK(I8),\" \",(LOOKUP(I8,'Component Weights'!$B$16:$J$16,'Component Weights'!$B$17:$J$17)*$AA$11))","v":0.16},{"$f":"IF(ISBLANK(J8),\" \",(LOOKUP(J8,'Component Weights'!$B$16:$J$16,'Component Weights'!$B$17:$J$17)*$AA$12))","v":0.22},1.03,7,null,1.03,null,"Made from Natural Materials",0.05,"L","The amount, expressed as a percentage, of natural (not man-made) materials used to make the product."]
["Metal Framing – Steel Studs",null,"L","L","L","L","L","M","N","M",{"$f":"SUM(IF(ISBLANK(C9),,LOOKUP(C9,'Component Weights'!$B$16:$J$16,'Component Weights'!$B$17:$J$17)),IF(ISBLANK(D9),,LOOKUP(D9,'Component Weights'!$B$16:$J$16,'Component Weights'!$B$17:$J$17)),IF(ISBLANK(E9),,LOOKUP(E9,'Component Weights'!$B$16:$J$16,'Component Weights'!$B$17:$J$17)),IF(ISBLANK(F9),,LOOKUP(F9,'Component Weights'!$B$16:$J$16,'Component Weights'!$B$17:$J$17)),IF(ISBLANK(G9),,LOOKUP(G9,'Component Weights'!$B$16:$J$16,'Component Weights'!$B$17:$J$17)),IF(ISBLANK(B9),,LOOKUP(B9,'Component Weights'!$B$16:$J$16,'Component Weights'!$B$17:$J$17)),IF(ISBLANK(H9),,LOOKUP(H9,'Component Weights'!$B$16:$J$16,'Component Weights'!$B$17:$J$17)),IF(ISBLANK(I9),,LOOKUP(I9,'Component Weights'!$B$16:$J$16,'Component Weights'!$B$17:$J$17)),IF(ISBLANK(J9),,LOOKUP(J9,'Component Weights'!$B$16:$J$16,'Component Weights'!$B$17:$J$17)))","v":9},{"$f":"IF(ISBLANK(C9),\" \",(LOOKUP(C9,'Component Weights'!$B$16:$J$16,'Component Weights'!$B$17:$J$17)*$AA$4))","v":0.08},{"$f":"IF(ISBLANK(D9),\" \",(LOOKUP(D9,'Component Weights'!$B$16:$J$16,'Component Weights'!$B$17:$J$17)*$AA$5))","v":0.12},{"$f":"IF(ISBLANK(E9),\" \",(LOOKUP(E9,'Component Weights'!$B$16:$J$16,'Component Weights'!$B$17:$J$17)*$AA$6))","v":0.08},{"$f":"IF(ISBLANK(F9),\" \",(LOOKUP(F9,'Component Weights'!$B$16:$J$16,'Component Weights'!$B$17:$J$17)*$AA$7))","v":0.01},{"$f":"IF(ISBLANK(G9),\" \",(LOOKUP(G9,'Component Weights'!$B$16:$J$16,'Component Weights'!$B$17:$J$17)*$AA$8))","v":0.05},{"$f":"IF(ISBLANK(B9),\" \",(LOOKUP(B9,'Component Weights'!$B$16:$J$16,'Component Weights'!$B$17:$J$17)*$AA$9))","v":" "},{"$f":"IF(ISBLANK(H9),\" \",(LOOKUP(H9,'Component Weights'!$B$16:$J$16,'Component Weights'!$B$17:$J$17)*$AA$10))","v":0.24},{"$f":"IF(ISBLANK(I9),\" \",(LOOKUP(I9,'Component Weights'!$B$16:$J$16,'Component Weights'!$B$17:$J$17)*$AA$11))","v":0},{"$f":"IF(ISBLANK(J9),\" \",(LOOKUP(J9,'Component Weights'!$B$16:$J$16,'Component Weights'!$B$17:$J$17)*$AA$12))","v":0.22},0.8,8,null,0.8,null,"Available Locally",0.35,"H+","The distance in miles that the product must travel to the destination of final use."]
["Steel with Formed Foam",null,"M","L","L","L","L","L","L","L",{"$f":"SUM(IF(ISBLANK(C10),,LOOKUP(C10,'Component Weights'!$B$16:$J$16,'Component Weights'!$B$17:$J$17)),IF(ISBLANK(D10),,LOOKUP(D10,'Component Weights'!$B$16:$J$16,'Component Weights'!$B$17:$J$17)),IF(ISBLANK(E10),,LOOKUP(E10,'Component Weights'!$B$16:$J$16,'Component Weights'!$B$17:$J$17)),IF(ISBLANK(F10),,LOOKUP(F10,'Component Weights'!$B$16:$J$16,'Component Weights'!$B$17:$J$17)),IF(ISBLANK(G10),,LOOKUP(G10,'Component Weights'!$B$16:$J$16,'Component Weights'!$B$17:$J$17)),IF(ISBLANK(B10),,LOOKUP(B10,'Component Weights'!$B$16:$J$16,'Component Weights'!$B$17:$J$17)),IF(ISBLANK(H10),,LOOKUP(H10,'Component Weights'!$B$16:$J$16,'Component Weights'!$B$17:$J$17)),IF(ISBLANK(I10),,LOOKUP(I10,'Component Weights'!$B$16:$J$16,'Component Weights'!$B$17:$J$17)),IF(ISBLANK(J10),,LOOKUP(J10,'Component Weights'!$B$16:$J$16,'Component Weights'!$B$17:$J$17)))","v":9},{"$f":"IF(ISBLANK(C10),\" \",(LOOKUP(C10,'Component Weights'!$B$16:$J$16,'Component Weights'!$B$17:$J$17)*$AA$4))","v":0.16},{"$f":"IF(ISBLANK(D10),\" \",(LOOKUP(D10,'Component Weights'!$B$16:$J$16,'Component Weights'!$B$17:$J$17)*$AA$5))","v":0.12},{"$f":"IF(ISBLANK(E10),\" \",(LOOKUP(E10,'Component Weights'!$B$16:$J$16,'Component Weights'!$B$17:$J$17)*$AA$6))","v":0.08},{"$f":"IF(ISBLANK(F10),\" \",(LOOKUP(F10,'Component Weights'!$B$16:$J$16,'Component Weights'!$B$17:$J$17)*$AA$7))","v":0.01},{"$f":"IF(ISBLANK(G10),\" \",(LOOKUP(G10,'Component Weights'!$B$16:$J$16,'Component Weights'!$B$17:$J$17)*$AA$8))","v":0.05},{"$f":"IF(ISBLANK(B10),\" \",(LOOKUP(B10,'Component Weights'!$B$16:$J$16,'Component Weights'!$B$17:$J$17)*$AA$9))","v":" "},{"$f":"IF(ISBLANK(H10),\" \",(LOOKUP(H10,'Component Weights'!$B$16:$J$16,'Component Weights'!$B$17:$J$17)*$AA$10))","v":0.12},{"$f":"IF(ISBLANK(I10),\" \",(LOOKUP(I10,'Component Weights'!$B$16:$J$16,'Component Weights'!$B$17:$J$17)*$AA$11))","v":0.08},{"$f":"IF(ISBLANK(J10),\" \",(LOOKUP(J10,'Component Weights'!$B$16:$J$16,'Component Weights'!$B$17:$J$17)*$AA$12))","v":0.11},0.73,9,null,0.73,null,"Low Emissions Potential",0.12,"H","The amount of time it will take the product to stop outgassing."]
["Fiberglass/Plastic",null,"L","N","N","N","N","N","N","N",{"$f":"SUM(IF(ISBLANK(C11),,LOOKUP(C11,'Component Weights'!$B$16:$J$16,'Component Weights'!$B$17:$J$17)),IF(ISBLANK(D11),,LOOKUP(D11,'Component Weights'!$B$16:$J$16,'Component Weights'!$B$17:$J$17)),IF(ISBLANK(E11),,LOOKUP(E11,'Component Weights'!$B$16:$J$16,'Component Weights'!$B$17:$J$17)),IF(ISBLANK(F11),,LOOKUP(F11,'Component Weights'!$B$16:$J$16,'Component Weights'!$B$17:$J$17)),IF(ISBLANK(G11),,LOOKUP(G11,'Component Weights'!$B$16:$J$16,'Component Weights'!$B$17:$J$17)),IF(ISBLANK(B11),,LOOKUP(B11,'Component Weights'!$B$16:$J$16,'Component Weights'!$B$17:$J$17)),IF(ISBLANK(H11),,LOOKUP(H11,'Component Weights'!$B$16:$J$16,'Component Weights'!$B$17:$J$17)),IF(ISBLANK(I11),,LOOKUP(I11,'Component Weights'!$B$16:$J$16,'Component Weights'!$B$17:$J$17)),IF(ISBLANK(J11),,LOOKUP(J11,'Component Weights'!$B$16:$J$16,'Component Weights'!$B$17:$J$17)))","v":1},{"$f":"IF(ISBLANK(C11),\" \",(LOOKUP(C11,'Component Weights'!$B$16:$J$16,'Component Weights'!$B$17:$J$17)*$AA$4))","v":0.08},{"$f":"IF(ISBLANK(D11),\" \",(LOOKUP(D11,'Component Weights'!$B$16:$J$16,'Component Weights'!$B$17:$J$17)*$AA$5))","v":0},{"$f":"IF(ISBLANK(E11),\" \",(LOOKUP(E11,'Component Weights'!$B$16:$J$16,'Component Weights'!$B$17:$J$17)*$AA$6))","v":0},{"$f":"IF(ISBLANK(F11),\" \",(LOOKUP(F11,'Component Weights'!$B$16:$J$16,'Component Weights'!$B$17:$J$17)*$AA$7))","v":0},{"$f":"IF(ISBLANK(G11),\" \",(LOOKUP(G11,'Component Weights'!$B$16:$J$16,'Component Weights'!$B$17:$J$17)*$AA$8))","v":0},{"$f":"IF(ISBLANK(B11),\" \",(LOOKUP(B11,'Component Weights'!$B$16:$J$16,'Component Weights'!$B$17:$J$17)*$AA$9))","v":" "},{"$f":"IF(ISBLANK(H11),\" \",(LOOKUP(H11,'Component Weights'!$B$16:$J$16,'Component Weights'!$B$17:$J$17)*$AA$10))","v":0},{"$f":"IF(ISBLANK(I11),\" \",(LOOKUP(I11,'Component Weights'!$B$16:$J$16,'Component Weights'!$B$17:$J$17)*$AA$11))","v":0},{"$f":"IF(ISBLANK(J11),\" \",(LOOKUP(J11,'Component Weights'!$B$16:$J$16,'Component Weights'!$B$17:$J$17)*$AA$12))","v":0},0.08,10,null,0.08,null,"Listed in Other Programs (e.g. EnergyStar)",0.08,"M","The level of product recommendation in recognized energy and environmental programs."]
["(Enter Custom Product Here)",null,null,null,null,null,null,null,null,null,{"$f":"SUM(IF(ISBLANK(C12),,LOOKUP(C12,'Component Weights'!$B$16:$J$16,'Component Weights'!$B$17:$J$17)),IF(ISBLANK(D12),,LOOKUP(D12,'Component Weights'!$B$16:$J$16,'Component Weights'!$B$17:$J$17)),IF(ISBLANK(E12),,LOOKUP(E12,'Component Weights'!$B$16:$J$16,'Component Weights'!$B$17:$J$17)),IF(ISBLANK(F12),,LOOKUP(F12,'Component Weights'!$B$16:$J$16,'Component Weights'!$B$17:$J$17)),IF(ISBLANK(G12),,LOOKUP(G12,'Component Weights'!$B$16:$J$16,'Component Weights'!$B$17:$J$17)),IF(ISBLANK(B12),,LOOKUP(B12,'Component Weights'!$B$16:$J$16,'Component Weights'!$B$17:$J$17)),IF(ISBLANK(H12),,LOOKUP(H12,'Component Weights'!$B$16:$J$16,'Component Weights'!$B$17:$J$17)),IF(ISBLANK(I12),,LOOKUP(I12,'Component Weights'!$B$16:$J$16,'Component Weights'!$B$17:$J$17)),IF(ISBLANK(J12),,LOOKUP(J12,'Component Weights'!$B$16:$J$16,'Component Weights'!$B$17:$J$17)))","v":0},{"$f":"IF(ISBLANK(C12),\" \",(LOOKUP(C12,'Component Weights'!$B$16:$J$16,'Component Weights'!$B$17:$J$17)*$AA$4))","v":" "},{"$f":"IF(ISBLANK(D12),\" \",(LOOKUP(D12,'Component Weights'!$B$16:$J$16,'Component Weights'!$B$17:$J$17)*$AA$5))","v":" "},{"$f":"IF(ISBLANK(E12),\" \",(LOOKUP(E12,'Component Weights'!$B$16:$J$16,'Component Weights'!$B$17:$J$17)*$AA$6))","v":" "},{"$f":"IF(ISBLANK(F12),\" \",(LOOKUP(F12,'Component Weights'!$B$16:$J$16,'Component Weights'!$B$17:$J$17)*$AA$7))","v":" "},{"$f":"IF(ISBLANK(G12),\" \",(LOOKUP(G12,'Component Weights'!$B$16:$J$16,'Component Weights'!$B$17:$J$17)*$AA$8))","v":" "},{"$f":"IF(ISBLANK(B12),\" \",(LOOKUP(B12,'Component Weights'!$B$16:$J$16,'Component Weights'!$B$17:$J$17)*$AA$9))","v":" "},{"$f":"IF(ISBLANK(H12),\" \",(LOOKUP(H12,'Component Weights'!$B$16:$J$16,'Component Weights'!$B$17:$J$17)*$AA$10))","v":" "},{"$f":"IF(ISBLANK(I12),\" \",(LOOKUP(I12,'Component Weights'!$B$16:$J$16,'Component Weights'!$B$17:$J$17)*$AA$11))","v":" "},{"$f":"IF(ISBLANK(J12),\" \",(LOOKUP(J12,'Component Weights'!$B$16:$J$16,'Component Weights'!$B$17:$J$17)*$AA$12))","v":" "},0,99,null,0,null,"Non Hazardous as Waste",0.11,"H","The amount of hazardous materials and components found in the product."]
["(Enter Custom Product Here)",null,null,null,null,null,null,null,null,null,{"$f":"SUM(IF(ISBLANK(C13),,LOOKUP(C13,'Component Weights'!$B$16:$J$16,'Component Weights'!$B$17:$J$17)),IF(ISBLANK(D13),,LOOKUP(D13,'Component Weights'!$B$16:$J$16,'Component Weights'!$B$17:$J$17)),IF(ISBLANK(E13),,LOOKUP(E13,'Component Weights'!$B$16:$J$16,'Component Weights'!$B$17:$J$17)),IF(ISBLANK(F13),,LOOKUP(F13,'Component Weights'!$B$16:$J$16,'Component Weights'!$B$17:$J$17)),IF(ISBLANK(G13),,LOOKUP(G13,'Component Weights'!$B$16:$J$16,'Component Weights'!$B$17:$J$17)),IF(ISBLANK(B13),,LOOKUP(B13,'Component Weights'!$B$16:$J$16,'Component Weights'!$B$17:$J$17)),IF(ISBLANK(H13),,LOOKUP(H13,'Component Weights'!$B$16:$J$16,'Component Weights'!$B$17:$J$17)),IF(ISBLANK(I13),,LOOKUP(I13,'Component Weights'!$B$16:$J$16,'Component Weights'!$B$17:$J$17)),IF(ISBLANK(J13),,LOOKUP(J13,'Component Weights'!$B$16:$J$16,'Component Weights'!$B$17:$J$17)))","v":0},{"$f":"IF(ISBLANK(C13),\" \",(LOOKUP(C13,'Component Weights'!$B$16:$J$16,'Component Weights'!$B$17:$J$17)*$AA$4))","v":" "},{"$f":"IF(ISBLANK(D13),\" \",(LOOKUP(D13,'Component Weights'!$B$16:$J$16,'Component Weights'!$B$17:$J$17)*$AA$5))","v":" "},{"$f":"IF(ISBLANK(E13),\" \",(LOOKUP(E13,'Component Weights'!$B$16:$J$16,'Component Weights'!$B$17:$J$17)*$AA$6))","v":" "},{"$f":"IF(ISBLANK(F13),\" \",(LOOKUP(F13,'Component Weights'!$B$16:$J$16,'Component Weights'!$B$17:$J$17)*$AA$7))","v":" "},{"$f":"IF(ISBLANK(G13),\" \",(LOOKUP(G13,'Component Weights'!$B$16:$J$16,'Component Weights'!$B$17:$J$17)*$AA$8))","v":" "},{"$f":"IF(ISBLANK(B13),\" \",(LOOKUP(B13,'Component Weights'!$B$16:$J$16,'Component Weights'!$B$17:$J$17)*$AA$9))","v":" "},{"$f":"IF(ISBLANK(H13),\" \",(LOOKUP(H13,'Component Weights'!$B$16:$J$16,'Component Weights'!$B$17:$J$17)*$AA$10))","v":" "},{"$f":"IF(ISBLANK(I13),\" \",(LOOKUP(I13,'Component Weights'!$B$16:$J$16,'Component Weights'!$B$17:$J$17)*$AA$11))","v":" "},{"$f":"IF(ISBLANK(J13),\" \",(LOOKUP(J13,'Component Weights'!$B$16:$J$16,'Component Weights'!$B$17:$J$17)*$AA$12))","v":" "},0,99,null,{"$f":"U13","v":0},null,"Total Weightings Must Equal 100%",{"$f":"SUM(AA4:AA12)","v":0.99999999999999989},null,{"$f":"IF(AA13<>100%,\"Keep Working - Weightings must equal 100%\",\" \")","v":" "}]
["(Enter Custom Product Here)",null,null,null,null,null,null,null,null,null,{"$f":"SUM(IF(ISBLANK(C14),,LOOKUP(C14,'Component Weights'!$B$16:$J$16,'Component Weights'!$B$17:$J$17)),IF(ISBLANK(D14),,LOOKUP(D14,'Component Weights'!$B$16:$J$16,'Component Weights'!$B$17:$J$17)),IF(ISBLANK(E14),,LOOKUP(E14,'Component Weights'!$B$16:$J$16,'Component Weights'!$B$17:$J$17)),IF(ISBLANK(F14),,LOOKUP(F14,'Component Weights'!$B$16:$J$16,'Component Weights'!$B$17:$J$17)),IF(ISBLANK(G14),,LOOKUP(G14,'Component Weights'!$B$16:$J$16,'Component Weights'!$B$17:$J$17)),IF(ISBLANK(B14),,LOOKUP(B14,'Component Weights'!$B$16:$J$16,'Component Weights'!$B$17:$J$17)),IF(ISBLANK(H14),,LOOKUP(H14,'Component Weights'!$B$16:$J$16,'Component Weights'!$B$17:$J$17)),IF(ISBLANK(I14),,LOOKUP(I14,'Component Weights'!$B$16:$J$16,'Component Weights'!$B$17:$J$17)),IF(ISBLANK(J14),,LOOKUP(J14,'Component Weights'!$B$16:$J$16,'Component Weights'!$B$17:$J$17)))","v":0},{"$f":"IF(ISBLANK(C14),\" \",(LOOKUP(C14,'Component Weights'!$B$16:$J$16,'Component Weights'!$B$17:$J$17)*$AA$4))","v":" "},{"$f":"IF(ISBLANK(D14),\" \",(LOOKUP(D14,'Component Weights'!$B$16:$J$16,'Component Weights'!$B$17:$J$17)*$AA$5))","v":" "},{"$f":"IF(ISBLANK(E14),\" \",(LOOKUP(E14,'Component Weights'!$B$16:$J$16,'Component Weights'!$B$17:$J$17)*$AA$6))","v":" "},{"$f":"IF(ISBLANK(F14),\" \",(LOOKUP(F14,'Component Weights'!$B$16:$J$16,'Component Weights'!$B$17:$J$17)*$AA$7))","v":" "},{"$f":"IF(ISBLANK(G14),\" \",(LOOKUP(G14,'Component Weights'!$B$16:$J$16,'Component Weights'!$B$17:$J$17)*$AA$8))","v":" "},{"$f":"IF(ISBLANK(B14),\" \",(LOOKUP(B14,'Component Weights'!$B$16:$J$16,'Component Weights'!$B$17:$J$17)*$AA$9))","v":" "},{"$f":"IF(ISBLANK(H14),\" \",(LOOKUP(H14,'Component Weights'!$B$16:$J$16,'Component Weights'!$B$17:$J$17)*$AA$10))","v":" "},{"$f":"IF(ISBLANK(I14),\" \",(LOOKUP(I14,'Component Weights'!$B$16:$J$16,'Component Weights'!$B$17:$J$17)*$AA$11))","v":" "},{"$f":"IF(ISBLANK(J14),\" \",(LOOKUP(J14,'Component Weights'!$B$16:$J$16,'Component Weights'!$B$17:$J$17)*$AA$12))","v":" "},0,99,null,{"$f":"U14","v":0}]
["(Enter Custom Product Here)",null,null,null,null,null,null,null,null,null,{"$f":"SUM(IF(ISBLANK(C15),,LOOKUP(C15,'Component Weights'!$B$16:$J$16,'Component Weights'!$B$17:$J$17)),IF(ISBLANK(D15),,LOOKUP(D15,'Component Weights'!$B$16:$J$16,'Component Weights'!$B$17:$J$17)),IF(ISBLANK(E15),,LOOKUP(E15,'Component Weights'!$B$16:$J$16,'Component Weights'!$B$17:$J$17)),IF(ISBLANK(F15),,LOOKUP(F15,'Component Weights'!$B$16:$J$16,'Component Weights'!$B$17:$J$17)),IF(ISBLANK(G15),,LOOKUP(G15,'Component Weights'!$B$16:$J$16,'Component Weights'!$B$17:$J$17)),IF(ISBLANK(B15),,LOOKUP(B15,'Component Weights'!$B$16:$J$16,'Component Weights'!$B$17:$J$17)),IF(ISBLANK(H15),,LOOKUP(H15,'Component Weights'!$B$16:$J$16,'Component Weights'!$B$17:$J$17)),IF(ISBLANK(I15),,LOOKUP(I15,'Component Weights'!$B$16:$J$16,'Component Weights'!$B$17:$J$17)),IF(ISBLANK(J15),,LOOKUP(J15,'Component Weights'!$B$16:$J$16,'Component Weights'!$B$17:$J$17)))","v":0},{"$f":"IF(ISBLANK(C15),\" \",(LOOKUP(C15,'Component Weights'!$B$16:$J$16,'Component Weights'!$B$17:$J$17)*$AA$4))","v":" "},{"$f":"IF(ISBLANK(D15),\" \",(LOOKUP(D15,'Component Weights'!$B$16:$J$16,'Component Weights'!$B$17:$J$17)*$AA$5))","v":" "},{"$f":"IF(ISBLANK(E15),\" \",(LOOKUP(E15,'Component Weights'!$B$16:$J$16,'Component Weights'!$B$17:$J$17)*$AA$6))","v":" "},{"$f":"IF(ISBLANK(F15),\" \",(LOOKUP(F15,'Component Weights'!$B$16:$J$16,'Component Weights'!$B$17:$J$17)*$AA$7))","v":" "},{"$f":"IF(ISBLANK(G15),\" \",(LOOKUP(G15,'Component Weights'!$B$16:$J$16,'Component Weights'!$B$17:$J$17)*$AA$8))","v":" "},{"$f":"IF(ISBLANK(B15),\" \",(LOOKUP(B15,'Component Weights'!$B$16:$J$16,'Component Weights'!$B$17:$J$17)*$AA$9))","v":" "},{"$f":"IF(ISBLANK(H15),\" \",(LOOKUP(H15,'Component Weights'!$B$16:$J$16,'Component Weights'!$B$17:$J$17)*$AA$10))","v":" "},{"$f":"IF(ISBLANK(I15),\" \",(LOOKUP(I15,'Component Weights'!$B$16:$J$16,'Component Weights'!$B$17:$J$17)*$AA$11))","v":" "},{"$f":"IF(ISBLANK(J15),\" \",(LOOKUP(J15,'Component Weights'!$B$16:$J$16,'Component Weights'!$B$17:$J$17)*$AA$12))","v":" "},0,99,null,{"$f":"U15","v":0}]
["(Enter Custom Product Here)",null,null,null,null,null,null,null,null,null,{"$f":"SUM(IF(ISBLANK(C16),,LOOKUP(C16,'Component Weights'!$B$16:$J$16,'Component Weights'!$B$17:$J$17)),IF(ISBLANK(D16),,LOOKUP(D16,'Component Weights'!$B$16:$J$16,'Component Weights'!$B$17:$J$17)),IF(ISBLANK(E16),,LOOKUP(E16,'Component Weights'!$B$16:$J$16,'Component Weights'!$B$17:$J$17)),IF(ISBLANK(F16),,LOOKUP(F16,'Component Weights'!$B$16:$J$16,'Component Weights'!$B$17:$J$17)),IF(ISBLANK(G16),,LOOKUP(G16,'Component Weights'!$B$16:$J$16,'Component Weights'!$B$17:$J$17)),IF(ISBLANK(B16),,LOOKUP(B16,'Component Weights'!$B$16:$J$16,'Component Weights'!$B$17:$J$17)),IF(ISBLANK(H16),,LOOKUP(H16,'Component Weights'!$B$16:$J$16,'Component Weights'!$B$17:$J$17)),IF(ISBLANK(I16),,LOOKUP(I16,'Component Weights'!$B$16:$J$16,'Component Weights'!$B$17:$J$17)),IF(ISBLANK(J16),,LOOKUP(J16,'Component Weights'!$B$16:$J$16,'Component Weights'!$B$17:$J$17)))","v":0},{"$f":"IF(ISBLANK(C16),\" \",(LOOKUP(C16,'Component Weights'!$B$16:$J$16,'Component Weights'!$B$17:$J$17)*$AA$4))","v":" "},{"$f":"IF(ISBLANK(D16),\" \",(LOOKUP(D16,'Component Weights'!$B$16:$J$16,'Component Weights'!$B$17:$J$17)*$AA$5))","v":" "},{"$f":"IF(ISBLANK(E16),\" \",(LOOKUP(E16,'Component Weights'!$B$16:$J$16,'Component Weights'!$B$17:$J$17)*$AA$6))","v":" "},{"$f":"IF(ISBLANK(F16),\" \",(LOOKUP(F16,'Component Weights'!$B$16:$J$16,'Component Weights'!$B$17:$J$17)*$AA$7))","v":" "},{"$f":"IF(ISBLANK(G16),\" \",(LOOKUP(G16,'Component Weights'!$B$16:$J$16,'Component Weights'!$B$17:$J$17)*$AA$8))","v":" "},{"$f":"IF(ISBLANK(B16),\" \",(LOOKUP(B16,'Component Weights'!$B$16:$J$16,'Component Weights'!$B$17:$J$17)*$AA$9))","v":" "},{"$f":"IF(ISBLANK(H16),\" \",(LOOKUP(H16,'Component Weights'!$B$16:$J$16,'Component Weights'!$B$17:$J$17)*$AA$10))","v":" "},{"$f":"IF(ISBLANK(I16),\" \",(LOOKUP(I16,'Component Weights'!$B$16:$J$16,'Component Weights'!$B$17:$J$17)*$AA$11))","v":" "},{"$f":"IF(ISBLANK(J16),\" \",(LOOKUP(J16,'Component Weights'!$B$16:$J$16,'Component Weights'!$B$17:$J$17)*$AA$12))","v":" "},0,99,null,{"$f":"U16","v":0}]
["(Enter Custom Product Here)",null,null,null,null,null,null,null,null,null,{"$f":"SUM(IF(ISBLANK(C17),,LOOKUP(C17,'Component Weights'!$B$16:$J$16,'Component Weights'!$B$17:$J$17)),IF(ISBLANK(D17),,LOOKUP(D17,'Component Weights'!$B$16:$J$16,'Component Weights'!$B$17:$J$17)),IF(ISBLANK(E17),,LOOKUP(E17,'Component Weights'!$B$16:$J$16,'Component Weights'!$B$17:$J$17)),IF(ISBLANK(F17),,LOOKUP(F17,'Component Weights'!$B$16:$J$16,'Component Weights'!$B$17:$J$17)),IF(ISBLANK(G17),,LOOKUP(G17,'Component Weights'!$B$16:$J$16,'Component Weights'!$B$17:$J$17)),IF(ISBLANK(B17),,LOOKUP(B17,'Component Weights'!$B$16:$J$16,'Component Weights'!$B$17:$J$17)),IF(ISBLANK(H17),,LOOKUP(H17,'Component Weights'!$B$16:$J$16,'Component Weights'!$B$17:$J$17)),IF(ISBLANK(I17),,LOOKUP(I17,'Component Weights'!$B$16:$J$16,'Component Weights'!$B$17:$J$17)),IF(ISBLANK(J17),,LOOKUP(J17,'Component Weights'!$B$16:$J$16,'Component Weights'!$B$17:$J$17)))","v":0},{"$f":"IF(ISBLANK(C17),\" \",(LOOKUP(C17,'Component Weights'!$B$16:$J$16,'Component Weights'!$B$17:$J$17)*$AA$4))","v":" "},{"$f":"IF(ISBLANK(D17),\" \",(LOOKUP(D17,'Component Weights'!$B$16:$J$16,'Component Weights'!$B$17:$J$17)*$AA$5))","v":" "},{"$f":"IF(ISBLANK(E17),\" \",(LOOKUP(E17,'Component Weights'!$B$16:$J$16,'Component Weights'!$B$17:$J$17)*$AA$6))","v":" "},{"$f":"IF(ISBLANK(F17),\" \",(LOOKUP(F17,'Component Weights'!$B$16:$J$16,'Component Weights'!$B$17:$J$17)*$AA$7))","v":" "},{"$f":"IF(ISBLANK(G17),\" \",(LOOKUP(G17,'Component Weights'!$B$16:$J$16,'Component Weights'!$B$17:$J$17)*$AA$8))","v":" "},{"$f":"IF(ISBLANK(B17),\" \",(LOOKUP(B17,'Component Weights'!$B$16:$J$16,'Component Weights'!$B$17:$J$17)*$AA$9))","v":" "},{"$f":"IF(ISBLANK(H17),\" \",(LOOKUP(H17,'Component Weights'!$B$16:$J$16,'Component Weights'!$B$17:$J$17)*$AA$10))","v":" "},{"$f":"IF(ISBLANK(I17),\" \",(LOOKUP(I17,'Component Weights'!$B$16:$J$16,'Component Weights'!$B$17:$J$17)*$AA$11))","v":" "},{"$f":"IF(ISBLANK(J17),\" \",(LOOKUP(J17,'Component Weights'!$B$16:$J$16,'Component Weights'!$B$17:$J$17)*$AA$12))","v":" "},0,99,null,0]
[null,null,null,null,null,null,null,null,null,null,{"$f":"AVERAGE(K$2:K11)","v":15.2},{"$f":"AVERAGE(L$2:L11)","v":0.16800000000000001},{"$f":"AVERAGE(M$2:M11)","v":0.18000000000000002},{"$f":"AVERAGE(N$2:N11)","v":0.16},{"$f":"AVERAGE(O$2:O11)","v":1.7000000000000001E-2},{"$f":"AVERAGE(P$2:P11)","v":9.5000000000000029E-2},{"$f":"AVERAGE(Q$2:Q11)","v":{"$error":"#DIV/0!"}},{"$f":"AVERAGE(R$2:R11)","v":0.25200000000000006},{"$f":"AVERAGE(S$2:S11)","v":0.13600000000000001},{"$f":"AVERAGE(T$2:T11)","v":0.24200000000000005},{"$f":"AVERAGE(U$2:U11)","v":1.25},{"$f":"IF(AND(OR($C18=72,$C18=73,$C18=74,$C18=75,$C18=76),$U18>0),RANK($U18,Y$3:Y$19,0),\" \")","v":" "}]

{"sheet":"Building Exterior","index":2,"n_rows":19,"n_cols":29,"rows_kept":19,"cut":false,"hidden":false,"merged":[]}
["Instructions:\nScroll down to see all products.  New products may be added to the end of the list.  Rate the performance of each product as \"N, L, M or H.\" (Hover over the component title for the rating description.)  Use your Backspace button to clear values.  The Sort button (below) will incorporate your priorities as currently stated on the table to the right.  (Scroll to the right to see the table.)\n\n","Available Locally","Incremental Energy Savings","Use of Recycled Content","Low Energy Usage Manufacturing Process","Easily Biodegradable","Made from Natural Materials","Low Emissions Potential","Listed in Other Programs","Non Hazardous as Waste","Total Raw Score","Incremental Energy Savings Weighted Score","Use of Recycled Content Weighted Score","Low Energy Usage Mfg. Process Weighted Score","Easily Biodegradable Weighted Score","Made from Natural Materials Weighted Score","Available Locally Weighted Score","Low Emissions Potential Weighted Score","Listed in Other Programs Weighted Score","Non Hazardous as Waste Weighted Score","Total Weighted Score","Force Ranking",null,"Weighted Score for Force Rank Calculation ",null,"Detailed instructions and options for using this tool are found in the Using the DYO® GBD Kit Decision Matrix Software Section of your DYO® Green Building Decision Kit."]
["Wood",null,null,"N","H","H","H","H","H","H",{"$f":"SUM(IF(ISBLANK(C2),,LOOKUP(C2,'Component Weights'!$B$16:$J$16,'Component Weights'!$B$17:$J$17)),IF(ISBLANK(D2),,LOOKUP(D2,'Component Weights'!$B$16:$J$16,'Component Weights'!$B$17:$J$17)),IF(ISBLANK(E2),,LOOKUP(E2,'Component Weights'!$B$16:$J$16,'Component Weights'!$B$17:$J$17)),IF(ISBLANK(F2),,LOOKUP(F2,'Component Weights'!$B$16:$J$16,'Component Weights'!$B$17:$J$17)),IF(ISBLANK(G2),,LOOKUP(G2,'Component Weights'!$B$16:$J$16,'Component Weights'!$B$17:$J$17)),IF(ISBLANK(B2),,LOOKUP(B2,'Component Weights'!$B$16:$J$16,'Component Weights'!$B$17:$J$17)),IF(ISBLANK(H2),,LOOKUP(H2,'Component Weights'!$B$16:$J$16,'Component Weights'!$B$17:$J$17)),IF(ISBLANK(I2),,LOOKUP(I2,'Component Weights'!$B$16:$J$16,'Component Weights'!$B$17:$J$17)),IF(ISBLANK(J2),,LOOKUP(J2,'Component Weights'!$B$16:$J$16,'Component Weights'!$B$17:$J$17)))","v":18},{"$f":"IF(ISBLANK(C2),\" \",(LOOKUP(C2,'Component Weights'!$B$16:$J$16,'Component Weights'!$B$17:$J$17)*$AA$4))","v":" "},{"$f":"IF(ISBLANK(D2),\" \",(LOOKUP(D2,'Component Weights'!$B$16:$J$16,'Component Weights'!$B$17:$J$17)*$AA$5))","v":0},{"$f":"IF(ISBLANK(E2),\" \",(LOOKUP(E2,'Component Weights'!$B$16:$J$16,'Component Weights'!$B$17:$J$17)*$AA$6))","v":0.24},{"$f":"IF(ISBLANK(F2),\" \",(LOOKUP(F2,'Component Weights'!$B$16:$J$16,'Component Weights'!$B$17:$J$17)*$AA$7))","v":0.36},{"$f":"IF(ISBLANK(G2),\" \",(LOOKUP(G2,'Component Weights'!$B$16:$J$16,'Component Weights'!$B$17:$J$17)*$AA$8))","v":0.15000000000000002},{"$f":"IF(ISBLANK(B2),\" \",(LOOKUP(B2,'Component Weights'!$B$16:$J$16,'Component Weights'!$B$17:$J$17)*$AA$9))","v":" "},{"$f":"IF(ISBLANK(H2),\" \",(LOOKUP(H2,'Component Weights'!$B$16:$J$16,'Component Weights'!$B$17:$J$17)*$AA$10))","v":0.36},{"$f":"IF(ISBLANK(I2),\" \",(LOOKUP(I2,'Component Weights'!$B$16:$J$16,'Component Weights'!$B$17:$J$17)*$AA$11))","v":0.24},{"$f":"IF(ISBLANK(J2),\" \",(LOOKUP(J2,'Component Weights'!$B$16:$J$16,'Component Weights'!$B$17:$J$17)*$AA$12))","v":0.36},{"$f":"SUM(L2:T2)","v":1.71},{"$f":"IF($U2>0,RANK($U2,X$2:X$206,0),99)","v":1},null,{"$f":"U2","v":1.71},null,"Component Weights for","Weight"]
["Artificial Stone",null,null,"M","M","M","M","M","H","H",{"$f":"SUM(IF(ISBLANK(C3),,LOOKUP(C3,'Component Weights'!$B$16:$J$16,'Component Weights'!$B$17:$J$17)),IF(ISBLANK(D3),,LOOKUP(D3,'Component Weights'!$B$16:$J$16,'Component Weights'!$B$17:$J$17)),IF(ISBLANK(E3),,LOOKUP(E3,'Component Weights'!$B$16:$J$16,'Component Weights'!$B$17:$J$17)),IF(ISBLANK(F3),,LOOKUP(F3,'Component Weights'!$B$16:$J$16,'Component Weights'!$B$17:$J$17)),IF(ISBLANK(G3),,LOOKUP(G3,'Component Weights'!$B$16:$J$16,'Component Weights'!$B$17:$J$17)),IF(ISBLANK(B3),,LOOKUP(B3,'Component Weights'!$B$16:$J$16,'Component Weights'!$B$17:$J$17)),IF(ISBLANK(H3),,LOOKUP(H3,'Component Weights'!$B$16:$J$16,'Component Weights'!$B$17:$J$17)),IF(ISBLANK(I3),,LOOKUP(I3,'Component Weights'!$B$16:$J$16,'Component Weights'!$B$17:$J$17)),IF(ISBLANK(J3),,LOOKUP(J3,'Component Weights'!$B$16:$J$16,'Component Weights'!$B$17:$J$17)))","v":16},{"$f":"IF(ISBLANK(C3),\" \",(LOOKUP(C3,'Component Weights'!$B$16:$J$16,'Component Weights'!$B$17:$J$17)*$AA$4))","v":" "},{"$f":"IF(ISBLANK(D3),\" \",(LOOKUP(D3,'Component Weights'!$B$16:$J$16,'Component Weights'!$B$17:$J$17)*$AA$5))","v":0.24},{"$f":"IF(ISBLANK(E3),\" \",(LOOKUP(E3,'Component Weights'!$B$16:$J$16,'Component Weights'!$B$17:$J$17)*$AA$6))","v":0.16},{"$f":"IF(ISBLANK(F3),\" \",(LOOKUP(F3,'Component Weights'!$B$16:$J$16,'Component Weights'!$B$17:$J$17)*$AA$7))","v":0.24},{"$f":"IF(ISBLANK(G3),\" \",(LOOKUP(G3,'Component Weights'!$B$16:$J$16,'Component Weights'!$B$17:$J$17)*$AA$8))","v":0.1},{"$f":"IF(ISBLANK(B3),\" \",(LOOKUP(B3,'Component Weights'!$B$16:$J$16,'Component Weights'!$B$17:$J$17)*$AA$9))","v":" "},{"$f":"IF(ISBLANK(H3),\" \",(LOOKUP(H3,'Component Weights'!$B$16:$J$16,'Component Weights'!$B$17:$J$17)*$AA$10))","v":0.24},{"$f":"IF(ISBLANK(I3),\" \",(LOOKUP(I3,'Component Weights'!$B$16:$J$16,'Component Weights'!$B$17:$J$17)*$AA$11))","v":0.24},{"$f":"IF(ISBLANK(J3),\" \",(LOOKUP(J3,'Component Weights'!$B$16:$J$16,'Component Weights'!$B$17:$J$17)*$AA$12))","v":0.36},1.58,2,null,1.58,null,"Building Exterior "]
["Composite",null,null,"H","M","M","M","M","H","M",{"$f":"SUM(IF(ISBLANK(C4),,LOOKUP(C4,'Component Weights'!$B$16:$J$16,'Component Weights'!$B$17:$J$17)),IF(ISBLANK(D4),,LOOKUP(D4,'Component Weights'!$B$16:$J$16,'Component Weights'!$B$17:$J$17)),IF(ISBLANK(E4),,LOOKUP(E4,'Component Weights'!$B$16:$J$16,'Component Weights'!$B$17:$J$17)),IF(ISBLANK(F4),,LOOKUP(F4,'Component Weights'!$B$16:$J$16,'Component Weights'!$B$17:$J$17)),IF(ISBLANK(G4),,LOOKUP(G4,'Component Weights'!$B$16:$J$16,'Component Weights'!$B$17:$J$17)),IF(ISBLANK(B4),,LOOKUP(B4,'Component Weights'!$B$16:$J$16,'Component Weights'!$B$17:$J$17)),IF(ISBLANK(H4),,LOOKUP(H4,'Component Weights'!$B$16:$J$16,'Component Weights'!$B$17:$J$17)),IF(ISBLANK(I4),,LOOKUP(I4,'Component Weights'!$B$16:$J$16,'Component Weights'!$B$17:$J$17)),IF(ISBLANK(J4),,LOOKUP(J4,'Component Weights'!$B$16:$J$16,'Component Weights'!$B$17:$J$17)))","v":16},{"$f":"IF(ISBLANK(C4),\" \",(LOOKUP(C4,'Component Weights'!$B$16:$J$16,'Component Weights'!$B$17:$J$17)*$AA$4))","v":" "},{"$f":"IF(ISBLANK(D4),\" \",(LOOKUP(D4,'Component Weights'!$B$16:$J$16,'Component Weights'!$B$17:$J$17)*$AA$5))","v":0.36},{"$f":"IF(ISBLANK(E4),\" \",(LOOKUP(E4,'Component Weights'!$B$16:$J$16,'Component Weights'!$B$17:$J$17)*$AA$6))","v":0.16},{"$f":"IF(ISBLANK(F4),\" \",(LOOKUP(F4,'Component Weights'!$B$16:$J$16,'Component Weights'!$B$17:$J$17)*$AA$7))","v":0.24},{"$f":"IF(ISBLANK(G4),\" \",(LOOKUP(G4,'Component Weights'!$B$16:$J$16,'Component Weights'!$B$17:$J$17)*$AA$8))","v":0.1},{"$f":"IF(ISBLANK(B4),\" \",(LOOKUP(B4,'Component Weights'!$B$16:$J$16,'Component Weights'!$B$17:$J$17)*$AA$9))","v":" "},{"$f":"IF(ISBLANK(H4),\" \",(LOOKUP(H4,'Component Weights'!$B$16:$J$16,'Component Weights'!$B$17:$J$17)*$AA$10))","v":0.24},{"$f":"IF(ISBLANK(I4),\" \",(LOOKUP(I4,'Component Weights'!$B$16:$J$16,'Component Weights'!$B$17:$J$17)*$AA$11))","v":0.24},{"$f":"IF(ISBLANK(J4),\" \",(LOOKUP(J4,'Component Weights'!$B$16:$J$16,'Component Weights'!$B$17:$J$17)*$AA$12))","v":0.24},1.58,2,null,1.58,null,"Incremental Energy Savings",0.08,"M","The amount of incremental energy, expressed in Btu/Hr, that a product saves or generates for the structure."]
["Brick",null,null,"N","M","M","M","H","H","H",{"$f":"SUM(IF(ISBLANK(C5),,LOOKUP(C5,'Component Weights'!$B$16:$J$16,'Component Weights'!$B$17:$J$17)),IF(ISBLANK(D5),,LOOKUP(D5,'Component Weights'!$B$16:$J$16,'Component Weights'!$B$17:$J$17)),IF(ISBLANK(E5),,LOOKUP(E5,'Component Weights'!$B$16:$J$16,'Component Weights'!$B$17:$J$17)),IF(ISBLANK(F5),,LOOKUP(F5,'Component Weights'!$B$16:$J$16,'Component Weights'!$B$17:$J$17)),IF(ISBLANK(G5),,LOOKUP(G5,'Component Weights'!$B$16:$J$16,'Component Weights'!$B$17:$J$17)),IF(ISBLANK(B5),,LOOKUP(B5,'Component Weights'!$B$16:$J$16,'Component Weights'!$B$17:$J$17)),IF(ISBLANK(H5),,LOOKUP(H5,'Component Weights'!$B$16:$J$16,'Component Weights'!$B$17:$J$17)),IF(ISBLANK(I5),,LOOKUP(I5,'Component Weights'!$B$16:$J$16,'Component Weights'!$B$17:$J$17)),IF(ISBLANK(J5),,LOOKUP(J5,'Component Weights'!$B$16:$J$16,'Component Weights'!$B$17:$J$17)))","v":15},{"$f":"IF(ISBLANK(C5),\" \",(LOOKUP(C5,'Component Weights'!$B$16:$J$16,'Component Weights'!$B$17:$J$17)*$AA$4))","v":" "},{"$f":"IF(ISBLANK(D5),\" \",(LOOKUP(D5,'Component Weights'!$B$16:$J$16,'Component Weights'!$B$17:$J$17)*$AA$5))","v":0},{"$f":"IF(ISBLANK(E5),\" \",(LOOKUP(E5,'Component Weights'!$B$16:$J$16,'Component Weights'!$B$17:$J$17)*$AA$6))","v":0.16},{"$f":"IF(ISBLANK(F5),\" \",(LOOKUP(F5,'Component Weights'!$B$16:$J$16,'Component Weights'!$B$17:$J$17)*$AA$7))","v":0.24},{"$f":"IF(ISBLANK(G5),\" \",(LOOKUP(G5,'Component Weights'!$B$16:$J$16,'Component Weights'!$B$17:$J$17)*$AA$8))","v":0.1},{"$f":"IF(ISBLANK(B5),\" \",(LOOKUP(B5,'Component Weights'!$B$16:$J$16,'Component Weights'!$B$17:$J$17)*$AA$9))","v":" "},{"$f":"IF(ISBLANK(H5),\" \",(LOOKUP(H5,'Component Weights'!$B$16:$J$16,'Component Weights'!$B$17:$J$17)*$AA$10))","v":0.36},{"$f":"IF(ISBLANK(I5),\" \",(LOOKUP(I5,'Component Weights'!$B$16:$J$16,'Component Weights'!$B$17:$J$17)*$AA$11))","v":0.24},{"$f":"IF(ISBLANK(J5),\" \",(LOOKUP(J5,'Component Weights'!$B$16:$J$16,'Component Weights'!$B$17:$J$17)*$AA$12))","v":0.36},1.46,4,null,1.46,null,"Use of Recycled Content",0.12,"H","The amount of recycled content, expressed as a percentage, found in a product."]
["Masonry",null,null,"N","H","L","M","H","H","H",{"$f":"SUM(IF(ISBLANK(C6),,LOOKUP(C6,'Component Weights'!$B$16:$J$16,'Component Weights'!$B$17:$J$17)),IF(ISBLANK(D6),,LOOKUP(D6,'Component Weights'!$B$16:$J$16,'Component Weights'!$B$17:$J$17)),IF(ISBLANK(E6),,LOOKUP(E6,'Component Weights'!$B$16:$J$16,'Component Weights'!$B$17:$J$17)),IF(ISBLANK(F6),,LOOKUP(F6,'Component Weights'!$B$16:$J$16,'Component Weights'!$B$17:$J$17)),IF(ISBLANK(G6),,LOOKUP(G6,'Component Weights'!$B$16:$J$16,'Component Weights'!$B$17:$J$17)),IF(ISBLANK(B6),,LOOKUP(B6,'Component Weights'!$B$16:$J$16,'Component Weights'!$B$17:$J$17)),IF(ISBLANK(H6),,LOOKUP(H6,'Component Weights'!$B$16:$J$16,'Component Weights'!$B$17:$J$17)),IF(ISBLANK(I6),,LOOKUP(I6,'Component Weights'!$B$16:$J$16,'Component Weights'!$B$17:$J$17)),IF(ISBLANK(J6),,LOOKUP(J6,'Component Weights'!$B$16:$J$16,'Component Weights'!$B$17:$J$17)))","v":15},{"$f":"IF(ISBLANK(C6),\" \",(LOOKUP(C6,'Component Weights'!$B$16:$J$16,'Component Weights'!$B$17:$J$17)*$AA$4))","v":" "},{"$f":"IF(ISBLANK(D6),\" \",(LOOKUP(D6,'Component Weights'!$B$16:$J$16,'Component Weights'!$B$17:$J$17)*$AA$5))","v":0},{"$f":"IF(ISBLANK(E6),\" \",(LOOKUP(E6,'Component Weights'!$B$16:$J$16,'Component Weights'!$B$17:$J$17)*$AA$6))","v":0.24},{"$f":"IF(ISBLANK(F6),\" \",(LOOKUP(F6,'Component Weights'!$B$16:$J$16,'Component Weights'!$B$17:$J$17)*$AA$7))","v":0.12},{"$f":"IF(ISBLANK(G6),\" \",(LOOKUP(G6,'Component Weights'!$B$16:$J$16,'Component Weights'!$B$17:$J$17)*$AA$8))","v":0.1},{"$f":"IF(ISBLANK(B6),\" \",(LOOKUP(B6,'Component Weights'!$B$16:$J$16,'Component Weights'!$B$17:$J$17)*$AA$9))","v":" "},{"$f":"IF(ISBLANK(H6),\" \",(LOOKUP(H6,'Component Weights'!$B$16:$J$16,'Component Weights'!$B$17:$J$17)*$AA$10))","v":0.36},{"$f":"IF(ISBLANK(I6),\" \",(LOOKUP(I6,'Component Weights'!$B$16:$J$16,'Component Weights'!$B$17:$J$17)*$AA$11))","v":0.24},{"$f":"IF(ISBLANK(J6),\" \",(LOOKUP(J6,'Component Weights'!$B$16:$J$16,'Component Weights'!$B$17:$J$17)*$AA$12))","v":0.36},1.42,5,null,1.42,null,"Low Energy Usage Manufacturing Process",0.08,"M","The amount of energy used in manufacture of the product."]
["Natural Stone",null,null,"N","H","N","H","H","H","H",{"$f":"SUM(IF(ISBLANK(C7),,LOOKUP(C7,'Component Weights'!$B$16:$J$16,'Component Weights'!$B$17:$J$17)),IF(ISBLANK(D7),,LOOKUP(D7,'Component Weights'!$B$16:$J$16,'Component Weights'!$B$17:$J$17)),IF(ISBLANK(E7),,LOOKUP(E7,'Component Weights'!$B$16:$J$16,'Component Weights'!$B$17:$J$17)),IF(ISBLANK(F7),,LOOKUP(F7,'Component Weights'!$B$16:$J$16,'Component Weights'!$B$17:$J$17)),IF(ISBLANK(G7),,LOOKUP(G7,'Component Weights'!$B$16:$J$16,'Component Weights'!$B$17:$J$17)),IF(ISBLANK(B7),,LOOKUP(B7,'Component Weights'!$B$16:$J$16,'Component Weights'!$B$17:$J$17)),IF(ISBLANK(H7),,LOOKUP(H7,'Component Weights'!$B$16:$J$16,'Component Weights'!$B$17:$J$17)),IF(ISBLANK(I7),,LOOKUP(I7,'Component Weights'!$B$16:$J$16,'Component Weights'!$B$17:$J$17)),IF(ISBLANK(J7),,LOOKUP(J7,'Component Weights'!$B$16:$J$16,'Component Weights'!$B$17:$J$17)))","v":15},{"$f":"IF(ISBLANK(C7),\" \",(LOOKUP(C7,'Component Weights'!$B$16:$J$16,'Component Weights'!$B$17:$J$17)*$AA$4))","v":" "},{"$f":"IF(ISBLANK(D7),\" \",(LOOKUP(D7,'Component Weights'!$B$16:$J$16,'Component Weights'!$B$17:$J$17)*$AA$5))","v":0},{"$f":"IF(ISBLANK(E7),\" \",(LOOKUP(E7,'Component Weights'!$B$16:$J$16,'Component Weights'!$B$17:$J$17)*$AA$6))","v":0.24},{"$f":"IF(ISBLANK(F7),\" \",(LOOKUP(F7,'Component Weights'!$B$16:$J$16,'Component Weights'!$B$17:$J$17)*$AA$7))","v":0},{"$f":"IF(ISBLANK(G7),\" \",(LOOKUP(G7,'Component Weights'!$B$16:$J$16,'Component Weights'!$B$17:$J$17)*$AA$8))","v":0.15000000000000002},{"$f":"IF(ISBLANK(B7),\" \",(LOOKUP(B7,'Component Weights'!$B$16:$J$16,'Component Weights'!$B$17:$J$17)*$AA$9))","v":" "},{"$f":"IF(ISBLANK(H7),\" \",(LOOKUP(H7,'Component Weights'!$B$16:$J$16,'Component Weights'!$B$17:$J$17)*$AA$10))","v":0.36},{"$f":"IF(ISBLANK(I7),\" \",(LOOKUP(I7,'Component Weights'!$B$16:$J$16,'Component Weights'!$B$17:$J$17)*$AA$11))","v":0.24},{"$f":"IF(ISBLANK(J7),\" \",(LOOKUP(J7,'Component Weights'!$B$16:$J$16,'Component Weights'!$B$17:$J$17)*$AA$12))","v":0.36},1.35,6,null,1.35,null,"Easily Biodegradable",0.12,"H","The amount of time it will take the product to degrade once its useful life is over."]
["Stucco",null,null,"N","M","L","L","H","L","M",{"$f":"SUM(IF(ISBLANK(C8),,LOOKUP(C8,'Component Weights'!$B$16:$J$16,'Component Weights'!$B$17:$J$17)),IF(ISBLANK(D8),,LOOKUP(D8,'Component Weights'!$B$16:$J$16,'Component Weights'!$B$17:$J$17)),IF(ISBLANK(E8),,LOOKUP(E8,'Component Weights'!$B$16:$J$16,'Component Weights'!$B$17:$J$17)),IF(ISBLANK(F8),,LOOKUP(F8,'Component Weights'!$B$16:$J$16,'Component Weights'!$B$17:$J$17)),IF(ISBLANK(G8),,LOOKUP(G8,'Component Weights'!$B$16:$J$16,'Component Weights'!$B$17:$J$17)),IF(ISBLANK(B8),,LOOKUP(B8,'Component Weights'!$B$16:$J$16,'Component Weights'!$B$17:$J$17)),IF(ISBLANK(H8),,LOOKUP(H8,'Component Weights'!$B$16:$J$16,'Component Weights'!$B$17:$J$17)),IF(ISBLANK(I8),,LOOKUP(I8,'Component Weights'!$B$16:$J$16,'Component Weights'!$B$17:$J$17)),IF(ISBLANK(J8),,LOOKUP(J8,'Component Weights'!$B$16:$J$16,'Component Weights'!$B$17:$J$17)))","v":10},{"$f":"IF(ISBLANK(C8),\" \",(LOOKUP(C8,'Component Weights'!$B$16:$J$16,'Component Weights'!$B$17:$J$17)*$AA$4))","v":" "},{"$f":"IF(ISBLANK(D8),\" \",(LOOKUP(D8,'Component Weights'!$B$16:$J$16,'Component Weights'!$B$17:$J$17)*$AA$5))","v":0},{"$f":"IF(ISBLANK(E8),\" \",(LOOKUP(E8,'Component Weights'!$B$16:$J$16,'Component Weights'!$B$17:$J$17)*$AA$6))","v":0.16},{"$f":"IF(ISBLANK(F8),\" \",(LOOKUP(F8,'Component Weights'!$B$16:$J$16,'Component Weights'!$B$17:$J$17)*$AA$7))","v":0.12},{"$f":"IF(ISBLANK(G8),\" \",(LOOKUP(G8,'Component Weights'!$B$16:$J$16,'Component Weights'!$B$17:$J$17)*$AA$8))","v":0.05},{"$f":"IF(ISBLANK(B8),\" \",(LOOKUP(B8,'Component Weights'!$B$16:$J$16,'Component Weights'!$B$17:$J$17)*$AA$9))","v":" "},{"$f":"IF(ISBLANK(H8),\" \",(LOOKUP(H8,'Component Weights'!$B$16:$J$16,'Component Weights'!$B$17:$J$17)*$AA$10))","v":0.36},{"$f":"IF(ISBLANK(I8),\" \",(LOOKUP(I8,'Component Weights'!$B$16:$J$16,'Component Weights'!$B$17:$J$17)*$AA$11))","v":0.08},{"$f":"IF(ISBLANK(J8),\" \",(LOOKUP(J8,'Component Weights'!$B$16:$J$16,'Component Weights'!$B$17:$J$17)*$AA$12))","v":0.24},1.0099999999999998,7,null,1.0099999999999998,null,"Made from Natural Materials",0.05,"L","The amount, expressed as a percentage, of natural (not man-made) materials used to make the product."]
["Steel",null,null,"L","L","L","N","H","L","L",{"$f":"SUM(IF(ISBLANK(C9),,LOOKUP(C9,'Component Weights'!$B$16:$J$16,'Component Weights'!$B$17:$J$17)),IF(ISBLANK(D9),,LOOKUP(D9,'Component Weights'!$B$16:$J$16,'Component Weights'!$B$17:$J$17)),IF(ISBLANK(E9),,LOOKUP(E9,'Component Weights'!$B$16:$J$16,'Component Weights'!$B$17:$J$17)),IF(ISBLANK(F9),,LOOKUP(F9,'Component Weights'!$B$16:$J$16,'Component Weights'!$B$17:$J$17)),IF(ISBLANK(G9),,LOOKUP(G9,'Component Weights'!$B$16:$J$16,'Component Weights'!$B$17:$J$17)),IF(ISBLANK(B9),,LOOKUP(B9,'Component Weights'!$B$16:$J$16,'Component Weights'!$B$17:$J$17)),IF(ISBLANK(H9),,LOOKUP(H9,'Component Weights'!$B$16:$J$16,'Component Weights'!$B$17:$J$17)),IF(ISBLANK(I9),,LOOKUP(I9,'Component Weights'!$B$16:$J$16,'Component Weights'!$B$17:$J$17)),IF(ISBLANK(J9),,LOOKUP(J9,'Component Weights'!$B$16:$J$16,'Component Weights'!$B$17:$J$17)))","v":8},{"$f":"IF(ISBLANK(C9),\" \",(LOOKUP(C9,'Component Weights'!$B$16:$J$16,'Component Weights'!$B$17:$J$17)*$AA$4))","v":" "},{"$f":"IF(ISBLANK(D9),\" \",(LOOKUP(D9,'Component Weights'!$B$16:$J$16,'Component Weights'!$B$17:$J$17)*$AA$5))","v":0.12},{"$f":"IF(ISBLANK(E9),\" \",(LOOKUP(E9,'Component Weights'!$B$16:$J$16,'Component Weights'!$B$17:$J$17)*$AA$6))","v":0.08},{"$f":"IF(ISBLANK(F9),\" \",(LOOKUP(F9,'Component Weights'!$B$16:$J$16,'Component Weights'!$B$17:$J$17)*$AA$7))","v":0.12},{"$f":"IF(ISBLANK(G9),\" \",(LOOKUP(G9,'Component Weights'!$B$16:$J$16,'Component Weights'!$B$17:$J$17)*$AA$8))","v":0},{"$f":"IF(ISBLANK(B9),\" \",(LOOKUP(B9,'Component Weights'!$B$16:$J$16,'Component Weights'!$B$17:$J$17)*$AA$9))","v":" "},{"$f":"IF(ISBLANK(H9),\" \",(LOOKUP(H9,'Component Weights'!$B$16:$J$16,'Component Weights'!$B$17:$J$17)*$AA$10))","v":0.36},{"$f":"IF(ISBLANK(I9),\" \",(LOOKUP(I9,'Component Weights'!$B$16:$J$16,'Component Weights'!$B$17:$J$17)*$AA$11))","v":0.08},{"$f":"IF(ISBLANK(J9),\" \",(LOOKUP(J9,'Component Weights'!$B$16:$J$16,'Component Weights'!$B$17:$J$17)*$AA$12))","v":0.12},0.87999999999999989,8,null,0.87999999999999989,null,"Available Locally",0.23,"H+","The distance in miles that the product must travel to the destination of final use."]
["EIFS (Exterior Insulation & Finishing Systems)",null,null,"N","M","N","N","M","M","L",{"$f":"SUM(IF(ISBLANK(C10),,LOOKUP(C10,'Component Weights'!$B$16:$J$16,'Component Weights'!$B$17:$J$17)),IF(ISBLANK(D10),,LOOKUP(D10,'Component Weights'!$B$16:$J$16,'Component Weights'!$B$17:$J$17)),IF(ISBLANK(E10),,LOOKUP(E10,'Component Weights'!$B$16:$J$16,'Component Weights'!$B$17:$J$17)),IF(ISBLANK(F10),,LOOKUP(F10,'Component Weights'!$B$16:$J$16,'Component Weights'!$B$17:$J$17)),IF(ISBLANK(G10),,LOOKUP(G10,'Component Weights'!$B$16:$J$16,'Component Weights'!$B$17:$J$17)),IF(ISBLANK(B10),,LOOKUP(B10,'Component Weights'!$B$16:$J$16,'Component Weights'!$B$17:$J$17)),IF(ISBLANK(H10),,LOOKUP(H10,'Component Weights'!$B$16:$J$16,'Component Weights'!$B$17:$J$17)),IF(ISBLANK(I10),,LOOKUP(I10,'Component Weights'!$B$16:$J$16,'Component Weights'!$B$17:$J$17)),IF(ISBLANK(J10),,LOOKUP(J10,'Component Weights'!$B$16:$J$16,'Component Weights'!$B$17:$J$17)))","v":7},{"$f":"IF(ISBLANK(C10),\" \",(LOOKUP(C10,'Component Weights'!$B$16:$J$16,'Component Weights'!$B$17:$J$17)*$AA$4))","v":" "},{"$f":"IF(ISBLANK(D10),\" \",(LOOKUP(D10,'Component Weights'!$B$16:$J$16,'Component Weights'!$B$17:$J$17)*$AA$5))","v":0},{"$f":"IF(ISBLANK(E10),\" \",(LOOKUP(E10,'Component Weights'!$B$16:$J$16,'Component Weights'!$B$17:$J$17)*$AA$6))","v":0.16},{"$f":"IF(ISBLANK(F10),\" \",(LOOKUP(F10,'Component Weights'!$B$16:$J$16,'Component Weights'!$B$17:$J$17)*$AA$7))","v":0},{"$f":"IF(ISBLANK(G10),\" \",(LOOKUP(G10,'Component Weights'!$B$16:$J$16,'Component Weights'!$B$17:$J$17)*$AA$8))","v":0},{"$f":"IF(ISBLANK(B10),\" \",(LOOKUP(B10,'Component Weights'!$B$16:$J$16,'Component Weights'!$B$17:$J$17)*$AA$9))","v":" "},{"$f":"IF(ISBLANK(H10),\" \",(LOOKUP(H10,'Component Weights'!$B$16:$J$16,'Component Weights'!$B$17:$J$17)*$AA$10))","v":0.24},{"$f":"IF(ISBLANK(I10),\" \",(LOOKUP(I10,'Component Weights'!$B$16:$J$16,'Component Weights'!$B$17:$J$17)*$AA$11))","v":0.16},{"$f":"IF(ISBLANK(J10),\" \",(LOOKUP(J10,'Component Weights'!$B$16:$J$16,'Component Weights'!$B$17:$J$17)*$AA$12))","v":0.12},0.68,9,null,0.68,null,"Low Emissions Potential",0.12,"H","The amount of time it will take the product to stop outgassing."]
["Aluminum",null,null,"L","L","N","N","H","N","L",{"$f":"SUM(IF(ISBLANK(C11),,LOOKUP(C11,'Component Weights'!$B$16:$J$16,'Component Weights'!$B$17:$J$17)),IF(ISBLANK(D11),,LOOKUP(D11,'Component Weights'!$B$16:$J$16,'Component Weights'!$B$17:$J$17)),IF(ISBLANK(E11),,LOOKUP(E11,'Component Weights'!$B$16:$J$16,'Component Weights'!$B$17:$J$17)),IF(ISBLANK(F11),,LOOKUP(F11,'Component Weights'!$B$16:$J$16,'Component Weights'!$B$17:$J$17)),IF(ISBLANK(G11),,LOOKUP(G11,'Component Weights'!$B$16:$J$16,'Component Weights'!$B$17:$J$17)),IF(ISBLANK(B11),,LOOKUP(B11,'Component Weights'!$B$16:$J$16,'Component Weights'!$B$17:$J$17)),IF(ISBLANK(H11),,LOOKUP(H11,'Component Weights'!$B$16:$J$16,'Component Weights'!$B$17:$J$17)),IF(ISBLANK(I11),,LOOKUP(I11,'Component Weights'!$B$16:$J$16,'Component Weights'!$B$17:$J$17)),IF(ISBLANK(J11),,LOOKUP(J11,'Component Weights'!$B$16:$J$16,'Component Weights'!$B$17:$J$17)))","v":6},{"$f":"IF(ISBLANK(C11),\" \",(LOOKUP(C11,'Component Weights'!$B$16:$J$16,'Component Weights'!$B$17:$J$17)*$AA$4))","v":" "},{"$f":"IF(ISBLANK(D11),\" \",(LOOKUP(D11,'Component Weights'!$B$16:$J$16,'Component Weights'!$B$17:$J$17)*$AA$5))","v":0.12},{"$f":"IF(ISBLANK(E11),\" \",(LOOKUP(E11,'Component Weights'!$B$16:$J$16,'Component Weights'!$B$17:$J$17)*$AA$6))","v":0.08},{"$f":"IF(ISBLANK(F11),\" \",(LOOKUP(F11,'Component Weights'!$B$16:$J$16,'Component Weights'!$B$17:$J$17)*$AA$7))","v":0},{"$f":"IF(ISBLANK(G11),\" \",(LOOKUP(G11,'Component Weights'!$B$16:$J$16,'Component Weights'!$B$17:$J$17)*$AA$8))","v":0},{"$f":"IF(ISBLANK(B11),\" \",(LOOKUP(B11,'Component Weights'!$B$16:$J$16,'Component Weights'!$B$17:$J$17)*$AA$9))","v":" "},{"$f":"IF(ISBLANK(H11),\" \",(LOOKUP(H11,'Component Weights'!$B$16:$J$16,'Component Weights'!$B$17:$J$17)*$AA$10))","v":0.36},{"$f":"IF(ISBLANK(I11),\" \",(LOOKUP(I11,'Component Weights'!$B$16:$J$16,'Component Weights'!$B$17:$J$17)*$AA$11))","v":0},{"$f":"IF(ISBLANK(J11),\" \",(LOOKUP(J11,'Component Weights'!$B$16:$J$16,'Component Weights'!$B$17:$J$17)*$AA$12))","v":0.12},0.68,9,null,0.68,null,"Listed in Other Programs (e.g. EnergyStar)",0.08,"M","The level of product recommendation in recognized energy and environmental programs."]
["Vinyl",null,null,"N","L","N","N","N","N","N",{"$f":"SUM(IF(ISBLANK(C12),,LOOKUP(C12,'Component Weights'!$B$16:$J$16,'Component Weights'!$B$17:$J$17)),IF(ISBLANK(D12),,LOOKUP(D12,'Component Weights'!$B$16:$J$16,'Component Weights'!$B$17:$J$17)),IF(ISBLANK(E12),,LOOKUP(E12,'Component Weights'!$B$16:$J$16,'Component Weights'!$B$17:$J$17)),IF(ISBLANK(F12),,LOOKUP(F12,'Component Weights'!$B$16:$J$16,'Component Weights'!$B$17:$J$17)),IF(ISBLANK(G12),,LOOKUP(G12,'Component Weights'!$B$16:$J$16,'Component Weights'!$B$17:$J$17)),IF(ISBLANK(B12),,LOOKUP(B12,'Component Weights'!$B$16:$J$16,'Component Weights'!$B$17:$J$17)),IF(ISBLANK(H12),,LOOKUP(H12,'Component Weights'!$B$16:$J$16,'Component Weights'!$B$17:$J$17)),IF(ISBLANK(I12),,LOOKUP(I12,'Component Weights'!$B$16:$J$16,'Component Weights'!$B$17:$J$17)),IF(ISBLANK(J12),,LOOKUP(J12,'Component Weights'!$B$16:$J$16,'Component Weights'!$B$17:$J$17)))","v":1},{"$f":"IF(ISBLANK(C12),\" \",(LOOKUP(C12,'Component Weights'!$B$16:$J$16,'Component Weights'!$B$17:$J$17)*$AA$4))","v":" "},{"$f":"IF(ISBLANK(D12),\" \",(LOOKUP(D12,'Component Weights'!$B$16:$J$16,'Component Weights'!$B$17:$J$17)*$AA$5))","v":0},{"$f":"IF(ISBLANK(E12),\" \",(LOOKUP(E12,'Component Weights'!$B$16:$J$16,'Component Weights'!$B$17:$J$17)*$AA$6))","v":0.08},{"$f":"IF(ISBLANK(F12),\" \",(LOOKUP(F12,'Component Weights'!$B$16:$J$16,'Component Weights'!$B$17:$J$17)*$AA$7))","v":0},{"$f":"IF(ISBLANK(G12),\" \",(LOOKUP(G12,'Component Weights'!$B$16:$J$16,'Component Weights'!$B$17:$J$17)*$AA$8))","v":0},{"$f":"IF(ISBLANK(B12),\" \",(LOOKUP(B12,'Component Weights'!$B$16:$J$16,'Component Weights'!$B$17:$J$17)*$AA$9))","v":" "},{"$f":"IF(ISBLANK(H12),\" \",(LOOKUP(H12,'Component Weights'!$B$16:$J$16,'Component Weights'!$B$17:$J$17)*$AA$10))","v":0},{"$f":"IF(ISBLANK(I12),\" \",(LOOKUP(I12,'Component Weights'!$B$16:$J$16,'Component Weights'!$B$17:$J$17)*$AA$11))","v":0},{"$f":"IF(ISBLANK(J12),\" \",(LOOKUP(J12,'Component Weights'!$B$16:$J$16,'Component Weights'!$B$17:$J$17)*$AA$12))","v":0},0.08,11,null,0.08,null,"Non Hazardous as Waste",0.12,"H","The amount of hazardous materials and components found in the product."]
["(Enter Custom Product Here)",null,null,null,null,null,null,null,null,null,{"$f":"SUM(IF(ISBLANK(C13),,LOOKUP(C13,'Component Weights'!$B$16:$J$16,'Component Weights'!$B$17:$J$17)),IF(ISBLANK(D13),,LOOKUP(D13,'Component Weights'!$B$16:$J$16,'Component Weights'!$B$17:$J$17)),IF(ISBLANK(E13),,LOOKUP(E13,'Component Weights'!$B$16:$J$16,'Component Weights'!$B$17:$J$17)),IF(ISBLANK(F13),,LOOKUP(F13,'Component Weights'!$B$16:$J$16,'Component Weights'!$B$17:$J$17)),IF(ISBLANK(G13),,LOOKUP(G13,'Component Weights'!$B$16:$J$16,'Component Weights'!$B$17:$J$17)),IF(ISBLANK(B13),,LOOKUP(B13,'Component Weights'!$B$16:$J$16,'Component Weights'!$B$17:$J$17)),IF(ISBLANK(H13),,LOOKUP(H13,'Component Weights'!$B$16:$J$16,'Component Weights'!$B$17:$J$17)),IF(ISBLANK(I13),,LOOKUP(I13,'Component Weights'!$B$16:$J$16,'Component Weights'!$B$17:$J$17)),IF(ISBLANK(J13),,LOOKUP(J13,'Component Weights'!$B$16:$J$16,'Component Weights'!$B$17:$J$17)))","v":0},{"$f":"IF(ISBLANK(C13),\" \",(LOOKUP(C13,'Component Weights'!$B$16:$J$16,'Component Weights'!$B$17:$J$17)*$AA$4))","v":" "},{"$f":"IF(ISBLANK(D13),\" \",(LOOKUP(D13,'Component Weights'!$B$16:$J$16,'Component Weights'!$B$17:$J$17)*$AA$5))","v":" "},{"$f":"IF(ISBLANK(E13),\" \",(LOOKUP(E13,'Component Weights'!$B$16:$J$16,'Component Weights'!$B$17:$J$17)*$AA$6))","v":" "},{"$f":"IF(ISBLANK(F13),\" \",(LOOKUP(F13,'Component Weights'!$B$16:$J$16,'Component Weights'!$B$17:$J$17)*$AA$7))","v":" "},{"$f":"IF(ISBLANK(G13),\" \",(LOOKUP(G13,'Component Weights'!$B$16:$J$16,'Component Weights'!$B$17:$J$17)*$AA$8))","v":" "},{"$f":"IF(ISBLANK(B13),\" \",(LOOKUP(B13,'Component Weights'!$B$16:$J$16,'Component Weights'!$B$17:$J$17)*$AA$9))","v":" "},{"$f":"IF(ISBLANK(H13),\" \",(LOOKUP(H13,'Component Weights'!$B$16:$J$16,'Component Weights'!$B$17:$J$17)*$AA$10))","v":" "},{"$f":"IF(ISBLANK(I13),\" \",(LOOKUP(I13,'Component Weights'!$B$16:$J$16,'Component Weights'!$B$17:$J$17)*$AA$11))","v":" "},{"$f":"IF(ISBLANK(J13),\" \",(LOOKUP(J13,'Component Weights'!$B$16:$J$16,'Component Weights'!$B$17:$J$17)*$AA$12))","v":" "},0,99,null,0,null,"Total Weightings Must Equal 100%",{"$f":"SUM(AA4:AA12)","v":1},null,{"$f":"IF(AA13<>100%,\"Keep Working - Weightings must equal 100%\",\" \")","v":" "}]
["(Enter Custom Product Here)",null,null,null,null,null,null,null,null,null,{"$f":"SUM(IF(ISBLANK(C14),,LOOKUP(C14,'Component Weights'!$B$16:$J$16,'Component Weights'!$B$17:$J$17)),IF(ISBLANK(D14),,LOOKUP(D14,'Component Weights'!$B$16:$J$16,'Component Weights'!$B$17:$J$17)),IF(ISBLANK(E14),,LOOKUP(E14,'Component Weights'!$B$16:$J$16,'Component Weights'!$B$17:$J$17)),IF(ISBLANK(F14),,LOOKUP(F14,'Component Weights'!$B$16:$J$16,'Component Weights'!$B$17:$J$17)),IF(ISBLANK(G14),,LOOKUP(G14,'Component Weights'!$B$16:$J$16,'Component Weights'!$B$17:$J$17)),IF(ISBLANK(B14),,LOOKUP(B14,'Component Weights'!$B$16:$J$16,'Component Weights'!$B$17:$J$17)),IF(ISBLANK(H14),,LOOKUP(H14,'Component Weights'!$B$16:$J$16,'Component Weights'!$B$17:$J$17)),IF(ISBLANK(I14),,LOOKUP(I14,'Component Weights'!$B$16:$J$16,'Component Weights'!$B$17:$J$17)),IF(ISBLANK(J14),,LOOKUP(J14,'Component Weights'!$B$16:$J$16,'Component Weights'!$B$17:$J$17)))","v":0},{"$f":"IF(ISBLANK(C14),\" \",(LOOKUP(C14,'Component Weights'!$B$16:$J$16,'Component Weights'!$B$17:$J$17)*$AA$4))","v":" "},{"$f":"IF(ISBLANK(D14),\" \",(LOOKUP(D14,'Component Weights'!$B$16:$J$16,'Component Weights'!$B$17:$J$17)*$AA$5))","v":" "},{"$f":"IF(ISBLANK(E14),\" \",(LOOKUP(E14,'Component Weights'!$B$16:$J$16,'Component Weights'!$B$17:$J$17)*$AA$6))","v":" "},{"$f":"IF(ISBLANK(F14),\" \",(LOOKUP(F14,'Component Weights'!$B$16:$J$16,'Component Weights'!$B$17:$J$17)*$AA$7))","v":" "},{"$f":"IF(ISBLANK(G14),\" \",(LOOKUP(G14,'Component Weights'!$B$16:$J$16,'Component Weights'!$B$17:$J$17)*$AA$8))","v":" "},{"$f":"IF(ISBLANK(B14),\" \",(LOOKUP(B14,'Component Weights'!$B$16:$J$16,'Component Weights'!$B$17:$J$17)*$AA$9))","v":" "},{"$f":"IF(ISBLANK(H14),\" \",(LOOKUP(H14,'Component Weights'!$B$16:$J$16,'Component Weights'!$B$17:$J$17)*$AA$10))","v":" "},{"$f":"IF(ISBLANK(I14),\" \",(LOOKUP(I14,'Component Weights'!$B$16:$J$16,'Component Weights'!$B$17:$J$17)*$AA$11))","v":" "},{"$f":"IF(ISBLANK(J14),\" \",(LOOKUP(J14,'Component Weights'!$B$16:$J$16,'Component Weights'!$B$17:$J$17)*$AA$12))","v":" "},0,99,null,{"$f":"U14","v":0}]
["(Enter Custom Product Here)",null,null,null,null,null,null,null,null,null,{"$f":"SUM(IF(ISBLANK(C15),,LOOKUP(C15,'Component Weights'!$B$16:$J$16,'Component Weights'!$B$17:$J$17)),IF(ISBLANK(D15),,LOOKUP(D15,'Component Weights'!$B$16:$J$16,'Component Weights'!$B$17:$J$17)),IF(ISBLANK(E15),,LOOKUP(E15,'Component Weights'!$B$16:$J$16,'Component Weights'!$B$17:$J$17)),IF(ISBLANK(F15),,LOOKUP(F15,'Component Weights'!$B$16:$J$16,'Component Weights'!$B$17:$J$17)),IF(ISBLANK(G15),,LOOKUP(G15,'Component Weights'!$B$16:$J$16,'Component Weights'!$B$17:$J$17)),IF(ISBLANK(B15),,LOOKUP(B15,'Component Weights'!$B$16:$J$16,'Component Weights'!$B$17:$J$17)),IF(ISBLANK(H15),,LOOKUP(H15,'Component Weights'!$B$16:$J$16,'Component Weights'!$B$17:$J$17)),IF(ISBLANK(I15),,LOOKUP(I15,'Component Weights'!$B$16:$J$16,'Component Weights'!$B$17:$J$17)),IF(ISBLANK(J15),,LOOKUP(J15,'Component Weights'!$B$16:$J$16,'Component Weights'!$B$17:$J$17)))","v":0},{"$f":"IF(ISBLANK(C15),\" \",(LOOKUP(C15,'Component Weights'!$B$16:$J$16,'Component Weights'!$B$17:$J$17)*$AA$4))","v":" "},{"$f":"IF(ISBLANK(D15),\" \",(LOOKUP(D15,'Component Weights'!$B$16:$J$16,'Component Weights'!$B$17:$J$17)*$AA$5))","v":" "},{"$f":"IF(ISBLANK(E15),\" \",(LOOKUP(E15,'Component Weights'!$B$16:$J$16,'Component Weights'!$B$17:$J$17)*$AA$6))","v":" "},{"$f":"IF(ISBLANK(F15),\" \",(LOOKUP(F15,'Component Weights'!$B$16:$J$16,'Component Weights'!$B$17:$J$17)*$AA$7))","v":" "},{"$f":"IF(ISBLANK(G15),\" \",(LOOKUP(G15,'Component Weights'!$B$16:$J$16,'Component Weights'!$B$17:$J$17)*$AA$8))","v":" "},{"$f":"IF(ISBLANK(B15),\" \",(LOOKUP(B15,'Component Weights'!$B$16:$J$16,'Component Weights'!$B$17:$J$17)*$AA$9))","v":" "},{"$f":"IF(ISBLANK(H15),\" \",(LOOKUP(H15,'Component Weights'!$B$16:$J$16,'Component Weights'!$B$17:$J$17)*$AA$10))","v":" "},{"$f":"IF(ISBLANK(I15),\" \",(LOOKUP(I15,'Component Weights'!$B$16:$J$16,'Component Weights'!$B$17:$J$17)*$AA$11))","v":" "},{"$f":"IF(ISBLANK(J15),\" \",(LOOKUP(J15,'Component Weights'!$B$16:$J$16,'Component Weights'!$B$17:$J$17)*$AA$12))","v":" "},0,99,null,{"$f":"U15","v":0}]
["(Enter Custom Product Here)",null,null,null,null,null,null,null,null,null,{"$f":"SUM(IF(ISBLANK(C16),,LOOKUP(C16,'Component Weights'!$B$16:$J$16,'Component Weights'!$B$17:$J$17)),IF(ISBLANK(D16),,LOOKUP(D16,'Component Weights'!$B$16:$J$16,'Component Weights'!$B$17:$J$17)),IF(ISBLANK(E16),,LOOKUP(E16,'Component Weights'!$B$16:$J$16,'Component Weights'!$B$17:$J$17)),IF(ISBLANK(F16),,LOOKUP(F16,'Component Weights'!$B$16:$J$16,'Component Weights'!$B$17:$J$17)),IF(ISBLANK(G16),,LOOKUP(G16,'Component Weights'!$B$16:$J$16,'Component Weights'!$B$17:$J$17)),IF(ISBLANK(B16),,LOOKUP(B16,'Component Weights'!$B$16:$J$16,'Component Weights'!$B$17:$J$17)),IF(ISBLANK(H16),,LOOKUP(H16,'Component Weights'!$B$16:$J$16,'Component Weights'!$B$17:$J$17)),IF(ISBLANK(I16),,LOOKUP(I16,'Component Weights'!$B$16:$J$16,'Component Weights'!$B$17:$J$17)),IF(ISBLANK(J16),,LOOKUP(J16,'Component Weights'!$B$16:$J$16,'Component Weights'!$B$17:$J$17)))","v":0},{"$f":"IF(ISBLANK(C16),\" \",(LOOKUP(C16,'Component Weights'!$B$16:$J$16,'Component Weights'!$B$17:$J$17)*$AA$4))","v":" "},{"$f":"IF(ISBLANK(D16),\" \",(LOOKUP(D16,'Component Weights'!$B$16:$J$16,'Component Weights'!$B$17:$J$17)*$AA$5))","v":" "},{"$f":"IF(ISBLANK(E16),\" \",(LOOKUP(E16,'Component Weights'!$B$16:$J$16,'Component Weights'!$B$17:$J$17)*$AA$6))","v":" "},{"$f":"IF(ISBLANK(F16),\" \",(LOOKUP(F16,'Component Weights'!$B$16:$J$16,'Component Weights'!$B$17:$J$17)*$AA$7))","v":" "},{"$f":"IF(ISBLANK(G16),\" \",(LOOKUP(G16,'Component Weights'!$B$16:$J$16,'Component Weights'!$B$17:$J$17)*$AA$8))","v":" "},{"$f":"IF(ISBLANK(B16),\" \",(LOOKUP(B16,'Component Weights'!$B$16:$J$16,'Component Weights'!$B$17:$J$17)*$AA$9))","v":" "},{"$f":"IF(ISBLANK(H16),\" \",(LOOKUP(H16,'Component Weights'!$B$16:$J$16,'Component Weights'!$B$17:$J$17)*$AA$10))","v":" "},{"$f":"IF(ISBLANK(I16),\" \",(LOOKUP(I16,'Component Weights'!$B$16:$J$16,'Component Weights'!$B$17:$J$17)*$AA$11))","v":" "},{"$f":"IF(ISBLANK(J16),\" \",(LOOKUP(J16,'Component Weights'!$B$16:$J$16,'Component Weights'!$B$17:$J$17)*$AA$12))","v":" "},0,99,null,{"$f":"U16","v":0}]
["(Enter Custom Product Here)",null,null,null,null,null,null,null,null,null,{"$f":"SUM(IF(ISBLANK(C17),,LOOKUP(C17,'Component Weights'!$B$16:$J$16,'Component Weights'!$B$17:$J$17)),IF(ISBLANK(D17),,LOOKUP(D17,'Component Weights'!$B$16:$J$16,'Component Weights'!$B$17:$J$17)),IF(ISBLANK(E17),,LOOKUP(E17,'Component Weights'!$B$16:$J$16,'Component Weights'!$B$17:$J$17)),IF(ISBLANK(F17),,LOOKUP(F17,'Component Weights'!$B$16:$J$16,'Component Weights'!$B$17:$J$17)),IF(ISBLANK(G17),,LOOKUP(G17,'Component Weights'!$B$16:$J$16,'Component Weights'!$B$17:$J$17)),IF(ISBLANK(B17),,LOOKUP(B17,'Component Weights'!$B$16:$J$16,'Component Weights'!$B$17:$J$17)),IF(ISBLANK(H17),,LOOKUP(H17,'Component Weights'!$B$16:$J$16,'Component Weights'!$B$17:$J$17)),IF(ISBLANK(I17),,LOOKUP(I17,'Component Weights'!$B$16:$J$16,'Component Weights'!$B$17:$J$17)),IF(ISBLANK(J17),,LOOKUP(J17,'Component Weights'!$B$16:$J$16,'Component Weights'!$B$17:$J$17)))","v":0},{"$f":"IF(ISBLANK(C17),\" \",(LOOKUP(C17,'Component Weights'!$B$16:$J$16,'Component Weights'!$B$17:$J$17)*$AA$4))","v":" "},{"$f":"IF(ISBLANK(D17),\" \",(LOOKUP(D17,'Component Weights'!$B$16:$J$16,'Component Weights'!$B$17:$J$17)*$AA$5))","v":" "},{"$f":"IF(ISBLANK(E17),\" \",(LOOKUP(E17,'Component Weights'!$B$16:$J$16,'Component Weights'!$B$17:$J$17)*$AA$6))","v":" "},{"$f":"IF(ISBLANK(F17),\" \",(LOOKUP(F17,'Component Weights'!$B$16:$J$16,'Component Weights'!$B$17:$J$17)*$AA$7))","v":" "},{"$f":"IF(ISBLANK(G17),\" \",(LOOKUP(G17,'Component Weights'!$B$16:$J$16,'Component Weights'!$B$17:$J$17)*$AA$8))","v":" "},{"$f":"IF(ISBLANK(B17),\" \",(LOOKUP(B17,'Component Weights'!$B$16:$J$16,'Component Weights'!$B$17:$J$17)*$AA$9))","v":" "},{"$f":"IF(ISBLANK(H17),\" \",(LOOKUP(H17,'Component Weights'!$B$16:$J$16,'Component Weights'!$B$17:$J$17)*$AA$10))","v":" "},{"$f":"IF(ISBLANK(I17),\" \",(LOOKUP(I17,'Component Weights'!$B$16:$J$16,'Component Weights'!$B$17:$J$17)*$AA$11))","v":" "},{"$f":"IF(ISBLANK(J17),\" \",(LOOKUP(J17,'Component Weights'!$B$16:$J$16,'Component Weights'!$B$17:$J$17)*$AA$12))","v":" "},0,99,null,{"$f":"U17","v":0}]
["(Enter Custom Product Here)",null,null,null,null,null,null,null,null,null,{"$f":"SUM(IF(ISBLANK(C18),,LOOKUP(C18,'Component Weights'!$B$16:$J$16,'Component Weights'!$B$17:$J$17)),IF(ISBLANK(D18),,LOOKUP(D18,'Component Weights'!$B$16:$J$16,'Component Weights'!$B$17:$J$17)),IF(ISBLANK(E18),,LOOKUP(E18,'Component Weights'!$B$16:$J$16,'Component Weights'!$B$17:$J$17)),IF(ISBLANK(F18),,LOOKUP(F18,'Component Weights'!$B$16:$J$16,'Component Weights'!$B$17:$J$17)),IF(ISBLANK(G18),,LOOKUP(G18,'Component Weights'!$B$16:$J$16,'Component Weights'!$B$17:$J$17)),IF(ISBLANK(B18),,LOOKUP(B18,'Component Weights'!$B$16:$J$16,'Component Weights'!$B$17:$J$17)),IF(ISBLANK(H18),,LOOKUP(H18,'Component Weights'!$B$16:$J$16,'Component Weights'!$B$17:$J$17)),IF(ISBLANK(I18),,LOOKUP(I18,'Component Weights'!$B$16:$J$16,'Component Weights'!$B$17:$J$17)),IF(ISBLANK(J18),,LOOKUP(J18,'Component Weights'!$B$16:$J$16,'Component Weights'!$B$17:$J$17)))","v":0},{"$f":"IF(ISBLANK(C18),\" \",(LOOKUP(C18,'Component Weights'!$B$16:$J$16,'Component Weights'!$B$17:$J$17)*$AA$4))","v":" "},{"$f":"IF(ISBLANK(D18),\" \",(LOOKUP(D18,'Component Weights'!$B$16:$J$16,'Component Weights'!$B$17:$J$17)*$AA$5))","v":" "},{"$f":"IF(ISBLANK(E18),\" \",(LOOKUP(E18,'Component Weights'!$B$16:$J$16,'Component Weights'!$B$17:$J$17)*$AA$6))","v":" "},{"$f":"IF(ISBLANK(F18),\" \",(LOOKUP(F18,'Component Weights'!$B$16:$J$16,'Component Weights'!$B$17:$J$17)*$AA$7))","v":" "},{"$f":"IF(ISBLANK(G18),\" \",(LOOKUP(G18,'Component Weights'!$B$16:$J$16,'Component Weights'!$B$17:$J$17)*$AA$8))","v":" "},{"$f":"IF(ISBLANK(B18),\" \",(LOOKUP(B18,'Component Weights'!$B$16:$J$16,'Component Weights'!$B$17:$J$17)*$AA$9))","v":" "},{"$f":"IF(ISBLANK(H18),\" \",(LOOKUP(H18,'Component Weights'!$B$16:$J$16,'Component Weights'!$B$17:$J$17)*$AA$10))","v":" "},{"$f":"IF(ISBLANK(I18),\" \",(LOOKUP(I18,'Component Weights'!$B$16:$J$16,'Component Weights'!$B$17:$J$17)*$AA$11))","v":" "},{"$f":"IF(ISBLANK(J18),\" \",(LOOKUP(J18,'Component Weights'!$B$16:$J$16,'Component Weights'!$B$17:$J$17)*$AA$12))","v":" "},0,99,null,0]
[null,null,null,null,null,null,null,null,null,null,{"$f":"AVERAGE(K$2:K12)","v":11.545454545454545},{"$f":"AVERAGE(L$2:L12)","v":{"$error":"#DIV/0!"}},{"$f":"AVERAGE(M$2:M12)","v":7.6363636363636356E-2},{"$f":"AVERAGE(N$2:N12)","v":0.16000000000000003},{"$f":"AVERAGE(O$2:O12)","v":0.13090909090909095},{"$f":"AVERAGE(P$2:P12)","v":6.8181818181818177E-2},{"$f":"AVERAGE(Q$2:Q12)","v":{"$error":"#DIV/0!"}},{"$f":"AVERAGE(R$2:R12)","v":0.2945454545454545},{"$f":"AVERAGE(S$2:S12)","v":0.16},{"$f":"AVERAGE(T$2:T12)","v":0.23999999999999996},{"$f":"AVERAGE(U$2:U12)","v":1.1299999999999999},{"$f":"IF(AND(OR(#REF!=72,#REF!=73,#REF!=74,#REF!=75,#REF!=76),$U19>0),RANK($U19,Y$2:Y$40,0),\" \")","v":{"$error":"#REF!"}}]

{"sheet":"Windows","index":3,"n_rows":68,"n_cols":29,"rows_kept":68,"cut":false,"hidden":false,"merged":[]}
["Instructions:\nScroll down to see all products.  New products may be added to the end of the list.  Rate the performance of each product as \"N, L, M or H.\" (Hover over the component title for the rating description.)  Use your Backspace button to clear values.  The Sort button (below) will incorporate your priorities as currently stated on the table to the right.  (Scroll to the right to see the table.)\n\n","Available Locally","Incremental Energy Savings","Use of Recycled Content","Low Energy Usage Manufacturing Process","Easily Biodegradable","Made from Natural Materials","Low Emissions Potential","Listed in Other Programs","Non Hazardous as Waste","Total Raw Score","Incremental Energy Savings Weighted Score","Use of Recycled Content Weighted Score","Low Energy Usage Mfg. Process Weighted Score","Easily Biodegradable Weighted Score","Made from Natural Materials Weighted Score","Available Locally Weighted Score","Low Emissions Potential Weighted Score","Listed in Other Programs Weighted Score","Non Hazardous as Waste Weighted Score","Total Weighted Score","Force Ranking",null,"Weighted Score for Force Rank Calculation ",null,"Detailed instructions and options for using this tool are found in the Using the DYO® GBD Kit Decision Matrix Software Section of your DYO® Green Building Decision Kit."]
["Composite - Double Pane w/Low-E",null,"H","M","M","N","M","M","H","M",{"$f":"SUM(IF(ISBLANK(C2),,LOOKUP(C2,'Component Weights'!$B$16:$J$16,'Component Weights'!$B$17:$J$17)),IF(ISBLANK(D2),,LOOKUP(D2,'Component Weights'!$B$16:$J$16,'Component Weights'!$B$17:$J$17)),IF(ISBLANK(E2),,LOOKUP(E2,'Component Weights'!$B$16:$J$16,'Component Weights'!$B$17:$J$17)),IF(ISBLANK(F2),,LOOKUP(F2,'Component Weights'!$B$16:$J$16,'Component Weights'!$B$17:$J$17)),IF(ISBLANK(G2),,LOOKUP(G2,'Component Weights'!$B$16:$J$16,'Component Weights'!$B$17:$J$17)),IF(ISBLANK(B2),,LOOKUP(B2,'Component Weights'!$B$16:$J$16,'Component Weights'!$B$17:$J$17)),IF(ISBLANK(H2),,LOOKUP(H2,'Component Weights'!$B$16:$J$16,'Component Weights'!$B$17:$J$17)),IF(ISBLANK(I2),,LOOKUP(I2,'Component Weights'!$B$16:$J$16,'Component Weights'!$B$17:$J$17)),IF(ISBLANK(J2),,LOOKUP(J2,'Component Weights'!$B$16:$J$16,'Component Weights'!$B$17:$J$17)))","v":16},{"$f":"IF(ISBLANK(C2),\" \",(LOOKUP(C2,'Component Weights'!$B$16:$J$16,'Component Weights'!$B$17:$J$17)*$AA$4))","v":0.24},{"$f":"IF(ISBLANK(D2),\" \",(LOOKUP(D2,'Component Weights'!$B$16:$J$16,'Component Weights'!$B$17:$J$17)*$AA$5))","v":0.24},{"$f":"IF(ISBLANK(E2),\" \",(LOOKUP(E2,'Component Weights'!$B$16:$J$16,'Component Weights'!$B$17:$J$17)*$AA$6))","v":0.16},{"$f":"IF(ISBLANK(F2),\" \",(LOOKUP(F2,'Component Weights'!$B$16:$J$16,'Component Weights'!$B$17:$J$17)*$AA$7))","v":0},{"$f":"IF(ISBLANK(G2),\" \",(LOOKUP(G2,'Component Weights'!$B$16:$J$16,'Component Weights'!$B$17:$J$17)*$AA$8))","v":0.1},{"$f":"IF(ISBLANK(B2),\" \",(LOOKUP(B2,'Component Weights'!$B$16:$J$16,'Component Weights'!$B$17:$J$17)*$AA$9))","v":" "},{"$f":"IF(ISBLANK(H2),\" \",(LOOKUP(H2,'Component Weights'!$B$16:$J$16,'Component Weights'!$B$17:$J$17)*$AA$10))","v":0.24},{"$f":"IF(ISBLANK(I2),\" \",(LOOKUP(I2,'Component Weights'!$B$16:$J$16,'Component Weights'!$B$17:$J$17)*$AA$11))","v":0.24},{"$f":"IF(ISBLANK(J2),\" \",(LOOKUP(J2,'Component Weights'!$B$16:$J$16,'Component Weights'!$B$17:$J$17)*$AA$12))","v":0.24},{"$f":"SUM(L2:T2)","v":1.46},{"$f":"IF($U2>0,RANK($U2,X$2:X$206,0),99)","v":1},null,{"$f":"U2","v":1.46},null,"Component Weights for","Weight"]
["Composite - Double Pane w/Low-E & Argon",null,"H","M","M","N","M","M","H","M",{"$f":"SUM(IF(ISBLANK(C3),,LOOKUP(C3,'Component Weights'!$B$16:$J$16,'Component Weights'!$B$17:$J$17)),IF(ISBLANK(D3),,LOOKUP(D3,'Component Weights'!$B$16:$J$16,'Component Weights'!$B$17:$J$17)),IF(ISBLANK(E3),,LOOKUP(E3,'Component Weights'!$B$16:$J$16,'Component Weights'!$B$17:$J$17)),IF(ISBLANK(F3),,LOOKUP(F3,'Component Weights'!$B$16:$J$16,'Component Weights'!$B$17:$J$17)),IF(ISBLANK(G3),,LOOKUP(G3,'Component Weights'!$B$16:$J$16,'Component Weights'!$B$17:$J$17)),IF(ISBLANK(B3),,LOOKUP(B3,'Component Weights'!$B$16:$J$16,'Component Weights'!$B$17:$J$17)),IF(ISBLANK(H3),,LOOKUP(H3,'Component Weights'!$B$16:$J$16,'Component Weights'!$B$17:$J$17)),IF(ISBLANK(I3),,LOOKUP(I3,'Component Weights'!$B$16:$J$16,'Component Weights'!$B$17:$J$17)),IF(ISBLANK(J3),,LOOKUP(J3,'Component Weights'!$B$16:$J$16,'Component Weights'!$B$17:$J$17)))","v":16},{"$f":"IF(ISBLANK(C3),\" \",(LOOKUP(C3,'Component Weights'!$B$16:$J$16,'Component Weights'!$B$17:$J$17)*$AA$4))","v":0.24},{"$f":"IF(ISBLANK(D3),\" \",(LOOKUP(D3,'Component Weights'!$B$16:$J$16,'Component Weights'!$B$17:$J$17)*$AA$5))","v":0.24},{"$f":"IF(ISBLANK(E3),\" \",(LOOKUP(E3,'Component Weights'!$B$16:$J$16,'Component Weights'!$B$17:$J$17)*$AA$6))","v":0.16},{"$f":"IF(ISBLANK(F3),\" \",(LOOKUP(F3,'Component Weights'!$B$16:$J$16,'Component Weights'!$B$17:$J$17)*$AA$7))","v":0},{"$f":"IF(ISBLANK(G3),\" \",(LOOKUP(G3,'Component Weights'!$B$16:$J$16,'Component Weights'!$B$17:$J$17)*$AA$8))","v":0.1},{"$f":"IF(ISBLANK(B3),\" \",(LOOKUP(B3,'Component Weights'!$B$16:$J$16,'Component Weights'!$B$17:$J$17)*$AA$9))","v":" "},{"$f":"IF(ISBLANK(H3),\" \",(LOOKUP(H3,'Component Weights'!$B$16:$J$16,'Component Weights'!$B$17:$J$17)*$AA$10))","v":0.24},{"$f":"IF(ISBLANK(I3),\" \",(LOOKUP(I3,'Component Weights'!$B$16:$J$16,'Component Weights'!$B$17:$J$17)*$AA$11))","v":0.24},{"$f":"IF(ISBLANK(J3),\" \",(LOOKUP(J3,'Component Weights'!$B$16:$J$16,'Component Weights'!$B$17:$J$17)*$AA$12))","v":0.24},1.46,1,null,1.46,null,"Windows"]
["Composite - Double Pane w/Argon",null,"H","M","M","N","M","M","H","M",{"$f":"SUM(IF(ISBLANK(C4),,LOOKUP(C4,'Component Weights'!$B$16:$J$16,'Component Weights'!$B$17:$J$17)),IF(ISBLANK(D4),,LOOKUP(D4,'Component Weights'!$B$16:$J$16,'Component Weights'!$B$17:$J$17)),IF(ISBLANK(E4),,LOOKUP(E4,'Component Weights'!$B$16:$J$16,'Component Weights'!$B$17:$J$17)),IF(ISBLANK(F4),,LOOKUP(F4,'Component Weights'!$B$16:$J$16,'Component Weights'!$B$17:$J$17)),IF(ISBLANK(G4),,LOOKUP(G4,'Component Weights'!$B$16:$J$16,'Component Weights'!$B$17:$J$17)),IF(ISBLANK(B4),,LOOKUP(B4,'Component Weights'!$B$16:$J$16,'Component Weights'!$B$17:$J$17)),IF(ISBLANK(H4),,LOOKUP(H4,'Component Weights'!$B$16:$J$16,'Component Weights'!$B$17:$J$17)),IF(ISBLANK(I4),,LOOKUP(I4,'Component Weights'!$B$16:$J$16,'Component Weights'!$B$17:$J$17)),IF(ISBLANK(J4),,LOOKUP(J4,'Component Weights'!$B$16:$J$16,'Component Weights'!$B$17:$J$17)))","v":16},{"$f":"IF(ISBLANK(C4),\" \",(LOOKUP(C4,'Component Weights'!$B$16:$J$16,'Component Weights'!$B$17:$J$17)*$AA$4))","v":0.24},{"$f":"IF(ISBLANK(D4),\" \",(LOOKUP(D4,'Component Weights'!$B$16:$J$16,'Component Weights'!$B$17:$J$17)*$AA$5))","v":0.24},{"$f":"IF(ISBLANK(E4),\" \",(LOOKUP(E4,'Component Weights'!$B$16:$J$16,'Component Weights'!$B$17:$J$17)*$AA$6))","v":0.16},{"$f":"IF(ISBLANK(F4),\" \",(LOOKUP(F4,'Component Weights'!$B$16:$J$16,'Component Weights'!$B$17:$J$17)*$AA$7))","v":0},{"$f":"IF(ISBLANK(G4),\" \",(LOOKUP(G4,'Component Weights'!$B$16:$J$16,'Component Weights'!$B$17:$J$17)*$AA$8))","v":0.1},{"$f":"IF(ISBLANK(B4),\" \",(LOOKUP(B4,'Component Weights'!$B$16:$J$16,'Component Weights'!$B$17:$J$17)*$AA$9))","v":" "},{"$f":"IF(ISBLANK(H4),\" \",(LOOKUP(H4,'Component Weights'!$B$16:$J$16,'Component Weights'!$B$17:$J$17)*$AA$10))","v":0.24},{"$f":"IF(ISBLANK(I4),\" \",(LOOKUP(I4,'Component Weights'!$B$16:$J$16,'Component Weights'!$B$17:$J$17)*$AA$11))","v":0.24},{"$f":"IF(ISBLANK(J4),\" \",(LOOKUP(J4,'Component Weights'!$B$16:$J$16,'Component Weights'!$B$17:$J$17)*$AA$12))","v":0.24},1.46,1,null,1.46,null,"Incremental Energy Savings",0.08,"M","The amount of incremental energy, expressed in Btu/Hr, that a product saves or generates for the structure."]
["Composite - Triple Pane w/Low-E & Argon",null,"H","M","M","N","M","M","H","M",{"$f":"SUM(IF(ISBLANK(C5),,LOOKUP(C5,'Component Weights'!$B$16:$J$16,'Component Weights'!$B$17:$J$17)),IF(ISBLANK(D5),,LOOKUP(D5,'Component Weights'!$B$16:$J$16,'Component Weights'!$B$17:$J$17)),IF(ISBLANK(E5),,LOOKUP(E5,'Component Weights'!$B$16:$J$16,'Component Weights'!$B$17:$J$17)),IF(ISBLANK(F5),,LOOKUP(F5,'Component Weights'!$B$16:$J$16,'Component Weights'!$B$17:$J$17)),IF(ISBLANK(G5),,LOOKUP(G5,'Component Weights'!$B$16:$J$16,'Component Weights'!$B$17:$J$17)),IF(ISBLANK(B5),,LOOKUP(B5,'Component Weights'!$B$16:$J$16,'Component Weights'!$B$17:$J$17)),IF(ISBLANK(H5),,LOOKUP(H5,'Component Weights'!$B$16:$J$16,'Component Weights'!$B$17:$J$17)),IF(ISBLANK(I5),,LOOKUP(I5,'Component Weights'!$B$16:$J$16,'Component Weights'!$B$17:$J$17)),IF(ISBLANK(J5),,LOOKUP(J5,'Component Weights'!$B$16:$J$16,'Component Weights'!$B$17:$J$17)))","v":16},{"$f":"IF(ISBLANK(C5),\" \",(LOOKUP(C5,'Component Weights'!$B$16:$J$16,'Component Weights'!$B$17:$J$17)*$AA$4))","v":0.24},{"$f":"IF(ISBLANK(D5),\" \",(LOOKUP(D5,'Component Weights'!$B$16:$J$16,'Component Weights'!$B$17:$J$17)*$AA$5))","v":0.24},{"$f":"IF(ISBLANK(E5),\" \",(LOOKUP(E5,'Component Weights'!$B$16:$J$16,'Component Weights'!$B$17:$J$17)*$AA$6))","v":0.16},{"$f":"IF(ISBLANK(F5),\" \",(LOOKUP(F5,'Component Weights'!$B$16:$J$16,'Component Weights'!$B$17:$J$17)*$AA$7))","v":0},{"$f":"IF(ISBLANK(G5),\" \",(LOOKUP(G5,'Component Weights'!$B$16:$J$16,'Component Weights'!$B$17:$J$17)*$AA$8))","v":0.1},{"$f":"IF(ISBLANK(B5),\" \",(LOOKUP(B5,'Component Weights'!$B$16:$J$16,'Component Weights'!$B$17:$J$17)*$AA$9))","v":" "},{"$f":"IF(ISBLANK(H5),\" \",(LOOKUP(H5,'Component Weights'!$B$16:$J$16,'Component Weights'!$B$17:$J$17)*$AA$10))","v":0.24},{"$f":"IF(ISBLANK(I5),\" \",(LOOKUP(I5,'Component Weights'!$B$16:$J$16,'Component Weights'!$B$17:$J$17)*$AA$11))","v":0.24},{"$f":"IF(ISBLANK(J5),\" \",(LOOKUP(J5,'Component Weights'!$B$16:$J$16,'Component Weights'!$B$17:$J$17)*$AA$12))","v":0.24},1.46,1,null,1.46,null,"Use of Recycled Content",0.12,"H","The amount of recycled content, expressed as a percentage, found in a product."]
["Composite - Triple Pane w/Argon",null,"H","M","M","N","M","M","H","M",{"$f":"SUM(IF(ISBLANK(C6),,LOOKUP(C6,'Component Weights'!$B$16:$J$16,'Component Weights'!$B$17:$J$17)),IF(ISBLANK(D6),,LOOKUP(D6,'Component Weights'!$B$16:$J$16,'Component Weights'!$B$17:$J$17)),IF(ISBLANK(E6),,LOOKUP(E6,'Component Weights'!$B$16:$J$16,'Component Weights'!$B$17:$J$17)),IF(ISBLANK(F6),,LOOKUP(F6,'Component Weights'!$B$16:$J$16,'Component Weights'!$B$17:$J$17)),IF(ISBLANK(G6),,LOOKUP(G6,'Component Weights'!$B$16:$J$16,'Component Weights'!$B$17:$J$17)),IF(ISBLANK(B6),,LOOKUP(B6,'Component Weights'!$B$16:$J$16,'Component Weights'!$B$17:$J$17)),IF(ISBLANK(H6),,LOOKUP(H6,'Component Weights'!$B$16:$J$16,'Component Weights'!$B$17:$J$17)),IF(ISBLANK(I6),,LOOKUP(I6,'Component Weights'!$B$16:$J$16,'Component Weights'!$B$17:$J$17)),IF(ISBLANK(J6),,LOOKUP(J6,'Component Weights'!$B$16:$J$16,'Component Weights'!$B$17:$J$17)))","v":16},{"$f":"IF(ISBLANK(C6),\" \",(LOOKUP(C6,'Component Weights'!$B$16:$J$16,'Component Weights'!$B$17:$J$17)*$AA$4))","v":0.24},{"$f":"IF(ISBLANK(D6),\" \",(LOOKUP(D6,'Component Weights'!$B$16:$J$16,'Component Weights'!$B$17:$J$17)*$AA$5))","v":0.24},{"$f":"IF(ISBLANK(E6),\" \",(LOOKUP(E6,'Component Weights'!$B$16:$J$16,'Component Weights'!$B$17:$J$17)*$AA$6))","v":0.16},{"$f":"IF(ISBLANK(F6),\" \",(LOOKUP(F6,'Component Weights'!$B$16:$J$16,'Component Weights'!$B$17:$J$17)*$AA$7))","v":0},{"$f":"IF(ISBLANK(G6),\" \",(LOOKUP(G6,'Component Weights'!$B$16:$J$16,'Component Weights'!$B$17:$J$17)*$AA$8))","v":0.1},{"$f":"IF(ISBLANK(B6),\" \",(LOOKUP(B6,'Component Weights'!$B$16:$J$16,'Component Weights'!$B$17:$J$17)*$AA$9))","v":" "},{"$f":"IF(ISBLANK(H6),\" \",(LOOKUP(H6,'Component Weights'!$B$16:$J$16,'Component Weights'!$B$17:$J$17)*$AA$10))","v":0.24},{"$f":"IF(ISBLANK(I6),\" \",(LOOKUP(I6,'Component Weights'!$B$16:$J$16,'Component Weights'!$B$17:$J$17)*$AA$11))","v":0.24},{"$f":"IF(ISBLANK(J6),\" \",(LOOKUP(J6,'Component Weights'!$B$16:$J$16,'Component Weights'!$B$17:$J$17)*$AA$12))","v":0.24},1.46,1,null,1.46,null,"Low Energy Usage Manufacturing Process",0.08,"M","The amount of energy used in manufacture of the product."]
["Composite - Double Pane w/Reflective Film",null,"H","M","M","N","M","M","M","M",{"$f":"SUM(IF(ISBLANK(C7),,LOOKUP(C7,'Component Weights'!$B$16:$J$16,'Component Weights'!$B$17:$J$17)),IF(ISBLANK(D7),,LOOKUP(D7,'Component Weights'!$B$16:$J$16,'Component Weights'!$B$17:$J$17)),IF(ISBLANK(E7),,LOOKUP(E7,'Component Weights'!$B$16:$J$16,'Component Weights'!$B$17:$J$17)),IF(ISBLANK(F7),,LOOKUP(F7,'Component Weights'!$B$16:$J$16,'Component Weights'!$B$17:$J$17)),IF(ISBLANK(G7),,LOOKUP(G7,'Component Weights'!$B$16:$J$16,'Component Weights'!$B$17:$J$17)),IF(ISBLANK(B7),,LOOKUP(B7,'Component Weights'!$B$16:$J$16,'Component Weights'!$B$17:$J$17)),IF(ISBLANK(H7),,LOOKUP(H7,'Component Weights'!$B$16:$J$16,'Component Weights'!$B$17:$J$17)),IF(ISBLANK(I7),,LOOKUP(I7,'Component Weights'!$B$16:$J$16,'Component Weights'!$B$17:$J$17)),IF(ISBLANK(J7),,LOOKUP(J7,'Component Weights'!$B$16:$J$16,'Component Weights'!$B$17:$J$17)))","v":15},{"$f":"IF(ISBLANK(C7),\" \",(LOOKUP(C7,'Component Weights'!$B$16:$J$16,'Component Weights'!$B$17:$J$17)*$AA$4))","v":0.24},{"$f":"IF(ISBLANK(D7),\" \",(LOOKUP(D7,'Component Weights'!$B$16:$J$16,'Component Weights'!$B$17:$J$17)*$AA$5))","v":0.24},{"$f":"IF(ISBLANK(E7),\" \",(LOOKUP(E7,'Component Weights'!$B$16:$J$16,'Component Weights'!$B$17:$J$17)*$AA$6))","v":0.16},{"$f":"IF(ISBLANK(F7),\" \",(LOOKUP(F7,'Component Weights'!$B$16:$J$16,'Component Weights'!$B$17:$J$17)*$AA$7))","v":0},{"$f":"IF(ISBLANK(G7),\" \",(LOOKUP(G7,'Component Weights'!$B$16:$J$16,'Component Weights'!$B$17:$J$17)*$AA$8))","v":0.1},{"$f":"IF(ISBLANK(B7),\" \",(LOOKUP(B7,'Component Weights'!$B$16:$J$16,'Component Weights'!$B$17:$J$17)*$AA$9))","v":" "},{"$f":"IF(ISBLANK(H7),\" \",(LOOKUP(H7,'Component Weights'!$B$16:$J$16,'Component Weights'!$B$17:$J$17)*$AA$10))","v":0.24},{"$f":"IF(ISBLANK(I7),\" \",(LOOKUP(I7,'Component Weights'!$B$16:$J$16,'Component Weights'!$B$17:$J$17)*$AA$11))","v":0.16},{"$f":"IF(ISBLANK(J7),\" \",(LOOKUP(J7,'Component Weights'!$B$16:$J$16,'Component Weights'!$B$17:$J$17)*$AA$12))","v":0.24},1.38,6,null,1.38,null,"Easily Biodegradable",0.12,"H","The amount of time it will take the product to degrade once its useful life is over."]
["Composite - Triple Pane w/Low-E",null,"H","M","M","N","M","M","L","M",{"$f":"SUM(IF(ISBLANK(C8),,LOOKUP(C8,'Component Weights'!$B$16:$J$16,'Component Weights'!$B$17:$J$17)),IF(ISBLANK(D8),,LOOKUP(D8,'Component Weights'!$B$16:$J$16,'Component Weights'!$B$17:$J$17)),IF(ISBLANK(E8),,LOOKUP(E8,'Component Weights'!$B$16:$J$16,'Component Weights'!$B$17:$J$17)),IF(ISBLANK(F8),,LOOKUP(F8,'Component Weights'!$B$16:$J$16,'Component Weights'!$B$17:$J$17)),IF(ISBLANK(G8),,LOOKUP(G8,'Component Weights'!$B$16:$J$16,'Component Weights'!$B$17:$J$17)),IF(ISBLANK(B8),,LOOKUP(B8,'Component Weights'!$B$16:$J$16,'Component Weights'!$B$17:$J$17)),IF(ISBLANK(H8),,LOOKUP(H8,'Component Weights'!$B$16:$J$16,'Component Weights'!$B$17:$J$17)),IF(ISBLANK(I8),,LOOKUP(I8,'Component Weights'!$B$16:$J$16,'Component Weights'!$B$17:$J$17)),IF(ISBLANK(J8),,LOOKUP(J8,'Component Weights'!$B$16:$J$16,'Component Weights'!$B$17:$J$17)))","v":14},{"$f":"IF(ISBLANK(C8),\" \",(LOOKUP(C8,'Component Weights'!$B$16:$J$16,'Component Weights'!$B$17:$J$17)*$AA$4))","v":0.24},{"$f":"IF(ISBLANK(D8),\" \",(LOOKUP(D8,'Component Weights'!$B$16:$J$16,'Component Weights'!$B$17:$J$17)*$AA$5))","v":0.24},{"$f":"IF(ISBLANK(E8),\" \",(LOOKUP(E8,'Component Weights'!$B$16:$J$16,'Component Weights'!$B$17:$J$17)*$AA$6))","v":0.16},{"$f":"IF(ISBLANK(F8),\" \",(LOOKUP(F8,'Component Weights'!$B$16:$J$16,'Component Weights'!$B$17:$J$17)*$AA$7))","v":0},{"$f":"IF(ISBLANK(G8),\" \",(LOOKUP(G8,'Component Weights'!$B$16:$J$16,'Component Weights'!$B$17:$J$17)*$AA$8))","v":0.1},{"$f":"IF(ISBLANK(B8),\" \",(LOOKUP(B8,'Component Weights'!$B$16:$J$16,'Component Weights'!$B$17:$J$17)*$AA$9))","v":" "},{"$f":"IF(ISBLANK(H8),\" \",(LOOKUP(H8,'Component Weights'!$B$16:$J$16,'Component Weights'!$B$17:$J$17)*$AA$10))","v":0.24},{"$f":"IF(ISBLANK(I8),\" \",(LOOKUP(I8,'Component Weights'!$B$16:$J$16,'Component Weights'!$B$17:$J$17)*$AA$11))","v":0.08},{"$f":"IF(ISBLANK(J8),\" \",(LOOKUP(J8,'Component Weights'!$B$16:$J$16,'Component Weights'!$B$17:$J$17)*$AA$12))","v":0.24},1.3,7,null,1.3,null,"Made from Natural Materials",0.05,"L","The amount, expressed as a percentage, of natural (not man-made) materials used to make the product."]
["Composite - Double Pane",null,"M","M","M","N","M","M","L","M",{"$f":"SUM(IF(ISBLANK(C9),,LOOKUP(C9,'Component Weights'!$B$16:$J$16,'Component Weights'!$B$17:$J$17)),IF(ISBLANK(D9),,LOOKUP(D9,'Component Weights'!$B$16:$J$16,'Component Weights'!$B$17:$J$17)),IF(ISBLANK(E9),,LOOKUP(E9,'Component Weights'!$B$16:$J$16,'Component Weights'!$B$17:$J$17)),IF(ISBLANK(F9),,LOOKUP(F9,'Component Weights'!$B$16:$J$16,'Component Weights'!$B$17:$J$17)),IF(ISBLANK(G9),,LOOKUP(G9,'Component Weights'!$B$16:$J$16,'Component Weights'!$B$17:$J$17)),IF(ISBLANK(B9),,LOOKUP(B9,'Component Weights'!$B$16:$J$16,'Component Weights'!$B$17:$J$17)),IF(ISBLANK(H9),,LOOKUP(H9,'Component Weights'!$B$16:$J$16,'Component Weights'!$B$17:$J$17)),IF(ISBLANK(I9),,LOOKUP(I9,'Component Weights'!$B$16:$J$16,'Component Weights'!$B$17:$J$17)),IF(ISBLANK(J9),,LOOKUP(J9,'Component Weights'!$B$16:$J$16,'Component Weights'!$B$17:$J$17)))","v":13},{"$f":"IF(ISBLANK(C9),\" \",(LOOKUP(C9,'Component Weights'!$B$16:$J$16,'Component Weights'!$B$17:$J$17)*$AA$4))","v":0.16},{"$f":"IF(ISBLANK(D9),\" \",(LOOKUP(D9,'Component Weights'!$B$16:$J$16,'Component Weights'!$B$17:$J$17)*$AA$5))","v":0.24},{"$f":"IF(ISBLANK(E9),\" \",(LOOKUP(E9,'Component Weights'!$B$16:$J$16,'Component Weights'!$B$17:$J$17)*$AA$6))","v":0.16},{"$f":"IF(ISBLANK(F9),\" \",(LOOKUP(F9,'Component Weights'!$B$16:$J$16,'Component Weights'!$B$17:$J$17)*$AA$7))","v":0},{"$f":"IF(ISBLANK(G9),\" \",(LOOKUP(G9,'Component Weights'!$B$16:$J$16,'Component Weights'!$B$17:$J$17)*$AA$8))","v":0.1},{"$f":"IF(ISBLANK(B9),\" \",(LOOKUP(B9,'Component Weights'!$B$16:$J$16,'Component Weights'!$B$17:$J$17)*$AA$9))","v":" "},{"$f":"IF(ISBLANK(H9),\" \",(LOOKUP(H9,'Component Weights'!$B$16:$J$16,'Component Weights'!$B$17:$J$17)*$AA$10))","v":0.24},{"$f":"IF(ISBLANK(I9),\" \",(LOOKUP(I9,'Component Weights'!$B$16:$J$16,'Component Weights'!$B$17:$J$17)*$AA$11))","v":0.08},{"$f":"IF(ISBLANK(J9),\" \",(LOOKUP(J9,'Component Weights'!$B$16:$J$16,'Component Weights'!$B$17:$J$17)*$AA$12))","v":0.24},1.22,8,null,1.22,null,"Available Locally",0.23,"H+","The distance in miles that the product must travel to the destination of final use."]
["Wood - Double Pane w/Low-E",null,"H","N","L","N","M","M","H","M",{"$f":"SUM(IF(ISBLANK(C10),,LOOKUP(C10,'Component Weights'!$B$16:$J$16,'Component Weights'!$B$17:$J$17)),IF(ISBLANK(D10),,LOOKUP(D10,'Component Weights'!$B$16:$J$16,'Component Weights'!$B$17:$J$17)),IF(ISBLANK(E10),,LOOKUP(E10,'Component Weights'!$B$16:$J$16,'Component Weights'!$B$17:$J$17)),IF(ISBLANK(F10),,LOOKUP(F10,'Component Weights'!$B$16:$J$16,'Component Weights'!$B$17:$J$17)),IF(ISBLANK(G10),,LOOKUP(G10,'Component Weights'!$B$16:$J$16,'Component Weights'!$B$17:$J$17)),IF(ISBLANK(B10),,LOOKUP(B10,'Component Weights'!$B$16:$J$16,'Component Weights'!$B$17:$J$17)),IF(ISBLANK(H10),,LOOKUP(H10,'Component Weights'!$B$16:$J$16,'Component Weights'!$B$17:$J$17)),IF(ISBLANK(I10),,LOOKUP(I10,'Component Weights'!$B$16:$J$16,'Component Weights'!$B$17:$J$17)),IF(ISBLANK(J10),,LOOKUP(J10,'Component Weights'!$B$16:$J$16,'Component Weights'!$B$17:$J$17)))","v":13},{"$f":"IF(ISBLANK(C10),\" \",(LOOKUP(C10,'Component Weights'!$B$16:$J$16,'Component Weights'!$B$17:$J$17)*$AA$4))","v":0.24},{"$f":"IF(ISBLANK(D10),\" \",(LOOKUP(D10,'Component Weights'!$B$16:$J$16,'Component Weights'!$B$17:$J$17)*$AA$5))","v":0},{"$f":"IF(ISBLANK(E10),\" \",(LOOKUP(E10,'Component Weights'!$B$16:$J$16,'Component Weights'!$B$17:$J$17)*$AA$6))","v":0.08},{"$f":"IF(ISBLANK(F10),\" \",(LOOKUP(F10,'Component Weights'!$B$16:$J$16,'Component Weights'!$B$17:$J$17)*$AA$7))","v":0},{"$f":"IF(ISBLANK(G10),\" \",(LOOKUP(G10,'Component Weights'!$B$16:$J$16,'Component Weights'!$B$17:$J$17)*$AA$8))","v":0.1},{"$f":"IF(ISBLANK(B10),\" \",(LOOKUP(B10,'Component Weights'!$B$16:$J$16,'Component Weights'!$B$17:$J$17)*$AA$9))","v":" "},{"$f":"IF(ISBLANK(H10),\" \",(LOOKUP(H10,'Component Weights'!$B$16:$J$16,'Component Weights'!$B$17:$J$17)*$AA$10))","v":0.24},{"$f":"IF(ISBLANK(I10),\" \",(LOOKUP(I10,'Component Weights'!$B$16:$J$16,'Component Weights'!$B$17:$J$17)*$AA$11))","v":0.24},{"$f":"IF(ISBLANK(J10),\" \",(LOOKUP(J10,'Component Weights'!$B$16:$J$16,'Component Weights'!$B$17:$J$17)*$AA$12))","v":0.24},1.1400000000000001,9,null,1.1400000000000001,null,"Low Emissions Potential",0.12,"H","The amount of time it will take the product to stop outgassing."]
["Wood - Double Pane w/Low-E & Argon",null,"H","N","L","N","M","M","H","M",{"$f":"SUM(IF(ISBLANK(C11),,LOOKUP(C11,'Component Weights'!$B$16:$J$16,'Component Weights'!$B$17:$J$17)),IF(ISBLANK(D11),,LOOKUP(D11,'Component Weights'!$B$16:$J$16,'Component Weights'!$B$17:$J$17)),IF(ISBLANK(E11),,LOOKUP(E11,'Component Weights'!$B$16:$J$16,'Component Weights'!$B$17:$J$17)),IF(ISBLANK(F11),,LOOKUP(F11,'Component Weights'!$B$16:$J$16,'Component Weights'!$B$17:$J$17)),IF(ISBLANK(G11),,LOOKUP(G11,'Component Weights'!$B$16:$J$16,'Component Weights'!$B$17:$J$17)),IF(ISBLANK(B11),,LOOKUP(B11,'Component Weights'!$B$16:$J$16,'Component Weights'!$B$17:$J$17)),IF(ISBLANK(H11),,LOOKUP(H11,'Component Weights'!$B$16:$J$16,'Component Weights'!$B$17:$J$17)),IF(ISBLANK(I11),,LOOKUP(I11,'Component Weights'!$B$16:$J$16,'Component Weights'!$B$17:$J$17)),IF(ISBLANK(J11),,LOOKUP(J11,'Component Weights'!$B$16:$J$16,'Component Weights'!$B$17:$J$17)))","v":13},{"$f":"IF(ISBLANK(C11),\" \",(LOOKUP(C11,'Component Weights'!$B$16:$J$16,'Component Weights'!$B$17:$J$17)*$AA$4))","v":0.24},{"$f":"IF(ISBLANK(D11),\" \",(LOOKUP(D11,'Component Weights'!$B$16:$J$16,'Component Weights'!$B$17:$J$17)*$AA$5))","v":0},{"$f":"IF(ISBLANK(E11),\" \",(LOOKUP(E11,'Component Weights'!$B$16:$J$16,'Component Weights'!$B$17:$J$17)*$AA$6))","v":0.08},{"$f":"IF(ISBLANK(F11),\" \",(LOOKUP(F11,'Component Weights'!$B$16:$J$16,'Component Weights'!$B$17:$J$17)*$AA$7))","v":0},{"$f":"IF(ISBLANK(G11),\" \",(LOOKUP(G11,'Component Weights'!$B$16:$J$16,'Component Weights'!$B$17:$J$17)*$AA$8))","v":0.1},{"$f":"IF(ISBLANK(B11),\" \",(LOOKUP(B11,'Component Weights'!$B$16:$J$16,'Component Weights'!$B$17:$J$17)*$AA$9))","v":" "},{"$f":"IF(ISBLANK(H11),\" \",(LOOKUP(H11,'Component Weights'!$B$16:$J$16,'Component Weights'!$B$17:$J$17)*$AA$10))","v":0.24},{"$f":"IF(ISBLANK(I11),\" \",(LOOKUP(I11,'Component Weights'!$B$16:$J$16,'Component Weights'!$B$17:$J$17)*$AA$11))","v":0.24},{"$f":"IF(ISBLANK(J11),\" \",(LOOKUP(J11,'Component Weights'!$B$16:$J$16,'Component Weights'!$B$17:$J$17)*$AA$12))","v":0.24},1.1400000000000001,9,null,1.1400000000000001,null,"Listed in Other Programs (e.g. EnergyStar)",0.08,"M","The level of product recommendation in recognized energy and environmental programs."]
["Composite - Single Pane w/Reflective Film",null,"M","M","M","N","M","M","N","M",{"$f":"SUM(IF(ISBLANK(C12),,LOOKUP(C12,'Component Weights'!$B$16:$J$16,'Component Weights'!$B$17:$J$17)),IF(ISBLANK(D12),,LOOKUP(D12,'Component Weights'!$B$16:$J$16,'Component Weights'!$B$17:$J$17)),IF(ISBLANK(E12),,LOOKUP(E12,'Component Weights'!$B$16:$J$16,'Component Weights'!$B$17:$J$17)),IF(ISBLANK(F12),,LOOKUP(F12,'Component Weights'!$B$16:$J$16,'Component Weights'!$B$17:$J$17)),IF(ISBLANK(G12),,LOOKUP(G12,'Component Weights'!$B$16:$J$16,'Component Weights'!$B$17:$J$17)),IF(ISBLANK(B12),,LOOKUP(B12,'Component Weights'!$B$16:$J$16,'Component Weights'!$B$17:$J$17)),IF(ISBLANK(H12),,LOOKUP(H12,'Component Weights'!$B$16:$J$16,'Component Weights'!$B$17:$J$17)),IF(ISBLANK(I12),,LOOKUP(I12,'Component Weights'!$B$16:$J$16,'Component Weights'!$B$17:$J$17)),IF(ISBLANK(J12),,LOOKUP(J12,'Component Weights'!$B$16:$J$16,'Component Weights'!$B$17:$J$17)))","v":12},{"$f":"IF(ISBLANK(C12),\" \",(LOOKUP(C12,'Component Weights'!$B$16:$J$16,'Component Weights'!$B$17:$J$17)*$AA$4))","v":0.16},{"$f":"IF(ISBLANK(D12),\" \",(LOOKUP(D12,'Component Weights'!$B$16:$J$16,'Component Weights'!$B$17:$J$17)*$AA$5))","v":0.24},{"$f":"IF(ISBLANK(E12),\" \",(LOOKUP(E12,'Component Weights'!$B$16:$J$16,'Component Weights'!$B$17:$J$17)*$AA$6))","v":0.16},{"$f":"IF(ISBLANK(F12),\" \",(LOOKUP(F12,'Component Weights'!$B$16:$J$16,'Component Weights'!$B$17:$J$17)*$AA$7))","v":0},{"$f":"IF(ISBLANK(G12),\" \",(LOOKUP(G12,'Component Weights'!$B$16:$J$16,'Component Weights'!$B$17:$J$17)*$AA$8))","v":0.1},{"$f":"IF(ISBLANK(B12),\" \",(LOOKUP(B12,'Component Weights'!$B$16:$J$16,'Component Weights'!$B$17:$J$17)*$AA$9))","v":" "},{"$f":"IF(ISBLANK(H12),\" \",(LOOKUP(H12,'Component Weights'!$B$16:$J$16,'Component Weights'!$B$17:$J$17)*$AA$10))","v":0.24},{"$f":"IF(ISBLANK(I12),\" \",(LOOKUP(I12,'Component Weights'!$B$16:$J$16,'Component Weights'!$B$17:$J$17)*$AA$11))","v":0},{"$f":"IF(ISBLANK(J12),\" \",(LOOKUP(J12,'Component Weights'!$B$16:$J$16,'Component Weights'!$B$17:$J$17)*$AA$12))","v":0.24},1.1400000000000001,9,null,1.1400000000000001,null,"Non Hazardous as Waste",0.12,"H","The amount of hazardous materials and components found in the product."]
["Composite - Triple Pane w/Reflective Film",null,"M","M","M","N","M","M","N","M",{"$f":"SUM(IF(ISBLANK(C13),,LOOKUP(C13,'Component Weights'!$B$16:$J$16,'Component Weights'!$B$17:$J$17)),IF(ISBLANK(D13),,LOOKUP(D13,'Component Weights'!$B$16:$J$16,'Component Weights'!$B$17:$J$17)),IF(ISBLANK(E13),,LOOKUP(E13,'Component Weights'!$B$16:$J$16,'Component Weights'!$B$17:$J$17)),IF(ISBLANK(F13),,LOOKUP(F13,'Component Weights'!$B$16:$J$16,'Component Weights'!$B$17:$J$17)),IF(ISBLANK(G13),,LOOKUP(G13,'Component Weights'!$B$16:$J$16,'Component Weights'!$B$17:$J$17)),IF(ISBLANK(B13),,LOOKUP(B13,'Component Weights'!$B$16:$J$16,'Component Weights'!$B$17:$J$17)),IF(ISBLANK(H13),,LOOKUP(H13,'Component Weights'!$B$16:$J$16,'Component Weights'!$B$17:$J$17)),IF(ISBLANK(I13),,LOOKUP(I13,'Component Weights'!$B$16:$J$16,'Component Weights'!$B$17:$J$17)),IF(ISBLANK(J13),,LOOKUP(J13,'Component Weights'!$B$16:$J$16,'Component Weights'!$B$17:$J$17)))","v":12},{"$f":"IF(ISBLANK(C13),\" \",(LOOKUP(C13,'Component Weights'!$B$16:$J$16,'Component Weights'!$B$17:$J$17)*$AA$4))","v":0.16},{"$f":"IF(ISBLANK(D13),\" \",(LOOKUP(D13,'Component Weights'!$B$16:$J$16,'Component Weights'!$B$17:$J$17)*$AA$5))","v":0.24},{"$f":"IF(ISBLANK(E13),\" \",(LOOKUP(E13,'Component Weights'!$B$16:$J$16,'Component Weights'!$B$17:$J$17)*$AA$6))","v":0.16},{"$f":"IF(ISBLANK(F13),\" \",(LOOKUP(F13,'Component Weights'!$B$16:$J$16,'Component Weights'!$B$17:$J$17)*$AA$7))","v":0},{"$f":"IF(ISBLANK(G13),\" \",(LOOKUP(G13,'Component Weights'!$B$16:$J$16,'Component Weights'!$B$17:$J$17)*$AA$8))","v":0.1},{"$f":"IF(ISBLANK(B13),\" \",(LOOKUP(B13,'Component Weights'!$B$16:$J$16,'Component Weights'!$B$17:$J$17)*$AA$9))","v":" "},{"$f":"IF(ISBLANK(H13),\" \",(LOOKUP(H13,'Component Weights'!$B$16:$J$16,'Component Weights'!$B$17:$J$17)*$AA$10))","v":0.24},{"$f":"IF(ISBLANK(I13),\" \",(LOOKUP(I13,'Component Weights'!$B$16:$J$16,'Component Weights'!$B$17:$J$17)*$AA$11))","v":0},{"$f":"IF(ISBLANK(J13),\" \",(LOOKUP(J13,'Component Weights'!$B$16:$J$16,'Component Weights'!$B$17:$J$17)*$AA$12))","v":0.24},1.1400000000000001,9,null,1.1400000000000001,null,"Total Weightings Must Equal 100%",{"$f":"SUM(AA4:AA12)","v":1},null,{"$f":"IF(AA13<>100%,\"Keep Working - Weightings must equal 100%\",\" \")","v":" "}]
["Wood - Triple Pane w/Low-E",null,"H","N","L","N","M","M","M","M",{"$f":"SUM(IF(ISBLANK(C14),,LOOKUP(C14,'Component Weights'!$B$16:$J$16,'Component Weights'!$B$17:$J$17)),IF(ISBLANK(D14),,LOOKUP(D14,'Component Weights'!$B$16:$J$16,'Component Weights'!$B$17:$J$17)),IF(ISBLANK(E14),,LOOKUP(E14,'Component Weights'!$B$16:$J$16,'Component Weights'!$B$17:$J$17)),IF(ISBLANK(F14),,LOOKUP(F14,'Component Weights'!$B$16:$J$16,'Component Weights'!$B$17:$J$17)),IF(ISBLANK(G14),,LOOKUP(G14,'Component Weights'!$B$16:$J$16,'Component Weights'!$B$17:$J$17)),IF(ISBLANK(B14),,LOOKUP(B14,'Component Weights'!$B$16:$J$16,'Component Weights'!$B$17:$J$17)),IF(ISBLANK(H14),,LOOKUP(H14,'Component Weights'!$B$16:$J$16,'Component Weights'!$B$17:$J$17)),IF(ISBLANK(I14),,LOOKUP(I14,'Component Weights'!$B$16:$J$16,'Component Weights'!$B$17:$J$17)),IF(ISBLANK(J14),,LOOKUP(J14,'Component Weights'!$B$16:$J$16,'Component Weights'!$B$17:$J$17)))","v":12},{"$f":"IF(ISBLANK(C14),\" \",(LOOKUP(C14,'Component Weights'!$B$16:$J$16,'Component Weights'!$B$17:$J$17)*$AA$4))","v":0.24},{"$f":"IF(ISBLANK(D14),\" \",(LOOKUP(D14,'Component Weights'!$B$16:$J$16,'Component Weights'!$B$17:$J$17)*$AA$5))","v":0},{"$f":"IF(ISBLANK(E14),\" \",(LOOKUP(E14,'Component Weights'!$B$16:$J$16,'Component Weights'!$B$17:$J$17)*$AA$6))","v":0.08},{"$f":"IF(ISBLANK(F14),\" \",(LOOKUP(F14,'Component Weights'!$B$16:$J$16,'Component Weights'!$B$17:$J$17)*$AA$7))","v":0},{"$f":"IF(ISBLANK(G14),\" \",(LOOKUP(G14,'Component Weights'!$B$16:$J$16,'Component Weights'!$B$17:$J$17)*$AA$8))","v":0.1},{"$f":"IF(ISBLANK(B14),\" \",(LOOKUP(B14,'Component Weights'!$B$16:$J$16,'Component Weights'!$B$17:$J$17)*$AA$9))","v":" "},{"$f":"IF(ISBLANK(H14),\" \",(LOOKUP(H14,'Component Weights'!$B$16:$J$16,'Component Weights'!$B$17:$J$17)*$AA$10))","v":0.24},{"$f":"IF(ISBLANK(I14),\" \",(LOOKUP(I14,'Component Weights'!$B$16:$J$16,'Component Weights'!$B$17:$J$17)*$AA$11))","v":0.16},{"$f":"IF(ISBLANK(J14),\" \",(LOOKUP(J14,'Component Weights'!$B$16:$J$16,'Component Weights'!$B$17:$J$17)*$AA$12))","v":0.24},1.06,13,null,1.06]
["Wood - Triple Pane w/Low-E & Argon",null,"H","N","L","N","M","M","M","M",{"$f":"SUM(IF(ISBLANK(C15),,LOOKUP(C15,'Component Weights'!$B$16:$J$16,'Component Weights'!$B$17:$J$17)),IF(ISBLANK(D15),,LOOKUP(D15,'Component Weights'!$B$16:$J$16,'Component Weights'!$B$17:$J$17)),IF(ISBLANK(E15),,LOOKUP(E15,'Component Weights'!$B$16:$J$16,'Component Weights'!$B$17:$J$17)),IF(ISBLANK(F15),,LOOKUP(F15,'Component Weights'!$B$16:$J$16,'Component Weights'!$B$17:$J$17)),IF(ISBLANK(G15),,LOOKUP(G15,'Component Weights'!$B$16:$J$16,'Component Weights'!$B$17:$J$17)),IF(ISBLANK(B15),,LOOKUP(B15,'Component Weights'!$B$16:$J$16,'Component Weights'!$B$17:$J$17)),IF(ISBLANK(H15),,LOOKUP(H15,'Component Weights'!$B$16:$J$16,'Component Weights'!$B$17:$J$17)),IF(ISBLANK(I15),,LOOKUP(I15,'Component Weights'!$B$16:$J$16,'Component Weights'!$B$17:$J$17)),IF(ISBLANK(J15),,LOOKUP(J15,'Component Weights'!$B$16:$J$16,'Component Weights'!$B$17:$J$17)))","v":12},{"$f":"IF(ISBLANK(C15),\" \",(LOOKUP(C15,'Component Weights'!$B$16:$J$16,'Component Weights'!$B$17:$J$17)*$AA$4))","v":0.24},{"$f":"IF(ISBLANK(D15),\" \",(LOOKUP(D15,'Component Weights'!$B$16:$J$16,'Component Weights'!$B$17:$J$17)*$AA$5))","v":0},{"$f":"IF(ISBLANK(E15),\" \",(LOOKUP(E15,'Component Weights'!$B$16:$J$16,'Component Weights'!$B$17:$J$17)*$AA$6))","v":0.08},{"$f":"IF(ISBLANK(F15),\" \",(LOOKUP(F15,'Component Weights'!$B$16:$J$16,'Component Weights'!$B$17:$J$17)*$AA$7))","v":0},{"$f":"IF(ISBLANK(G15),\" \",(LOOKUP(G15,'Component Weights'!$B$16:$J$16,'Component Weights'!$B$17:$J$17)*$AA$8))","v":0.1},{"$f":"IF(ISBLANK(B15),\" \",(LOOKUP(B15,'Component Weights'!$B$16:$J$16,'Component Weights'!$B$17:$J$17)*$AA$9))","v":" "},{"$f":"IF(ISBLANK(H15),\" \",(LOOKUP(H15,'Component Weights'!$B$16:$J$16,'Component Weights'!$B$17:$J$17)*$AA$10))","v":0.24},{"$f":"IF(ISBLANK(I15),\" \",(LOOKUP(I15,'Component Weights'!$B$16:$J$16,'Component Weights'!$B$17:$J$17)*$AA$11))","v":0.16},{"$f":"IF(ISBLANK(J15),\" \",(LOOKUP(J15,'Component Weights'!$B$16:$J$16,'Component Weights'!$B$17:$J$17)*$AA$12))","v":0.24},1.06,13,null,1.06]
["Wood - Double Pane w/Argon",null,"M","N","L","N","M","M","H","M",{"$f":"SUM(IF(ISBLANK(C16),,LOOKUP(C16,'Component Weights'!$B$16:$J$16,'Component Weights'!$B$17:$J$17)),IF(ISBLANK(D16),,LOOKUP(D16,'Component Weights'!$B$16:$J$16,'Component Weights'!$B$17:$J$17)),IF(ISBLANK(E16),,LOOKUP(E16,'Component Weights'!$B$16:$J$16,'Component Weights'!$B$17:$J$17)),IF(ISBLANK(F16),,LOOKUP(F16,'Component Weights'!$B$16:$J$16,'Component Weights'!$B$17:$J$17)),IF(ISBLANK(G16),,LOOKUP(G16,'Component Weights'!$B$16:$J$16,'Component Weights'!$B$17:$J$17)),IF(ISBLANK(B16),,LOOKUP(B16,'Component Weights'!$B$16:$J$16,'Component Weights'!$B$17:$J$17)),IF(ISBLANK(H16),,LOOKUP(H16,'Component Weights'!$B$16:$J$16,'Component Weights'!$B$17:$J$17)),IF(ISBLANK(I16),,LOOKUP(I16,'Component Weights'!$B$16:$J$16,'Component Weights'!$B$17:$J$17)),IF(ISBLANK(J16),,LOOKUP(J16,'Component Weights'!$B$16:$J$16,'Component Weights'!$B$17:$J$17)))","v":12},{"$f":"IF(ISBLANK(C16),\" \",(LOOKUP(C16,'Component Weights'!$B$16:$J$16,'Component Weights'!$B$17:$J$17)*$AA$4))","v":0.16},{"$f":"IF(ISBLANK(D16),\" \",(LOOKUP(D16,'Component Weights'!$B$16:$J$16,'Component Weights'!$B$17:$J$17)*$AA$5))","v":0},{"$f":"IF(ISBLANK(E16),\" \",(LOOKUP(E16,'Component Weights'!$B$16:$J$16,'Component Weights'!$B$17:$J$17)*$AA$6))","v":0.08},{"$f":"IF(ISBLANK(F16),\" \",(LOOKUP(F16,'Component Weights'!$B$16:$J$16,'Component Weights'!$B$17:$J$17)*$AA$7))","v":0},{"$f":"IF(ISBLANK(G16),\" \",(LOOKUP(G16,'Component Weights'!$B$16:$J$16,'Component Weights'!$B$17:$J$17)*$AA$8))","v":0.1},{"$f":"IF(ISBLANK(B16),\" \",(LOOKUP(B16,'Component Weights'!$B$16:$J$16,'Component Weights'!$B$17:$J$17)*$AA$9))","v":" "},{"$f":"IF(ISBLANK(H16),\" \",(LOOKUP(H16,'Component Weights'!$B$16:$J$16,'Component Weights'!$B$17:$J$17)*$AA$10))","v":0.24},{"$f":"IF(ISBLANK(I16),\" \",(LOOKUP(I16,'Component Weights'!$B$16:$J$16,'Component Weights'!$B$17:$J$17)*$AA$11))","v":0.24},{"$f":"IF(ISBLANK(J16),\" \",(LOOKUP(J16,'Component Weights'!$B$16:$J$16,'Component Weights'!$B$17:$J$17)*$AA$12))","v":0.24},1.06,13,null,1.06]
["Composite - Single Pane",null,"L","M","M","N","M","M","N","M",{"$f":"SUM(IF(ISBLANK(C17),,LOOKUP(C17,'Component Weights'!$B$16:$J$16,'Component Weights'!$B$17:$J$17)),IF(ISBLANK(D17),,LOOKUP(D17,'Component Weights'!$B$16:$J$16,'Component Weights'!$B$17:$J$17)),IF(ISBLANK(E17),,LOOKUP(E17,'Component Weights'!$B$16:$J$16,'Component Weights'!$B$17:$J$17)),IF(ISBLANK(F17),,LOOKUP(F17,'Component Weights'!$B$16:$J$16,'Component Weights'!$B$17:$J$17)),IF(ISBLANK(G17),,LOOKUP(G17,'Component Weights'!$B$16:$J$16,'Component Weights'!$B$17:$J$17)),IF(ISBLANK(B17),,LOOKUP(B17,'Component Weights'!$B$16:$J$16,'Component Weights'!$B$17:$J$17)),IF(ISBLANK(H17),,LOOKUP(H17,'Component Weights'!$B$16:$J$16,'Component Weights'!$B$17:$J$17)),IF(ISBLANK(I17),,LOOKUP(I17,'Component Weights'!$B$16:$J$16,'Component Weights'!$B$17:$J$17)),IF(ISBLANK(J17),,LOOKUP(J17,'Component Weights'!$B$16:$J$16,'Component Weights'!$B$17:$J$17)))","v":11},{"$f":"IF(ISBLANK(C17),\" \",(LOOKUP(C17,'Component Weights'!$B$16:$J$16,'Component Weights'!$B$17:$J$17)*$AA$4))","v":0.08},{"$f":"IF(ISBLANK(D17),\" \",(LOOKUP(D17,'Component Weights'!$B$16:$J$16,'Component Weights'!$B$17:$J$17)*$AA$5))","v":0.24},{"$f":"IF(ISBLANK(E17),\" \",(LOOKUP(E17,'Component Weights'!$B$16:$J$16,'Component Weights'!$B$17:$J$17)*$AA$6))","v":0.16},{"$f":"IF(ISBLANK(F17),\" \",(LOOKUP(F17,'Component Weights'!$B$16:$J$16,'Component Weights'!$B$17:$J$17)*$AA$7))","v":0},{"$f":"IF(ISBLANK(G17),\" \",(LOOKUP(G17,'Component Weights'!$B$16:$J$16,'Component Weights'!$B$17:$J$17)*$AA$8))","v":0.1},{"$f":"IF(ISBLANK(B17),\" \",(LOOKUP(B17,'Component Weights'!$B$16:$J$16,'Component Weights'!$B$17:$J$17)*$AA$9))","v":" "},{"$f":"IF(ISBLANK(H17),\" \",(LOOKUP(H17,'Component Weights'!$B$16:$J$16,'Component Weights'!$B$17:$J$17)*$AA$10))","v":0.24},{"$f":"IF(ISBLANK(I17),\" \",(LOOKUP(I17,'Component Weights'!$B$16:$J$16,'Component Weights'!$B$17:$J$17)*$AA$11))","v":0},{"$f":"IF(ISBLANK(J17),\" \",(LOOKUP(J17,'Component Weights'!$B$16:$J$16,'Component Weights'!$B$17:$J$17)*$AA$12))","v":0.24},1.06,13,null,1.06]
["Composite - Triple Pane",null,"L","M","M","N","M","M","N","M",{"$f":"SUM(IF(ISBLANK(C18),,LOOKUP(C18,'Component Weights'!$B$16:$J$16,'Component Weights'!$B$17:$J$17)),IF(ISBLANK(D18),,LOOKUP(D18,'Component Weights'!$B$16:$J$16,'Component Weights'!$B$17:$J$17)),IF(ISBLANK(E18),,LOOKUP(E18,'Component Weights'!$B$16:$J$16,'Component Weights'!$B$17:$J$17)),IF(ISBLANK(F18),,LOOKUP(F18,'Component Weights'!$B$16:$J$16,'Component Weights'!$B$17:$J$17)),IF(ISBLANK(G18),,LOOKUP(G18,'Component Weights'!$B$16:$J$16,'Component Weights'!$B$17:$J$17)),IF(ISBLANK(B18),,LOOKUP(B18,'Component Weights'!$B$16:$J$16,'Component Weights'!$B$17:$J$17)),IF(ISBLANK(H18),,LOOKUP(H18,'Component Weights'!$B$16:$J$16,'Component Weights'!$B$17:$J$17)),IF(ISBLANK(I18),,LOOKUP(I18,'Component Weights'!$B$16:$J$16,'Component Weights'!$B$17:$J$17)),IF(ISBLANK(J18),,LOOKUP(J18,'Component Weights'!$B$16:$J$16,'Component Weights'!$B$17:$J$17)))","v":11},{"$f":"IF(ISBLANK(C18),\" \",(LOOKUP(C18,'Component Weights'!$B$16:$J$16,'Component Weights'!$B$17:$J$17)*$AA$4))","v":0.08},{"$f":"IF(ISBLANK(D18),\" \",(LOOKUP(D18,'Component Weights'!$B$16:$J$16,'Component Weights'!$B$17:$J$17)*$AA$5))","v":0.24},{"$f":"IF(ISBLANK(E18),\" \",(LOOKUP(E18,'Component Weights'!$B$16:$J$16,'Component Weights'!$B$17:$J$17)*$AA$6))","v":0.16},{"$f":"IF(ISBLANK(F18),\" \",(LOOKUP(F18,'Component Weights'!$B$16:$J$16,'Component Weights'!$B$17:$J$17)*$AA$7))","v":0},{"$f":"IF(ISBLANK(G18),\" \",(LOOKUP(G18,'Component Weights'!$B$16:$J$16,'Component Weights'!$B$17:$J$17)*$AA$8))","v":0.1},{"$f":"IF(ISBLANK(B18),\" \",(LOOKUP(B18,'Component Weights'!$B$16:$J$16,'Component Weights'!$B$17:$J$17)*$AA$9))","v":" "},{"$f":"IF(ISBLANK(H18),\" \",(LOOKUP(H18,'Component Weights'!$B$16:$J$16,'Component Weights'!$B$17:$J$17)*$AA$10))","v":0.24},{"$f":"IF(ISBLANK(I18),\" \",(LOOKUP(I18,'Component Weights'!$B$16:$J$16,'Component Weights'!$B$17:$J$17)*$AA$11))","v":0},{"$f":"IF(ISBLANK(J18),\" \",(LOOKUP(J18,'Component Weights'!$B$16:$J$16,'Component Weights'!$B$17:$J$17)*$AA$12))","v":0.24},1.06,13,null,1.06]
["Wood - Triple Pane w/Argon",null,"M","N","L","N","M","M","M","M",{"$f":"SUM(IF(ISBLANK(C19),,LOOKUP(C19,'Component Weights'!$B$16:$J$16,'Component Weights'!$B$17:$J$17)),IF(ISBLANK(D19),,LOOKUP(D19,'Component Weights'!$B$16:$J$16,'Component Weights'!$B$17:$J$17)),IF(ISBLANK(E19),,LOOKUP(E19,'Component Weights'!$B$16:$J$16,'Component Weights'!$B$17:$J$17)),IF(ISBLANK(F19),,LOOKUP(F19,'Component Weights'!$B$16:$J$16,'Component Weights'!$B$17:$J$17)),IF(ISBLANK(G19),,LOOKUP(G19,'Component Weights'!$B$16:$J$16,'Component Weights'!$B$17:$J$17)),IF(ISBLANK(B19),,LOOKUP(B19,'Component Weights'!$B$16:$J$16,'Component Weights'!$B$17:$J$17)),IF(ISBLANK(H19),,LOOKUP(H19,'Component Weights'!$B$16:$J$16,'Component Weights'!$B$17:$J$17)),IF(ISBLANK(I19),,LOOKUP(I19,'Component Weights'!$B$16:$J$16,'Component Weights'!$B$17:$J$17)),IF(ISBLANK(J19),,LOOKUP(J19,'Component Weights'!$B$16:$J$16,'Component Weights'!$B$17:$J$17)))","v":11},{"$f":"IF(ISBLANK(C19),\" \",(LOOKUP(C19,'Component Weights'!$B$16:$J$16,'Component Weights'!$B$17:$J$17)*$AA$4))","v":0.16},{"$f":"IF(ISBLANK(D19),\" \",(LOOKUP(D19,'Component Weights'!$B$16:$J$16,'Component Weights'!$B$17:$J$17)*$AA$5))","v":0},{"$f":"IF(ISBLANK(E19),\" \",(LOOKUP(E19,'Component Weights'!$B$16:$J$16,'Component Weights'!$B$17:$J$17)*$AA$6))","v":0.08},{"$f":"IF(ISBLANK(F19),\" \",(LOOKUP(F19,'Component Weights'!$B$16:$J$16,'Component Weights'!$B$17:$J$17)*$AA$7))","v":0},{"$f":"IF(ISBLANK(G19),\" \",(LOOKUP(G19,'Component Weights'!$B$16:$J$16,'Component Weights'!$B$17:$J$17)*$AA$8))","v":0.1},{"$f":"IF(ISBLANK(B19),\" \",(LOOKUP(B19,'Component Weights'!$B$16:$J$16,'Component Weights'!$B$17:$J$17)*$AA$9))","v":" "},{"$f":"IF(ISBLANK(H19),\" \",(LOOKUP(H19,'Component Weights'!$B$16:$J$16,'Component Weights'!$B$17:$J$17)*$AA$10))","v":0.24},{"$f":"IF(ISBLANK(I19),\" \",(LOOKUP(I19,'Component Weights'!$B$16:$J$16,'Component Weights'!$B$17:$J$17)*$AA$11))","v":0.16},{"$f":"IF(ISBLANK(J19),\" \",(LOOKUP(J19,'Component Weights'!$B$16:$J$16,'Component Weights'!$B$17:$J$17)*$AA$12))","v":0.24},0.98,18,null,0.98]
["Fiberglass - Double Pane w/Low-E & Argon",null,"H","N","L","N","N","M","M","M",{"$f":"SUM(IF(ISBLANK(C20),,LOOKUP(C20,'Component Weights'!$B$16:$J$16,'Component Weights'!$B$17:$J$17)),IF(ISBLANK(D20),,LOOKUP(D20,'Component Weights'!$B$16:$J$16,'Component Weights'!$B$17:$J$17)),IF(ISBLANK(E20),,LOOKUP(E20,'Component Weights'!$B$16:$J$16,'Component Weights'!$B$17:$J$17)),IF(ISBLANK(F20),,LOOKUP(F20,'Component Weights'!$B$16:$J$16,'Component Weights'!$B$17:$J$17)),IF(ISBLANK(G20),,LOOKUP(G20,'Component Weights'!$B$16:$J$16,'Component Weights'!$B$17:$J$17)),IF(ISBLANK(B20),,LOOKUP(B20,'Component Weights'!$B$16:$J$16,'Component Weights'!$B$17:$J$17)),IF(ISBLANK(H20),,LOOKUP(H20,'Component Weights'!$B$16:$J$16,'Component Weights'!$B$17:$J$17)),IF(ISBLANK(I20),,LOOKUP(I20,'Component Weights'!$B$16:$J$16,'Component Weights'!$B$17:$J$17)),IF(ISBLANK(J20),,LOOKUP(J20,'Component Weights'!$B$16:$J$16,'Component Weights'!$B$17:$J$17)))","v":10},{"$f":"IF(ISBLANK(C20),\" \",(LOOKUP(C20,'Component Weights'!$B$16:$J$16,'Component Weights'!$B$17:$J$17)*$AA$4))","v":0.24},{"$f":"IF(ISBLANK(D20),\" \",(LOOKUP(D20,'Component Weights'!$B$16:$J$16,'Component Weights'!$B$17:$J$17)*$AA$5))","v":0},{"$f":"IF(ISBLANK(E20),\" \",(LOOKUP(E20,'Component Weights'!$B$16:$J$16,'Component Weights'!$B$17:$J$17)*$AA$6))","v":0.08},{"$f":"IF(ISBLANK(F20),\" \",(LOOKUP(F20,'Component Weights'!$B$16:$J$16,'Component Weights'!$B$17:$J$17)*$AA$7))","v":0},{"$f":"IF(ISBLANK(G20),\" \",(LOOKUP(G20,'Component Weights'!$B$16:$J$16,'Component Weights'!$B$17:$J$17)*$AA$8))","v":0},{"$f":"IF(ISBLANK(B20),\" \",(LOOKUP(B20,'Component Weights'!$B$16:$J$16,'Component Weights'!$B$17:$J$17)*$AA$9))","v":" "},{"$f":"IF(ISBLANK(H20),\" \",(LOOKUP(H20,'Component Weights'!$B$16:$J$16,'Component Weights'!$B$17:$J$17)*$AA$10))","v":0.24},{"$f":"IF(ISBLANK(I20),\" \",(LOOKUP(I20,'Component Weights'!$B$16:$J$16,'Component Weights'!$B$17:$J$17)*$AA$11))","v":0.16},{"$f":"IF(ISBLANK(J20),\" \",(LOOKUP(J20,'Component Weights'!$B$16:$J$16,'Component Weights'!$B$17:$J$17)*$AA$12))","v":0.24},0.96000000000000008,19,null,0.96000000000000008]
["Fiberglass - Triple Pane w/Low-E & Argon",null,"H","N","L","N","N","M","M","M",{"$f":"SUM(IF(ISBLANK(C21),,LOOKUP(C21,'Component Weights'!$B$16:$J$16,'Component Weights'!$B$17:$J$17)),IF(ISBLANK(D21),,LOOKUP(D21,'Component Weights'!$B$16:$J$16,'Component Weights'!$B$17:$J$17)),IF(ISBLANK(E21),,LOOKUP(E21,'Component Weights'!$B$16:$J$16,'Component Weights'!$B$17:$J$17)),IF(ISBLANK(F21),,LOOKUP(F21,'Component Weights'!$B$16:$J$16,'Component Weights'!$B$17:$J$17)),IF(ISBLANK(G21),,LOOKUP(G21,'Component Weights'!$B$16:$J$16,'Component Weights'!$B$17:$J$17)),IF(ISBLANK(B21),,LOOKUP(B21,'Component Weights'!$B$16:$J$16,'Component Weights'!$B$17:$J$17)),IF(ISBLANK(H21),,LOOKUP(H21,'Component Weights'!$B$16:$J$16,'Component Weights'!$B$17:$J$17)),IF(ISBLANK(I21),,LOOKUP(I21,'Component Weights'!$B$16:$J$16,'Component Weights'!$B$17:$J$17)),IF(ISBLANK(J21),,LOOKUP(J21,'Component Weights'!$B$16:$J$16,'Component Weights'!$B$17:$J$17)))","v":10},{"$f":"IF(ISBLANK(C21),\" \",(LOOKUP(C21,'Component Weights'!$B$16:$J$16,'Component Weights'!$B$17:$J$17)*$AA$4))","v":0.24},{"$f":"IF(ISBLANK(D21),\" \",(LOOKUP(D21,'Component Weights'!$B$16:$J$16,'Component Weights'!$B$17:$J$17)*$AA$5))","v":0},{"$f":"IF(ISBLANK(E21),\" \",(LOOKUP(E21,'Component Weights'!$B$16:$J$16,'Component Weights'!$B$17:$J$17)*$AA$6))","v":0.08},{"$f":"IF(ISBLANK(F21),\" \",(LOOKUP(F21,'Component Weights'!$B$16:$J$16,'Component Weights'!$B$17:$J$17)*$AA$7))","v":0},{"$f":"IF(ISBLANK(G21),\" \",(LOOKUP(G21,'Component Weights'!$B$16:$J$16,'Component Weights'!$B$17:$J$17)*$AA$8))","v":0},{"$f":"IF(ISBLANK(B21),\" \",(LOOKUP(B21,'Component Weights'!$B$16:$J$16,'Component Weights'!$B$17:$J$17)*$AA$9))","v":" "},{"$f":"IF(ISBLANK(H21),\" \",(LOOKUP(H21,'Component Weights'!$B$16:$J$16,'Component Weights'!$B$17:$J$17)*$AA$10))","v":0.24},{"$f":"IF(ISBLANK(I21),\" \",(LOOKUP(I21,'Component Weights'!$B$16:$J$16,'Component Weights'!$B$17:$J$17)*$AA$11))","v":0.16},{"$f":"IF(ISBLANK(J21),\" \",(LOOKUP(J21,'Component Weights'!$B$16:$J$16,'Component Weights'!$B$17:$J$17)*$AA$12))","v":0.24},0.96000000000000008,19,null,0.96000000000000008]
["Metal - Double Pane w/Low-E & Argon",null,"H","N","L","N","N","M","M","M",{"$f":"SUM(IF(ISBLANK(C22),,LOOKUP(C22,'Component Weights'!$B$16:$J$16,'Component Weights'!$B$17:$J$17)),IF(ISBLANK(D22),,LOOKUP(D22,'Component Weights'!$B$16:$J$16,'Component Weights'!$B$17:$J$17)),IF(ISBLANK(E22),,LOOKUP(E22,'Component Weights'!$B$16:$J$16,'Component Weights'!$B$17:$J$17)),IF(ISBLANK(F22),,LOOKUP(F22,'Component Weights'!$B$16:$J$16,'Component Weights'!$B$17:$J$17)),IF(ISBLANK(G22),,LOOKUP(G22,'Component Weights'!$B$16:$J$16,'Component Weights'!$B$17:$J$17)),IF(ISBLANK(B22),,LOOKUP(B22,'Component Weights'!$B$16:$J$16,'Component Weights'!$B$17:$J$17)),IF(ISBLANK(H22),,LOOKUP(H22,'Component Weights'!$B$16:$J$16,'Component Weights'!$B$17:$J$17)),IF(ISBLANK(I22),,LOOKUP(I22,'Component Weights'!$B$16:$J$16,'Component Weights'!$B$17:$J$17)),IF(ISBLANK(J22),,LOOKUP(J22,'Component Weights'!$B$16:$J$16,'Component Weights'!$B$17:$J$17)))","v":10},{"$f":"IF(ISBLANK(C22),\" \",(LOOKUP(C22,'Component Weights'!$B$16:$J$16,'Component Weights'!$B$17:$J$17)*$AA$4))","v":0.24},{"$f":"IF(ISBLANK(D22),\" \",(LOOKUP(D22,'Component Weights'!$B$16:$J$16,'Component Weights'!$B$17:$J$17)*$AA$5))","v":0},{"$f":"IF(ISBLANK(E22),\" \",(LOOKUP(E22,'Component Weights'!$B$16:$J$16,'Component Weights'!$B$17:$J$17)*$AA$6))","v":0.08},{"$f":"IF(ISBLANK(F22),\" \",(LOOKUP(F22,'Component Weights'!$B$16:$J$16,'Component Weights'!$B$17:$J$17)*$AA$7))","v":0},{"$f":"IF(ISBLANK(G22),\" \",(LOOKUP(G22,'Component Weights'!$B$16:$J$16,'Component Weights'!$B$17:$J$17)*$AA$8))","v":0},{"$f":"IF(ISBLANK(B22),\" \",(LOOKUP(B22,'Component Weights'!$B$16:$J$16,'Component Weights'!$B$17:$J$17)*$AA$9))","v":" "},{"$f":"IF(ISBLANK(H22),\" \",(LOOKUP(H22,'Component Weights'!$B$16:$J$16,'Component Weights'!$B$17:$J$17)*$AA$10))","v":0.24},{"$f":"IF(ISBLANK(I22),\" \",(LOOKUP(I22,'Component Weights'!$B$16:$J$16,'Component Weights'!$B$17:$J$17)*$AA$11))","v":0.16},{"$f":"IF(ISBLANK(J22),\" \",(LOOKUP(J22,'Component Weights'!$B$16:$J$16,'Component Weights'!$B$17:$J$17)*$AA$12))","v":0.24},0.96000000000000008,19,null,0.96000000000000008]
["Metal - Triple Pane w/Low-E & Argon",null,"H","N","L","N","N","M","M","M",{"$f":"SUM(IF(ISBLANK(C23),,LOOKUP(C23,'Component Weights'!$B$16:$J$16,'Component Weights'!$B$17:$J$17)),IF(ISBLANK(D23),,LOOKUP(D23,'Component Weights'!$B$16:$J$16,'Component Weights'!$B$17:$J$17)),IF(ISBLANK(E23),,LOOKUP(E23,'Component Weights'!$B$16:$J$16,'Component Weights'!$B$17:$J$17)),IF(ISBLANK(F23),,LOOKUP(F23,'Component Weights'!$B$16:$J$16,'Component Weights'!$B$17:$J$17)),IF(ISBLANK(G23),,LOOKUP(G23,'Component Weights'!$B$16:$J$16,'Component Weights'!$B$17:$J$17)),IF(ISBLANK(B23),,LOOKUP(B23,'Component Weights'!$B$16:$J$16,'Component Weights'!$B$17:$J$17)),IF(ISBLANK(H23),,LOOKUP(H23,'Component Weights'!$B$16:$J$16,'Component Weights'!$B$17:$J$17)),IF(ISBLANK(I23),,LOOKUP(I23,'Component Weights'!$B$16:$J$16,'Component Weights'!$B$17:$J$17)),IF(ISBLANK(J23),,LOOKUP(J23,'Component Weights'!$B$16:$J$16,'Component Weights'!$B$17:$J$17)))","v":10},{"$f":"IF(ISBLANK(C23),\" \",(LOOKUP(C23,'Component Weights'!$B$16:$J$16,'Component Weights'!$B$17:$J$17)*$AA$4))","v":0.24},{"$f":"IF(ISBLANK(D23),\" \",(LOOKUP(D23,'Component Weights'!$B$16:$J$16,'Component Weights'!$B$17:$J$17)*$AA$5))","v":0},{"$f":"IF(ISBLANK(E23),\" \",(LOOKUP(E23,'Component Weights'!$B$16:$J$16,'Component Weights'!$B$17:$J$17)*$AA$6))","v":0.08},{"$f":"IF(ISBLANK(F23),\" \",(LOOKUP(F23,'Component Weights'!$B$16:$J$16,'Component Weights'!$B$17:$J$17)*$AA$7))","v":0},{"$f":"IF(ISBLANK(G23),\" \",(LOOKUP(G23,'Component Weights'!$B$16:$J$16,'Component Weights'!$B$17:$J$17)*$AA$8))","v":0},{"$f":"IF(ISBLANK(B23),\" \",(LOOKUP(B23,'Component Weights'!$B$16:$J$16,'Component Weights'!$B$17:$J$17)*$AA$9))","v":" "},{"$f":"IF(ISBLANK(H23),\" \",(LOOKUP(H23,'Component Weights'!$B$16:$J$16,'Component Weights'!$B$17:$J$17)*$AA$10))","v":0.24},{"$f":"IF(ISBLANK(I23),\" \",(LOOKUP(I23,'Component Weights'!$B$16:$J$16,'Component Weights'!$B$17:$J$17)*$AA$11))","v":0.16},{"$f":"IF(ISBLANK(J23),\" \",(LOOKUP(J23,'Component Weights'!$B$16:$J$16,'Component Weights'!$B$17:$J$17)*$AA$12))","v":0.24},0.96000000000000008,19,null,0.96000000000000008]
["Wood - Double Pane w/Reflective Film",null,"M","N","L","N","M","M","L","M",{"$f":"SUM(IF(ISBLANK(C24),,LOOKUP(C24,'Component Weights'!$B$16:$J$16,'Component Weights'!$B$17:$J$17)),IF(ISBLANK(D24),,LOOKUP(D24,'Component Weights'!$B$16:$J$16,'Component Weights'!$B$17:$J$17)),IF(ISBLANK(E24),,LOOKUP(E24,'Component Weights'!$B$16:$J$16,'Component Weights'!$B$17:$J$17)),IF(ISBLANK(F24),,LOOKUP(F24,'Component Weights'!$B$16:$J$16,'Component Weights'!$B$17:$J$17)),IF(ISBLANK(G24),,LOOKUP(G24,'Component Weights'!$B$16:$J$16,'Component Weights'!$B$17:$J$17)),IF(ISBLANK(B24),,LOOKUP(B24,'Component Weights'!$B$16:$J$16,'Component Weights'!$B$17:$J$17)),IF(ISBLANK(H24),,LOOKUP(H24,'Component Weights'!$B$16:$J$16,'Component Weights'!$B$17:$J$17)),IF(ISBLANK(I24),,LOOKUP(I24,'Component Weights'!$B$16:$J$16,'Component Weights'!$B$17:$J$17)),IF(ISBLANK(J24),,LOOKUP(J24,'Component Weights'!$B$16:$J$16,'Component Weights'!$B$17:$J$17)))","v":10},{"$f":"IF(ISBLANK(C24),\" \",(LOOKUP(C24,'Component Weights'!$B$16:$J$16,'Component Weights'!$B$17:$J$17)*$AA$4))","v":0.16},{"$f":"IF(ISBLANK(D24),\" \",(LOOKUP(D24,'Component Weights'!$B$16:$J$16,'Component Weights'!$B$17:$J$17)*$AA$5))","v":0},{"$f":"IF(ISBLANK(E24),\" \",(LOOKUP(E24,'Component Weights'!$B$16:$J$16,'Component Weights'!$B$17:$J$17)*$AA$6))","v":0.08},{"$f":"IF(ISBLANK(F24),\" \",(LOOKUP(F24,'Component Weights'!$B$16:$J$16,'Component Weights'!$B$17:$J$17)*$AA$7))","v":0},{"$f":"IF(ISBLANK(G24),\" \",(LOOKUP(G24,'Component Weights'!$B$16:$J$16,'Component Weights'!$B$17:$J$17)*$AA$8))","v":0.1},{"$f":"IF(ISBLANK(B24),\" \",(LOOKUP(B24,'Component Weights'!$B$16:$J$16,'Component Weights'!$B$17:$J$17)*$AA$9))","v":" "},{"$f":"IF(ISBLANK(H24),\" \",(LOOKUP(H24,'Component Weights'!$B$16:$J$16,'Component Weights'!$B$17:$J$17)*$AA$10))","v":0.24},{"$f":"IF(ISBLANK(I24),\" \",(LOOKUP(I24,'Component Weights'!$B$16:$J$16,'Component Weights'!$B$17:$J$17)*$AA$11))","v":0.08},{"$f":"IF(ISBLANK(J24),\" \",(LOOKUP(J24,'Component Weights'!$B$16:$J$16,'Component Weights'!$B$17:$J$17)*$AA$12))","v":0.24},0.89999999999999991,23,null,0.89999999999999991]
["Vinyl - Double Pane w/Low-E",null,"H","N","N","N","N","M","M","M",{"$f":"SUM(IF(ISBLANK(C25),,LOOKUP(C25,'Component Weights'!$B$16:$J$16,'Component Weights'!$B$17:$J$17)),IF(ISBLANK(D25),,LOOKUP(D25,'Component Weights'!$B$16:$J$16,'Component Weights'!$B$17:$J$17)),IF(ISBLANK(E25),,LOOKUP(E25,'Component Weights'!$B$16:$J$16,'Component Weights'!$B$17:$J$17)),IF(ISBLANK(F25),,LOOKUP(F25,'Component Weights'!$B$16:$J$16,'Component Weights'!$B$17:$J$17)),IF(ISBLANK(G25),,LOOKUP(G25,'Component Weights'!$B$16:$J$16,'Component Weights'!$B$17:$J$17)),IF(ISBLANK(B25),,LOOKUP(B25,'Component Weights'!$B$16:$J$16,'Component Weights'!$B$17:$J$17)),IF(ISBLANK(H25),,LOOKUP(H25,'Component Weights'!$B$16:$J$16,'Component Weights'!$B$17:$J$17)),IF(ISBLANK(I25),,LOOKUP(I25,'Component Weights'!$B$16:$J$16,'Component Weights'!$B$17:$J$17)),IF(ISBLANK(J25),,LOOKUP(J25,'Component Weights'!$B$16:$J$16,'Component Weights'!$B$17:$J$17)))","v":9},{"$f":"IF(ISBLANK(C25),\" \",(LOOKUP(C25,'Component Weights'!$B$16:$J$16,'Component Weights'!$B$17:$J$17)*$AA$4))","v":0.24},{"$f":"IF(ISBLANK(D25),\" \",(LOOKUP(D25,'Component Weights'!$B$16:$J$16,'Component Weights'!$B$17:$J$17)*$AA$5))","v":0},{"$f":"IF(ISBLANK(E25),\" \",(LOOKUP(E25,'Component Weights'!$B$16:$J$16,'Component Weights'!$B$17:$J$17)*$AA$6))","v":0},{"$f":"IF(ISBLANK(F25),\" \",(LOOKUP(F25,'Component Weights'!$B$16:$J$16,'Component Weights'!$B$17:$J$17)*$AA$7))","v":0},{"$f":"IF(ISBLANK(G25),\" \",(LOOKUP(G25,'Component Weights'!$B$16:$J$16,'Component Weights'!$B$17:$J$17)*$AA$8))","v":0},{"$f":"IF(ISBLANK(B25),\" \",(LOOKUP(B25,'Component Weights'!$B$16:$J$16,'Component Weights'!$B$17:$J$17)*$AA$9))","v":" "},{"$f":"IF(ISBLANK(H25),\" \",(LOOKUP(H25,'Component Weights'!$B$16:$J$16,'Component Weights'!$B$17:$J$17)*$AA$10))","v":0.24},{"$f":"IF(ISBLANK(I25),\" \",(LOOKUP(I25,'Component Weights'!$B$16:$J$16,'Component Weights'!$B$17:$J$17)*$AA$11))","v":0.16},{"$f":"IF(ISBLANK(J25),\" \",(LOOKUP(J25,'Component Weights'!$B$16:$J$16,'Component Weights'!$B$17:$J$17)*$AA$12))","v":0.24},0.88,24,null,0.88]
["Vinyl - Double Pane w/Low-E & Argon",null,"H","N","N","N","N","M","M","M",{"$f":"SUM(IF(ISBLANK(C26),,LOOKUP(C26,'Component Weights'!$B$16:$J$16,'Component Weights'!$B$17:$J$17)),IF(ISBLANK(D26),,LOOKUP(D26,'Component Weights'!$B$16:$J$16,'Component Weights'!$B$17:$J$17)),IF(ISBLANK(E26),,LOOKUP(E26,'Component Weights'!$B$16:$J$16,'Component Weights'!$B$17:$J$17)),IF(ISBLANK(F26),,LOOKUP(F26,'Component Weights'!$B$16:$J$16,'Component Weights'!$B$17:$J$17)),IF(ISBLANK(G26),,LOOKUP(G26,'Component Weights'!$B$16:$J$16,'Component Weights'!$B$17:$J$17)),IF(ISBLANK(B26),,LOOKUP(B26,'Component Weights'!$B$16:$J$16,'Component Weights'!$B$17:$J$17)),IF(ISBLANK(H26),,LOOKUP(H26,'Component Weights'!$B$16:$J$16,'Component Weights'!$B$17:$J$17)),IF(ISBLANK(I26),,LOOKUP(I26,'Component Weights'!$B$16:$J$16,'Component Weights'!$B$17:$J$17)),IF(ISBLANK(J26),,LOOKUP(J26,'Component Weights'!$B$16:$J$16,'Component Weights'!$B$17:$J$17)))","v":9},{"$f":"IF(ISBLANK(C26),\" \",(LOOKUP(C26,'Component Weights'!$B$16:$J$16,'Component Weights'!$B$17:$J$17)*$AA$4))","v":0.24},{"$f":"IF(ISBLANK(D26),\" \",(LOOKUP(D26,'Component Weights'!$B$16:$J$16,'Component Weights'!$B$17:$J$17)*$AA$5))","v":0},{"$f":"IF(ISBLANK(E26),\" \",(LOOKUP(E26,'Component Weights'!$B$16:$J$16,'Component Weights'!$B$17:$J$17)*$AA$6))","v":0},{"$f":"IF(ISBLANK(F26),\" \",(LOOKUP(F26,'Component Weights'!$B$16:$J$16,'Component Weights'!$B$17:$J$17)*$AA$7))","v":0},{"$f":"IF(ISBLANK(G26),\" \",(LOOKUP(G26,'Component Weights'!$B$16:$J$16,'Component Weights'!$B$17:$J$17)*$AA$8))","v":0},{"$f":"IF(ISBLANK(B26),\" \",(LOOKUP(B26,'Component Weights'!$B$16:$J$16,'Component Weights'!$B$17:$J$17)*$AA$9))","v":" "},{"$f":"IF(ISBLANK(H26),\" \",(LOOKUP(H26,'Component Weights'!$B$16:$J$16,'Component Weights'!$B$17:$J$17)*$AA$10))","v":0.24},{"$f":"IF(ISBLANK(I26),\" \",(LOOKUP(I26,'Component Weights'!$B$16:$J$16,'Component Weights'!$B$17:$J$17)*$AA$11))","v":0.16},{"$f":"IF(ISBLANK(J26),\" \",(LOOKUP(J26,'Component Weights'!$B$16:$J$16,'Component Weights'!$B$17:$J$17)*$AA$12))","v":0.24},0.88,24,null,0.88]
["Vinyl - Triple Pane w/Low-E & Argon",null,"H","N","N","N","N","M","M","M",{"$f":"SUM(IF(ISBLANK(C27),,LOOKUP(C27,'Component Weights'!$B$16:$J$16,'Component Weights'!$B$17:$J$17)),IF(ISBLANK(D27),,LOOKUP(D27,'Component Weights'!$B$16:$J$16,'Component Weights'!$B$17:$J$17)),IF(ISBLANK(E27),,LOOKUP(E27,'Component Weights'!$B$16:$J$16,'Component Weights'!$B$17:$J$17)),IF(ISBLANK(F27),,LOOKUP(F27,'Component Weights'!$B$16:$J$16,'Component Weights'!$B$17:$J$17)),IF(ISBLANK(G27),,LOOKUP(G27,'Component Weights'!$B$16:$J$16,'Component Weights'!$B$17:$J$17)),IF(ISBLANK(B27),,LOOKUP(B27,'Component Weights'!$B$16:$J$16,'Component Weights'!$B$17:$J$17)),IF(ISBLANK(H27),,LOOKUP(H27,'Component Weights'!$B$16:$J$16,'Component Weights'!$B$17:$J$17)),IF(ISBLANK(I27),,LOOKUP(I27,'Component Weights'!$B$16:$J$16,'Component Weights'!$B$17:$J$17)),IF(ISBLANK(J27),,LOOKUP(J27,'Component Weights'!$B$16:$J$16,'Component Weights'!$B$17:$J$17)))","v":9},{"$f":"IF(ISBLANK(C27),\" \",(LOOKUP(C27,'Component Weights'!$B$16:$J$16,'Component Weights'!$B$17:$J$17)*$AA$4))","v":0.24},{"$f":"IF(ISBLANK(D27),\" \",(LOOKUP(D27,'Component Weights'!$B$16:$J$16,'Component Weights'!$B$17:$J$17)*$AA$5))","v":0},{"$f":"IF(ISBLANK(E27),\" \",(LOOKUP(E27,'Component Weights'!$B$16:$J$16,'Component Weights'!$B$17:$J$17)*$AA$6))","v":0},{"$f":"IF(ISBLANK(F27),\" \",(LOOKUP(F27,'Component Weights'!$B$16:$J$16,'Component Weights'!$B$17:$J$17)*$AA$7))","v":0},{"$f":"IF(ISBLANK(G27),\" \",(LOOKUP(G27,'Component Weights'!$B$16:$J$16,'Component Weights'!$B$17:$J$17)*$AA$8))","v":0},{"$f":"IF(ISBLANK(B27),\" \",(LOOKUP(B27,'Component Weights'!$B$16:$J$16,'Component Weights'!$B$17:$J$17)*$AA$9))","v":" "},{"$f":"IF(ISBLANK(H27),\" \",(LOOKUP(H27,'Component Weights'!$B$16:$J$16,'Component Weights'!$B$17:$J$17)*$AA$10))","v":0.24},{"$f":"IF(ISBLANK(I27),\" \",(LOOKUP(I27,'Component Weights'!$B$16:$J$16,'Component Weights'!$B$17:$J$17)*$AA$11))","v":0.16},{"$f":"IF(ISBLANK(J27),\" \",(LOOKUP(J27,'Component Weights'!$B$16:$J$16,'Component Weights'!$B$17:$J$17)*$AA$12))","v":0.24},0.88,24,null,0.88]
["Fiberglass - Double Pane w/Low-E",null,"H","N","L","N","N","M","L","M",{"$f":"SUM(IF(ISBLANK(C28),,LOOKUP(C28,'Component Weights'!$B$16:$J$16,'Component Weights'!$B$17:$J$17)),IF(ISBLANK(D28),,LOOKUP(D28,'Component Weights'!$B$16:$J$16,'Component Weights'!$B$17:$J$17)),IF(ISBLANK(E28),,LOOKUP(E28,'Component Weights'!$B$16:$J$16,'Component Weights'!$B$17:$J$17)),IF(ISBLANK(F28),,LOOKUP(F28,'Component Weights'!$B$16:$J$16,'Component Weights'!$B$17:$J$17)),IF(ISBLANK(G28),,LOOKUP(G28,'Component Weights'!$B$16:$J$16,'Component Weights'!$B$17:$J$17)),IF(ISBLANK(B28),,LOOKUP(B28,'Component Weights'!$B$16:$J$16,'Component Weights'!$B$17:$J$17)),IF(ISBLANK(H28),,LOOKUP(H28,'Component Weights'!$B$16:$J$16,'Component Weights'!$B$17:$J$17)),IF(ISBLANK(I28),,LOOKUP(I28,'Component Weights'!$B$16:$J$16,'Component Weights'!$B$17:$J$17)),IF(ISBLANK(J28),,LOOKUP(J28,'Component Weights'!$B$16:$J$16,'Component Weights'!$B$17:$J$17)))","v":9},{"$f":"IF(ISBLANK(C28),\" \",(LOOKUP(C28,'Component Weights'!$B$16:$J$16,'Component Weights'!$B$17:$J$17)*$AA$4))","v":0.24},{"$f":"IF(ISBLANK(D28),\" \",(LOOKUP(D28,'Component Weights'!$B$16:$J$16,'Component Weights'!$B$17:$J$17)*$AA$5))","v":0},{"$f":"IF(ISBLANK(E28),\" \",(LOOKUP(E28,'Component Weights'!$B$16:$J$16,'Component Weights'!$B$17:$J$17)*$AA$6))","v":0.08},{"$f":"IF(ISBLANK(F28),\" \",(LOOKUP(F28,'Component Weights'!$B$16:$J$16,'Component Weights'!$B$17:$J$17)*$AA$7))","v":0},{"$f":"IF(ISBLANK(G28),\" \",(LOOKUP(G28,'Component Weights'!$B$16:$J$16,'Component Weights'!$B$17:$J$17)*$AA$8))","v":0},{"$f":"IF(ISBLANK(B28),\" \",(LOOKUP(B28,'Component Weights'!$B$16:$J$16,'Component Weights'!$B$17:$J$17)*$AA$9))","v":" "},{"$f":"IF(ISBLANK(H28),\" \",(LOOKUP(H28,'Component Weights'!$B$16:$J$16,'Component Weights'!$B$17:$J$17)*$AA$10))","v":0.24},{"$f":"IF(ISBLANK(I28),\" \",(LOOKUP(I28,'Component Weights'!$B$16:$J$16,'Component Weights'!$B$17:$J$17)*$AA$11))","v":0.08},{"$f":"IF(ISBLANK(J28),\" \",(LOOKUP(J28,'Component Weights'!$B$16:$J$16,'Component Weights'!$B$17:$J$17)*$AA$12))","v":0.24},0.88,24,null,0.88]
["Fiberglass - Triple Pane w/Low-E",null,"H","N","L","N","N","M","L","M",{"$f":"SUM(IF(ISBLANK(C29),,LOOKUP(C29,'Component Weights'!$B$16:$J$16,'Component Weights'!$B$17:$J$17)),IF(ISBLANK(D29),,LOOKUP(D29,'Component Weights'!$B$16:$J$16,'Component Weights'!$B$17:$J$17)),IF(ISBLANK(E29),,LOOKUP(E29,'Component Weights'!$B$16:$J$16,'Component Weights'!$B$17:$J$17)),IF(ISBLANK(F29),,LOOKUP(F29,'Component Weights'!$B$16:$J$16,'Component Weights'!$B$17:$J$17)),IF(ISBLANK(G29),,LOOKUP(G29,'Component Weights'!$B$16:$J$16,'Component Weights'!$B$17:$J$17)),IF(ISBLANK(B29),,LOOKUP(B29,'Component Weights'!$B$16:$J$16,'Component Weights'!$B$17:$J$17)),IF(ISBLANK(H29),,LOOKUP(H29,'Component Weights'!$B$16:$J$16,'Component Weights'!$B$17:$J$17)),IF(ISBLANK(I29),,LOOKUP(I29,'Component Weights'!$B$16:$J$16,'Component Weights'!$B$17:$J$17)),IF(ISBLANK(J29),,LOOKUP(J29,'Component Weights'!$B$16:$J$16,'Component Weights'!$B$17:$J$17)))","v":9},{"$f":"IF(ISBLANK(C29),\" \",(LOOKUP(C29,'Component Weights'!$B$16:$J$16,'Component Weights'!$B$17:$J$17)*$AA$4))","v":0.24},{"$f":"IF(ISBLANK(D29),\" \",(LOOKUP(D29,'Component Weights'!$B$16:$J$16,'Component Weights'!$B$17:$J$17)*$AA$5))","v":0},{"$f":"IF(ISBLANK(E29),\" \",(LOOKUP(E29,'Component Weights'!$B$16:$J$16,'Component Weights'!$B$17:$J$17)*$AA$6))","v":0.08},{"$f":"IF(ISBLANK(F29),\" \",(LOOKUP(F29,'Component Weights'!$B$16:$J$16,'Component Weights'!$B$17:$J$17)*$AA$7))","v":0},{"$f":"IF(ISBLANK(G29),\" \",(LOOKUP(G29,'Component Weights'!$B$16:$J$16,'Component Weights'!$B$17:$J$17)*$AA$8))","v":0},{"$f":"IF(ISBLANK(B29),\" \",(LOOKUP(B29,'Component Weights'!$B$16:$J$16,'Component Weights'!$B$17:$J$17)*$AA$9))","v":" "},{"$f":"IF(ISBLANK(H29),\" \",(LOOKUP(H29,'Component Weights'!$B$16:$J$16,'Component Weights'!$B$17:$J$17)*$AA$10))","v":0.24},{"$f":"IF(ISBLANK(I29),\" \",(LOOKUP(I29,'Component Weights'!$B$16:$J$16,'Component Weights'!$B$17:$J$17)*$AA$11))","v":0.08},{"$f":"IF(ISBLANK(J29),\" \",(LOOKUP(J29,'Component Weights'!$B$16:$J$16,'Component Weights'!$B$17:$J$17)*$AA$12))","v":0.24},0.88,24,null,0.88]
["Metal - Double Pane w/Reflective Film",null,"M","N","L","N","N","M","M","M",{"$f":"SUM(IF(ISBLANK(C30),,LOOKUP(C30,'Component Weights'!$B$16:$J$16,'Component Weights'!$B$17:$J$17)),IF(ISBLANK(D30),,LOOKUP(D30,'Component Weights'!$B$16:$J$16,'Component Weights'!$B$17:$J$17)),IF(ISBLANK(E30),,LOOKUP(E30,'Component Weights'!$B$16:$J$16,'Component Weights'!$B$17:$J$17)),IF(ISBLANK(F30),,LOOKUP(F30,'Component Weights'!$B$16:$J$16,'Component Weights'!$B$17:$J$17)),IF(ISBLANK(G30),,LOOKUP(G30,'Component Weights'!$B$16:$J$16,'Component Weights'!$B$17:$J$17)),IF(ISBLANK(B30),,LOOKUP(B30,'Component Weights'!$B$16:$J$16,'Component Weights'!$B$17:$J$17)),IF(ISBLANK(H30),,LOOKUP(H30,'Component Weights'!$B$16:$J$16,'Component Weights'!$B$17:$J$17)),IF(ISBLANK(I30),,LOOKUP(I30,'Component Weights'!$B$16:$J$16,'Component Weights'!$B$17:$J$17)),IF(ISBLANK(J30),,LOOKUP(J30,'Component Weights'!$B$16:$J$16,'Component Weights'!$B$17:$J$17)))","v":9},{"$f":"IF(ISBLANK(C30),\" \",(LOOKUP(C30,'Component Weights'!$B$16:$J$16,'Component Weights'!$B$17:$J$17)*$AA$4))","v":0.16},{"$f":"IF(ISBLANK(D30),\" \",(LOOKUP(D30,'Component Weights'!$B$16:$J$16,'Component Weights'!$B$17:$J$17)*$AA$5))","v":0},{"$f":"IF(ISBLANK(E30),\" \",(LOOKUP(E30,'Component Weights'!$B$16:$J$16,'Component Weights'!$B$17:$J$17)*$AA$6))","v":0.08},{"$f":"IF(ISBLANK(F30),\" \",(LOOKUP(F30,'Component Weights'!$B$16:$J$16,'Component Weights'!$B$17:$J$17)*$AA$7))","v":0},{"$f":"IF(ISBLANK(G30),\" \",(LOOKUP(G30,'Component Weights'!$B$16:$J$16,'Component Weights'!$B$17:$J$17)*$AA$8))","v":0},{"$f":"IF(ISBLANK(B30),\" \",(LOOKUP(B30,'Component Weights'!$B$16:$J$16,'Component Weights'!$B$17:$J$17)*$AA$9))","v":" "},{"$f":"IF(ISBLANK(H30),\" \",(LOOKUP(H30,'Component Weights'!$B$16:$J$16,'Component Weights'!$B$17:$J$17)*$AA$10))","v":0.24},{"$f":"IF(ISBLANK(I30),\" \",(LOOKUP(I30,'Component Weights'!$B$16:$J$16,'Component Weights'!$B$17:$J$17)*$AA$11))","v":0.16},{"$f":"IF(ISBLANK(J30),\" \",(LOOKUP(J30,'Component Weights'!$B$16:$J$16,'Component Weights'!$B$17:$J$17)*$AA$12))","v":0.24},0.88,24,null,0.88]
["Metal - Double Pane w/Low-E",null,"M","N","L","N","N","M","M","M",{"$f":"SUM(IF(ISBLANK(C31),,LOOKUP(C31,'Component Weights'!$B$16:$J$16,'Component Weights'!$B$17:$J$17)),IF(ISBLANK(D31),,LOOKUP(D31,'Component Weights'!$B$16:$J$16,'Component Weights'!$B$17:$J$17)),IF(ISBLANK(E31),,LOOKUP(E31,'Component Weights'!$B$16:$J$16,'Component Weights'!$B$17:$J$17)),IF(ISBLANK(F31),,LOOKUP(F31,'Component Weights'!$B$16:$J$16,'Component Weights'!$B$17:$J$17)),IF(ISBLANK(G31),,LOOKUP(G31,'Component Weights'!$B$16:$J$16,'Component Weights'!$B$17:$J$17)),IF(ISBLANK(B31),,LOOKUP(B31,'Component Weights'!$B$16:$J$16,'Component Weights'!$B$17:$J$17)),IF(ISBLANK(H31),,LOOKUP(H31,'Component Weights'!$B$16:$J$16,'Component Weights'!$B$17:$J$17)),IF(ISBLANK(I31),,LOOKUP(I31,'Component Weights'!$B$16:$J$16,'Component Weights'!$B$17:$J$17)),IF(ISBLANK(J31),,LOOKUP(J31,'Component Weights'!$B$16:$J$16,'Component Weights'!$B$17:$J$17)))","v":9},{"$f":"IF(ISBLANK(C31),\" \",(LOOKUP(C31,'Component Weights'!$B$16:$J$16,'Component Weights'!$B$17:$J$17)*$AA$4))","v":0.16},{"$f":"IF(ISBLANK(D31),\" \",(LOOKUP(D31,'Component Weights'!$B$16:$J$16,'Component Weights'!$B$17:$J$17)*$AA$5))","v":0},{"$f":"IF(ISBLANK(E31),\" \",(LOOKUP(E31,'Component Weights'!$B$16:$J$16,'Component Weights'!$B$17:$J$17)*$AA$6))","v":0.08},{"$f":"IF(ISBLANK(F31),\" \",(LOOKUP(F31,'Component Weights'!$B$16:$J$16,'Component Weights'!$B$17:$J$17)*$AA$7))","v":0},{"$f":"IF(ISBLANK(G31),\" \",(LOOKUP(G31,'Component Weights'!$B$16:$J$16,'Component Weights'!$B$17:$J$17)*$AA$8))","v":0},{"$f":"IF(ISBLANK(B31),\" \",(LOOKUP(B31,'Component Weights'!$B$16:$J$16,'Component Weights'!$B$17:$J$17)*$AA$9))","v":" "},{"$f":"IF(ISBLANK(H31),\" \",(LOOKUP(H31,'Component Weights'!$B$16:$J$16,'Component Weights'!$B$17:$J$17)*$AA$10))","v":0.24},{"$f":"IF(ISBLANK(I31),\" \",(LOOKUP(I31,'Component Weights'!$B$16:$J$16,'Component Weights'!$B$17:$J$17)*$AA$11))","v":0.16},{"$f":"IF(ISBLANK(J31),\" \",(LOOKUP(J31,'Component Weights'!$B$16:$J$16,'Component Weights'!$B$17:$J$17)*$AA$12))","v":0.24},0.88,24,null,0.88]
["Metal - Triple Pane w/Argon",null,"M","N","L","N","N","M","M","M",{"$f":"SUM(IF(ISBLANK(C32),,LOOKUP(C32,'Component Weights'!$B$16:$J$16,'Component Weights'!$B$17:$J$17)),IF(ISBLANK(D32),,LOOKUP(D32,'Component Weights'!$B$16:$J$16,'Component Weights'!$B$17:$J$17)),IF(ISBLANK(E32),,LOOKUP(E32,'Component Weights'!$B$16:$J$16,'Component Weights'!$B$17:$J$17)),IF(ISBLANK(F32),,LOOKUP(F32,'Component Weights'!$B$16:$J$16,'Component Weights'!$B$17:$J$17)),IF(ISBLANK(G32),,LOOKUP(G32,'Component Weights'!$B$16:$J$16,'Component Weights'!$B$17:$J$17)),IF(ISBLANK(B32),,LOOKUP(B32,'Component Weights'!$B$16:$J$16,'Component Weights'!$B$17:$J$17)),IF(ISBLANK(H32),,LOOKUP(H32,'Component Weights'!$B$16:$J$16,'Component Weights'!$B$17:$J$17)),IF(ISBLANK(I32),,LOOKUP(I32,'Component Weights'!$B$16:$J$16,'Component Weights'!$B$17:$J$17)),IF(ISBLANK(J32),,LOOKUP(J32,'Component Weights'!$B$16:$J$16,'Component Weights'!$B$17:$J$17)))","v":9},{"$f":"IF(ISBLANK(C32),\" \",(LOOKUP(C32,'Component Weights'!$B$16:$J$16,'Component Weights'!$B$17:$J$17)*$AA$4))","v":0.16},{"$f":"IF(ISBLANK(D32),\" \",(LOOKUP(D32,'Component Weights'!$B$16:$J$16,'Component Weights'!$B$17:$J$17)*$AA$5))","v":0},{"$f":"IF(ISBLANK(E32),\" \",(LOOKUP(E32,'Component Weights'!$B$16:$J$16,'Component Weights'!$B$17:$J$17)*$AA$6))","v":0.08},{"$f":"IF(ISBLANK(F32),\" \",(LOOKUP(F32,'Component Weights'!$B$16:$J$16,'Component Weights'!$B$17:$J$17)*$AA$7))","v":0},{"$f":"IF(ISBLANK(G32),\" \",(LOOKUP(G32,'Component Weights'!$B$16:$J$16,'Component Weights'!$B$17:$J$17)*$AA$8))","v":0},{"$f":"IF(ISBLANK(B32),\" \",(LOOKUP(B32,'Component Weights'!$B$16:$J$16,'Component Weights'!$B$17:$J$17)*$AA$9))","v":" "},{"$f":"IF(ISBLANK(H32),\" \",(LOOKUP(H32,'Component Weights'!$B$16:$J$16,'Component Weights'!$B$17:$J$17)*$AA$10))","v":0.24},{"$f":"IF(ISBLANK(I32),\" \",(LOOKUP(I32,'Component Weights'!$B$16:$J$16,'Component Weights'!$B$17:$J$17)*$AA$11))","v":0.16},{"$f":"IF(ISBLANK(J32),\" \",(LOOKUP(J32,'Component Weights'!$B$16:$J$16,'Component Weights'!$B$17:$J$17)*$AA$12))","v":0.24},0.88,24,null,0.88]
["Wood - Triple Pane w/Reflective Film",null,"M","N","L","N","M","M","N","M",{"$f":"SUM(IF(ISBLANK(C33),,LOOKUP(C33,'Component Weights'!$B$16:$J$16,'Component Weights'!$B$17:$J$17)),IF(ISBLANK(D33),,LOOKUP(D33,'Component Weights'!$B$16:$J$16,'Component Weights'!$B$17:$J$17)),IF(ISBLANK(E33),,LOOKUP(E33,'Component Weights'!$B$16:$J$16,'Component Weights'!$B$17:$J$17)),IF(ISBLANK(F33),,LOOKUP(F33,'Component Weights'!$B$16:$J$16,'Component Weights'!$B$17:$J$17)),IF(ISBLANK(G33),,LOOKUP(G33,'Component Weights'!$B$16:$J$16,'Component Weights'!$B$17:$J$17)),IF(ISBLANK(B33),,LOOKUP(B33,'Component Weights'!$B$16:$J$16,'Component Weights'!$B$17:$J$17)),IF(ISBLANK(H33),,LOOKUP(H33,'Component Weights'!$B$16:$J$16,'Component Weights'!$B$17:$J$17)),IF(ISBLANK(I33),,LOOKUP(I33,'Component Weights'!$B$16:$J$16,'Component Weights'!$B$17:$J$17)),IF(ISBLANK(J33),,LOOKUP(J33,'Component Weights'!$B$16:$J$16,'Component Weights'!$B$17:$J$17)))","v":9},{"$f":"IF(ISBLANK(C33),\" \",(LOOKUP(C33,'Component Weights'!$B$16:$J$16,'Component Weights'!$B$17:$J$17)*$AA$4))","v":0.16},{"$f":"IF(ISBLANK(D33),\" \",(LOOKUP(D33,'Component Weights'!$B$16:$J$16,'Component Weights'!$B$17:$J$17)*$AA$5))","v":0},{"$f":"IF(ISBLANK(E33),\" \",(LOOKUP(E33,'Component Weights'!$B$16:$J$16,'Component Weights'!$B$17:$J$17)*$AA$6))","v":0.08},{"$f":"IF(ISBLANK(F33),\" \",(LOOKUP(F33,'Component Weights'!$B$16:$J$16,'Component Weights'!$B$17:$J$17)*$AA$7))","v":0},{"$f":"IF(ISBLANK(G33),\" \",(LOOKUP(G33,'Component Weights'!$B$16:$J$16,'Component Weights'!$B$17:$J$17)*$AA$8))","v":0.1},{"$f":"IF(ISBLANK(B33),\" \",(LOOKUP(B33,'Component Weights'!$B$16:$J$16,'Component Weights'!$B$17:$J$17)*$AA$9))","v":" "},{"$f":"IF(ISBLANK(H33),\" \",(LOOKUP(H33,'Component Weights'!$B$16:$J$16,'Component Weights'!$B$17:$J$17)*$AA$10))","v":0.24},{"$f":"IF(ISBLANK(I33),\" \",(LOOKUP(I33,'Component Weights'!$B$16:$J$16,'Component Weights'!$B$17:$J$17)*$AA$11))","v":0},{"$f":"IF(ISBLANK(J33),\" \",(LOOKUP(J33,'Component Weights'!$B$16:$J$16,'Component Weights'!$B$17:$J$17)*$AA$12))","v":0.24},0.82,32,null,0.82]
["Vinyl - Double Pane w/Argon",null,"M","N","N","N","N","M","M","M",{"$f":"SUM(IF(ISBLANK(C34),,LOOKUP(C34,'Component Weights'!$B$16:$J$16,'Component Weights'!$B$17:$J$17)),IF(ISBLANK(D34),,LOOKUP(D34,'Component Weights'!$B$16:$J$16,'Component Weights'!$B$17:$J$17)),IF(ISBLANK(E34),,LOOKUP(E34,'Component Weights'!$B$16:$J$16,'Component Weights'!$B$17:$J$17)),IF(ISBLANK(F34),,LOOKUP(F34,'Component Weights'!$B$16:$J$16,'Component Weights'!$B$17:$J$17)),IF(ISBLANK(G34),,LOOKUP(G34,'Component Weights'!$B$16:$J$16,'Component Weights'!$B$17:$J$17)),IF(ISBLANK(B34),,LOOKUP(B34,'Component Weights'!$B$16:$J$16,'Component Weights'!$B$17:$J$17)),IF(ISBLANK(H34),,LOOKUP(H34,'Component Weights'!$B$16:$J$16,'Component Weights'!$B$17:$J$17)),IF(ISBLANK(I34),,LOOKUP(I34,'Component Weights'!$B$16:$J$16,'Component Weights'!$B$17:$J$17)),IF(ISBLANK(J34),,LOOKUP(J34,'Component Weights'!$B$16:$J$16,'Component Weights'!$B$17:$J$17)))","v":8},{"$f":"IF(ISBLANK(C34),\" \",(LOOKUP(C34,'Component Weights'!$B$16:$J$16,'Component Weights'!$B$17:$J$17)*$AA$4))","v":0.16},{"$f":"IF(ISBLANK(D34),\" \",(LOOKUP(D34,'Component Weights'!$B$16:$J$16,'Component Weights'!$B$17:$J$17)*$AA$5))","v":0},{"$f":"IF(ISBLANK(E34),\" \",(LOOKUP(E34,'Component Weights'!$B$16:$J$16,'Component Weights'!$B$17:$J$17)*$AA$6))","v":0},{"$f":"IF(ISBLANK(F34),\" \",(LOOKUP(F34,'Component Weights'!$B$16:$J$16,'Component Weights'!$B$17:$J$17)*$AA$7))","v":0},{"$f":"IF(ISBLANK(G34),\" \",(LOOKUP(G34,'Component Weights'!$B$16:$J$16,'Component Weights'!$B$17:$J$17)*$AA$8))","v":0},{"$f":"IF(ISBLANK(B34),\" \",(LOOKUP(B34,'Component Weights'!$B$16:$J$16,'Component Weights'!$B$17:$J$17)*$AA$9))","v":" "},{"$f":"IF(ISBLANK(H34),\" \",(LOOKUP(H34,'Component Weights'!$B$16:$J$16,'Component Weights'!$B$17:$J$17)*$AA$10))","v":0.24},{"$f":"IF(ISBLANK(I34),\" \",(LOOKUP(I34,'Component Weights'!$B$16:$J$16,'Component Weights'!$B$17:$J$17)*$AA$11))","v":0.16},{"$f":"IF(ISBLANK(J34),\" \",(LOOKUP(J34,'Component Weights'!$B$16:$J$16,'Component Weights'!$B$17:$J$17)*$AA$12))","v":0.24},{"$f":"SUM(L34:T34)","v":0.8},{"$f":"IF($U34>0,RANK($U34,X$2:X$206,0),99)","v":33},null,0.8]
["Vinyl - Triple Pane w/Argon",null,"M","N","N","N","N","M","M","M",{"$f":"SUM(IF(ISBLANK(C35),,LOOKUP(C35,'Component Weights'!$B$16:$J$16,'Component Weights'!$B$17:$J$17)),IF(ISBLANK(D35),,LOOKUP(D35,'Component Weights'!$B$16:$J$16,'Component Weights'!$B$17:$J$17)),IF(ISBLANK(E35),,LOOKUP(E35,'Component Weights'!$B$16:$J$16,'Component Weights'!$B$17:$J$17)),IF(ISBLANK(F35),,LOOKUP(F35,'Component Weights'!$B$16:$J$16,'Component Weights'!$B$17:$J$17)),IF(ISBLANK(G35),,LOOKUP(G35,'Component Weights'!$B$16:$J$16,'Component Weights'!$B$17:$J$17)),IF(ISBLANK(B35),,LOOKUP(B35,'Component Weights'!$B$16:$J$16,'Component Weights'!$B$17:$J$17)),IF(ISBLANK(H35),,LOOKUP(H35,'Component Weights'!$B$16:$J$16,'Component Weights'!$B$17:$J$17)),IF(ISBLANK(I35),,LOOKUP(I35,'Component Weights'!$B$16:$J$16,'Component Weights'!$B$17:$J$17)),IF(ISBLANK(J35),,LOOKUP(J35,'Component Weights'!$B$16:$J$16,'Component Weights'!$B$17:$J$17)))","v":8},{"$f":"IF(ISBLANK(C35),\" \",(LOOKUP(C35,'Component Weights'!$B$16:$J$16,'Component Weights'!$B$17:$J$17)*$AA$4))","v":0.16},{"$f":"IF(ISBLANK(D35),\" \",(LOOKUP(D35,'Component Weights'!$B$16:$J$16,'Component Weights'!$B$17:$J$17)*$AA$5))","v":0},{"$f":"IF(ISBLANK(E35),\" \",(LOOKUP(E35,'Component Weights'!$B$16:$J$16,'Component Weights'!$B$17:$J$17)*$AA$6))","v":0},{"$f":"IF(ISBLANK(F35),\" \",(LOOKUP(F35,'Component Weights'!$B$16:$J$16,'Component Weights'!$B$17:$J$17)*$AA$7))","v":0},{"$f":"IF(ISBLANK(G35),\" \",(LOOKUP(G35,'Component Weights'!$B$16:$J$16,'Component Weights'!$B$17:$J$17)*$AA$8))","v":0},{"$f":"IF(ISBLANK(B35),\" \",(LOOKUP(B35,'Component Weights'!$B$16:$J$16,'Component Weights'!$B$17:$J$17)*$AA$9))","v":" "},{"$f":"IF(ISBLANK(H35),\" \",(LOOKUP(H35,'Component Weights'!$B$16:$J$16,'Component Weights'!$B$17:$J$17)*$AA$10))","v":0.24},{"$f":"IF(ISBLANK(I35),\" \",(LOOKUP(I35,'Component Weights'!$B$16:$J$16,'Component Weights'!$B$17:$J$17)*$AA$11))","v":0.16},{"$f":"IF(ISBLANK(J35),\" \",(LOOKUP(J35,'Component Weights'!$B$16:$J$16,'Component Weights'!$B$17:$J$17)*$AA$12))","v":0.24},0.8,33,null,0.8]
["Vinyl - Triple Pane w/Low-E",null,"H","N","N","N","N","M","L","M",{"$f":"SUM(IF(ISBLANK(C36),,LOOKUP(C36,'Component Weights'!$B$16:$J$16,'Component Weights'!$B$17:$J$17)),IF(ISBLANK(D36),,LOOKUP(D36,'Component Weights'!$B$16:$J$16,'Component Weights'!$B$17:$J$17)),IF(ISBLANK(E36),,LOOKUP(E36,'Component Weights'!$B$16:$J$16,'Component Weights'!$B$17:$J$17)),IF(ISBLANK(F36),,LOOKUP(F36,'Component Weights'!$B$16:$J$16,'Component Weights'!$B$17:$J$17)),IF(ISBLANK(G36),,LOOKUP(G36,'Component Weights'!$B$16:$J$16,'Component Weights'!$B$17:$J$17)),IF(ISBLANK(B36),,LOOKUP(B36,'Component Weights'!$B$16:$J$16,'Component Weights'!$B$17:$J$17)),IF(ISBLANK(H36),,LOOKUP(H36,'Component Weights'!$B$16:$J$16,'Component Weights'!$B$17:$J$17)),IF(ISBLANK(I36),,LOOKUP(I36,'Component Weights'!$B$16:$J$16,'Component Weights'!$B$17:$J$17)),IF(ISBLANK(J36),,LOOKUP(J36,'Component Weights'!$B$16:$J$16,'Component Weights'!$B$17:$J$17)))","v":8},{"$f":"IF(ISBLANK(C36),\" \",(LOOKUP(C36,'Component Weights'!$B$16:$J$16,'Component Weights'!$B$17:$J$17)*$AA$4))","v":0.24},{"$f":"IF(ISBLANK(D36),\" \",(LOOKUP(D36,'Component Weights'!$B$16:$J$16,'Component Weights'!$B$17:$J$17)*$AA$5))","v":0},{"$f":"IF(ISBLANK(E36),\" \",(LOOKUP(E36,'Component Weights'!$B$16:$J$16,'Component Weights'!$B$17:$J$17)*$AA$6))","v":0},{"$f":"IF(ISBLANK(F36),\" \",(LOOKUP(F36,'Component Weights'!$B$16:$J$16,'Component Weights'!$B$17:$J$17)*$AA$7))","v":0},{"$f":"IF(ISBLANK(G36),\" \",(LOOKUP(G36,'Component Weights'!$B$16:$J$16,'Component Weights'!$B$17:$J$17)*$AA$8))","v":0},{"$f":"IF(ISBLANK(B36),\" \",(LOOKUP(B36,'Component Weights'!$B$16:$J$16,'Component Weights'!$B$17:$J$17)*$AA$9))","v":" "},{"$f":"IF(ISBLANK(H36),\" \",(LOOKUP(H36,'Component Weights'!$B$16:$J$16,'Component Weights'!$B$17:$J$17)*$AA$10))","v":0.24},{"$f":"IF(ISBLANK(I36),\" \",(LOOKUP(I36,'Component Weights'!$B$16:$J$16,'Component Weights'!$B$17:$J$17)*$AA$11))","v":0.08},{"$f":"IF(ISBLANK(J36),\" \",(LOOKUP(J36,'Component Weights'!$B$16:$J$16,'Component Weights'!$B$17:$J$17)*$AA$12))","v":0.24},0.79999999999999993,35,null,0.79999999999999993]
["Fiberglass - Double Pane w/Reflective Film",null,"M","N","L","N","N","M","L","M",{"$f":"SUM(IF(ISBLANK(C37),,LOOKUP(C37,'Component Weights'!$B$16:$J$16,'Component Weights'!$B$17:$J$17)),IF(ISBLANK(D37),,LOOKUP(D37,'Component Weights'!$B$16:$J$16,'Component Weights'!$B$17:$J$17)),IF(ISBLANK(E37),,LOOKUP(E37,'Component Weights'!$B$16:$J$16,'Component Weights'!$B$17:$J$17)),IF(ISBLANK(F37),,LOOKUP(F37,'Component Weights'!$B$16:$J$16,'Component Weights'!$B$17:$J$17)),IF(ISBLANK(G37),,LOOKUP(G37,'Component Weights'!$B$16:$J$16,'Component Weights'!$B$17:$J$17)),IF(ISBLANK(B37),,LOOKUP(B37,'Component Weights'!$B$16:$J$16,'Component Weights'!$B$17:$J$17)),IF(ISBLANK(H37),,LOOKUP(H37,'Component Weights'!$B$16:$J$16,'Component Weights'!$B$17:$J$17)),IF(ISBLANK(I37),,LOOKUP(I37,'Component Weights'!$B$16:$J$16,'Component Weights'!$B$17:$J$17)),IF(ISBLANK(J37),,LOOKUP(J37,'Component Weights'!$B$16:$J$16,'Component Weights'!$B$17:$J$17)))","v":8},{"$f":"IF(ISBLANK(C37),\" \",(LOOKUP(C37,'Component Weights'!$B$16:$J$16,'Component Weights'!$B$17:$J$17)*$AA$4))","v":0.16},{"$f":"IF(ISBLANK(D37),\" \",(LOOKUP(D37,'Component Weights'!$B$16:$J$16,'Component Weights'!$B$17:$J$17)*$AA$5))","v":0},{"$f":"IF(ISBLANK(E37),\" \",(LOOKUP(E37,'Component Weights'!$B$16:$J$16,'Component Weights'!$B$17:$J$17)*$AA$6))","v":0.08},{"$f":"IF(ISBLANK(F37),\" \",(LOOKUP(F37,'Component Weights'!$B$16:$J$16,'Component Weights'!$B$17:$J$17)*$AA$7))","v":0},{"$f":"IF(ISBLANK(G37),\" \",(LOOKUP(G37,'Component Weights'!$B$16:$J$16,'Component Weights'!$B$17:$J$17)*$AA$8))","v":0},{"$f":"IF(ISBLANK(B37),\" \",(LOOKUP(B37,'Component Weights'!$B$16:$J$16,'Component Weights'!$B$17:$J$17)*$AA$9))","v":" "},{"$f":"IF(ISBLANK(H37),\" \",(LOOKUP(H37,'Component Weights'!$B$16:$J$16,'Component Weights'!$B$17:$J$17)*$AA$10))","v":0.24},{"$f":"IF(ISBLANK(I37),\" \",(LOOKUP(I37,'Component Weights'!$B$16:$J$16,'Component Weights'!$B$17:$J$17)*$AA$11))","v":0.08},{"$f":"IF(ISBLANK(J37),\" \",(LOOKUP(J37,'Component Weights'!$B$16:$J$16,'Component Weights'!$B$17:$J$17)*$AA$12))","v":0.24},0.79999999999999993,35,null,0.79999999999999993]
["Fiberglass - Double Pane w/Argon",null,"M","N","L","N","N","M","L","M",{"$f":"SUM(IF(ISBLANK(C38),,LOOKUP(C38,'Component Weights'!$B$16:$J$16,'Component Weights'!$B$17:$J$17)),IF(ISBLANK(D38),,LOOKUP(D38,'Component Weights'!$B$16:$J$16,'Component Weights'!$B$17:$J$17)),IF(ISBLANK(E38),,LOOKUP(E38,'Component Weights'!$B$16:$J$16,'Component Weights'!$B$17:$J$17)),IF(ISBLANK(F38),,LOOKUP(F38,'Component Weights'!$B$16:$J$16,'Component Weights'!$B$17:$J$17)),IF(ISBLANK(G38),,LOOKUP(G38,'Component Weights'!$B$16:$J$16,'Component Weights'!$B$17:$J$17)),IF(ISBLANK(B38),,LOOKUP(B38,'Component Weights'!$B$16:$J$16,'Component Weights'!$B$17:$J$17)),IF(ISBLANK(H38),,LOOKUP(H38,'Component Weights'!$B$16:$J$16,'Component Weights'!$B$17:$J$17)),IF(ISBLANK(I38),,LOOKUP(I38,'Component Weights'!$B$16:$J$16,'Component Weights'!$B$17:$J$17)),IF(ISBLANK(J38),,LOOKUP(J38,'Component Weights'!$B$16:$J$16,'Component Weights'!$B$17:$J$17)))","v":8},{"$f":"IF(ISBLANK(C38),\" \",(LOOKUP(C38,'Component Weights'!$B$16:$J$16,'Component Weights'!$B$17:$J$17)*$AA$4))","v":0.16},{"$f":"IF(ISBLANK(D38),\" \",(LOOKUP(D38,'Component Weights'!$B$16:$J$16,'Component Weights'!$B$17:$J$17)*$AA$5))","v":0},{"$f":"IF(ISBLANK(E38),\" \",(LOOKUP(E38,'Component Weights'!$B$16:$J$16,'Component Weights'!$B$17:$J$17)*$AA$6))","v":0.08},{"$f":"IF(ISBLANK(F38),\" \",(LOOKUP(F38,'Component Weights'!$B$16:$J$16,'Component Weights'!$B$17:$J$17)*$AA$7))","v":0},{"$f":"IF(ISBLANK(G38),\" \",(LOOKUP(G38,'Component Weights'!$B$16:$J$16,'Component Weights'!$B$17:$J$17)*$AA$8))","v":0},{"$f":"IF(ISBLANK(B38),\" \",(LOOKUP(B38,'Component Weights'!$B$16:$J$16,'Component Weights'!$B$17:$J$17)*$AA$9))","v":" "},{"$f":"IF(ISBLANK(H38),\" \",(LOOKUP(H38,'Component Weights'!$B$16:$J$16,'Component Weights'!$B$17:$J$17)*$AA$10))","v":0.24},{"$f":"IF(ISBLANK(I38),\" \",(LOOKUP(I38,'Component Weights'!$B$16:$J$16,'Component Weights'!$B$17:$J$17)*$AA$11))","v":0.08},{"$f":"IF(ISBLANK(J38),\" \",(LOOKUP(J38,'Component Weights'!$B$16:$J$16,'Component Weights'!$B$17:$J$17)*$AA$12))","v":0.24},0.79999999999999993,35,null,0.79999999999999993]
["Fiberglass - Triple Pane w/Argon",null,"M","N","L","N","N","M","L","M",{"$f":"SUM(IF(ISBLANK(C39),,LOOKUP(C39,'Component Weights'!$B$16:$J$16,'Component Weights'!$B$17:$J$17)),IF(ISBLANK(D39),,LOOKUP(D39,'Component Weights'!$B$16:$J$16,'Component Weights'!$B$17:$J$17)),IF(ISBLANK(E39),,LOOKUP(E39,'Component Weights'!$B$16:$J$16,'Component Weights'!$B$17:$J$17)),IF(ISBLANK(F39),,LOOKUP(F39,'Component Weights'!$B$16:$J$16,'Component Weights'!$B$17:$J$17)),IF(ISBLANK(G39),,LOOKUP(G39,'Component Weights'!$B$16:$J$16,'Component Weights'!$B$17:$J$17)),IF(ISBLANK(B39),,LOOKUP(B39,'Component Weights'!$B$16:$J$16,'Component Weights'!$B$17:$J$17)),IF(ISBLANK(H39),,LOOKUP(H39,'Component Weights'!$B$16:$J$16,'Component Weights'!$B$17:$J$17)),IF(ISBLANK(I39),,LOOKUP(I39,'Component Weights'!$B$16:$J$16,'Component Weights'!$B$17:$J$17)),IF(ISBLANK(J39),,LOOKUP(J39,'Component Weights'!$B$16:$J$16,'Component Weights'!$B$17:$J$17)))","v":8},{"$f":"IF(ISBLANK(C39),\" \",(LOOKUP(C39,'Component Weights'!$B$16:$J$16,'Component Weights'!$B$17:$J$17)*$AA$4))","v":0.16},{"$f":"IF(ISBLANK(D39),\" \",(LOOKUP(D39,'Component Weights'!$B$16:$J$16,'Component Weights'!$B$17:$J$17)*$AA$5))","v":0},{"$f":"IF(ISBLANK(E39),\" \",(LOOKUP(E39,'Component Weights'!$B$16:$J$16,'Component Weights'!$B$17:$J$17)*$AA$6))","v":0.08},{"$f":"IF(ISBLANK(F39),\" \",(LOOKUP(F39,'Component Weights'!$B$16:$J$16,'Component Weights'!$B$17:$J$17)*$AA$7))","v":0},{"$f":"IF(ISBLANK(G39),\" \",(LOOKUP(G39,'Component Weights'!$B$16:$J$16,'Component Weights'!$B$17:$J$17)*$AA$8))","v":0},{"$f":"IF(ISBLANK(B39),\" \",(LOOKUP(B39,'Component Weights'!$B$16:$J$16,'Component Weights'!$B$17:$J$17)*$AA$9))","v":" "},{"$f":"IF(ISBLANK(H39),\" \",(LOOKUP(H39,'Component Weights'!$B$16:$J$16,'Component Weights'!$B$17:$J$17)*$AA$10))","v":0.24},{"$f":"IF(ISBLANK(I39),\" \",(LOOKUP(I39,'Component Weights'!$B$16:$J$16,'Component Weights'!$B$17:$J$17)*$AA$11))","v":0.08},{"$f":"IF(ISBLANK(J39),\" \",(LOOKUP(J39,'Component Weights'!$B$16:$J$16,'Component Weights'!$B$17:$J$17)*$AA$12))","v":0.24},0.79999999999999993,35,null,0.79999999999999993]
["Metal - Double Pane w/Argon",null,"M","N","L","N","N","M","L","M",{"$f":"SUM(IF(ISBLANK(C40),,LOOKUP(C40,'Component Weights'!$B$16:$J$16,'Component Weights'!$B$17:$J$17)),IF(ISBLANK(D40),,LOOKUP(D40,'Component Weights'!$B$16:$J$16,'Component Weights'!$B$17:$J$17)),IF(ISBLANK(E40),,LOOKUP(E40,'Component Weights'!$B$16:$J$16,'Component Weights'!$B$17:$J$17)),IF(ISBLANK(F40),,LOOKUP(F40,'Component Weights'!$B$16:$J$16,'Component Weights'!$B$17:$J$17)),IF(ISBLANK(G40),,LOOKUP(G40,'Component Weights'!$B$16:$J$16,'Component Weights'!$B$17:$J$17)),IF(ISBLANK(B40),,LOOKUP(B40,'Component Weights'!$B$16:$J$16,'Component Weights'!$B$17:$J$17)),IF(ISBLANK(H40),,LOOKUP(H40,'Component Weights'!$B$16:$J$16,'Component Weights'!$B$17:$J$17)),IF(ISBLANK(I40),,LOOKUP(I40,'Component Weights'!$B$16:$J$16,'Component Weights'!$B$17:$J$17)),IF(ISBLANK(J40),,LOOKUP(J40,'Component Weights'!$B$16:$J$16,'Component Weights'!$B$17:$J$17)))","v":8},{"$f":"IF(ISBLANK(C40),\" \",(LOOKUP(C40,'Component Weights'!$B$16:$J$16,'Component Weights'!$B$17:$J$17)*$AA$4))","v":0.16},{"$f":"IF(ISBLANK(D40),\" \",(LOOKUP(D40,'Component Weights'!$B$16:$J$16,'Component Weights'!$B$17:$J$17)*$AA$5))","v":0},{"$f":"IF(ISBLANK(E40),\" \",(LOOKUP(E40,'Component Weights'!$B$16:$J$16,'Component Weights'!$B$17:$J$17)*$AA$6))","v":0.08},{"$f":"IF(ISBLANK(F40),\" \",(LOOKUP(F40,'Component Weights'!$B$16:$J$16,'Component Weights'!$B$17:$J$17)*$AA$7))","v":0},{"$f":"IF(ISBLANK(G40),\" \",(LOOKUP(G40,'Component Weights'!$B$16:$J$16,'Component Weights'!$B$17:$J$17)*$AA$8))","v":0},{"$f":"IF(ISBLANK(B40),\" \",(LOOKUP(B40,'Component Weights'!$B$16:$J$16,'Component Weights'!$B$17:$J$17)*$AA$9))","v":" "},{"$f":"IF(ISBLANK(H40),\" \",(LOOKUP(H40,'Component Weights'!$B$16:$J$16,'Component Weights'!$B$17:$J$17)*$AA$10))","v":0.24},{"$f":"IF(ISBLANK(I40),\" \",(LOOKUP(I40,'Component Weights'!$B$16:$J$16,'Component Weights'!$B$17:$J$17)*$AA$11))","v":0.08},{"$f":"IF(ISBLANK(J40),\" \",(LOOKUP(J40,'Component Weights'!$B$16:$J$16,'Component Weights'!$B$17:$J$17)*$AA$12))","v":0.24},0.79999999999999993,35,null,0.79999999999999993]
["Metal - Triple Pane w/Low-E",null,"M","N","L","N","N","M","L","M",{"$f":"SUM(IF(ISBLANK(C41),,LOOKUP(C41,'Component Weights'!$B$16:$J$16,'Component Weights'!$B$17:$J$17)),IF(ISBLANK(D41),,LOOKUP(D41,'Component Weights'!$B$16:$J$16,'Component Weights'!$B$17:$J$17)),IF(ISBLANK(E41),,LOOKUP(E41,'Component Weights'!$B$16:$J$16,'Component Weights'!$B$17:$J$17)),IF(ISBLANK(F41),,LOOKUP(F41,'Component Weights'!$B$16:$J$16,'Component Weights'!$B$17:$J$17)),IF(ISBLANK(G41),,LOOKUP(G41,'Component Weights'!$B$16:$J$16,'Component Weights'!$B$17:$J$17)),IF(ISBLANK(B41),,LOOKUP(B41,'Component Weights'!$B$16:$J$16,'Component Weights'!$B$17:$J$17)),IF(ISBLANK(H41),,LOOKUP(H41,'Component Weights'!$B$16:$J$16,'Component Weights'!$B$17:$J$17)),IF(ISBLANK(I41),,LOOKUP(I41,'Component Weights'!$B$16:$J$16,'Component Weights'!$B$17:$J$17)),IF(ISBLANK(J41),,LOOKUP(J41,'Component Weights'!$B$16:$J$16,'Component Weights'!$B$17:$J$17)))","v":8},{"$f":"IF(ISBLANK(C41),\" \",(LOOKUP(C41,'Component Weights'!$B$16:$J$16,'Component Weights'!$B$17:$J$17)*$AA$4))","v":0.16},{"$f":"IF(ISBLANK(D41),\" \",(LOOKUP(D41,'Component Weights'!$B$16:$J$16,'Component Weights'!$B$17:$J$17)*$AA$5))","v":0},{"$f":"IF(ISBLANK(E41),\" \",(LOOKUP(E41,'Component Weights'!$B$16:$J$16,'Component Weights'!$B$17:$J$17)*$AA$6))","v":0.08},{"$f":"IF(ISBLANK(F41),\" \",(LOOKUP(F41,'Component Weights'!$B$16:$J$16,'Component Weights'!$B$17:$J$17)*$AA$7))","v":0},{"$f":"IF(ISBLANK(G41),\" \",(LOOKUP(G41,'Component Weights'!$B$16:$J$16,'Component Weights'!$B$17:$J$17)*$AA$8))","v":0},{"$f":"IF(ISBLANK(B41),\" \",(LOOKUP(B41,'Component Weights'!$B$16:$J$16,'Component Weights'!$B$17:$J$17)*$AA$9))","v":" "},{"$f":"IF(ISBLANK(H41),\" \",(LOOKUP(H41,'Component Weights'!$B$16:$J$16,'Component Weights'!$B$17:$J$17)*$AA$10))","v":0.24},{"$f":"IF(ISBLANK(I41),\" \",(LOOKUP(I41,'Component Weights'!$B$16:$J$16,'Component Weights'!$B$17:$J$17)*$AA$11))","v":0.08},{"$f":"IF(ISBLANK(J41),\" \",(LOOKUP(J41,'Component Weights'!$B$16:$J$16,'Component Weights'!$B$17:$J$17)*$AA$12))","v":0.24},0.79999999999999993,35,null,0.79999999999999993]
["Wood - Single Pane w/Reflective Film",null,"L","N","L","N","M","M","N","M",{"$f":"SUM(IF(ISBLANK(C42),,LOOKUP(C42,'Component Weights'!$B$16:$J$16,'Component Weights'!$B$17:$J$17)),IF(ISBLANK(D42),,LOOKUP(D42,'Component Weights'!$B$16:$J$16,'Component Weights'!$B$17:$J$17)),IF(ISBLANK(E42),,LOOKUP(E42,'Component Weights'!$B$16:$J$16,'Component Weights'!$B$17:$J$17)),IF(ISBLANK(F42),,LOOKUP(F42,'Component Weights'!$B$16:$J$16,'Component Weights'!$B$17:$J$17)),IF(ISBLANK(G42),,LOOKUP(G42,'Component Weights'!$B$16:$J$16,'Component Weights'!$B$17:$J$17)),IF(ISBLANK(B42),,LOOKUP(B42,'Component Weights'!$B$16:$J$16,'Component Weights'!$B$17:$J$17)),IF(ISBLANK(H42),,LOOKUP(H42,'Component Weights'!$B$16:$J$16,'Component Weights'!$B$17:$J$17)),IF(ISBLANK(I42),,LOOKUP(I42,'Component Weights'!$B$16:$J$16,'Component Weights'!$B$17:$J$17)),IF(ISBLANK(J42),,LOOKUP(J42,'Component Weights'!$B$16:$J$16,'Component Weights'!$B$17:$J$17)))","v":8},{"$f":"IF(ISBLANK(C42),\" \",(LOOKUP(C42,'Component Weights'!$B$16:$J$16,'Component Weights'!$B$17:$J$17)*$AA$4))","v":0.08},{"$f":"IF(ISBLANK(D42),\" \",(LOOKUP(D42,'Component Weights'!$B$16:$J$16,'Component Weights'!$B$17:$J$17)*$AA$5))","v":0},{"$f":"IF(ISBLANK(E42),\" \",(LOOKUP(E42,'Component Weights'!$B$16:$J$16,'Component Weights'!$B$17:$J$17)*$AA$6))","v":0.08},{"$f":"IF(ISBLANK(F42),\" \",(LOOKUP(F42,'Component Weights'!$B$16:$J$16,'Component Weights'!$B$17:$J$17)*$AA$7))","v":0},{"$f":"IF(ISBLANK(G42),\" \",(LOOKUP(G42,'Component Weights'!$B$16:$J$16,'Component Weights'!$B$17:$J$17)*$AA$8))","v":0.1},{"$f":"IF(ISBLANK(B42),\" \",(LOOKUP(B42,'Component Weights'!$B$16:$J$16,'Component Weights'!$B$17:$J$17)*$AA$9))","v":" "},{"$f":"IF(ISBLANK(H42),\" \",(LOOKUP(H42,'Component Weights'!$B$16:$J$16,'Component Weights'!$B$17:$J$17)*$AA$10))","v":0.24},{"$f":"IF(ISBLANK(I42),\" \",(LOOKUP(I42,'Component Weights'!$B$16:$J$16,'Component Weights'!$B$17:$J$17)*$AA$11))","v":0},{"$f":"IF(ISBLANK(J42),\" \",(LOOKUP(J42,'Component Weights'!$B$16:$J$16,'Component Weights'!$B$17:$J$17)*$AA$12))","v":0.24},0.74,41,null,0.74]
["Wood - Double Pane",null,"L","N","L","N","M","M","N","M",{"$f":"SUM(IF(ISBLANK(C43),,LOOKUP(C43,'Component Weights'!$B$16:$J$16,'Component Weights'!$B$17:$J$17)),IF(ISBLANK(D43),,LOOKUP(D43,'Component Weights'!$B$16:$J$16,'Component Weights'!$B$17:$J$17)),IF(ISBLANK(E43),,LOOKUP(E43,'Component Weights'!$B$16:$J$16,'Component Weights'!$B$17:$J$17)),IF(ISBLANK(F43),,LOOKUP(F43,'Component Weights'!$B$16:$J$16,'Component Weights'!$B$17:$J$17)),IF(ISBLANK(G43),,LOOKUP(G43,'Component Weights'!$B$16:$J$16,'Component Weights'!$B$17:$J$17)),IF(ISBLANK(B43),,LOOKUP(B43,'Component Weights'!$B$16:$J$16,'Component Weights'!$B$17:$J$17)),IF(ISBLANK(H43),,LOOKUP(H43,'Component Weights'!$B$16:$J$16,'Component Weights'!$B$17:$J$17)),IF(ISBLANK(I43),,LOOKUP(I43,'Component Weights'!$B$16:$J$16,'Component Weights'!$B$17:$J$17)),IF(ISBLANK(J43),,LOOKUP(J43,'Component Weights'!$B$16:$J$16,'Component Weights'!$B$17:$J$17)))","v":8},{"$f":"IF(ISBLANK(C43),\" \",(LOOKUP(C43,'Component Weights'!$B$16:$J$16,'Component Weights'!$B$17:$J$17)*$AA$4))","v":0.08},{"$f":"IF(ISBLANK(D43),\" \",(LOOKUP(D43,'Component Weights'!$B$16:$J$16,'Component Weights'!$B$17:$J$17)*$AA$5))","v":0},{"$f":"IF(ISBLANK(E43),\" \",(LOOKUP(E43,'Component Weights'!$B$16:$J$16,'Component Weights'!$B$17:$J$17)*$AA$6))","v":0.08},{"$f":"IF(ISBLANK(F43),\" \",(LOOKUP(F43,'Component Weights'!$B$16:$J$16,'Component Weights'!$B$17:$J$17)*$AA$7))","v":0},{"$f":"IF(ISBLANK(G43),\" \",(LOOKUP(G43,'Component Weights'!$B$16:$J$16,'Component Weights'!$B$17:$J$17)*$AA$8))","v":0.1},{"$f":"IF(ISBLANK(B43),\" \",(LOOKUP(B43,'Component Weights'!$B$16:$J$16,'Component Weights'!$B$17:$J$17)*$AA$9))","v":" "},{"$f":"IF(ISBLANK(H43),\" \",(LOOKUP(H43,'Component Weights'!$B$16:$J$16,'Component Weights'!$B$17:$J$17)*$AA$10))","v":0.24},{"$f":"IF(ISBLANK(I43),\" \",(LOOKUP(I43,'Component Weights'!$B$16:$J$16,'Component Weights'!$B$17:$J$17)*$AA$11))","v":0},{"$f":"IF(ISBLANK(J43),\" \",(LOOKUP(J43,'Component Weights'!$B$16:$J$16,'Component Weights'!$B$17:$J$17)*$AA$12))","v":0.24},0.74,41,null,0.74]
["Wood - Triple Pane",null,"L","N","L","N","M","M","N","M",{"$f":"SUM(IF(ISBLANK(C44),,LOOKUP(C44,'Component Weights'!$B$16:$J$16,'Component Weights'!$B$17:$J$17)),IF(ISBLANK(D44),,LOOKUP(D44,'Component Weights'!$B$16:$J$16,'Component Weights'!$B$17:$J$17)),IF(ISBLANK(E44),,LOOKUP(E44,'Component Weights'!$B$16:$J$16,'Component Weights'!$B$17:$J$17)),IF(ISBLANK(F44),,LOOKUP(F44,'Component Weights'!$B$16:$J$16,'Component Weights'!$B$17:$J$17)),IF(ISBLANK(G44),,LOOKUP(G44,'Component Weights'!$B$16:$J$16,'Component Weights'!$B$17:$J$17)),IF(ISBLANK(B44),,LOOKUP(B44,'Component Weights'!$B$16:$J$16,'Component Weights'!$B$17:$J$17)),IF(ISBLANK(H44),,LOOKUP(H44,'Component Weights'!$B$16:$J$16,'Component Weights'!$B$17:$J$17)),IF(ISBLANK(I44),,LOOKUP(I44,'Component Weights'!$B$16:$J$16,'Component Weights'!$B$17:$J$17)),IF(ISBLANK(J44),,LOOKUP(J44,'Component Weights'!$B$16:$J$16,'Component Weights'!$B$17:$J$17)))","v":8},{"$f":"IF(ISBLANK(C44),\" \",(LOOKUP(C44,'Component Weights'!$B$16:$J$16,'Component Weights'!$B$17:$J$17)*$AA$4))","v":0.08},{"$f":"IF(ISBLANK(D44),\" \",(LOOKUP(D44,'Component Weights'!$B$16:$J$16,'Component Weights'!$B$17:$J$17)*$AA$5))","v":0},{"$f":"IF(ISBLANK(E44),\" \",(LOOKUP(E44,'Component Weights'!$B$16:$J$16,'Component Weights'!$B$17:$J$17)*$AA$6))","v":0.08},{"$f":"IF(ISBLANK(F44),\" \",(LOOKUP(F44,'Component Weights'!$B$16:$J$16,'Component Weights'!$B$17:$J$17)*$AA$7))","v":0},{"$f":"IF(ISBLANK(G44),\" \",(LOOKUP(G44,'Component Weights'!$B$16:$J$16,'Component Weights'!$B$17:$J$17)*$AA$8))","v":0.1},{"$f":"IF(ISBLANK(B44),\" \",(LOOKUP(B44,'Component Weights'!$B$16:$J$16,'Component Weights'!$B$17:$J$17)*$AA$9))","v":" "},{"$f":"IF(ISBLANK(H44),\" \",(LOOKUP(H44,'Component Weights'!$B$16:$J$16,'Component Weights'!$B$17:$J$17)*$AA$10))","v":0.24},{"$f":"IF(ISBLANK(I44),\" \",(LOOKUP(I44,'Component Weights'!$B$16:$J$16,'Component Weights'!$B$17:$J$17)*$AA$11))","v":0},{"$f":"IF(ISBLANK(J44),\" \",(LOOKUP(J44,'Component Weights'!$B$16:$J$16,'Component Weights'!$B$17:$J$17)*$AA$12))","v":0.24},0.74,41,null,0.74]
["Vinyl - Double Pane w/Reflective Film",null,"M","N","N","N","N","M","L","M",{"$f":"SUM(IF(ISBLANK(C45),,LOOKUP(C45,'Component Weights'!$B$16:$J$16,'Component Weights'!$B$17:$J$17)),IF(ISBLANK(D45),,LOOKUP(D45,'Component Weights'!$B$16:$J$16,'Component Weights'!$B$17:$J$17)),IF(ISBLANK(E45),,LOOKUP(E45,'Component Weights'!$B$16:$J$16,'Component Weights'!$B$17:$J$17)),IF(ISBLANK(F45),,LOOKUP(F45,'Component Weights'!$B$16:$J$16,'Component Weights'!$B$17:$J$17)),IF(ISBLANK(G45),,LOOKUP(G45,'Component Weights'!$B$16:$J$16,'Component Weights'!$B$17:$J$17)),IF(ISBLANK(B45),,LOOKUP(B45,'Component Weights'!$B$16:$J$16,'Component Weights'!$B$17:$J$17)),IF(ISBLANK(H45),,LOOKUP(H45,'Component Weights'!$B$16:$J$16,'Component Weights'!$B$17:$J$17)),IF(ISBLANK(I45),,LOOKUP(I45,'Component Weights'!$B$16:$J$16,'Component Weights'!$B$17:$J$17)),IF(ISBLANK(J45),,LOOKUP(J45,'Component Weights'!$B$16:$J$16,'Component Weights'!$B$17:$J$17)))","v":7},{"$f":"IF(ISBLANK(C45),\" \",(LOOKUP(C45,'Component Weights'!$B$16:$J$16,'Component Weights'!$B$17:$J$17)*$AA$4))","v":0.16},{"$f":"IF(ISBLANK(D45),\" \",(LOOKUP(D45,'Component Weights'!$B$16:$J$16,'Component Weights'!$B$17:$J$17)*$AA$5))","v":0},{"$f":"IF(ISBLANK(E45),\" \",(LOOKUP(E45,'Component Weights'!$B$16:$J$16,'Component Weights'!$B$17:$J$17)*$AA$6))","v":0},{"$f":"IF(ISBLANK(F45),\" \",(LOOKUP(F45,'Component Weights'!$B$16:$J$16,'Component Weights'!$B$17:$J$17)*$AA$7))","v":0},{"$f":"IF(ISBLANK(G45),\" \",(LOOKUP(G45,'Component Weights'!$B$16:$J$16,'Component Weights'!$B$17:$J$17)*$AA$8))","v":0},{"$f":"IF(ISBLANK(B45),\" \",(LOOKUP(B45,'Component Weights'!$B$16:$J$16,'Component Weights'!$B$17:$J$17)*$AA$9))","v":" "},{"$f":"IF(ISBLANK(H45),\" \",(LOOKUP(H45,'Component Weights'!$B$16:$J$16,'Component Weights'!$B$17:$J$17)*$AA$10))","v":0.24},{"$f":"IF(ISBLANK(I45),\" \",(LOOKUP(I45,'Component Weights'!$B$16:$J$16,'Component Weights'!$B$17:$J$17)*$AA$11))","v":0.08},{"$f":"IF(ISBLANK(J45),\" \",(LOOKUP(J45,'Component Weights'!$B$16:$J$16,'Component Weights'!$B$17:$J$17)*$AA$12))","v":0.24},0.72,44,null,0.72]
["Fiberglass - Triple Pane w/Reflective Film",null,"M","N","L","N","N","M","N","M",{"$f":"SUM(IF(ISBLANK(C46),,LOOKUP(C46,'Component Weights'!$B$16:$J$16,'Component Weights'!$B$17:$J$17)),IF(ISBLANK(D46),,LOOKUP(D46,'Component Weights'!$B$16:$J$16,'Component Weights'!$B$17:$J$17)),IF(ISBLANK(E46),,LOOKUP(E46,'Component Weights'!$B$16:$J$16,'Component Weights'!$B$17:$J$17)),IF(ISBLANK(F46),,LOOKUP(F46,'Component Weights'!$B$16:$J$16,'Component Weights'!$B$17:$J$17)),IF(ISBLANK(G46),,LOOKUP(G46,'Component Weights'!$B$16:$J$16,'Component Weights'!$B$17:$J$17)),IF(ISBLANK(B46),,LOOKUP(B46,'Component Weights'!$B$16:$J$16,'Component Weights'!$B$17:$J$17)),IF(ISBLANK(H46),,LOOKUP(H46,'Component Weights'!$B$16:$J$16,'Component Weights'!$B$17:$J$17)),IF(ISBLANK(I46),,LOOKUP(I46,'Component Weights'!$B$16:$J$16,'Component Weights'!$B$17:$J$17)),IF(ISBLANK(J46),,LOOKUP(J46,'Component Weights'!$B$16:$J$16,'Component Weights'!$B$17:$J$17)))","v":7},{"$f":"IF(ISBLANK(C46),\" \",(LOOKUP(C46,'Component Weights'!$B$16:$J$16,'Component Weights'!$B$17:$J$17)*$AA$4))","v":0.16},{"$f":"IF(ISBLANK(D46),\" \",(LOOKUP(D46,'Component Weights'!$B$16:$J$16,'Component Weights'!$B$17:$J$17)*$AA$5))","v":0},{"$f":"IF(ISBLANK(E46),\" \",(LOOKUP(E46,'Component Weights'!$B$16:$J$16,'Component Weights'!$B$17:$J$17)*$AA$6))","v":0.08},{"$f":"IF(ISBLANK(F46),\" \",(LOOKUP(F46,'Component Weights'!$B$16:$J$16,'Component Weights'!$B$17:$J$17)*$AA$7))","v":0},{"$f":"IF(ISBLANK(G46),\" \",(LOOKUP(G46,'Component Weights'!$B$16:$J$16,'Component Weights'!$B$17:$J$17)*$AA$8))","v":0},{"$f":"IF(ISBLANK(B46),\" \",(LOOKUP(B46,'Component Weights'!$B$16:$J$16,'Component Weights'!$B$17:$J$17)*$AA$9))","v":" "},{"$f":"IF(ISBLANK(H46),\" \",(LOOKUP(H46,'Component Weights'!$B$16:$J$16,'Component Weights'!$B$17:$J$17)*$AA$10))","v":0.24},{"$f":"IF(ISBLANK(I46),\" \",(LOOKUP(I46,'Component Weights'!$B$16:$J$16,'Component Weights'!$B$17:$J$17)*$AA$11))","v":0},{"$f":"IF(ISBLANK(J46),\" \",(LOOKUP(J46,'Component Weights'!$B$16:$J$16,'Component Weights'!$B$17:$J$17)*$AA$12))","v":0.24},0.72,44,null,0.72]
["Metal - Triple Pane w/Reflective Film",null,"M","N","L","N","N","M","N","M",{"$f":"SUM(IF(ISBLANK(C47),,LOOKUP(C47,'Component Weights'!$B$16:$J$16,'Component Weights'!$B$17:$J$17)),IF(ISBLANK(D47),,LOOKUP(D47,'Component Weights'!$B$16:$J$16,'Component Weights'!$B$17:$J$17)),IF(ISBLANK(E47),,LOOKUP(E47,'Component Weights'!$B$16:$J$16,'Component Weights'!$B$17:$J$17)),IF(ISBLANK(F47),,LOOKUP(F47,'Component Weights'!$B$16:$J$16,'Component Weights'!$B$17:$J$17)),IF(ISBLANK(G47),,LOOKUP(G47,'Component Weights'!$B$16:$J$16,'Component Weights'!$B$17:$J$17)),IF(ISBLANK(B47),,LOOKUP(B47,'Component Weights'!$B$16:$J$16,'Component Weights'!$B$17:$J$17)),IF(ISBLANK(H47),,LOOKUP(H47,'Component Weights'!$B$16:$J$16,'Component Weights'!$B$17:$J$17)),IF(ISBLANK(I47),,LOOKUP(I47,'Component Weights'!$B$16:$J$16,'Component Weights'!$B$17:$J$17)),IF(ISBLANK(J47),,LOOKUP(J47,'Component Weights'!$B$16:$J$16,'Component Weights'!$B$17:$J$17)))","v":7},{"$f":"IF(ISBLANK(C47),\" \",(LOOKUP(C47,'Component Weights'!$B$16:$J$16,'Component Weights'!$B$17:$J$17)*$AA$4))","v":0.16},{"$f":"IF(ISBLANK(D47),\" \",(LOOKUP(D47,'Component Weights'!$B$16:$J$16,'Component Weights'!$B$17:$J$17)*$AA$5))","v":0},{"$f":"IF(ISBLANK(E47),\" \",(LOOKUP(E47,'Component Weights'!$B$16:$J$16,'Component Weights'!$B$17:$J$17)*$AA$6))","v":0.08},{"$f":"IF(ISBLANK(F47),\" \",(LOOKUP(F47,'Component Weights'!$B$16:$J$16,'Component Weights'!$B$17:$J$17)*$AA$7))","v":0},{"$f":"IF(ISBLANK(G47),\" \",(LOOKUP(G47,'Component Weights'!$B$16:$J$16,'Component Weights'!$B$17:$J$17)*$AA$8))","v":0},{"$f":"IF(ISBLANK(B47),\" \",(LOOKUP(B47,'Component Weights'!$B$16:$J$16,'Component Weights'!$B$17:$J$17)*$AA$9))","v":" "},{"$f":"IF(ISBLANK(H47),\" \",(LOOKUP(H47,'Component Weights'!$B$16:$J$16,'Component Weights'!$B$17:$J$17)*$AA$10))","v":0.24},{"$f":"IF(ISBLANK(I47),\" \",(LOOKUP(I47,'Component Weights'!$B$16:$J$16,'Component Weights'!$B$17:$J$17)*$AA$11))","v":0},{"$f":"IF(ISBLANK(J47),\" \",(LOOKUP(J47,'Component Weights'!$B$16:$J$16,'Component Weights'!$B$17:$J$17)*$AA$12))","v":0.24},0.72,44,null,0.72]
["Fiberglass - Double Pane",null,"L","N","L","N","N","M","L","M",{"$f":"SUM(IF(ISBLANK(C48),,LOOKUP(C48,'Component Weights'!$B$16:$J$16,'Component Weights'!$B$17:$J$17)),IF(ISBLANK(D48),,LOOKUP(D48,'Component Weights'!$B$16:$J$16,'Component Weights'!$B$17:$J$17)),IF(ISBLANK(E48),,LOOKUP(E48,'Component Weights'!$B$16:$J$16,'Component Weights'!$B$17:$J$17)),IF(ISBLANK(F48),,LOOKUP(F48,'Component Weights'!$B$16:$J$16,'Component Weights'!$B$17:$J$17)),IF(ISBLANK(G48),,LOOKUP(G48,'Component Weights'!$B$16:$J$16,'Component Weights'!$B$17:$J$17)),IF(ISBLANK(B48),,LOOKUP(B48,'Component Weights'!$B$16:$J$16,'Component Weights'!$B$17:$J$17)),IF(ISBLANK(H48),,LOOKUP(H48,'Component Weights'!$B$16:$J$16,'Component Weights'!$B$17:$J$17)),IF(ISBLANK(I48),,LOOKUP(I48,'Component Weights'!$B$16:$J$16,'Component Weights'!$B$17:$J$17)),IF(ISBLANK(J48),,LOOKUP(J48,'Component Weights'!$B$16:$J$16,'Component Weights'!$B$17:$J$17)))","v":7},{"$f":"IF(ISBLANK(C48),\" \",(LOOKUP(C48,'Component Weights'!$B$16:$J$16,'Component Weights'!$B$17:$J$17)*$AA$4))","v":0.08},{"$f":"IF(ISBLANK(D48),\" \",(LOOKUP(D48,'Component Weights'!$B$16:$J$16,'Component Weights'!$B$17:$J$17)*$AA$5))","v":0},{"$f":"IF(ISBLANK(E48),\" \",(LOOKUP(E48,'Component Weights'!$B$16:$J$16,'Component Weights'!$B$17:$J$17)*$AA$6))","v":0.08},{"$f":"IF(ISBLANK(F48),\" \",(LOOKUP(F48,'Component Weights'!$B$16:$J$16,'Component Weights'!$B$17:$J$17)*$AA$7))","v":0},{"$f":"IF(ISBLANK(G48),\" \",(LOOKUP(G48,'Component Weights'!$B$16:$J$16,'Component Weights'!$B$17:$J$17)*$AA$8))","v":0},{"$f":"IF(ISBLANK(B48),\" \",(LOOKUP(B48,'Component Weights'!$B$16:$J$16,'Component Weights'!$B$17:$J$17)*$AA$9))","v":" "},{"$f":"IF(ISBLANK(H48),\" \",(LOOKUP(H48,'Component Weights'!$B$16:$J$16,'Component Weights'!$B$17:$J$17)*$AA$10))","v":0.24},{"$f":"IF(ISBLANK(I48),\" \",(LOOKUP(I48,'Component Weights'!$B$16:$J$16,'Component Weights'!$B$17:$J$17)*$AA$11))","v":0.08},{"$f":"IF(ISBLANK(J48),\" \",(LOOKUP(J48,'Component Weights'!$B$16:$J$16,'Component Weights'!$B$17:$J$17)*$AA$12))","v":0.24},0.72,44,null,0.72]
["Wood - Single Pane",null,"N","N","L","N","M","M","N","M",{"$f":"SUM(IF(ISBLANK(C49),,LOOKUP(C49,'Component Weights'!$B$16:$J$16,'Component Weights'!$B$17:$J$17)),IF(ISBLANK(D49),,LOOKUP(D49,'Component Weights'!$B$16:$J$16,'Component Weights'!$B$17:$J$17)),IF(ISBLANK(E49),,LOOKUP(E49,'Component Weights'!$B$16:$J$16,'Component Weights'!$B$17:$J$17)),IF(ISBLANK(F49),,LOOKUP(F49,'Component Weights'!$B$16:$J$16,'Component Weights'!$B$17:$J$17)),IF(ISBLANK(G49),,LOOKUP(G49,'Component Weights'!$B$16:$J$16,'Component Weights'!$B$17:$J$17)),IF(ISBLANK(B49),,LOOKUP(B49,'Component Weights'!$B$16:$J$16,'Component Weights'!$B$17:$J$17)),IF(ISBLANK(H49),,LOOKUP(H49,'Component Weights'!$B$16:$J$16,'Component Weights'!$B$17:$J$17)),IF(ISBLANK(I49),,LOOKUP(I49,'Component Weights'!$B$16:$J$16,'Component Weights'!$B$17:$J$17)),IF(ISBLANK(J49),,LOOKUP(J49,'Component Weights'!$B$16:$J$16,'Component Weights'!$B$17:$J$17)))","v":7},{"$f":"IF(ISBLANK(C49),\" \",(LOOKUP(C49,'Component Weights'!$B$16:$J$16,'Component Weights'!$B$17:$J$17)*$AA$4))","v":0},{"$f":"IF(ISBLANK(D49),\" \",(LOOKUP(D49,'Component Weights'!$B$16:$J$16,'Component Weights'!$B$17:$J$17)*$AA$5))","v":0},{"$f":"IF(ISBLANK(E49),\" \",(LOOKUP(E49,'Component Weights'!$B$16:$J$16,'Component Weights'!$B$17:$J$17)*$AA$6))","v":0.08},{"$f":"IF(ISBLANK(F49),\" \",(LOOKUP(F49,'Component Weights'!$B$16:$J$16,'Component Weights'!$B$17:$J$17)*$AA$7))","v":0},{"$f":"IF(ISBLANK(G49),\" \",(LOOKUP(G49,'Component Weights'!$B$16:$J$16,'Component Weights'!$B$17:$J$17)*$AA$8))","v":0.1},{"$f":"IF(ISBLANK(B49),\" \",(LOOKUP(B49,'Component Weights'!$B$16:$J$16,'Component Weights'!$B$17:$J$17)*$AA$9))","v":" "},{"$f":"IF(ISBLANK(H49),\" \",(LOOKUP(H49,'Component Weights'!$B$16:$J$16,'Component Weights'!$B$17:$J$17)*$AA$10))","v":0.24},{"$f":"IF(ISBLANK(I49),\" \",(LOOKUP(I49,'Component Weights'!$B$16:$J$16,'Component Weights'!$B$17:$J$17)*$AA$11))","v":0},{"$f":"IF(ISBLANK(J49),\" \",(LOOKUP(J49,'Component Weights'!$B$16:$J$16,'Component Weights'!$B$17:$J$17)*$AA$12))","v":0.24},0.65999999999999992,48,null,0.65999999999999992]
["Vinyl - Triple Pane w/Reflective Film",null,"M","N","N","N","N","M","N","M",{"$f":"SUM(IF(ISBLANK(C50),,LOOKUP(C50,'Component Weights'!$B$16:$J$16,'Component Weights'!$B$17:$J$17)),IF(ISBLANK(D50),,LOOKUP(D50,'Component Weights'!$B$16:$J$16,'Component Weights'!$B$17:$J$17)),IF(ISBLANK(E50),,LOOKUP(E50,'Component Weights'!$B$16:$J$16,'Component Weights'!$B$17:$J$17)),IF(ISBLANK(F50),,LOOKUP(F50,'Component Weights'!$B$16:$J$16,'Component Weights'!$B$17:$J$17)),IF(ISBLANK(G50),,LOOKUP(G50,'Component Weights'!$B$16:$J$16,'Component Weights'!$B$17:$J$17)),IF(ISBLANK(B50),,LOOKUP(B50,'Component Weights'!$B$16:$J$16,'Component Weights'!$B$17:$J$17)),IF(ISBLANK(H50),,LOOKUP(H50,'Component Weights'!$B$16:$J$16,'Component Weights'!$B$17:$J$17)),IF(ISBLANK(I50),,LOOKUP(I50,'Component Weights'!$B$16:$J$16,'Component Weights'!$B$17:$J$17)),IF(ISBLANK(J50),,LOOKUP(J50,'Component Weights'!$B$16:$J$16,'Component Weights'!$B$17:$J$17)))","v":6},{"$f":"IF(ISBLANK(C50),\" \",(LOOKUP(C50,'Component Weights'!$B$16:$J$16,'Component Weights'!$B$17:$J$17)*$AA$4))","v":0.16},{"$f":"IF(ISBLANK(D50),\" \",(LOOKUP(D50,'Component Weights'!$B$16:$J$16,'Component Weights'!$B$17:$J$17)*$AA$5))","v":0},{"$f":"IF(ISBLANK(E50),\" \",(LOOKUP(E50,'Component Weights'!$B$16:$J$16,'Component Weights'!$B$17:$J$17)*$AA$6))","v":0},{"$f":"IF(ISBLANK(F50),\" \",(LOOKUP(F50,'Component Weights'!$B$16:$J$16,'Component Weights'!$B$17:$J$17)*$AA$7))","v":0},{"$f":"IF(ISBLANK(G50),\" \",(LOOKUP(G50,'Component Weights'!$B$16:$J$16,'Component Weights'!$B$17:$J$17)*$AA$8))","v":0},{"$f":"IF(ISBLANK(B50),\" \",(LOOKUP(B50,'Component Weights'!$B$16:$J$16,'Component Weights'!$B$17:$J$17)*$AA$9))","v":" "},{"$f":"IF(ISBLANK(H50),\" \",(LOOKUP(H50,'Component Weights'!$B$16:$J$16,'Component Weights'!$B$17:$J$17)*$AA$10))","v":0.24},{"$f":"IF(ISBLANK(I50),\" \",(LOOKUP(I50,'Component Weights'!$B$16:$J$16,'Component Weights'!$B$17:$J$17)*$AA$11))","v":0},{"$f":"IF(ISBLANK(J50),\" \",(LOOKUP(J50,'Component Weights'!$B$16:$J$16,'Component Weights'!$B$17:$J$17)*$AA$12))","v":0.24},0.64,49,null,0.64]
["Vinyl - Double Pane",null,"L","N","N","N","N","M","L","M",{"$f":"SUM(IF(ISBLANK(C51),,LOOKUP(C51,'Component Weights'!$B$16:$J$16,'Component Weights'!$B$17:$J$17)),IF(ISBLANK(D51),,LOOKUP(D51,'Component Weights'!$B$16:$J$16,'Component Weights'!$B$17:$J$17)),IF(ISBLANK(E51),,LOOKUP(E51,'Component Weights'!$B$16:$J$16,'Component Weights'!$B$17:$J$17)),IF(ISBLANK(F51),,LOOKUP(F51,'Component Weights'!$B$16:$J$16,'Component Weights'!$B$17:$J$17)),IF(ISBLANK(G51),,LOOKUP(G51,'Component Weights'!$B$16:$J$16,'Component Weights'!$B$17:$J$17)),IF(ISBLANK(B51),,LOOKUP(B51,'Component Weights'!$B$16:$J$16,'Component Weights'!$B$17:$J$17)),IF(ISBLANK(H51),,LOOKUP(H51,'Component Weights'!$B$16:$J$16,'Component Weights'!$B$17:$J$17)),IF(ISBLANK(I51),,LOOKUP(I51,'Component Weights'!$B$16:$J$16,'Component Weights'!$B$17:$J$17)),IF(ISBLANK(J51),,LOOKUP(J51,'Component Weights'!$B$16:$J$16,'Component Weights'!$B$17:$J$17)))","v":6},{"$f":"IF(ISBLANK(C51),\" \",(LOOKUP(C51,'Component Weights'!$B$16:$J$16,'Component Weights'!$B$17:$J$17)*$AA$4))","v":0.08},{"$f":"IF(ISBLANK(D51),\" \",(LOOKUP(D51,'Component Weights'!$B$16:$J$16,'Component Weights'!$B$17:$J$17)*$AA$5))","v":0},{"$f":"IF(ISBLANK(E51),\" \",(LOOKUP(E51,'Component Weights'!$B$16:$J$16,'Component Weights'!$B$17:$J$17)*$AA$6))","v":0},{"$f":"IF(ISBLANK(F51),\" \",(LOOKUP(F51,'Component Weights'!$B$16:$J$16,'Component Weights'!$B$17:$J$17)*$AA$7))","v":0},{"$f":"IF(ISBLANK(G51),\" \",(LOOKUP(G51,'Component Weights'!$B$16:$J$16,'Component Weights'!$B$17:$J$17)*$AA$8))","v":0},{"$f":"IF(ISBLANK(B51),\" \",(LOOKUP(B51,'Component Weights'!$B$16:$J$16,'Component Weights'!$B$17:$J$17)*$AA$9))","v":" "},{"$f":"IF(ISBLANK(H51),\" \",(LOOKUP(H51,'Component Weights'!$B$16:$J$16,'Component Weights'!$B$17:$J$17)*$AA$10))","v":0.24},{"$f":"IF(ISBLANK(I51),\" \",(LOOKUP(I51,'Component Weights'!$B$16:$J$16,'Component Weights'!$B$17:$J$17)*$AA$11))","v":0.08},{"$f":"IF(ISBLANK(J51),\" \",(LOOKUP(J51,'Component Weights'!$B$16:$J$16,'Component Weights'!$B$17:$J$17)*$AA$12))","v":0.24},0.64,49,null,0.64]
["Fiberglass - Single Pane w/Reflective Film",null,"L","N","L","N","N","M","N","M",{"$f":"SUM(IF(ISBLANK(C52),,LOOKUP(C52,'Component Weights'!$B$16:$J$16,'Component Weights'!$B$17:$J$17)),IF(ISBLANK(D52),,LOOKUP(D52,'Component Weights'!$B$16:$J$16,'Component Weights'!$B$17:$J$17)),IF(ISBLANK(E52),,LOOKUP(E52,'Component Weights'!$B$16:$J$16,'Component Weights'!$B$17:$J$17)),IF(ISBLANK(F52),,LOOKUP(F52,'Component Weights'!$B$16:$J$16,'Component Weights'!$B$17:$J$17)),IF(ISBLANK(G52),,LOOKUP(G52,'Component Weights'!$B$16:$J$16,'Component Weights'!$B$17:$J$17)),IF(ISBLANK(B52),,LOOKUP(B52,'Component Weights'!$B$16:$J$16,'Component Weights'!$B$17:$J$17)),IF(ISBLANK(H52),,LOOKUP(H52,'Component Weights'!$B$16:$J$16,'Component Weights'!$B$17:$J$17)),IF(ISBLANK(I52),,LOOKUP(I52,'Component Weights'!$B$16:$J$16,'Component Weights'!$B$17:$J$17)),IF(ISBLANK(J52),,LOOKUP(J52,'Component Weights'!$B$16:$J$16,'Component Weights'!$B$17:$J$17)))","v":6},{"$f":"IF(ISBLANK(C52),\" \",(LOOKUP(C52,'Component Weights'!$B$16:$J$16,'Component Weights'!$B$17:$J$17)*$AA$4))","v":0.08},{"$f":"IF(ISBLANK(D52),\" \",(LOOKUP(D52,'Component Weights'!$B$16:$J$16,'Component Weights'!$B$17:$J$17)*$AA$5))","v":0},{"$f":"IF(ISBLANK(E52),\" \",(LOOKUP(E52,'Component Weights'!$B$16:$J$16,'Component Weights'!$B$17:$J$17)*$AA$6))","v":0.08},{"$f":"IF(ISBLANK(F52),\" \",(LOOKUP(F52,'Component Weights'!$B$16:$J$16,'Component Weights'!$B$17:$J$17)*$AA$7))","v":0},{"$f":"IF(ISBLANK(G52),\" \",(LOOKUP(G52,'Component Weights'!$B$16:$J$16,'Component Weights'!$B$17:$J$17)*$AA$8))","v":0},{"$f":"IF(ISBLANK(B52),\" \",(LOOKUP(B52,'Component Weights'!$B$16:$J$16,'Component Weights'!$B$17:$J$17)*$AA$9))","v":" "},{"$f":"IF(ISBLANK(H52),\" \",(LOOKUP(H52,'Component Weights'!$B$16:$J$16,'Component Weights'!$B$17:$J$17)*$AA$10))","v":0.24},{"$f":"IF(ISBLANK(I52),\" \",(LOOKUP(I52,'Component Weights'!$B$16:$J$16,'Component Weights'!$B$17:$J$17)*$AA$11))","v":0},{"$f":"IF(ISBLANK(J52),\" \",(LOOKUP(J52,'Component Weights'!$B$16:$J$16,'Component Weights'!$B$17:$J$17)*$AA$12))","v":0.24},0.64,49,null,0.64]
["Fiberglass - Triple Pane",null,"L","N","L","N","N","M","N","M",{"$f":"SUM(IF(ISBLANK(C53),,LOOKUP(C53,'Component Weights'!$B$16:$J$16,'Component Weights'!$B$17:$J$17)),IF(ISBLANK(D53),,LOOKUP(D53,'Component Weights'!$B$16:$J$16,'Component Weights'!$B$17:$J$17)),IF(ISBLANK(E53),,LOOKUP(E53,'Component Weights'!$B$16:$J$16,'Component Weights'!$B$17:$J$17)),IF(ISBLANK(F53),,LOOKUP(F53,'Component Weights'!$B$16:$J$16,'Component Weights'!$B$17:$J$17)),IF(ISBLANK(G53),,LOOKUP(G53,'Component Weights'!$B$16:$J$16,'Component Weights'!$B$17:$J$17)),IF(ISBLANK(B53),,LOOKUP(B53,'Component Weights'!$B$16:$J$16,'Component Weights'!$B$17:$J$17)),IF(ISBLANK(H53),,LOOKUP(H53,'Component Weights'!$B$16:$J$16,'Component Weights'!$B$17:$J$17)),IF(ISBLANK(I53),,LOOKUP(I53,'Component Weights'!$B$16:$J$16,'Component Weights'!$B$17:$J$17)),IF(ISBLANK(J53),,LOOKUP(J53,'Component Weights'!$B$16:$J$16,'Component Weights'!$B$17:$J$17)))","v":6},{"$f":"IF(ISBLANK(C53),\" \",(LOOKUP(C53,'Component Weights'!$B$16:$J$16,'Component Weights'!$B$17:$J$17)*$AA$4))","v":0.08},{"$f":"IF(ISBLANK(D53),\" \",(LOOKUP(D53,'Component Weights'!$B$16:$J$16,'Component Weights'!$B$17:$J$17)*$AA$5))","v":0},{"$f":"IF(ISBLANK(E53),\" \",(LOOKUP(E53,'Component Weights'!$B$16:$J$16,'Component Weights'!$B$17:$J$17)*$AA$6))","v":0.08},{"$f":"IF(ISBLANK(F53),\" \",(LOOKUP(F53,'Component Weights'!$B$16:$J$16,'Component Weights'!$B$17:$J$17)*$AA$7))","v":0},{"$f":"IF(ISBLANK(G53),\" \",(LOOKUP(G53,'Component Weights'!$B$16:$J$16,'Component Weights'!$B$17:$J$17)*$AA$8))","v":0},{"$f":"IF(ISBLANK(B53),\" \",(LOOKUP(B53,'Component Weights'!$B$16:$J$16,'Component Weights'!$B$17:$J$17)*$AA$9))","v":" "},{"$f":"IF(ISBLANK(H53),\" \",(LOOKUP(H53,'Component Weights'!$B$16:$J$16,'Component Weights'!$B$17:$J$17)*$AA$10))","v":0.24},{"$f":"IF(ISBLANK(I53),\" \",(LOOKUP(I53,'Component Weights'!$B$16:$J$16,'Component Weights'!$B$17:$J$17)*$AA$11))","v":0},{"$f":"IF(ISBLANK(J53),\" \",(LOOKUP(J53,'Component Weights'!$B$16:$J$16,'Component Weights'!$B$17:$J$17)*$AA$12))","v":0.24},0.64,49,null,0.64]
["Metal - Single Pane w/Reflective Film",null,"L","N","L","N","N","M","N","M",{"$f":"SUM(IF(ISBLANK(C54),,LOOKUP(C54,'Component Weights'!$B$16:$J$16,'Component Weights'!$B$17:$J$17)),IF(ISBLANK(D54),,LOOKUP(D54,'Component Weights'!$B$16:$J$16,'Component Weights'!$B$17:$J$17)),IF(ISBLANK(E54),,LOOKUP(E54,'Component Weights'!$B$16:$J$16,'Component Weights'!$B$17:$J$17)),IF(ISBLANK(F54),,LOOKUP(F54,'Component Weights'!$B$16:$J$16,'Component Weights'!$B$17:$J$17)),IF(ISBLANK(G54),,LOOKUP(G54,'Component Weights'!$B$16:$J$16,'Component Weights'!$B$17:$J$17)),IF(ISBLANK(B54),,LOOKUP(B54,'Component Weights'!$B$16:$J$16,'Component Weights'!$B$17:$J$17)),IF(ISBLANK(H54),,LOOKUP(H54,'Component Weights'!$B$16:$J$16,'Component Weights'!$B$17:$J$17)),IF(ISBLANK(I54),,LOOKUP(I54,'Component Weights'!$B$16:$J$16,'Component Weights'!$B$17:$J$17)),IF(ISBLANK(J54),,LOOKUP(J54,'Component Weights'!$B$16:$J$16,'Component Weights'!$B$17:$J$17)))","v":6},{"$f":"IF(ISBLANK(C54),\" \",(LOOKUP(C54,'Component Weights'!$B$16:$J$16,'Component Weights'!$B$17:$J$17)*$AA$4))","v":0.08},{"$f":"IF(ISBLANK(D54),\" \",(LOOKUP(D54,'Component Weights'!$B$16:$J$16,'Component Weights'!$B$17:$J$17)*$AA$5))","v":0},{"$f":"IF(ISBLANK(E54),\" \",(LOOKUP(E54,'Component Weights'!$B$16:$J$16,'Component Weights'!$B$17:$J$17)*$AA$6))","v":0.08},{"$f":"IF(ISBLANK(F54),\" \",(LOOKUP(F54,'Component Weights'!$B$16:$J$16,'Component Weights'!$B$17:$J$17)*$AA$7))","v":0},{"$f":"IF(ISBLANK(G54),\" \",(LOOKUP(G54,'Component Weights'!$B$16:$J$16,'Component Weights'!$B$17:$J$17)*$AA$8))","v":0},{"$f":"IF(ISBLANK(B54),\" \",(LOOKUP(B54,'Component Weights'!$B$16:$J$16,'Component Weights'!$B$17:$J$17)*$AA$9))","v":" "},{"$f":"IF(ISBLANK(H54),\" \",(LOOKUP(H54,'Component Weights'!$B$16:$J$16,'Component Weights'!$B$17:$J$17)*$AA$10))","v":0.24},{"$f":"IF(ISBLANK(I54),\" \",(LOOKUP(I54,'Component Weights'!$B$16:$J$16,'Component Weights'!$B$17:$J$17)*$AA$11))","v":0},{"$f":"IF(ISBLANK(J54),\" \",(LOOKUP(J54,'Component Weights'!$B$16:$J$16,'Component Weights'!$B$17:$J$17)*$AA$12))","v":0.24},0.64,49,null,0.64]
["Metal - Double Pane",null,"L","N","L","N","N","M","N","M",{"$f":"SUM(IF(ISBLANK(C55),,LOOKUP(C55,'Component Weights'!$B$16:$J$16,'Component Weights'!$B$17:$J$17)),IF(ISBLANK(D55),,LOOKUP(D55,'Component Weights'!$B$16:$J$16,'Component Weights'!$B$17:$J$17)),IF(ISBLANK(E55),,LOOKUP(E55,'Component Weights'!$B$16:$J$16,'Component Weights'!$B$17:$J$17)),IF(ISBLANK(F55),,LOOKUP(F55,'Component Weights'!$B$16:$J$16,'Component Weights'!$B$17:$J$17)),IF(ISBLANK(G55),,LOOKUP(G55,'Component Weights'!$B$16:$J$16,'Component Weights'!$B$17:$J$17)),IF(ISBLANK(B55),,LOOKUP(B55,'Component Weights'!$B$16:$J$16,'Component Weights'!$B$17:$J$17)),IF(ISBLANK(H55),,LOOKUP(H55,'Component Weights'!$B$16:$J$16,'Component Weights'!$B$17:$J$17)),IF(ISBLANK(I55),,LOOKUP(I55,'Component Weights'!$B$16:$J$16,'Component Weights'!$B$17:$J$17)),IF(ISBLANK(J55),,LOOKUP(J55,'Component Weights'!$B$16:$J$16,'Component Weights'!$B$17:$J$17)))","v":6},{"$f":"IF(ISBLANK(C55),\" \",(LOOKUP(C55,'Component Weights'!$B$16:$J$16,'Component Weights'!$B$17:$J$17)*$AA$4))","v":0.08},{"$f":"IF(ISBLANK(D55),\" \",(LOOKUP(D55,'Component Weights'!$B$16:$J$16,'Component Weights'!$B$17:$J$17)*$AA$5))","v":0},{"$f":"IF(ISBLANK(E55),\" \",(LOOKUP(E55,'Component Weights'!$B$16:$J$16,'Component Weights'!$B$17:$J$17)*$AA$6))","v":0.08},{"$f":"IF(ISBLANK(F55),\" \",(LOOKUP(F55,'Component Weights'!$B$16:$J$16,'Component Weights'!$B$17:$J$17)*$AA$7))","v":0},{"$f":"IF(ISBLANK(G55),\" \",(LOOKUP(G55,'Component Weights'!$B$16:$J$16,'Component Weights'!$B$17:$J$17)*$AA$8))","v":0},{"$f":"IF(ISBLANK(B55),\" \",(LOOKUP(B55,'Component Weights'!$B$16:$J$16,'Component Weights'!$B$17:$J$17)*$AA$9))","v":" "},{"$f":"IF(ISBLANK(H55),\" \",(LOOKUP(H55,'Component Weights'!$B$16:$J$16,'Component Weights'!$B$17:$J$17)*$AA$10))","v":0.24},{"$f":"IF(ISBLANK(I55),\" \",(LOOKUP(I55,'Component Weights'!$B$16:$J$16,'Component Weights'!$B$17:$J$17)*$AA$11))","v":0},{"$f":"IF(ISBLANK(J55),\" \",(LOOKUP(J55,'Component Weights'!$B$16:$J$16,'Component Weights'!$B$17:$J$17)*$AA$12))","v":0.24},0.64,49,null,0.64]
["Metal - Triple Pane",null,"L","N","L","N","N","M","N","M",{"$f":"SUM(IF(ISBLANK(C56),,LOOKUP(C56,'Component Weights'!$B$16:$J$16,'Component Weights'!$B$17:$J$17)),IF(ISBLANK(D56),,LOOKUP(D56,'Component Weights'!$B$16:$J$16,'Component Weights'!$B$17:$J$17)),IF(ISBLANK(E56),,LOOKUP(E56,'Component Weights'!$B$16:$J$16,'Component Weights'!$B$17:$J$17)),IF(ISBLANK(F56),,LOOKUP(F56,'Component Weights'!$B$16:$J$16,'Component Weights'!$B$17:$J$17)),IF(ISBLANK(G56),,LOOKUP(G56,'Component Weights'!$B$16:$J$16,'Component Weights'!$B$17:$J$17)),IF(ISBLANK(B56),,LOOKUP(B56,'Component Weights'!$B$16:$J$16,'Component Weights'!$B$17:$J$17)),IF(ISBLANK(H56),,LOOKUP(H56,'Component Weights'!$B$16:$J$16,'Component Weights'!$B$17:$J$17)),IF(ISBLANK(I56),,LOOKUP(I56,'Component Weights'!$B$16:$J$16,'Component Weights'!$B$17:$J$17)),IF(ISBLANK(J56),,LOOKUP(J56,'Component Weights'!$B$16:$J$16,'Component Weights'!$B$17:$J$17)))","v":6},{"$f":"IF(ISBLANK(C56),\" \",(LOOKUP(C56,'Component Weights'!$B$16:$J$16,'Component Weights'!$B$17:$J$17)*$AA$4))","v":0.08},{"$f":"IF(ISBLANK(D56),\" \",(LOOKUP(D56,'Component Weights'!$B$16:$J$16,'Component Weights'!$B$17:$J$17)*$AA$5))","v":0},{"$f":"IF(ISBLANK(E56),\" \",(LOOKUP(E56,'Component Weights'!$B$16:$J$16,'Component Weights'!$B$17:$J$17)*$AA$6))","v":0.08},{"$f":"IF(ISBLANK(F56),\" \",(LOOKUP(F56,'Component Weights'!$B$16:$J$16,'Component Weights'!$B$17:$J$17)*$AA$7))","v":0},{"$f":"IF(ISBLANK(G56),\" \",(LOOKUP(G56,'Component Weights'!$B$16:$J$16,'Component Weights'!$B$17:$J$17)*$AA$8))","v":0},{"$f":"IF(ISBLANK(B56),\" \",(LOOKUP(B56,'Component Weights'!$B$16:$J$16,'Component Weights'!$B$17:$J$17)*$AA$9))","v":" "},{"$f":"IF(ISBLANK(H56),\" \",(LOOKUP(H56,'Component Weights'!$B$16:$J$16,'Component Weights'!$B$17:$J$17)*$AA$10))","v":0.24},{"$f":"IF(ISBLANK(I56),\" \",(LOOKUP(I56,'Component Weights'!$B$16:$J$16,'Component Weights'!$B$17:$J$17)*$AA$11))","v":0},{"$f":"IF(ISBLANK(J56),\" \",(LOOKUP(J56,'Component Weights'!$B$16:$J$16,'Component Weights'!$B$17:$J$17)*$AA$12))","v":0.24},0.64,49,null,0.64]
["Vinyl - Single Pane w/Reflective Film",null,"L","N","N","N","N","M","N","M",{"$f":"SUM(IF(ISBLANK(C57),,LOOKUP(C57,'Component Weights'!$B$16:$J$16,'Component Weights'!$B$17:$J$17)),IF(ISBLANK(D57),,LOOKUP(D57,'Component Weights'!$B$16:$J$16,'Component Weights'!$B$17:$J$17)),IF(ISBLANK(E57),,LOOKUP(E57,'Component Weights'!$B$16:$J$16,'Component Weights'!$B$17:$J$17)),IF(ISBLANK(F57),,LOOKUP(F57,'Component Weights'!$B$16:$J$16,'Component Weights'!$B$17:$J$17)),IF(ISBLANK(G57),,LOOKUP(G57,'Component Weights'!$B$16:$J$16,'Component Weights'!$B$17:$J$17)),IF(ISBLANK(B57),,LOOKUP(B57,'Component Weights'!$B$16:$J$16,'Component Weights'!$B$17:$J$17)),IF(ISBLANK(H57),,LOOKUP(H57,'Component Weights'!$B$16:$J$16,'Component Weights'!$B$17:$J$17)),IF(ISBLANK(I57),,LOOKUP(I57,'Component Weights'!$B$16:$J$16,'Component Weights'!$B$17:$J$17)),IF(ISBLANK(J57),,LOOKUP(J57,'Component Weights'!$B$16:$J$16,'Component Weights'!$B$17:$J$17)))","v":5},{"$f":"IF(ISBLANK(C57),\" \",(LOOKUP(C57,'Component Weights'!$B$16:$J$16,'Component Weights'!$B$17:$J$17)*$AA$4))","v":0.08},{"$f":"IF(ISBLANK(D57),\" \",(LOOKUP(D57,'Component Weights'!$B$16:$J$16,'Component Weights'!$B$17:$J$17)*$AA$5))","v":0},{"$f":"IF(ISBLANK(E57),\" \",(LOOKUP(E57,'Component Weights'!$B$16:$J$16,'Component Weights'!$B$17:$J$17)*$AA$6))","v":0},{"$f":"IF(ISBLANK(F57),\" \",(LOOKUP(F57,'Component Weights'!$B$16:$J$16,'Component Weights'!$B$17:$J$17)*$AA$7))","v":0},{"$f":"IF(ISBLANK(G57),\" \",(LOOKUP(G57,'Component Weights'!$B$16:$J$16,'Component Weights'!$B$17:$J$17)*$AA$8))","v":0},{"$f":"IF(ISBLANK(B57),\" \",(LOOKUP(B57,'Component Weights'!$B$16:$J$16,'Component Weights'!$B$17:$J$17)*$AA$9))","v":" "},{"$f":"IF(ISBLANK(H57),\" \",(LOOKUP(H57,'Component Weights'!$B$16:$J$16,'Component Weights'!$B$17:$J$17)*$AA$10))","v":0.24},{"$f":"IF(ISBLANK(I57),\" \",(LOOKUP(I57,'Component Weights'!$B$16:$J$16,'Component Weights'!$B$17:$J$17)*$AA$11))","v":0},{"$f":"IF(ISBLANK(J57),\" \",(LOOKUP(J57,'Component Weights'!$B$16:$J$16,'Component Weights'!$B$17:$J$17)*$AA$12))","v":0.24},0.56000000000000005,56,null,0.56000000000000005]
["Vinyl - Triple Pane",null,"L","N","N","N","N","M","N","M",{"$f":"SUM(IF(ISBLANK(C58),,LOOKUP(C58,'Component Weights'!$B$16:$J$16,'Component Weights'!$B$17:$J$17)),IF(ISBLANK(D58),,LOOKUP(D58,'Component Weights'!$B$16:$J$16,'Component Weights'!$B$17:$J$17)),IF(ISBLANK(E58),,LOOKUP(E58,'Component Weights'!$B$16:$J$16,'Component Weights'!$B$17:$J$17)),IF(ISBLANK(F58),,LOOKUP(F58,'Component Weights'!$B$16:$J$16,'Component Weights'!$B$17:$J$17)),IF(ISBLANK(G58),,LOOKUP(G58,'Component Weights'!$B$16:$J$16,'Component Weights'!$B$17:$J$17)),IF(ISBLANK(B58),,LOOKUP(B58,'Component Weights'!$B$16:$J$16,'Component Weights'!$B$17:$J$17)),IF(ISBLANK(H58),,LOOKUP(H58,'Component Weights'!$B$16:$J$16,'Component Weights'!$B$17:$J$17)),IF(ISBLANK(I58),,LOOKUP(I58,'Component Weights'!$B$16:$J$16,'Component Weights'!$B$17:$J$17)),IF(ISBLANK(J58),,LOOKUP(J58,'Component Weights'!$B$16:$J$16,'Component Weights'!$B$17:$J$17)))","v":5},{"$f":"IF(ISBLANK(C58),\" \",(LOOKUP(C58,'Component Weights'!$B$16:$J$16,'Component Weights'!$B$17:$J$17)*$AA$4))","v":0.08},{"$f":"IF(ISBLANK(D58),\" \",(LOOKUP(D58,'Component Weights'!$B$16:$J$16,'Component Weights'!$B$17:$J$17)*$AA$5))","v":0},{"$f":"IF(ISBLANK(E58),\" \",(LOOKUP(E58,'Component Weights'!$B$16:$J$16,'Component Weights'!$B$17:$J$17)*$AA$6))","v":0},{"$f":"IF(ISBLANK(F58),\" \",(LOOKUP(F58,'Component Weights'!$B$16:$J$16,'Component Weights'!$B$17:$J$17)*$AA$7))","v":0},{"$f":"IF(ISBLANK(G58),\" \",(LOOKUP(G58,'Component Weights'!$B$16:$J$16,'Component Weights'!$B$17:$J$17)*$AA$8))","v":0},{"$f":"IF(ISBLANK(B58),\" \",(LOOKUP(B58,'Component Weights'!$B$16:$J$16,'Component Weights'!$B$17:$J$17)*$AA$9))","v":" "},{"$f":"IF(ISBLANK(H58),\" \",(LOOKUP(H58,'Component Weights'!$B$16:$J$16,'Component Weights'!$B$17:$J$17)*$AA$10))","v":0.24},{"$f":"IF(ISBLANK(I58),\" \",(LOOKUP(I58,'Component Weights'!$B$16:$J$16,'Component Weights'!$B$17:$J$17)*$AA$11))","v":0},{"$f":"IF(ISBLANK(J58),\" \",(LOOKUP(J58,'Component Weights'!$B$16:$J$16,'Component Weights'!$B$17:$J$17)*$AA$12))","v":0.24},0.56000000000000005,56,null,0.56000000000000005]
["Fiberglass - Single Pane",null,"N","N","L","N","N","M","N","M",{"$f":"SUM(IF(ISBLANK(C59),,LOOKUP(C59,'Component Weights'!$B$16:$J$16,'Component Weights'!$B$17:$J$17)),IF(ISBLANK(D59),,LOOKUP(D59,'Component Weights'!$B$16:$J$16,'Component Weights'!$B$17:$J$17)),IF(ISBLANK(E59),,LOOKUP(E59,'Component Weights'!$B$16:$J$16,'Component Weights'!$B$17:$J$17)),IF(ISBLANK(F59),,LOOKUP(F59,'Component Weights'!$B$16:$J$16,'Component Weights'!$B$17:$J$17)),IF(ISBLANK(G59),,LOOKUP(G59,'Component Weights'!$B$16:$J$16,'Component Weights'!$B$17:$J$17)),IF(ISBLANK(B59),,LOOKUP(B59,'Component Weights'!$B$16:$J$16,'Component Weights'!$B$17:$J$17)),IF(ISBLANK(H59),,LOOKUP(H59,'Component Weights'!$B$16:$J$16,'Component Weights'!$B$17:$J$17)),IF(ISBLANK(I59),,LOOKUP(I59,'Component Weights'!$B$16:$J$16,'Component Weights'!$B$17:$J$17)),IF(ISBLANK(J59),,LOOKUP(J59,'Component Weights'!$B$16:$J$16,'Component Weights'!$B$17:$J$17)))","v":5},{"$f":"IF(ISBLANK(C59),\" \",(LOOKUP(C59,'Component Weights'!$B$16:$J$16,'Component Weights'!$B$17:$J$17)*$AA$4))","v":0},{"$f":"IF(ISBLANK(D59),\" \",(LOOKUP(D59,'Component Weights'!$B$16:$J$16,'Component Weights'!$B$17:$J$17)*$AA$5))","v":0},{"$f":"IF(ISBLANK(E59),\" \",(LOOKUP(E59,'Component Weights'!$B$16:$J$16,'Component Weights'!$B$17:$J$17)*$AA$6))","v":0.08},{"$f":"IF(ISBLANK(F59),\" \",(LOOKUP(F59,'Component Weights'!$B$16:$J$16,'Component Weights'!$B$17:$J$17)*$AA$7))","v":0},{"$f":"IF(ISBLANK(G59),\" \",(LOOKUP(G59,'Component Weights'!$B$16:$J$16,'Component Weights'!$B$17:$J$17)*$AA$8))","v":0},{"$f":"IF(ISBLANK(B59),\" \",(LOOKUP(B59,'Component Weights'!$B$16:$J$16,'Component Weights'!$B$17:$J$17)*$AA$9))","v":" "},{"$f":"IF(ISBLANK(H59),\" \",(LOOKUP(H59,'Component Weights'!$B$16:$J$16,'Component Weights'!$B$17:$J$17)*$AA$10))","v":0.24},{"$f":"IF(ISBLANK(I59),\" \",(LOOKUP(I59,'Component Weights'!$B$16:$J$16,'Component Weights'!$B$17:$J$17)*$AA$11))","v":0},{"$f":"IF(ISBLANK(J59),\" \",(LOOKUP(J59,'Component Weights'!$B$16:$J$16,'Component Weights'!$B$17:$J$17)*$AA$12))","v":0.24},0.56000000000000005,56,null,0.56000000000000005]
["Metal - Single Pane",null,"N","N","L","N","N","M","N","M",{"$f":"SUM(IF(ISBLANK(C60),,LOOKUP(C60,'Component Weights'!$B$16:$J$16,'Component Weights'!$B$17:$J$17)),IF(ISBLANK(D60),,LOOKUP(D60,'Component Weights'!$B$16:$J$16,'Component Weights'!$B$17:$J$17)),IF(ISBLANK(E60),,LOOKUP(E60,'Component Weights'!$B$16:$J$16,'Component Weights'!$B$17:$J$17)),IF(ISBLANK(F60),,LOOKUP(F60,'Component Weights'!$B$16:$J$16,'Component Weights'!$B$17:$J$17)),IF(ISBLANK(G60),,LOOKUP(G60,'Component Weights'!$B$16:$J$16,'Component Weights'!$B$17:$J$17)),IF(ISBLANK(B60),,LOOKUP(B60,'Component Weights'!$B$16:$J$16,'Component Weights'!$B$17:$J$17)),IF(ISBLANK(H60),,LOOKUP(H60,'Component Weights'!$B$16:$J$16,'Component Weights'!$B$17:$J$17)),IF(ISBLANK(I60),,LOOKUP(I60,'Component Weights'!$B$16:$J$16,'Component Weights'!$B$17:$J$17)),IF(ISBLANK(J60),,LOOKUP(J60,'Component Weights'!$B$16:$J$16,'Component Weights'!$B$17:$J$17)))","v":5},{"$f":"IF(ISBLANK(C60),\" \",(LOOKUP(C60,'Component Weights'!$B$16:$J$16,'Component Weights'!$B$17:$J$17)*$AA$4))","v":0},{"$f":"IF(ISBLANK(D60),\" \",(LOOKUP(D60,'Component Weights'!$B$16:$J$16,'Component Weights'!$B$17:$J$17)*$AA$5))","v":0},{"$f":"IF(ISBLANK(E60),\" \",(LOOKUP(E60,'Component Weights'!$B$16:$J$16,'Component Weights'!$B$17:$J$17)*$AA$6))","v":0.08},{"$f":"IF(ISBLANK(F60),\" \",(LOOKUP(F60,'Component Weights'!$B$16:$J$16,'Component Weights'!$B$17:$J$17)*$AA$7))","v":0},{"$f":"IF(ISBLANK(G60),\" \",(LOOKUP(G60,'Component Weights'!$B$16:$J$16,'Component Weights'!$B$17:$J$17)*$AA$8))","v":0},{"$f":"IF(ISBLANK(B60),\" \",(LOOKUP(B60,'Component Weights'!$B$16:$J$16,'Component Weights'!$B$17:$J$17)*$AA$9))","v":" "},{"$f":"IF(ISBLANK(H60),\" \",(LOOKUP(H60,'Component Weights'!$B$16:$J$16,'Component Weights'!$B$17:$J$17)*$AA$10))","v":0.24},{"$f":"IF(ISBLANK(I60),\" \",(LOOKUP(I60,'Component Weights'!$B$16:$J$16,'Component Weights'!$B$17:$J$17)*$AA$11))","v":0},{"$f":"IF(ISBLANK(J60),\" \",(LOOKUP(J60,'Component Weights'!$B$16:$J$16,'Component Weights'!$B$17:$J$17)*$AA$12))","v":0.24},0.56000000000000005,56,null,0.56000000000000005]
["Vinyl - Single Pane",null,"N","N","N","N","N","M","N","M",{"$f":"SUM(IF(ISBLANK(C61),,LOOKUP(C61,'Component Weights'!$B$16:$J$16,'Component Weights'!$B$17:$J$17)),IF(ISBLANK(D61),,LOOKUP(D61,'Component Weights'!$B$16:$J$16,'Component Weights'!$B$17:$J$17)),IF(ISBLANK(E61),,LOOKUP(E61,'Component Weights'!$B$16:$J$16,'Component Weights'!$B$17:$J$17)),IF(ISBLANK(F61),,LOOKUP(F61,'Component Weights'!$B$16:$J$16,'Component Weights'!$B$17:$J$17)),IF(ISBLANK(G61),,LOOKUP(G61,'Component Weights'!$B$16:$J$16,'Component Weights'!$B$17:$J$17)),IF(ISBLANK(B61),,LOOKUP(B61,'Component Weights'!$B$16:$J$16,'Component Weights'!$B$17:$J$17)),IF(ISBLANK(H61),,LOOKUP(H61,'Component Weights'!$B$16:$J$16,'Component Weights'!$B$17:$J$17)),IF(ISBLANK(I61),,LOOKUP(I61,'Component Weights'!$B$16:$J$16,'Component Weights'!$B$17:$J$17)),IF(ISBLANK(J61),,LOOKUP(J61,'Component Weights'!$B$16:$J$16,'Component Weights'!$B$17:$J$17)))","v":4},{"$f":"IF(ISBLANK(C61),\" \",(LOOKUP(C61,'Component Weights'!$B$16:$J$16,'Component Weights'!$B$17:$J$17)*$AA$4))","v":0},{"$f":"IF(ISBLANK(D61),\" \",(LOOKUP(D61,'Component Weights'!$B$16:$J$16,'Component Weights'!$B$17:$J$17)*$AA$5))","v":0},{"$f":"IF(ISBLANK(E61),\" \",(LOOKUP(E61,'Component Weights'!$B$16:$J$16,'Component Weights'!$B$17:$J$17)*$AA$6))","v":0},{"$f":"IF(ISBLANK(F61),\" \",(LOOKUP(F61,'Component Weights'!$B$16:$J$16,'Component Weights'!$B$17:$J$17)*$AA$7))","v":0},{"$f":"IF(ISBLANK(G61),\" \",(LOOKUP(G61,'Component Weights'!$B$16:$J$16,'Component Weights'!$B$17:$J$17)*$AA$8))","v":0},{"$f":"IF(ISBLANK(B61),\" \",(LOOKUP(B61,'Component Weights'!$B$16:$J$16,'Component Weights'!$B$17:$J$17)*$AA$9))","v":" "},{"$f":"IF(ISBLANK(H61),\" \",(LOOKUP(H61,'Component Weights'!$B$16:$J$16,'Component Weights'!$B$17:$J$17)*$AA$10))","v":0.24},{"$f":"IF(ISBLANK(I61),\" \",(LOOKUP(I61,'Component Weights'!$B$16:$J$16,'Component Weights'!$B$17:$J$17)*$AA$11))","v":0},{"$f":"IF(ISBLANK(J61),\" \",(LOOKUP(J61,'Component Weights'!$B$16:$J$16,'Component Weights'!$B$17:$J$17)*$AA$12))","v":0.24},0.48,60,null,0.48]
["(Enter Custom Product Here)",null,null,null,null,null,null,null,null,null,{"$f":"SUM(IF(ISBLANK(C62),,LOOKUP(C62,'Component Weights'!$B$16:$J$16,'Component Weights'!$B$17:$J$17)),IF(ISBLANK(D62),,LOOKUP(D62,'Component Weights'!$B$16:$J$16,'Component Weights'!$B$17:$J$17)),IF(ISBLANK(E62),,LOOKUP(E62,'Component Weights'!$B$16:$J$16,'Component Weights'!$B$17:$J$17)),IF(ISBLANK(F62),,LOOKUP(F62,'Component Weights'!$B$16:$J$16,'Component Weights'!$B$17:$J$17)),IF(ISBLANK(G62),,LOOKUP(G62,'Component Weights'!$B$16:$J$16,'Component Weights'!$B$17:$J$17)),IF(ISBLANK(B62),,LOOKUP(B62,'Component Weights'!$B$16:$J$16,'Component Weights'!$B$17:$J$17)),IF(ISBLANK(H62),,LOOKUP(H62,'Component Weights'!$B$16:$J$16,'Component Weights'!$B$17:$J$17)),IF(ISBLANK(I62),,LOOKUP(I62,'Component Weights'!$B$16:$J$16,'Component Weights'!$B$17:$J$17)),IF(ISBLANK(J62),,LOOKUP(J62,'Component Weights'!$B$16:$J$16,'Component Weights'!$B$17:$J$17)))","v":0},{"$f":"IF(ISBLANK(C62),\" \",(LOOKUP(C62,'Component Weights'!$B$16:$J$16,'Component Weights'!$B$17:$J$17)*$AA$4))","v":" "},{"$f":"IF(ISBLANK(D62),\" \",(LOOKUP(D62,'Component Weights'!$B$16:$J$16,'Component Weights'!$B$17:$J$17)*$AA$5))","v":" "},{"$f":"IF(ISBLANK(E62),\" \",(LOOKUP(E62,'Component Weights'!$B$16:$J$16,'Component Weights'!$B$17:$J$17)*$AA$6))","v":" "},{"$f":"IF(ISBLANK(F62),\" \",(LOOKUP(F62,'Component Weights'!$B$16:$J$16,'Component Weights'!$B$17:$J$17)*$AA$7))","v":" "},{"$f":"IF(ISBLANK(G62),\" \",(LOOKUP(G62,'Component Weights'!$B$16:$J$16,'Component Weights'!$B$17:$J$17)*$AA$8))","v":" "},{"$f":"IF(ISBLANK(B62),\" \",(LOOKUP(B62,'Component Weights'!$B$16:$J$16,'Component Weights'!$B$17:$J$17)*$AA$9))","v":" "},{"$f":"IF(ISBLANK(H62),\" \",(LOOKUP(H62,'Component Weights'!$B$16:$J$16,'Component Weights'!$B$17:$J$17)*$AA$10))","v":" "},{"$f":"IF(ISBLANK(I62),\" \",(LOOKUP(I62,'Component Weights'!$B$16:$J$16,'Component Weights'!$B$17:$J$17)*$AA$11))","v":" "},{"$f":"IF(ISBLANK(J62),\" \",(LOOKUP(J62,'Component Weights'!$B$16:$J$16,'Component Weights'!$B$17:$J$17)*$AA$12))","v":" "},0,99,null,0]
["(Enter Custom Product Here)",null,null,null,null,null,null,null,null,null,{"$f":"SUM(IF(ISBLANK(C63),,LOOKUP(C63,'Component Weights'!$B$16:$J$16,'Component Weights'!$B$17:$J$17)),IF(ISBLANK(D63),,LOOKUP(D63,'Component Weights'!$B$16:$J$16,'Component Weights'!$B$17:$J$17)),IF(ISBLANK(E63),,LOOKUP(E63,'Component Weights'!$B$16:$J$16,'Component Weights'!$B$17:$J$17)),IF(ISBLANK(F63),,LOOKUP(F63,'Component Weights'!$B$16:$J$16,'Component Weights'!$B$17:$J$17)),IF(ISBLANK(G63),,LOOKUP(G63,'Component Weights'!$B$16:$J$16,'Component Weights'!$B$17:$J$17)),IF(ISBLANK(B63),,LOOKUP(B63,'Component Weights'!$B$16:$J$16,'Component Weights'!$B$17:$J$17)),IF(ISBLANK(H63),,LOOKUP(H63,'Component Weights'!$B$16:$J$16,'Component Weights'!$B$17:$J$17)),IF(ISBLANK(I63),,LOOKUP(I63,'Component Weights'!$B$16:$J$16,'Component Weights'!$B$17:$J$17)),IF(ISBLANK(J63),,LOOKUP(J63,'Component Weights'!$B$16:$J$16,'Component Weights'!$B$17:$J$17)))","v":0},{"$f":"IF(ISBLANK(C63),\" \",(LOOKUP(C63,'Component Weights'!$B$16:$J$16,'Component Weights'!$B$17:$J$17)*$AA$4))","v":" "},{"$f":"IF(ISBLANK(D63),\" \",(LOOKUP(D63,'Component Weights'!$B$16:$J$16,'Component Weights'!$B$17:$J$17)*$AA$5))","v":" "},{"$f":"IF(ISBLANK(E63),\" \",(LOOKUP(E63,'Component Weights'!$B$16:$J$16,'Component Weights'!$B$17:$J$17)*$AA$6))","v":" "},{"$f":"IF(ISBLANK(F63),\" \",(LOOKUP(F63,'Component Weights'!$B$16:$J$16,'Component Weights'!$B$17:$J$17)*$AA$7))","v":" "},{"$f":"IF(ISBLANK(G63),\" \",(LOOKUP(G63,'Component Weights'!$B$16:$J$16,'Component Weights'!$B$17:$J$17)*$AA$8))","v":" "},{"$f":"IF(ISBLANK(B63),\" \",(LOOKUP(B63,'Component Weights'!$B$16:$J$16,'Component Weights'!$B$17:$J$17)*$AA$9))","v":" "},{"$f":"IF(ISBLANK(H63),\" \",(LOOKUP(H63,'Component Weights'!$B$16:$J$16,'Component Weights'!$B$17:$J$17)*$AA$10))","v":" "},{"$f":"IF(ISBLANK(I63),\" \",(LOOKUP(I63,'Component Weights'!$B$16:$J$16,'Component Weights'!$B$17:$J$17)*$AA$11))","v":" "},{"$f":"IF(ISBLANK(J63),\" \",(LOOKUP(J63,'Component Weights'!$B$16:$J$16,'Component Weights'!$B$17:$J$17)*$AA$12))","v":" "},0,99,null,{"$f":"U63","v":0}]
["(Enter Custom Product Here)",null,null,null,null,null,null,null,null,null,{"$f":"SUM(IF(ISBLANK(C64),,LOOKUP(C64,'Component Weights'!$B$16:$J$16,'Component Weights'!$B$17:$J$17)),IF(ISBLANK(D64),,LOOKUP(D64,'Component Weights'!$B$16:$J$16,'Component Weights'!$B$17:$J$17)),IF(ISBLANK(E64),,LOOKUP(E64,'Component Weights'!$B$16:$J$16,'Component Weights'!$B$17:$J$17)),IF(ISBLANK(F64),,LOOKUP(F64,'Component Weights'!$B$16:$J$16,'Component Weights'!$B$17:$J$17)),IF(ISBLANK(G64),,LOOKUP(G64,'Component Weights'!$B$16:$J$16,'Component Weights'!$B$17:$J$17)),IF(ISBLANK(B64),,LOOKUP(B64,'Component Weights'!$B$16:$J$16,'Component Weights'!$B$17:$J$17)),IF(ISBLANK(H64),,LOOKUP(H64,'Component Weights'!$B$16:$J$16,'Component Weights'!$B$17:$J$17)),IF(ISBLANK(I64),,LOOKUP(I64,'Component Weights'!$B$16:$J$16,'Component Weights'!$B$17:$J$17)),IF(ISBLANK(J64),,LOOKUP(J64,'Component Weights'!$B$16:$J$16,'Component Weights'!$B$17:$J$17)))","v":0},{"$f":"IF(ISBLANK(C64),\" \",(LOOKUP(C64,'Component Weights'!$B$16:$J$16,'Component Weights'!$B$17:$J$17)*$AA$4))","v":" "},{"$f":"IF(ISBLANK(D64),\" \",(LOOKUP(D64,'Component Weights'!$B$16:$J$16,'Component Weights'!$B$17:$J$17)*$AA$5))","v":" "},{"$f":"IF(ISBLANK(E64),\" \",(LOOKUP(E64,'Component Weights'!$B$16:$J$16,'Component Weights'!$B$17:$J$17)*$AA$6))","v":" "},{"$f":"IF(ISBLANK(F64),\" \",(LOOKUP(F64,'Component Weights'!$B$16:$J$16,'Component Weights'!$B$17:$J$17)*$AA$7))","v":" "},{"$f":"IF(ISBLANK(G64),\" \",(LOOKUP(G64,'Component Weights'!$B$16:$J$16,'Component Weights'!$B$17:$J$17)*$AA$8))","v":" "},{"$f":"IF(ISBLANK(B64),\" \",(LOOKUP(B64,'Component Weights'!$B$16:$J$16,'Component Weights'!$B$17:$J$17)*$AA$9))","v":" "},{"$f":"IF(ISBLANK(H64),\" \",(LOOKUP(H64,'Component Weights'!$B$16:$J$16,'Component Weights'!$B$17:$J$17)*$AA$10))","v":" "},{"$f":"IF(ISBLANK(I64),\" \",(LOOKUP(I64,'Component Weights'!$B$16:$J$16,'Component Weights'!$B$17:$J$17)*$AA$11))","v":" "},{"$f":"IF(ISBLANK(J64),\" \",(LOOKUP(J64,'Component Weights'!$B$16:$J$16,'Component Weights'!$B$17:$J$17)*$AA$12))","v":" "},0,99,null,{"$f":"U64","v":0}]
["(Enter Custom Product Here)",null,null,null,null,null,null,null,null,null,{"$f":"SUM(IF(ISBLANK(C65),,LOOKUP(C65,'Component Weights'!$B$16:$J$16,'Component Weights'!$B$17:$J$17)),IF(ISBLANK(D65),,LOOKUP(D65,'Component Weights'!$B$16:$J$16,'Component Weights'!$B$17:$J$17)),IF(ISBLANK(E65),,LOOKUP(E65,'Component Weights'!$B$16:$J$16,'Component Weights'!$B$17:$J$17)),IF(ISBLANK(F65),,LOOKUP(F65,'Component Weights'!$B$16:$J$16,'Component Weights'!$B$17:$J$17)),IF(ISBLANK(G65),,LOOKUP(G65,'Component Weights'!$B$16:$J$16,'Component Weights'!$B$17:$J$17)),IF(ISBLANK(B65),,LOOKUP(B65,'Component Weights'!$B$16:$J$16,'Component Weights'!$B$17:$J$17)),IF(ISBLANK(H65),,LOOKUP(H65,'Component Weights'!$B$16:$J$16,'Component Weights'!$B$17:$J$17)),IF(ISBLANK(I65),,LOOKUP(I65,'Component Weights'!$B$16:$J$16,'Component Weights'!$B$17:$J$17)),IF(ISBLANK(J65),,LOOKUP(J65,'Component Weights'!$B$16:$J$16,'Component Weights'!$B$17:$J$17)))","v":0},{"$f":"IF(ISBLANK(C65),\" \",(LOOKUP(C65,'Component Weights'!$B$16:$J$16,'Component Weights'!$B$17:$J$17)*$AA$4))","v":" "},{"$f":"IF(ISBLANK(D65),\" \",(LOOKUP(D65,'Component Weights'!$B$16:$J$16,'Component Weights'!$B$17:$J$17)*$AA$5))","v":" "},{"$f":"IF(ISBLANK(E65),\" \",(LOOKUP(E65,'Component Weights'!$B$16:$J$16,'Component Weights'!$B$17:$J$17)*$AA$6))","v":" "},{"$f":"IF(ISBLANK(F65),\" \",(LOOKUP(F65,'Component Weights'!$B$16:$J$16,'Component Weights'!$B$17:$J$17)*$AA$7))","v":" "},{"$f":"IF(ISBLANK(G65),\" \",(LOOKUP(G65,'Component Weights'!$B$16:$J$16,'Component Weights'!$B$17:$J$17)*$AA$8))","v":" "},{"$f":"IF(ISBLANK(B65),\" \",(LOOKUP(B65,'Component Weights'!$B$16:$J$16,'Component Weights'!$B$17:$J$17)*$AA$9))","v":" "},{"$f":"IF(ISBLANK(H65),\" \",(LOOKUP(H65,'Component Weights'!$B$16:$J$16,'Component Weights'!$B$17:$J$17)*$AA$10))","v":" "},{"$f":"IF(ISBLANK(I65),\" \",(LOOKUP(I65,'Component Weights'!$B$16:$J$16,'Component Weights'!$B$17:$J$17)*$AA$11))","v":" "},{"$f":"IF(ISBLANK(J65),\" \",(LOOKUP(J65,'Component Weights'!$B$16:$J$16,'Component Weights'!$B$17:$J$17)*$AA$12))","v":" "},0,99,null,{"$f":"U65","v":0}]
["(Enter Custom Product Here)",null,null,null,null,null,null,null,null,null,{"$f":"SUM(IF(ISBLANK(C66),,LOOKUP(C66,'Component Weights'!$B$16:$J$16,'Component Weights'!$B$17:$J$17)),IF(ISBLANK(D66),,LOOKUP(D66,'Component Weights'!$B$16:$J$16,'Component Weights'!$B$17:$J$17)),IF(ISBLANK(E66),,LOOKUP(E66,'Component Weights'!$B$16:$J$16,'Component Weights'!$B$17:$J$17)),IF(ISBLANK(F66),,LOOKUP(F66,'Component Weights'!$B$16:$J$16,'Component Weights'!$B$17:$J$17)),IF(ISBLANK(G66),,LOOKUP(G66,'Component Weights'!$B$16:$J$16,'Component Weights'!$B$17:$J$17)),IF(ISBLANK(B66),,LOOKUP(B66,'Component Weights'!$B$16:$J$16,'Component Weights'!$B$17:$J$17)),IF(ISBLANK(H66),,LOOKUP(H66,'Component Weights'!$B$16:$J$16,'Component Weights'!$B$17:$J$17)),IF(ISBLANK(I66),,LOOKUP(I66,'Component Weights'!$B$16:$J$16,'Component Weights'!$B$17:$J$17)),IF(ISBLANK(J66),,LOOKUP(J66,'Component Weights'!$B$16:$J$16,'Component Weights'!$B$17:$J$17)))","v":0},{"$f":"IF(ISBLANK(C66),\" \",(LOOKUP(C66,'Component Weights'!$B$16:$J$16,'Component Weights'!$B$17:$J$17)*$AA$4))","v":" "},{"$f":"IF(ISBLANK(D66),\" \",(LOOKUP(D66,'Component Weights'!$B$16:$J$16,'Component Weights'!$B$17:$J$17)*$AA$5))","v":" "},{"$f":"IF(ISBLANK(E66),\" \",(LOOKUP(E66,'Component Weights'!$B$16:$J$16,'Component Weights'!$B$17:$J$17)*$AA$6))","v":" "},{"$f":"IF(ISBLANK(F66),\" \",(LOOKUP(F66,'Component Weights'!$B$16:$J$16,'Component Weights'!$B$17:$J$17)*$AA$7))","v":" "},{"$f":"IF(ISBLANK(G66),\" \",(LOOKUP(G66,'Component Weights'!$B$16:$J$16,'Component Weights'!$B$17:$J$17)*$AA$8))","v":" "},{"$f":"IF(ISBLANK(B66),\" \",(LOOKUP(B66,'Component Weights'!$B$16:$J$16,'Component Weights'!$B$17:$J$17)*$AA$9))","v":" "},{"$f":"IF(ISBLANK(H66),\" \",(LOOKUP(H66,'Component Weights'!$B$16:$J$16,'Component Weights'!$B$17:$J$17)*$AA$10))","v":" "},{"$f":"IF(ISBLANK(I66),\" \",(LOOKUP(I66,'Component Weights'!$B$16:$J$16,'Component Weights'!$B$17:$J$17)*$AA$11))","v":" "},{"$f":"IF(ISBLANK(J66),\" \",(LOOKUP(J66,'Component Weights'!$B$16:$J$16,'Component Weights'!$B$17:$J$17)*$AA$12))","v":" "},{"$f":"SUM(L66:T66)","v":0},99,null,{"$f":"U66","v":0}]
["(Enter Custom Product Here)",null,null,null,null,null,null,null,null,null,{"$f":"SUM(IF(ISBLANK(C67),,LOOKUP(C67,'Component Weights'!$B$16:$J$16,'Component Weights'!$B$17:$J$17)),IF(ISBLANK(D67),,LOOKUP(D67,'Component Weights'!$B$16:$J$16,'Component Weights'!$B$17:$J$17)),IF(ISBLANK(E67),,LOOKUP(E67,'Component Weights'!$B$16:$J$16,'Component Weights'!$B$17:$J$17)),IF(ISBLANK(F67),,LOOKUP(F67,'Component Weights'!$B$16:$J$16,'Component Weights'!$B$17:$J$17)),IF(ISBLANK(G67),,LOOKUP(G67,'Component Weights'!$B$16:$J$16,'Component Weights'!$B$17:$J$17)),IF(ISBLANK(B67),,LOOKUP(B67,'Component Weights'!$B$16:$J$16,'Component Weights'!$B$17:$J$17)),IF(ISBLANK(H67),,LOOKUP(H67,'Component Weights'!$B$16:$J$16,'Component Weights'!$B$17:$J$17)),IF(ISBLANK(I67),,LOOKUP(I67,'Component Weights'!$B$16:$J$16,'Component Weights'!$B$17:$J$17)),IF(ISBLANK(J67),,LOOKUP(J67,'Component Weights'!$B$16:$J$16,'Component Weights'!$B$17:$J$17)))","v":0},{"$f":"IF(ISBLANK(C67),\" \",(LOOKUP(C67,'Component Weights'!$B$16:$J$16,'Component Weights'!$B$17:$J$17)*$AA$4))","v":" "},{"$f":"IF(ISBLANK(D67),\" \",(LOOKUP(D67,'Component Weights'!$B$16:$J$16,'Component Weights'!$B$17:$J$17)*$AA$5))","v":" "},{"$f":"IF(ISBLANK(E67),\" \",(LOOKUP(E67,'Component Weights'!$B$16:$J$16,'Component Weights'!$B$17:$J$17)*$AA$6))","v":" "},{"$f":"IF(ISBLANK(F67),\" \",(LOOKUP(F67,'Component Weights'!$B$16:$J$16,'Component Weights'!$B$17:$J$17)*$AA$7))","v":" "},{"$f":"IF(ISBLANK(G67),\" \",(LOOKUP(G67,'Component Weights'!$B$16:$J$16,'Component Weights'!$B$17:$J$17)*$AA$8))","v":" "},{"$f":"IF(ISBLANK(B67),\" \",(LOOKUP(B67,'Component Weights'!$B$16:$J$16,'Component Weights'!$B$17:$J$17)*$AA$9))","v":" "},{"$f":"IF(ISBLANK(H67),\" \",(LOOKUP(H67,'Component Weights'!$B$16:$J$16,'Component Weights'!$B$17:$J$17)*$AA$10))","v":" "},{"$f":"IF(ISBLANK(I67),\" \",(LOOKUP(I67,'Component Weights'!$B$16:$J$16,'Component Weights'!$B$17:$J$17)*$AA$11))","v":" "},{"$f":"IF(ISBLANK(J67),\" \",(LOOKUP(J67,'Component Weights'!$B$16:$J$16,'Component Weights'!$B$17:$J$17)*$AA$12))","v":" "},{"$f":"SUM(L67:T67)","v":0},99,null,0]
[null,null,null,null,null,null,null,null,null,null,{"$f":"AVERAGE(K$2:K61)","v":9.35},{"$f":"AVERAGE(L$2:L61)","v":0.15866666666666679},{"$f":"AVERAGE(M$2:M61)","v":4.8000000000000015E-2},{"$f":"AVERAGE(N$2:N61)","v":8.0000000000000043E-2},{"$f":"AVERAGE(O$2:O61)","v":0},{"$f":"AVERAGE(P$2:P61)","v":4.0000000000000015E-2},{"$f":"AVERAGE(Q$2:Q61)","v":{"$error":"#DIV/0!"}},{"$f":"AVERAGE(R$2:R61)","v":0.24000000000000019},{"$f":"AVERAGE(S$2:S61)","v":9.3333333333333393E-2},{"$f":"AVERAGE(T$2:T61)","v":0.24000000000000019},{"$f":"AVERAGE(U$2:U61)","v":0.8999999999999998},{"$f":"IF(AND(OR(#REF!=72,#REF!=73,#REF!=74,#REF!=75,#REF!=76),$U68>0),RANK($U68,Y$3:Y$37,0),\" \")","v":{"$error":"#REF!"}}]

{"sheet":"Insulation","index":4,"n_rows":19,"n_cols":29,"rows_kept":19,"cut":false,"hidden":false,"merged":[]}
["Instructions:\nScroll down to see all products.  New products may be added to the end of the list.  Rate the performance of each product as \"N, L, M or H.\" (Hover over the component title for the rating description.)  Use your Backspace button to clear values.  The Sort button (below) will incorporate your priorities as currently stated on the table to the right.  (Scroll to the right to see the table.)\n\n","Available Locally","Incremental Energy Savings","Use of Recycled Content","Low Energy Usage Manufacturing Process","Easily Biodegradable","Made from Natural Materials","Low Emissions Potential","Listed in Other Programs","Non Hazardous as Waste","Total Raw Score","Incremental Energy Savings Weighted Score","Use of Recycled Content Weighted Score","Low Energy Usage Mfg. Process Weighted Score","Easily Biodegradable Weighted Score","Made from Natural Materials Weighted Score","Available Locally Weighted Score","Low Emissions Potential Weighted Score","Listed in Other Programs Weighted Score","Non Hazardous as Waste Weighted Score","Total Weighted Score","Force Ranking",null,"Weighted Score for Force Rank Calculation ",null,"Detailed instructions and options for using this tool are found in the Using the DYO® GBD Kit Decision Matrix Software Section of your DYO® Green Building Decision Kit."]
["Cellulose",null,null,"H","H","H","H","H","H","H",{"$f":"SUM(IF(ISBLANK(C2),,LOOKUP(C2,'Component Weights'!$B$16:$J$16,'Component Weights'!$B$17:$J$17)),IF(ISBLANK(D2),,LOOKUP(D2,'Component Weights'!$B$16:$J$16,'Component Weights'!$B$17:$J$17)),IF(ISBLANK(E2),,LOOKUP(E2,'Component Weights'!$B$16:$J$16,'Component Weights'!$B$17:$J$17)),IF(ISBLANK(F2),,LOOKUP(F2,'Component Weights'!$B$16:$J$16,'Component Weights'!$B$17:$J$17)),IF(ISBLANK(G2),,LOOKUP(G2,'Component Weights'!$B$16:$J$16,'Component Weights'!$B$17:$J$17)),IF(ISBLANK(B2),,LOOKUP(B2,'Component Weights'!$B$16:$J$16,'Component Weights'!$B$17:$J$17)),IF(ISBLANK(H2),,LOOKUP(H2,'Component Weights'!$B$16:$J$16,'Component Weights'!$B$17:$J$17)),IF(ISBLANK(I2),,LOOKUP(I2,'Component Weights'!$B$16:$J$16,'Component Weights'!$B$17:$J$17)),IF(ISBLANK(J2),,LOOKUP(J2,'Component Weights'!$B$16:$J$16,'Component Weights'!$B$17:$J$17)))","v":21},{"$f":"IF(ISBLANK(C2),\" \",(LOOKUP(C2,'Component Weights'!$B$16:$J$16,'Component Weights'!$B$17:$J$17)*$AA$4))","v":" "},{"$f":"IF(ISBLANK(D2),\" \",(LOOKUP(D2,'Component Weights'!$B$16:$J$16,'Component Weights'!$B$17:$J$17)*$AA$5))","v":0.36},{"$f":"IF(ISBLANK(E2),\" \",(LOOKUP(E2,'Component Weights'!$B$16:$J$16,'Component Weights'!$B$17:$J$17)*$AA$6))","v":0.24},{"$f":"IF(ISBLANK(F2),\" \",(LOOKUP(F2,'Component Weights'!$B$16:$J$16,'Component Weights'!$B$17:$J$17)*$AA$7))","v":0.36},{"$f":"IF(ISBLANK(G2),\" \",(LOOKUP(G2,'Component Weights'!$B$16:$J$16,'Component Weights'!$B$17:$J$17)*$AA$8))","v":0.15000000000000002},{"$f":"IF(ISBLANK(B2),\" \",(LOOKUP(B2,'Component Weights'!$B$16:$J$16,'Component Weights'!$B$17:$J$17)*$AA$9))","v":" "},{"$f":"IF(ISBLANK(H2),\" \",(LOOKUP(H2,'Component Weights'!$B$16:$J$16,'Component Weights'!$B$17:$J$17)*$AA$10))","v":0.36},{"$f":"IF(ISBLANK(I2),\" \",(LOOKUP(I2,'Component Weights'!$B$16:$J$16,'Component Weights'!$B$17:$J$17)*$AA$11))","v":0.24},{"$f":"IF(ISBLANK(J2),\" \",(LOOKUP(J2,'Component Weights'!$B$16:$J$16,'Component Weights'!$B$17:$J$17)*$AA$12))","v":0.36},{"$f":"SUM(L2:T2)","v":2.0699999999999998},{"$f":"IF($U2>0,RANK($U2,X$2:X$206,0),99)","v":1},null,{"$f":"U2","v":2.0699999999999998},null,"Component Weights for","Weight"]
["Recycled Denim",null,null,"H","H","L","H","H","M","H",{"$f":"SUM(IF(ISBLANK(C3),,LOOKUP(C3,'Component Weights'!$B$16:$J$16,'Component Weights'!$B$17:$J$17)),IF(ISBLANK(D3),,LOOKUP(D3,'Component Weights'!$B$16:$J$16,'Component Weights'!$B$17:$J$17)),IF(ISBLANK(E3),,LOOKUP(E3,'Component Weights'!$B$16:$J$16,'Component Weights'!$B$17:$J$17)),IF(ISBLANK(F3),,LOOKUP(F3,'Component Weights'!$B$16:$J$16,'Component Weights'!$B$17:$J$17)),IF(ISBLANK(G3),,LOOKUP(G3,'Component Weights'!$B$16:$J$16,'Component Weights'!$B$17:$J$17)),IF(ISBLANK(B3),,LOOKUP(B3,'Component Weights'!$B$16:$J$16,'Component Weights'!$B$17:$J$17)),IF(ISBLANK(H3),,LOOKUP(H3,'Component Weights'!$B$16:$J$16,'Component Weights'!$B$17:$J$17)),IF(ISBLANK(I3),,LOOKUP(I3,'Component Weights'!$B$16:$J$16,'Component Weights'!$B$17:$J$17)),IF(ISBLANK(J3),,LOOKUP(J3,'Component Weights'!$B$16:$J$16,'Component Weights'!$B$17:$J$17)))","v":18},{"$f":"IF(ISBLANK(C3),\" \",(LOOKUP(C3,'Component Weights'!$B$16:$J$16,'Component Weights'!$B$17:$J$17)*$AA$4))","v":" "},{"$f":"IF(ISBLANK(D3),\" \",(LOOKUP(D3,'Component Weights'!$B$16:$J$16,'Component Weights'!$B$17:$J$17)*$AA$5))","v":0.36},{"$f":"IF(ISBLANK(E3),\" \",(LOOKUP(E3,'Component Weights'!$B$16:$J$16,'Component Weights'!$B$17:$J$17)*$AA$6))","v":0.24},{"$f":"IF(ISBLANK(F3),\" \",(LOOKUP(F3,'Component Weights'!$B$16:$J$16,'Component Weights'!$B$17:$J$17)*$AA$7))","v":0.12},{"$f":"IF(ISBLANK(G3),\" \",(LOOKUP(G3,'Component Weights'!$B$16:$J$16,'Component Weights'!$B$17:$J$17)*$AA$8))","v":0.15000000000000002},{"$f":"IF(ISBLANK(B3),\" \",(LOOKUP(B3,'Component Weights'!$B$16:$J$16,'Component Weights'!$B$17:$J$17)*$AA$9))","v":" "},{"$f":"IF(ISBLANK(H3),\" \",(LOOKUP(H3,'Component Weights'!$B$16:$J$16,'Component Weights'!$B$17:$J$17)*$AA$10))","v":0.36},{"$f":"IF(ISBLANK(I3),\" \",(LOOKUP(I3,'Component Weights'!$B$16:$J$16,'Component Weights'!$B$17:$J$17)*$AA$11))","v":0.16},{"$f":"IF(ISBLANK(J3),\" \",(LOOKUP(J3,'Component Weights'!$B$16:$J$16,'Component Weights'!$B$17:$J$17)*$AA$12))","v":0.36},1.75,2,null,1.75,null,"Insulation"]
["Cotton ",null,null,"N","H","L","H","H","M","H",{"$f":"SUM(IF(ISBLANK(C4),,LOOKUP(C4,'Component Weights'!$B$16:$J$16,'Component Weights'!$B$17:$J$17)),IF(ISBLANK(D4),,LOOKUP(D4,'Component Weights'!$B$16:$J$16,'Component Weights'!$B$17:$J$17)),IF(ISBLANK(E4),,LOOKUP(E4,'Component Weights'!$B$16:$J$16,'Component Weights'!$B$17:$J$17)),IF(ISBLANK(F4),,LOOKUP(F4,'Component Weights'!$B$16:$J$16,'Component Weights'!$B$17:$J$17)),IF(ISBLANK(G4),,LOOKUP(G4,'Component Weights'!$B$16:$J$16,'Component Weights'!$B$17:$J$17)),IF(ISBLANK(B4),,LOOKUP(B4,'Component Weights'!$B$16:$J$16,'Component Weights'!$B$17:$J$17)),IF(ISBLANK(H4),,LOOKUP(H4,'Component Weights'!$B$16:$J$16,'Component Weights'!$B$17:$J$17)),IF(ISBLANK(I4),,LOOKUP(I4,'Component Weights'!$B$16:$J$16,'Component Weights'!$B$17:$J$17)),IF(ISBLANK(J4),,LOOKUP(J4,'Component Weights'!$B$16:$J$16,'Component Weights'!$B$17:$J$17)))","v":15},{"$f":"IF(ISBLANK(C4),\" \",(LOOKUP(C4,'Component Weights'!$B$16:$J$16,'Component Weights'!$B$17:$J$17)*$AA$4))","v":" "},{"$f":"IF(ISBLANK(D4),\" \",(LOOKUP(D4,'Component Weights'!$B$16:$J$16,'Component Weights'!$B$17:$J$17)*$AA$5))","v":0},{"$f":"IF(ISBLANK(E4),\" \",(LOOKUP(E4,'Component Weights'!$B$16:$J$16,'Component Weights'!$B$17:$J$17)*$AA$6))","v":0.24},{"$f":"IF(ISBLANK(F4),\" \",(LOOKUP(F4,'Component Weights'!$B$16:$J$16,'Component Weights'!$B$17:$J$17)*$AA$7))","v":0.12},{"$f":"IF(ISBLANK(G4),\" \",(LOOKUP(G4,'Component Weights'!$B$16:$J$16,'Component Weights'!$B$17:$J$17)*$AA$8))","v":0.15000000000000002},{"$f":"IF(ISBLANK(B4),\" \",(LOOKUP(B4,'Component Weights'!$B$16:$J$16,'Component Weights'!$B$17:$J$17)*$AA$9))","v":" "},{"$f":"IF(ISBLANK(H4),\" \",(LOOKUP(H4,'Component Weights'!$B$16:$J$16,'Component Weights'!$B$17:$J$17)*$AA$10))","v":0.36},{"$f":"IF(ISBLANK(I4),\" \",(LOOKUP(I4,'Component Weights'!$B$16:$J$16,'Component Weights'!$B$17:$J$17)*$AA$11))","v":0.16},{"$f":"IF(ISBLANK(J4),\" \",(LOOKUP(J4,'Component Weights'!$B$16:$J$16,'Component Weights'!$B$17:$J$17)*$AA$12))","v":0.36},1.3900000000000001,3,null,1.3900000000000001,null,"Incremental Energy Savings",0.08,"M","The amount of incremental energy, expressed in Btu/Hr, that a product saves or generates for the structure."]
["Soy Foam",null,null,"L","L","L","L","H","H","H",{"$f":"SUM(IF(ISBLANK(C5),,LOOKUP(C5,'Component Weights'!$B$16:$J$16,'Component Weights'!$B$17:$J$17)),IF(ISBLANK(D5),,LOOKUP(D5,'Component Weights'!$B$16:$J$16,'Component Weights'!$B$17:$J$17)),IF(ISBLANK(E5),,LOOKUP(E5,'Component Weights'!$B$16:$J$16,'Component Weights'!$B$17:$J$17)),IF(ISBLANK(F5),,LOOKUP(F5,'Component Weights'!$B$16:$J$16,'Component Weights'!$B$17:$J$17)),IF(ISBLANK(G5),,LOOKUP(G5,'Component Weights'!$B$16:$J$16,'Component Weights'!$B$17:$J$17)),IF(ISBLANK(B5),,LOOKUP(B5,'Component Weights'!$B$16:$J$16,'Component Weights'!$B$17:$J$17)),IF(ISBLANK(H5),,LOOKUP(H5,'Component Weights'!$B$16:$J$16,'Component Weights'!$B$17:$J$17)),IF(ISBLANK(I5),,LOOKUP(I5,'Component Weights'!$B$16:$J$16,'Component Weights'!$B$17:$J$17)),IF(ISBLANK(J5),,LOOKUP(J5,'Component Weights'!$B$16:$J$16,'Component Weights'!$B$17:$J$17)))","v":13},{"$f":"IF(ISBLANK(C5),\" \",(LOOKUP(C5,'Component Weights'!$B$16:$J$16,'Component Weights'!$B$17:$J$17)*$AA$4))","v":" "},{"$f":"IF(ISBLANK(D5),\" \",(LOOKUP(D5,'Component Weights'!$B$16:$J$16,'Component Weights'!$B$17:$J$17)*$AA$5))","v":0.12},{"$f":"IF(ISBLANK(E5),\" \",(LOOKUP(E5,'Component Weights'!$B$16:$J$16,'Component Weights'!$B$17:$J$17)*$AA$6))","v":0.08},{"$f":"IF(ISBLANK(F5),\" \",(LOOKUP(F5,'Component Weights'!$B$16:$J$16,'Component Weights'!$B$17:$J$17)*$AA$7))","v":0.12},{"$f":"IF(ISBLANK(G5),\" \",(LOOKUP(G5,'Component Weights'!$B$16:$J$16,'Component Weights'!$B$17:$J$17)*$AA$8))","v":0.05},{"$f":"IF(ISBLANK(B5),\" \",(LOOKUP(B5,'Component Weights'!$B$16:$J$16,'Component Weights'!$B$17:$J$17)*$AA$9))","v":" "},{"$f":"IF(ISBLANK(H5),\" \",(LOOKUP(H5,'Component Weights'!$B$16:$J$16,'Component Weights'!$B$17:$J$17)*$AA$10))","v":0.36},{"$f":"IF(ISBLANK(I5),\" \",(LOOKUP(I5,'Component Weights'!$B$16:$J$16,'Component Weights'!$B$17:$J$17)*$AA$11))","v":0.24},{"$f":"IF(ISBLANK(J5),\" \",(LOOKUP(J5,'Component Weights'!$B$16:$J$16,'Component Weights'!$B$17:$J$17)*$AA$12))","v":0.36},1.33,4,null,1.33,null,"Use of Recycled Content",0.12,"H","The amount of recycled content, expressed as a percentage, found in a product."]
["Vermiculite",null,null,"N","H","L","H","H","N","H",{"$f":"SUM(IF(ISBLANK(C6),,LOOKUP(C6,'Component Weights'!$B$16:$J$16,'Component Weights'!$B$17:$J$17)),IF(ISBLANK(D6),,LOOKUP(D6,'Component Weights'!$B$16:$J$16,'Component Weights'!$B$17:$J$17)),IF(ISBLANK(E6),,LOOKUP(E6,'Component Weights'!$B$16:$J$16,'Component Weights'!$B$17:$J$17)),IF(ISBLANK(F6),,LOOKUP(F6,'Component Weights'!$B$16:$J$16,'Component Weights'!$B$17:$J$17)),IF(ISBLANK(G6),,LOOKUP(G6,'Component Weights'!$B$16:$J$16,'Component Weights'!$B$17:$J$17)),IF(ISBLANK(B6),,LOOKUP(B6,'Component Weights'!$B$16:$J$16,'Component Weights'!$B$17:$J$17)),IF(ISBLANK(H6),,LOOKUP(H6,'Component Weights'!$B$16:$J$16,'Component Weights'!$B$17:$J$17)),IF(ISBLANK(I6),,LOOKUP(I6,'Component Weights'!$B$16:$J$16,'Component Weights'!$B$17:$J$17)),IF(ISBLANK(J6),,LOOKUP(J6,'Component Weights'!$B$16:$J$16,'Component Weights'!$B$17:$J$17)))","v":13},{"$f":"IF(ISBLANK(C6),\" \",(LOOKUP(C6,'Component Weights'!$B$16:$J$16,'Component Weights'!$B$17:$J$17)*$AA$4))","v":" "},{"$f":"IF(ISBLANK(D6),\" \",(LOOKUP(D6,'Component Weights'!$B$16:$J$16,'Component Weights'!$B$17:$J$17)*$AA$5))","v":0},{"$f":"IF(ISBLANK(E6),\" \",(LOOKUP(E6,'Component Weights'!$B$16:$J$16,'Component Weights'!$B$17:$J$17)*$AA$6))","v":0.24},{"$f":"IF(ISBLANK(F6),\" \",(LOOKUP(F6,'Component Weights'!$B$16:$J$16,'Component Weights'!$B$17:$J$17)*$AA$7))","v":0.12},{"$f":"IF(ISBLANK(G6),\" \",(LOOKUP(G6,'Component Weights'!$B$16:$J$16,'Component Weights'!$B$17:$J$17)*$AA$8))","v":0.15000000000000002},{"$f":"IF(ISBLANK(B6),\" \",(LOOKUP(B6,'Component Weights'!$B$16:$J$16,'Component Weights'!$B$17:$J$17)*$AA$9))","v":" "},{"$f":"IF(ISBLANK(H6),\" \",(LOOKUP(H6,'Component Weights'!$B$16:$J$16,'Component Weights'!$B$17:$J$17)*$AA$10))","v":0.36},{"$f":"IF(ISBLANK(I6),\" \",(LOOKUP(I6,'Component Weights'!$B$16:$J$16,'Component Weights'!$B$17:$J$17)*$AA$11))","v":0},{"$f":"IF(ISBLANK(J6),\" \",(LOOKUP(J6,'Component Weights'!$B$16:$J$16,'Component Weights'!$B$17:$J$17)*$AA$12))","v":0.36},1.23,5,null,1.23,null,"Low Energy Usage Manufacturing Process",0.08,"M","The amount of energy used in manufacture of the product."]
["Perlite",null,null,"N","H","L","H","H","N","H",{"$f":"SUM(IF(ISBLANK(C7),,LOOKUP(C7,'Component Weights'!$B$16:$J$16,'Component Weights'!$B$17:$J$17)),IF(ISBLANK(D7),,LOOKUP(D7,'Component Weights'!$B$16:$J$16,'Component Weights'!$B$17:$J$17)),IF(ISBLANK(E7),,LOOKUP(E7,'Component Weights'!$B$16:$J$16,'Component Weights'!$B$17:$J$17)),IF(ISBLANK(F7),,LOOKUP(F7,'Component Weights'!$B$16:$J$16,'Component Weights'!$B$17:$J$17)),IF(ISBLANK(G7),,LOOKUP(G7,'Component Weights'!$B$16:$J$16,'Component Weights'!$B$17:$J$17)),IF(ISBLANK(B7),,LOOKUP(B7,'Component Weights'!$B$16:$J$16,'Component Weights'!$B$17:$J$17)),IF(ISBLANK(H7),,LOOKUP(H7,'Component Weights'!$B$16:$J$16,'Component Weights'!$B$17:$J$17)),IF(ISBLANK(I7),,LOOKUP(I7,'Component Weights'!$B$16:$J$16,'Component Weights'!$B$17:$J$17)),IF(ISBLANK(J7),,LOOKUP(J7,'Component Weights'!$B$16:$J$16,'Component Weights'!$B$17:$J$17)))","v":13},{"$f":"IF(ISBLANK(C7),\" \",(LOOKUP(C7,'Component Weights'!$B$16:$J$16,'Component Weights'!$B$17:$J$17)*$AA$4))","v":" "},{"$f":"IF(ISBLANK(D7),\" \",(LOOKUP(D7,'Component Weights'!$B$16:$J$16,'Component Weights'!$B$17:$J$17)*$AA$5))","v":0},{"$f":"IF(ISBLANK(E7),\" \",(LOOKUP(E7,'Component Weights'!$B$16:$J$16,'Component Weights'!$B$17:$J$17)*$AA$6))","v":0.24},{"$f":"IF(ISBLANK(F7),\" \",(LOOKUP(F7,'Component Weights'!$B$16:$J$16,'Component Weights'!$B$17:$J$17)*$AA$7))","v":0.12},{"$f":"IF(ISBLANK(G7),\" \",(LOOKUP(G7,'Component Weights'!$B$16:$J$16,'Component Weights'!$B$17:$J$17)*$AA$8))","v":0.15000000000000002},{"$f":"IF(ISBLANK(B7),\" \",(LOOKUP(B7,'Component Weights'!$B$16:$J$16,'Component Weights'!$B$17:$J$17)*$AA$9))","v":" "},{"$f":"IF(ISBLANK(H7),\" \",(LOOKUP(H7,'Component Weights'!$B$16:$J$16,'Component Weights'!$B$17:$J$17)*$AA$10))","v":0.36},{"$f":"IF(ISBLANK(I7),\" \",(LOOKUP(I7,'Component Weights'!$B$16:$J$16,'Component Weights'!$B$17:$J$17)*$AA$11))","v":0},{"$f":"IF(ISBLANK(J7),\" \",(LOOKUP(J7,'Component Weights'!$B$16:$J$16,'Component Weights'!$B$17:$J$17)*$AA$12))","v":0.36},1.23,5,null,1.23,null,"Easily Biodegradable",0.12,"H","The amount of time it will take the product to degrade once its useful life is over."]
["Open Cell Foam",null,null,"N","L","L","L","H","H","H",{"$f":"SUM(IF(ISBLANK(C8),,LOOKUP(C8,'Component Weights'!$B$16:$J$16,'Component Weights'!$B$17:$J$17)),IF(ISBLANK(D8),,LOOKUP(D8,'Component Weights'!$B$16:$J$16,'Component Weights'!$B$17:$J$17)),IF(ISBLANK(E8),,LOOKUP(E8,'Component Weights'!$B$16:$J$16,'Component Weights'!$B$17:$J$17)),IF(ISBLANK(F8),,LOOKUP(F8,'Component Weights'!$B$16:$J$16,'Component Weights'!$B$17:$J$17)),IF(ISBLANK(G8),,LOOKUP(G8,'Component Weights'!$B$16:$J$16,'Component Weights'!$B$17:$J$17)),IF(ISBLANK(B8),,LOOKUP(B8,'Component Weights'!$B$16:$J$16,'Component Weights'!$B$17:$J$17)),IF(ISBLANK(H8),,LOOKUP(H8,'Component Weights'!$B$16:$J$16,'Component Weights'!$B$17:$J$17)),IF(ISBLANK(I8),,LOOKUP(I8,'Component Weights'!$B$16:$J$16,'Component Weights'!$B$17:$J$17)),IF(ISBLANK(J8),,LOOKUP(J8,'Component Weights'!$B$16:$J$16,'Component Weights'!$B$17:$J$17)))","v":12},{"$f":"IF(ISBLANK(C8),\" \",(LOOKUP(C8,'Component Weights'!$B$16:$J$16,'Component Weights'!$B$17:$J$17)*$AA$4))","v":" "},{"$f":"IF(ISBLANK(D8),\" \",(LOOKUP(D8,'Component Weights'!$B$16:$J$16,'Component Weights'!$B$17:$J$17)*$AA$5))","v":0},{"$f":"IF(ISBLANK(E8),\" \",(LOOKUP(E8,'Component Weights'!$B$16:$J$16,'Component Weights'!$B$17:$J$17)*$AA$6))","v":0.08},{"$f":"IF(ISBLANK(F8),\" \",(LOOKUP(F8,'Component Weights'!$B$16:$J$16,'Component Weights'!$B$17:$J$17)*$AA$7))","v":0.12},{"$f":"IF(ISBLANK(G8),\" \",(LOOKUP(G8,'Component Weights'!$B$16:$J$16,'Component Weights'!$B$17:$J$17)*$AA$8))","v":0.05},{"$f":"IF(ISBLANK(B8),\" \",(LOOKUP(B8,'Component Weights'!$B$16:$J$16,'Component Weights'!$B$17:$J$17)*$AA$9))","v":" "},{"$f":"IF(ISBLANK(H8),\" \",(LOOKUP(H8,'Component Weights'!$B$16:$J$16,'Component Weights'!$B$17:$J$17)*$AA$10))","v":0.36},{"$f":"IF(ISBLANK(I8),\" \",(LOOKUP(I8,'Component Weights'!$B$16:$J$16,'Component Weights'!$B$17:$J$17)*$AA$11))","v":0.24},{"$f":"IF(ISBLANK(J8),\" \",(LOOKUP(J8,'Component Weights'!$B$16:$J$16,'Component Weights'!$B$17:$J$17)*$AA$12))","v":0.36},1.21,7,null,1.21,null,"Made from Natural Materials",0.05,"L","The amount, expressed as a percentage, of natural (not man-made) materials used to make the product."]
["Whipped Concrete",null,null,"N","L","L","M","H","L","H",{"$f":"SUM(IF(ISBLANK(C9),,LOOKUP(C9,'Component Weights'!$B$16:$J$16,'Component Weights'!$B$17:$J$17)),IF(ISBLANK(D9),,LOOKUP(D9,'Component Weights'!$B$16:$J$16,'Component Weights'!$B$17:$J$17)),IF(ISBLANK(E9),,LOOKUP(E9,'Component Weights'!$B$16:$J$16,'Component Weights'!$B$17:$J$17)),IF(ISBLANK(F9),,LOOKUP(F9,'Component Weights'!$B$16:$J$16,'Component Weights'!$B$17:$J$17)),IF(ISBLANK(G9),,LOOKUP(G9,'Component Weights'!$B$16:$J$16,'Component Weights'!$B$17:$J$17)),IF(ISBLANK(B9),,LOOKUP(B9,'Component Weights'!$B$16:$J$16,'Component Weights'!$B$17:$J$17)),IF(ISBLANK(H9),,LOOKUP(H9,'Component Weights'!$B$16:$J$16,'Component Weights'!$B$17:$J$17)),IF(ISBLANK(I9),,LOOKUP(I9,'Component Weights'!$B$16:$J$16,'Component Weights'!$B$17:$J$17)),IF(ISBLANK(J9),,LOOKUP(J9,'Component Weights'!$B$16:$J$16,'Component Weights'!$B$17:$J$17)))","v":11},{"$f":"IF(ISBLANK(C9),\" \",(LOOKUP(C9,'Component Weights'!$B$16:$J$16,'Component Weights'!$B$17:$J$17)*$AA$4))","v":" "},{"$f":"IF(ISBLANK(D9),\" \",(LOOKUP(D9,'Component Weights'!$B$16:$J$16,'Component Weights'!$B$17:$J$17)*$AA$5))","v":0},{"$f":"IF(ISBLANK(E9),\" \",(LOOKUP(E9,'Component Weights'!$B$16:$J$16,'Component Weights'!$B$17:$J$17)*$AA$6))","v":0.08},{"$f":"IF(ISBLANK(F9),\" \",(LOOKUP(F9,'Component Weights'!$B$16:$J$16,'Component Weights'!$B$17:$J$17)*$AA$7))","v":0.12},{"$f":"IF(ISBLANK(G9),\" \",(LOOKUP(G9,'Component Weights'!$B$16:$J$16,'Component Weights'!$B$17:$J$17)*$AA$8))","v":0.1},{"$f":"IF(ISBLANK(B9),\" \",(LOOKUP(B9,'Component Weights'!$B$16:$J$16,'Component Weights'!$B$17:$J$17)*$AA$9))","v":" "},{"$f":"IF(ISBLANK(H9),\" \",(LOOKUP(H9,'Component Weights'!$B$16:$J$16,'Component Weights'!$B$17:$J$17)*$AA$10))","v":0.36},{"$f":"IF(ISBLANK(I9),\" \",(LOOKUP(I9,'Component Weights'!$B$16:$J$16,'Component Weights'!$B$17:$J$17)*$AA$11))","v":0.08},{"$f":"IF(ISBLANK(J9),\" \",(LOOKUP(J9,'Component Weights'!$B$16:$J$16,'Component Weights'!$B$17:$J$17)*$AA$12))","v":0.36},1.1000000000000001,8,null,1.1000000000000001,null,"Available Locally",0.23,"H+","The distance in miles that the product must travel to the destination of final use."]
["Castor Bean Foam",null,null,"L","L","L","L","M","L","H",{"$f":"SUM(IF(ISBLANK(C10),,LOOKUP(C10,'Component Weights'!$B$16:$J$16,'Component Weights'!$B$17:$J$17)),IF(ISBLANK(D10),,LOOKUP(D10,'Component Weights'!$B$16:$J$16,'Component Weights'!$B$17:$J$17)),IF(ISBLANK(E10),,LOOKUP(E10,'Component Weights'!$B$16:$J$16,'Component Weights'!$B$17:$J$17)),IF(ISBLANK(F10),,LOOKUP(F10,'Component Weights'!$B$16:$J$16,'Component Weights'!$B$17:$J$17)),IF(ISBLANK(G10),,LOOKUP(G10,'Component Weights'!$B$16:$J$16,'Component Weights'!$B$17:$J$17)),IF(ISBLANK(B10),,LOOKUP(B10,'Component Weights'!$B$16:$J$16,'Component Weights'!$B$17:$J$17)),IF(ISBLANK(H10),,LOOKUP(H10,'Component Weights'!$B$16:$J$16,'Component Weights'!$B$17:$J$17)),IF(ISBLANK(I10),,LOOKUP(I10,'Component Weights'!$B$16:$J$16,'Component Weights'!$B$17:$J$17)),IF(ISBLANK(J10),,LOOKUP(J10,'Component Weights'!$B$16:$J$16,'Component Weights'!$B$17:$J$17)))","v":10},{"$f":"IF(ISBLANK(C10),\" \",(LOOKUP(C10,'Component Weights'!$B$16:$J$16,'Component Weights'!$B$17:$J$17)*$AA$4))","v":" "},{"$f":"IF(ISBLANK(D10),\" \",(LOOKUP(D10,'Component Weights'!$B$16:$J$16,'Component Weights'!$B$17:$J$17)*$AA$5))","v":0.12},{"$f":"IF(ISBLANK(E10),\" \",(LOOKUP(E10,'Component Weights'!$B$16:$J$16,'Component Weights'!$B$17:$J$17)*$AA$6))","v":0.08},{"$f":"IF(ISBLANK(F10),\" \",(LOOKUP(F10,'Component Weights'!$B$16:$J$16,'Component Weights'!$B$17:$J$17)*$AA$7))","v":0.12},{"$f":"IF(ISBLANK(G10),\" \",(LOOKUP(G10,'Component Weights'!$B$16:$J$16,'Component Weights'!$B$17:$J$17)*$AA$8))","v":0.05},{"$f":"IF(ISBLANK(B10),\" \",(LOOKUP(B10,'Component Weights'!$B$16:$J$16,'Component Weights'!$B$17:$J$17)*$AA$9))","v":" "},{"$f":"IF(ISBLANK(H10),\" \",(LOOKUP(H10,'Component Weights'!$B$16:$J$16,'Component Weights'!$B$17:$J$17)*$AA$10))","v":0.24},{"$f":"IF(ISBLANK(I10),\" \",(LOOKUP(I10,'Component Weights'!$B$16:$J$16,'Component Weights'!$B$17:$J$17)*$AA$11))","v":0.08},{"$f":"IF(ISBLANK(J10),\" \",(LOOKUP(J10,'Component Weights'!$B$16:$J$16,'Component Weights'!$B$17:$J$17)*$AA$12))","v":0.36},1.0499999999999998,9,null,1.0499999999999998,null,"Low Emissions Potential",0.12,"H","The amount of time it will take the product to stop outgassing."]
["Fiberglass",null,null,"L","L","N","H","M","M","M",{"$f":"SUM(IF(ISBLANK(C11),,LOOKUP(C11,'Component Weights'!$B$16:$J$16,'Component Weights'!$B$17:$J$17)),IF(ISBLANK(D11),,LOOKUP(D11,'Component Weights'!$B$16:$J$16,'Component Weights'!$B$17:$J$17)),IF(ISBLANK(E11),,LOOKUP(E11,'Component Weights'!$B$16:$J$16,'Component Weights'!$B$17:$J$17)),IF(ISBLANK(F11),,LOOKUP(F11,'Component Weights'!$B$16:$J$16,'Component Weights'!$B$17:$J$17)),IF(ISBLANK(G11),,LOOKUP(G11,'Component Weights'!$B$16:$J$16,'Component Weights'!$B$17:$J$17)),IF(ISBLANK(B11),,LOOKUP(B11,'Component Weights'!$B$16:$J$16,'Component Weights'!$B$17:$J$17)),IF(ISBLANK(H11),,LOOKUP(H11,'Component Weights'!$B$16:$J$16,'Component Weights'!$B$17:$J$17)),IF(ISBLANK(I11),,LOOKUP(I11,'Component Weights'!$B$16:$J$16,'Component Weights'!$B$17:$J$17)),IF(ISBLANK(J11),,LOOKUP(J11,'Component Weights'!$B$16:$J$16,'Component Weights'!$B$17:$J$17)))","v":11},{"$f":"IF(ISBLANK(C11),\" \",(LOOKUP(C11,'Component Weights'!$B$16:$J$16,'Component Weights'!$B$17:$J$17)*$AA$4))","v":" "},{"$f":"IF(ISBLANK(D11),\" \",(LOOKUP(D11,'Component Weights'!$B$16:$J$16,'Component Weights'!$B$17:$J$17)*$AA$5))","v":0.12},{"$f":"IF(ISBLANK(E11),\" \",(LOOKUP(E11,'Component Weights'!$B$16:$J$16,'Component Weights'!$B$17:$J$17)*$AA$6))","v":0.08},{"$f":"IF(ISBLANK(F11),\" \",(LOOKUP(F11,'Component Weights'!$B$16:$J$16,'Component Weights'!$B$17:$J$17)*$AA$7))","v":0},{"$f":"IF(ISBLANK(G11),\" \",(LOOKUP(G11,'Component Weights'!$B$16:$J$16,'Component Weights'!$B$17:$J$17)*$AA$8))","v":0.15000000000000002},{"$f":"IF(ISBLANK(B11),\" \",(LOOKUP(B11,'Component Weights'!$B$16:$J$16,'Component Weights'!$B$17:$J$17)*$AA$9))","v":" "},{"$f":"IF(ISBLANK(H11),\" \",(LOOKUP(H11,'Component Weights'!$B$16:$J$16,'Component Weights'!$B$17:$J$17)*$AA$10))","v":0.24},{"$f":"IF(ISBLANK(I11),\" \",(LOOKUP(I11,'Component Weights'!$B$16:$J$16,'Component Weights'!$B$17:$J$17)*$AA$11))","v":0.16},{"$f":"IF(ISBLANK(J11),\" \",(LOOKUP(J11,'Component Weights'!$B$16:$J$16,'Component Weights'!$B$17:$J$17)*$AA$12))","v":0.24},0.9900000000000001,10,null,0.9900000000000001,null,"Listed in Other Programs (e.g. EnergyStar)",0.08,"M","The level of product recommendation in recognized energy and environmental programs."]
["Mineral/Rock/Slag Wool",null,null,"L","L","L","L","N","N","M",{"$f":"SUM(IF(ISBLANK(C12),,LOOKUP(C12,'Component Weights'!$B$16:$J$16,'Component Weights'!$B$17:$J$17)),IF(ISBLANK(D12),,LOOKUP(D12,'Component Weights'!$B$16:$J$16,'Component Weights'!$B$17:$J$17)),IF(ISBLANK(E12),,LOOKUP(E12,'Component Weights'!$B$16:$J$16,'Component Weights'!$B$17:$J$17)),IF(ISBLANK(F12),,LOOKUP(F12,'Component Weights'!$B$16:$J$16,'Component Weights'!$B$17:$J$17)),IF(ISBLANK(G12),,LOOKUP(G12,'Component Weights'!$B$16:$J$16,'Component Weights'!$B$17:$J$17)),IF(ISBLANK(B12),,LOOKUP(B12,'Component Weights'!$B$16:$J$16,'Component Weights'!$B$17:$J$17)),IF(ISBLANK(H12),,LOOKUP(H12,'Component Weights'!$B$16:$J$16,'Component Weights'!$B$17:$J$17)),IF(ISBLANK(I12),,LOOKUP(I12,'Component Weights'!$B$16:$J$16,'Component Weights'!$B$17:$J$17)),IF(ISBLANK(J12),,LOOKUP(J12,'Component Weights'!$B$16:$J$16,'Component Weights'!$B$17:$J$17)))","v":6},{"$f":"IF(ISBLANK(C12),\" \",(LOOKUP(C12,'Component Weights'!$B$16:$J$16,'Component Weights'!$B$17:$J$17)*$AA$4))","v":" "},{"$f":"IF(ISBLANK(D12),\" \",(LOOKUP(D12,'Component Weights'!$B$16:$J$16,'Component Weights'!$B$17:$J$17)*$AA$5))","v":0.12},{"$f":"IF(ISBLANK(E12),\" \",(LOOKUP(E12,'Component Weights'!$B$16:$J$16,'Component Weights'!$B$17:$J$17)*$AA$6))","v":0.08},{"$f":"IF(ISBLANK(F12),\" \",(LOOKUP(F12,'Component Weights'!$B$16:$J$16,'Component Weights'!$B$17:$J$17)*$AA$7))","v":0.12},{"$f":"IF(ISBLANK(G12),\" \",(LOOKUP(G12,'Component Weights'!$B$16:$J$16,'Component Weights'!$B$17:$J$17)*$AA$8))","v":0.05},{"$f":"IF(ISBLANK(B12),\" \",(LOOKUP(B12,'Component Weights'!$B$16:$J$16,'Component Weights'!$B$17:$J$17)*$AA$9))","v":" "},{"$f":"IF(ISBLANK(H12),\" \",(LOOKUP(H12,'Component Weights'!$B$16:$J$16,'Component Weights'!$B$17:$J$17)*$AA$10))","v":0},{"$f":"IF(ISBLANK(I12),\" \",(LOOKUP(I12,'Component Weights'!$B$16:$J$16,'Component Weights'!$B$17:$J$17)*$AA$11))","v":0},{"$f":"IF(ISBLANK(J12),\" \",(LOOKUP(J12,'Component Weights'!$B$16:$J$16,'Component Weights'!$B$17:$J$17)*$AA$12))","v":0.24},0.61,11,null,0.61,null,"Non Hazardous as Waste",0.12,"H","The amount of hazardous materials and components found in the product."]
["(Enter Custom Product Here)",null,null,null,null,null,null,null,null,null,{"$f":"SUM(IF(ISBLANK(C13),,LOOKUP(C13,'Component Weights'!$B$16:$J$16,'Component Weights'!$B$17:$J$17)),IF(ISBLANK(D13),,LOOKUP(D13,'Component Weights'!$B$16:$J$16,'Component Weights'!$B$17:$J$17)),IF(ISBLANK(E13),,LOOKUP(E13,'Component Weights'!$B$16:$J$16,'Component Weights'!$B$17:$J$17)),IF(ISBLANK(F13),,LOOKUP(F13,'Component Weights'!$B$16:$J$16,'Component Weights'!$B$17:$J$17)),IF(ISBLANK(G13),,LOOKUP(G13,'Component Weights'!$B$16:$J$16,'Component Weights'!$B$17:$J$17)),IF(ISBLANK(B13),,LOOKUP(B13,'Component Weights'!$B$16:$J$16,'Component Weights'!$B$17:$J$17)),IF(ISBLANK(H13),,LOOKUP(H13,'Component Weights'!$B$16:$J$16,'Component Weights'!$B$17:$J$17)),IF(ISBLANK(I13),,LOOKUP(I13,'Component Weights'!$B$16:$J$16,'Component Weights'!$B$17:$J$17)),IF(ISBLANK(J13),,LOOKUP(J13,'Component Weights'!$B$16:$J$16,'Component Weights'!$B$17:$J$17)))","v":0},{"$f":"IF(ISBLANK(C13),\" \",(LOOKUP(C13,'Component Weights'!$B$16:$J$16,'Component Weights'!$B$17:$J$17)*$AA$4))","v":" "},{"$f":"IF(ISBLANK(D13),\" \",(LOOKUP(D13,'Component Weights'!$B$16:$J$16,'Component Weights'!$B$17:$J$17)*$AA$5))","v":" "},{"$f":"IF(ISBLANK(E13),\" \",(LOOKUP(E13,'Component Weights'!$B$16:$J$16,'Component Weights'!$B$17:$J$17)*$AA$6))","v":" "},{"$f":"IF(ISBLANK(F13),\" \",(LOOKUP(F13,'Component Weights'!$B$16:$J$16,'Component Weights'!$B$17:$J$17)*$AA$7))","v":" "},{"$f":"IF(ISBLANK(G13),\" \",(LOOKUP(G13,'Component Weights'!$B$16:$J$16,'Component Weights'!$B$17:$J$17)*$AA$8))","v":" "},{"$f":"IF(ISBLANK(B13),\" \",(LOOKUP(B13,'Component Weights'!$B$16:$J$16,'Component Weights'!$B$17:$J$17)*$AA$9))","v":" "},{"$f":"IF(ISBLANK(H13),\" \",(LOOKUP(H13,'Component Weights'!$B$16:$J$16,'Component Weights'!$B$17:$J$17)*$AA$10))","v":" "},{"$f":"IF(ISBLANK(I13),\" \",(LOOKUP(I13,'Component Weights'!$B$16:$J$16,'Component Weights'!$B$17:$J$17)*$AA$11))","v":" "},{"$f":"IF(ISBLANK(J13),\" \",(LOOKUP(J13,'Component Weights'!$B$16:$J$16,'Component Weights'!$B$17:$J$17)*$AA$12))","v":" "},0,99,null,0,null,"Total Weightings Must Equal 100%",{"$f":"SUM(AA4:AA12)","v":1},null,{"$f":"IF(AA13<>100%,\"Keep Working - Weightings must equal 100%\",\" \")","v":" "}]
["(Enter Custom Product Here)",null,null,null,null,null,null,null,null,null,{"$f":"SUM(IF(ISBLANK(C14),,LOOKUP(C14,'Component Weights'!$B$16:$J$16,'Component Weights'!$B$17:$J$17)),IF(ISBLANK(D14),,LOOKUP(D14,'Component Weights'!$B$16:$J$16,'Component Weights'!$B$17:$J$17)),IF(ISBLANK(E14),,LOOKUP(E14,'Component Weights'!$B$16:$J$16,'Component Weights'!$B$17:$J$17)),IF(ISBLANK(F14),,LOOKUP(F14,'Component Weights'!$B$16:$J$16,'Component Weights'!$B$17:$J$17)),IF(ISBLANK(G14),,LOOKUP(G14,'Component Weights'!$B$16:$J$16,'Component Weights'!$B$17:$J$17)),IF(ISBLANK(B14),,LOOKUP(B14,'Component Weights'!$B$16:$J$16,'Component Weights'!$B$17:$J$17)),IF(ISBLANK(H14),,LOOKUP(H14,'Component Weights'!$B$16:$J$16,'Component Weights'!$B$17:$J$17)),IF(ISBLANK(I14),,LOOKUP(I14,'Component Weights'!$B$16:$J$16,'Component Weights'!$B$17:$J$17)),IF(ISBLANK(J14),,LOOKUP(J14,'Component Weights'!$B$16:$J$16,'Component Weights'!$B$17:$J$17)))","v":0},{"$f":"IF(ISBLANK(C14),\" \",(LOOKUP(C14,'Component Weights'!$B$16:$J$16,'Component Weights'!$B$17:$J$17)*$AA$4))","v":" "},{"$f":"IF(ISBLANK(D14),\" \",(LOOKUP(D14,'Component Weights'!$B$16:$J$16,'Component Weights'!$B$17:$J$17)*$AA$5))","v":" "},{"$f":"IF(ISBLANK(E14),\" \",(LOOKUP(E14,'Component Weights'!$B$16:$J$16,'Component Weights'!$B$17:$J$17)*$AA$6))","v":" "},{"$f":"IF(ISBLANK(F14),\" \",(LOOKUP(F14,'Component Weights'!$B$16:$J$16,'Component Weights'!$B$17:$J$17)*$AA$7))","v":" "},{"$f":"IF(ISBLANK(G14),\" \",(LOOKUP(G14,'Component Weights'!$B$16:$J$16,'Component Weights'!$B$17:$J$17)*$AA$8))","v":" "},{"$f":"IF(ISBLANK(B14),\" \",(LOOKUP(B14,'Component Weights'!$B$16:$J$16,'Component Weights'!$B$17:$J$17)*$AA$9))","v":" "},{"$f":"IF(ISBLANK(H14),\" \",(LOOKUP(H14,'Component Weights'!$B$16:$J$16,'Component Weights'!$B$17:$J$17)*$AA$10))","v":" "},{"$f":"IF(ISBLANK(I14),\" \",(LOOKUP(I14,'Component Weights'!$B$16:$J$16,'Component Weights'!$B$17:$J$17)*$AA$11))","v":" "},{"$f":"IF(ISBLANK(J14),\" \",(LOOKUP(J14,'Component Weights'!$B$16:$J$16,'Component Weights'!$B$17:$J$17)*$AA$12))","v":" "},0,99,null,{"$f":"U14","v":0}]
["(Enter Custom Product Here)",null,null,null,null,null,null,null,null,null,{"$f":"SUM(IF(ISBLANK(C15),,LOOKUP(C15,'Component Weights'!$B$16:$J$16,'Component Weights'!$B$17:$J$17)),IF(ISBLANK(D15),,LOOKUP(D15,'Component Weights'!$B$16:$J$16,'Component Weights'!$B$17:$J$17)),IF(ISBLANK(E15),,LOOKUP(E15,'Component Weights'!$B$16:$J$16,'Component Weights'!$B$17:$J$17)),IF(ISBLANK(F15),,LOOKUP(F15,'Component Weights'!$B$16:$J$16,'Component Weights'!$B$17:$J$17)),IF(ISBLANK(G15),,LOOKUP(G15,'Component Weights'!$B$16:$J$16,'Component Weights'!$B$17:$J$17)),IF(ISBLANK(B15),,LOOKUP(B15,'Component Weights'!$B$16:$J$16,'Component Weights'!$B$17:$J$17)),IF(ISBLANK(H15),,LOOKUP(H15,'Component Weights'!$B$16:$J$16,'Component Weights'!$B$17:$J$17)),IF(ISBLANK(I15),,LOOKUP(I15,'Component Weights'!$B$16:$J$16,'Component Weights'!$B$17:$J$17)),IF(ISBLANK(J15),,LOOKUP(J15,'Component Weights'!$B$16:$J$16,'Component Weights'!$B$17:$J$17)))","v":0},{"$f":"IF(ISBLANK(C15),\" \",(LOOKUP(C15,'Component Weights'!$B$16:$J$16,'Component Weights'!$B$17:$J$17)*$AA$4))","v":" "},{"$f":"IF(ISBLANK(D15),\" \",(LOOKUP(D15,'Component Weights'!$B$16:$J$16,'Component Weights'!$B$17:$J$17)*$AA$5))","v":" "},{"$f":"IF(ISBLANK(E15),\" \",(LOOKUP(E15,'Component Weights'!$B$16:$J$16,'Component Weights'!$B$17:$J$17)*$AA$6))","v":" "},{"$f":"IF(ISBLANK(F15),\" \",(LOOKUP(F15,'Component Weights'!$B$16:$J$16,'Component Weights'!$B$17:$J$17)*$AA$7))","v":" "},{"$f":"IF(ISBLANK(G15),\" \",(LOOKUP(G15,'Component Weights'!$B$16:$J$16,'Component Weights'!$B$17:$J$17)*$AA$8))","v":" "},{"$f":"IF(ISBLANK(B15),\" \",(LOOKUP(B15,'Component Weights'!$B$16:$J$16,'Component Weights'!$B$17:$J$17)*$AA$9))","v":" "},{"$f":"IF(ISBLANK(H15),\" \",(LOOKUP(H15,'Component Weights'!$B$16:$J$16,'Component Weights'!$B$17:$J$17)*$AA$10))","v":" "},{"$f":"IF(ISBLANK(I15),\" \",(LOOKUP(I15,'Component Weights'!$B$16:$J$16,'Component Weights'!$B$17:$J$17)*$AA$11))","v":" "},{"$f":"IF(ISBLANK(J15),\" \",(LOOKUP(J15,'Component Weights'!$B$16:$J$16,'Component Weights'!$B$17:$J$17)*$AA$12))","v":" "},0,99,null,{"$f":"U15","v":0}]
["(Enter Custom Product Here)",null,null,null,null,null,null,null,null,null,{"$f":"SUM(IF(ISBLANK(C16),,LOOKUP(C16,'Component Weights'!$B$16:$J$16,'Component Weights'!$B$17:$J$17)),IF(ISBLANK(D16),,LOOKUP(D16,'Component Weights'!$B$16:$J$16,'Component Weights'!$B$17:$J$17)),IF(ISBLANK(E16),,LOOKUP(E16,'Component Weights'!$B$16:$J$16,'Component Weights'!$B$17:$J$17)),IF(ISBLANK(F16),,LOOKUP(F16,'Component Weights'!$B$16:$J$16,'Component Weights'!$B$17:$J$17)),IF(ISBLANK(G16),,LOOKUP(G16,'Component Weights'!$B$16:$J$16,'Component Weights'!$B$17:$J$17)),IF(ISBLANK(B16),,LOOKUP(B16,'Component Weights'!$B$16:$J$16,'Component Weights'!$B$17:$J$17)),IF(ISBLANK(H16),,LOOKUP(H16,'Component Weights'!$B$16:$J$16,'Component Weights'!$B$17:$J$17)),IF(ISBLANK(I16),,LOOKUP(I16,'Component Weights'!$B$16:$J$16,'Component Weights'!$B$17:$J$17)),IF(ISBLANK(J16),,LOOKUP(J16,'Component Weights'!$B$16:$J$16,'Component Weights'!$B$17:$J$17)))","v":0},{"$f":"IF(ISBLANK(C16),\" \",(LOOKUP(C16,'Component Weights'!$B$16:$J$16,'Component Weights'!$B$17:$J$17)*$AA$4))","v":" "},{"$f":"IF(ISBLANK(D16),\" \",(LOOKUP(D16,'Component Weights'!$B$16:$J$16,'Component Weights'!$B$17:$J$17)*$AA$5))","v":" "},{"$f":"IF(ISBLANK(E16),\" \",(LOOKUP(E16,'Component Weights'!$B$16:$J$16,'Component Weights'!$B$17:$J$17)*$AA$6))","v":" "},{"$f":"IF(ISBLANK(F16),\" \",(LOOKUP(F16,'Component Weights'!$B$16:$J$16,'Component Weights'!$B$17:$J$17)*$AA$7))","v":" "},{"$f":"IF(ISBLANK(G16),\" \",(LOOKUP(G16,'Component Weights'!$B$16:$J$16,'Component Weights'!$B$17:$J$17)*$AA$8))","v":" "},{"$f":"IF(ISBLANK(B16),\" \",(LOOKUP(B16,'Component Weights'!$B$16:$J$16,'Component Weights'!$B$17:$J$17)*$AA$9))","v":" "},{"$f":"IF(ISBLANK(H16),\" \",(LOOKUP(H16,'Component Weights'!$B$16:$J$16,'Component Weights'!$B$17:$J$17)*$AA$10))","v":" "},{"$f":"IF(ISBLANK(I16),\" \",(LOOKUP(I16,'Component Weights'!$B$16:$J$16,'Component Weights'!$B$17:$J$17)*$AA$11))","v":" "},{"$f":"IF(ISBLANK(J16),\" \",(LOOKUP(J16,'Component Weights'!$B$16:$J$16,'Component Weights'!$B$17:$J$17)*$AA$12))","v":" "},0,99,null,{"$f":"U16","v":0}]
["(Enter Custom Product Here)",null,null,null,null,null,null,null,null,null,{"$f":"SUM(IF(ISBLANK(C17),,LOOKUP(C17,'Component Weights'!$B$16:$J$16,'Component Weights'!$B$17:$J$17)),IF(ISBLANK(D17),,LOOKUP(D17,'Component Weights'!$B$16:$J$16,'Component Weights'!$B$17:$J$17)),IF(ISBLANK(E17),,LOOKUP(E17,'Component Weights'!$B$16:$J$16,'Component Weights'!$B$17:$J$17)),IF(ISBLANK(F17),,LOOKUP(F17,'Component Weights'!$B$16:$J$16,'Component Weights'!$B$17:$J$17)),IF(ISBLANK(G17),,LOOKUP(G17,'Component Weights'!$B$16:$J$16,'Component Weights'!$B$17:$J$17)),IF(ISBLANK(B17),,LOOKUP(B17,'Component Weights'!$B$16:$J$16,'Component Weights'!$B$17:$J$17)),IF(ISBLANK(H17),,LOOKUP(H17,'Component Weights'!$B$16:$J$16,'Component Weights'!$B$17:$J$17)),IF(ISBLANK(I17),,LOOKUP(I17,'Component Weights'!$B$16:$J$16,'Component Weights'!$B$17:$J$17)),IF(ISBLANK(J17),,LOOKUP(J17,'Component Weights'!$B$16:$J$16,'Component Weights'!$B$17:$J$17)))","v":0},{"$f":"IF(ISBLANK(C17),\" \",(LOOKUP(C17,'Component Weights'!$B$16:$J$16,'Component Weights'!$B$17:$J$17)*$AA$4))","v":" "},{"$f":"IF(ISBLANK(D17),\" \",(LOOKUP(D17,'Component Weights'!$B$16:$J$16,'Component Weights'!$B$17:$J$17)*$AA$5))","v":" "},{"$f":"IF(ISBLANK(E17),\" \",(LOOKUP(E17,'Component Weights'!$B$16:$J$16,'Component Weights'!$B$17:$J$17)*$AA$6))","v":" "},{"$f":"IF(ISBLANK(F17),\" \",(LOOKUP(F17,'Component Weights'!$B$16:$J$16,'Component Weights'!$B$17:$J$17)*$AA$7))","v":" "},{"$f":"IF(ISBLANK(G17),\" \",(LOOKUP(G17,'Component Weights'!$B$16:$J$16,'Component Weights'!$B$17:$J$17)*$AA$8))","v":" "},{"$f":"IF(ISBLANK(B17),\" \",(LOOKUP(B17,'Component Weights'!$B$16:$J$16,'Component Weights'!$B$17:$J$17)*$AA$9))","v":" "},{"$f":"IF(ISBLANK(H17),\" \",(LOOKUP(H17,'Component Weights'!$B$16:$J$16,'Component Weights'!$B$17:$J$17)*$AA$10))","v":" "},{"$f":"IF(ISBLANK(I17),\" \",(LOOKUP(I17,'Component Weights'!$B$16:$J$16,'Component Weights'!$B$17:$J$17)*$AA$11))","v":" "},{"$f":"IF(ISBLANK(J17),\" \",(LOOKUP(J17,'Component Weights'!$B$16:$J$16,'Component Weights'!$B$17:$J$17)*$AA$12))","v":" "},0,99,null,{"$f":"U17","v":0}]
["(Enter Custom Product Here)",null,null,null,null,null,null,null,null,null,{"$f":"SUM(IF(ISBLANK(C18),,LOOKUP(C18,'Component Weights'!$B$16:$J$16,'Component Weights'!$B$17:$J$17)),IF(ISBLANK(D18),,LOOKUP(D18,'Component Weights'!$B$16:$J$16,'Component Weights'!$B$17:$J$17)),IF(ISBLANK(E18),,LOOKUP(E18,'Component Weights'!$B$16:$J$16,'Component Weights'!$B$17:$J$17)),IF(ISBLANK(F18),,LOOKUP(F18,'Component Weights'!$B$16:$J$16,'Component Weights'!$B$17:$J$17)),IF(ISBLANK(G18),,LOOKUP(G18,'Component Weights'!$B$16:$J$16,'Component Weights'!$B$17:$J$17)),IF(ISBLANK(B18),,LOOKUP(B18,'Component Weights'!$B$16:$J$16,'Component Weights'!$B$17:$J$17)),IF(ISBLANK(H18),,LOOKUP(H18,'Component Weights'!$B$16:$J$16,'Component Weights'!$B$17:$J$17)),IF(ISBLANK(I18),,LOOKUP(I18,'Component Weights'!$B$16:$J$16,'Component Weights'!$B$17:$J$17)),IF(ISBLANK(J18),,LOOKUP(J18,'Component Weights'!$B$16:$J$16,'Component Weights'!$B$17:$J$17)))","v":0},{"$f":"IF(ISBLANK(C18),\" \",(LOOKUP(C18,'Component Weights'!$B$16:$J$16,'Component Weights'!$B$17:$J$17)*$AA$4))","v":" "},{"$f":"IF(ISBLANK(D18),\" \",(LOOKUP(D18,'Component Weights'!$B$16:$J$16,'Component Weights'!$B$17:$J$17)*$AA$5))","v":" "},{"$f":"IF(ISBLANK(E18),\" \",(LOOKUP(E18,'Component Weights'!$B$16:$J$16,'Component Weights'!$B$17:$J$17)*$AA$6))","v":" "},{"$f":"IF(ISBLANK(F18),\" \",(LOOKUP(F18,'Component Weights'!$B$16:$J$16,'Component Weights'!$B$17:$J$17)*$AA$7))","v":" "},{"$f":"IF(ISBLANK(G18),\" \",(LOOKUP(G18,'Component Weights'!$B$16:$J$16,'Component Weights'!$B$17:$J$17)*$AA$8))","v":" "},{"$f":"IF(ISBLANK(B18),\" \",(LOOKUP(B18,'Component Weights'!$B$16:$J$16,'Component Weights'!$B$17:$J$17)*$AA$9))","v":" "},{"$f":"IF(ISBLANK(H18),\" \",(LOOKUP(H18,'Component Weights'!$B$16:$J$16,'Component Weights'!$B$17:$J$17)*$AA$10))","v":" "},{"$f":"IF(ISBLANK(I18),\" \",(LOOKUP(I18,'Component Weights'!$B$16:$J$16,'Component Weights'!$B$17:$J$17)*$AA$11))","v":" "},{"$f":"IF(ISBLANK(J18),\" \",(LOOKUP(J18,'Component Weights'!$B$16:$J$16,'Component Weights'!$B$17:$J$17)*$AA$12))","v":" "},0,99,null,0]
[null,null,null,null,null,null,null,null,null,null,{"$f":"AVERAGE(K$2:K12)","v":13},{"$f":"AVERAGE(L$2:L12)","v":{"$error":"#DIV/0!"}},{"$f":"AVERAGE(M$2:M12)","v":0.10909090909090911},{"$f":"AVERAGE(N$2:N12)","v":0.15272727272727277},{"$f":"AVERAGE(O$2:O12)","v":0.13090909090909095},{"$f":"AVERAGE(P$2:P12)","v":0.10909090909090913},{"$f":"AVERAGE(Q$2:Q12)","v":{"$error":"#DIV/0!"}},{"$f":"AVERAGE(R$2:R12)","v":0.30545454545454542},{"$f":"AVERAGE(S$2:S12)","v":0.12363636363636364},{"$f":"AVERAGE(T$2:T12)","v":0.33818181818181814},{"$f":"AVERAGE(U$2:U12)","v":1.269090909090909},{"$f":"IF(AND(OR(#REF!=72,#REF!=73,#REF!=74,#REF!=75,#REF!=76),$T19>0),RANK($T19,X$3:X$43,0),\" \")","v":{"$error":"#REF!"}}]

{"sheet":"Roofing","index":5,"n_rows":21,"n_cols":29,"rows_kept":21,"cut":false,"hidden":false,"merged":[]}
["Instructions:\nScroll down to see all products.  New products may be added to the end of the list.  Rate the performance of each product as \"N, L, M or H.\" (Hover over the component title for the rating description.)  Use your Backspace button to clear values.  The Sort button (below) will incorporate your priorities as currently stated on the table to the right.  (Scroll to the right to see the table.)\n\n","Available Locally","Incremental Energy Savings","Use of Recycled Content","Low Energy Usage Manufacturing Process","Easily Biodegradable","Made from Natural Materials","Low Emissions Potential","Listed in Other Programs","Non Hazardous as Waste","Total Raw Score","Incremental Energy Savings Weighted Score","Use of Recycled Content Weighted Score","Low Energy Usage Mfg. Process Weighted Score","Easily Biodegradable Weighted Score","Made from Natural Materials Weighted Score","Available Locally Weighted Score","Low Emissions Potential Weighted Score","Listed in Other Programs Weighted Score","Non Hazardous as Waste Weighted Score","Total Weighted Score","Force Ranking",null,"Weighted Score for Force Rank Calculation ",null,"Detailed instructions and options for using this tool are found in the Using the DYO® GBD Kit Decision Matrix Software Section of your DYO® Green Building Decision Kit."]
["Plant based “Green” Roof",null,null,"H","H","H","H",null,"H","H",{"$f":"SUM(IF(ISBLANK(C2),,LOOKUP(C2,'Component Weights'!$B$16:$J$16,'Component Weights'!$B$17:$J$17)),IF(ISBLANK(D2),,LOOKUP(D2,'Component Weights'!$B$16:$J$16,'Component Weights'!$B$17:$J$17)),IF(ISBLANK(E2),,LOOKUP(E2,'Component Weights'!$B$16:$J$16,'Component Weights'!$B$17:$J$17)),IF(ISBLANK(F2),,LOOKUP(F2,'Component Weights'!$B$16:$J$16,'Component Weights'!$B$17:$J$17)),IF(ISBLANK(G2),,LOOKUP(G2,'Component Weights'!$B$16:$J$16,'Component Weights'!$B$17:$J$17)),IF(ISBLANK(B2),,LOOKUP(B2,'Component Weights'!$B$16:$J$16,'Component Weights'!$B$17:$J$17)),IF(ISBLANK(H2),,LOOKUP(H2,'Component Weights'!$B$16:$J$16,'Component Weights'!$B$17:$J$17)),IF(ISBLANK(I2),,LOOKUP(I2,'Component Weights'!$B$16:$J$16,'Component Weights'!$B$17:$J$17)),IF(ISBLANK(J2),,LOOKUP(J2,'Component Weights'!$B$16:$J$16,'Component Weights'!$B$17:$J$17)))","v":18},{"$f":"IF(ISBLANK(C2),\" \",(LOOKUP(C2,'Component Weights'!$B$16:$J$16,'Component Weights'!$B$17:$J$17)*$AA$4))","v":" "},{"$f":"IF(ISBLANK(D2),\" \",(LOOKUP(D2,'Component Weights'!$B$16:$J$16,'Component Weights'!$B$17:$J$17)*$AA$5))","v":0.36},{"$f":"IF(ISBLANK(E2),\" \",(LOOKUP(E2,'Component Weights'!$B$16:$J$16,'Component Weights'!$B$17:$J$17)*$AA$6))","v":0.24},{"$f":"IF(ISBLANK(F2),\" \",(LOOKUP(F2,'Component Weights'!$B$16:$J$16,'Component Weights'!$B$17:$J$17)*$AA$7))","v":0.36},{"$f":"IF(ISBLANK(G2),\" \",(LOOKUP(G2,'Component Weights'!$B$16:$J$16,'Component Weights'!$B$17:$J$17)*$AA$8))","v":0.15000000000000002},{"$f":"IF(ISBLANK(B2),\" \",(LOOKUP(B2,'Component Weights'!$B$16:$J$16,'Component Weights'!$B$17:$J$17)*$AA$9))","v":" "},{"$f":"IF(ISBLANK(H2),\" \",(LOOKUP(H2,'Component Weights'!$B$16:$J$16,'Component Weights'!$B$17:$J$17)*$AA$10))","v":" "},{"$f":"IF(ISBLANK(I2),\" \",(LOOKUP(I2,'Component Weights'!$B$16:$J$16,'Component Weights'!$B$17:$J$17)*$AA$11))","v":0.24},{"$f":"IF(ISBLANK(J2),\" \",(LOOKUP(J2,'Component Weights'!$B$16:$J$16,'Component Weights'!$B$17:$J$17)*$AA$12))","v":0.36},{"$f":"SUM(L2:T2)","v":1.71},{"$f":"IF($U2>0,RANK($U2,X$2:X$206,0),99)","v":1},null,{"$f":"U2","v":1.71},null,"Component Weights for ","Weight"]
["Wood",null,null,"M","H","H","H",null,"L","H",{"$f":"SUM(IF(ISBLANK(C3),,LOOKUP(C3,'Component Weights'!$B$16:$J$16,'Component Weights'!$B$17:$J$17)),IF(ISBLANK(D3),,LOOKUP(D3,'Component Weights'!$B$16:$J$16,'Component Weights'!$B$17:$J$17)),IF(ISBLANK(E3),,LOOKUP(E3,'Component Weights'!$B$16:$J$16,'Component Weights'!$B$17:$J$17)),IF(ISBLANK(F3),,LOOKUP(F3,'Component Weights'!$B$16:$J$16,'Component Weights'!$B$17:$J$17)),IF(ISBLANK(G3),,LOOKUP(G3,'Component Weights'!$B$16:$J$16,'Component Weights'!$B$17:$J$17)),IF(ISBLANK(B3),,LOOKUP(B3,'Component Weights'!$B$16:$J$16,'Component Weights'!$B$17:$J$17)),IF(ISBLANK(H3),,LOOKUP(H3,'Component Weights'!$B$16:$J$16,'Component Weights'!$B$17:$J$17)),IF(ISBLANK(I3),,LOOKUP(I3,'Component Weights'!$B$16:$J$16,'Component Weights'!$B$17:$J$17)),IF(ISBLANK(J3),,LOOKUP(J3,'Component Weights'!$B$16:$J$16,'Component Weights'!$B$17:$J$17)))","v":15},{"$f":"IF(ISBLANK(C3),\" \",(LOOKUP(C3,'Component Weights'!$B$16:$J$16,'Component Weights'!$B$17:$J$17)*$AA$4))","v":" "},{"$f":"IF(ISBLANK(D3),\" \",(LOOKUP(D3,'Component Weights'!$B$16:$J$16,'Component Weights'!$B$17:$J$17)*$AA$5))","v":0.24},{"$f":"IF(ISBLANK(E3),\" \",(LOOKUP(E3,'Component Weights'!$B$16:$J$16,'Component Weights'!$B$17:$J$17)*$AA$6))","v":0.24},{"$f":"IF(ISBLANK(F3),\" \",(LOOKUP(F3,'Component Weights'!$B$16:$J$16,'Component Weights'!$B$17:$J$17)*$AA$7))","v":0.36},{"$f":"IF(ISBLANK(G3),\" \",(LOOKUP(G3,'Component Weights'!$B$16:$J$16,'Component Weights'!$B$17:$J$17)*$AA$8))","v":0.15000000000000002},{"$f":"IF(ISBLANK(B3),\" \",(LOOKUP(B3,'Component Weights'!$B$16:$J$16,'Component Weights'!$B$17:$J$17)*$AA$9))","v":" "},{"$f":"IF(ISBLANK(H3),\" \",(LOOKUP(H3,'Component Weights'!$B$16:$J$16,'Component Weights'!$B$17:$J$17)*$AA$10))","v":" "},{"$f":"IF(ISBLANK(I3),\" \",(LOOKUP(I3,'Component Weights'!$B$16:$J$16,'Component Weights'!$B$17:$J$17)*$AA$11))","v":0.08},{"$f":"IF(ISBLANK(J3),\" \",(LOOKUP(J3,'Component Weights'!$B$16:$J$16,'Component Weights'!$B$17:$J$17)*$AA$12))","v":0.36},1.4300000000000002,2,null,1.4300000000000002,null,"Roofing"]
["Eco Slate (made from recycled materials)",null,null,"H","M","N","M",null,"H","M",{"$f":"SUM(IF(ISBLANK(C4),,LOOKUP(C4,'Component Weights'!$B$16:$J$16,'Component Weights'!$B$17:$J$17)),IF(ISBLANK(D4),,LOOKUP(D4,'Component Weights'!$B$16:$J$16,'Component Weights'!$B$17:$J$17)),IF(ISBLANK(E4),,LOOKUP(E4,'Component Weights'!$B$16:$J$16,'Component Weights'!$B$17:$J$17)),IF(ISBLANK(F4),,LOOKUP(F4,'Component Weights'!$B$16:$J$16,'Component Weights'!$B$17:$J$17)),IF(ISBLANK(G4),,LOOKUP(G4,'Component Weights'!$B$16:$J$16,'Component Weights'!$B$17:$J$17)),IF(ISBLANK(B4),,LOOKUP(B4,'Component Weights'!$B$16:$J$16,'Component Weights'!$B$17:$J$17)),IF(ISBLANK(H4),,LOOKUP(H4,'Component Weights'!$B$16:$J$16,'Component Weights'!$B$17:$J$17)),IF(ISBLANK(I4),,LOOKUP(I4,'Component Weights'!$B$16:$J$16,'Component Weights'!$B$17:$J$17)),IF(ISBLANK(J4),,LOOKUP(J4,'Component Weights'!$B$16:$J$16,'Component Weights'!$B$17:$J$17)))","v":12},{"$f":"IF(ISBLANK(C4),\" \",(LOOKUP(C4,'Component Weights'!$B$16:$J$16,'Component Weights'!$B$17:$J$17)*$AA$4))","v":" "},{"$f":"IF(ISBLANK(D4),\" \",(LOOKUP(D4,'Component Weights'!$B$16:$J$16,'Component Weights'!$B$17:$J$17)*$AA$5))","v":0.36},{"$f":"IF(ISBLANK(E4),\" \",(LOOKUP(E4,'Component Weights'!$B$16:$J$16,'Component Weights'!$B$17:$J$17)*$AA$6))","v":0.16},{"$f":"IF(ISBLANK(F4),\" \",(LOOKUP(F4,'Component Weights'!$B$16:$J$16,'Component Weights'!$B$17:$J$17)*$AA$7))","v":0},{"$f":"IF(ISBLANK(G4),\" \",(LOOKUP(G4,'Component Weights'!$B$16:$J$16,'Component Weights'!$B$17:$J$17)*$AA$8))","v":0.1},{"$f":"IF(ISBLANK(B4),\" \",(LOOKUP(B4,'Component Weights'!$B$16:$J$16,'Component Weights'!$B$17:$J$17)*$AA$9))","v":" "},{"$f":"IF(ISBLANK(H4),\" \",(LOOKUP(H4,'Component Weights'!$B$16:$J$16,'Component Weights'!$B$17:$J$17)*$AA$10))","v":" "},{"$f":"IF(ISBLANK(I4),\" \",(LOOKUP(I4,'Component Weights'!$B$16:$J$16,'Component Weights'!$B$17:$J$17)*$AA$11))","v":0.24},{"$f":"IF(ISBLANK(J4),\" \",(LOOKUP(J4,'Component Weights'!$B$16:$J$16,'Component Weights'!$B$17:$J$17)*$AA$12))","v":0.24},1.1000000000000001,3,null,1.1000000000000001,null,"Incremental Energy Savings",0.08,"M","The amount of incremental energy, expressed in Btu/Hr, that a product saves or generates for the structure."]
["Slate (natural stone)",null,null,"N","H","L","H",null,"M","H",{"$f":"SUM(IF(ISBLANK(C5),,LOOKUP(C5,'Component Weights'!$B$16:$J$16,'Component Weights'!$B$17:$J$17)),IF(ISBLANK(D5),,LOOKUP(D5,'Component Weights'!$B$16:$J$16,'Component Weights'!$B$17:$J$17)),IF(ISBLANK(E5),,LOOKUP(E5,'Component Weights'!$B$16:$J$16,'Component Weights'!$B$17:$J$17)),IF(ISBLANK(F5),,LOOKUP(F5,'Component Weights'!$B$16:$J$16,'Component Weights'!$B$17:$J$17)),IF(ISBLANK(G5),,LOOKUP(G5,'Component Weights'!$B$16:$J$16,'Component Weights'!$B$17:$J$17)),IF(ISBLANK(B5),,LOOKUP(B5,'Component Weights'!$B$16:$J$16,'Component Weights'!$B$17:$J$17)),IF(ISBLANK(H5),,LOOKUP(H5,'Component Weights'!$B$16:$J$16,'Component Weights'!$B$17:$J$17)),IF(ISBLANK(I5),,LOOKUP(I5,'Component Weights'!$B$16:$J$16,'Component Weights'!$B$17:$J$17)),IF(ISBLANK(J5),,LOOKUP(J5,'Component Weights'!$B$16:$J$16,'Component Weights'!$B$17:$J$17)))","v":12},{"$f":"IF(ISBLANK(C5),\" \",(LOOKUP(C5,'Component Weights'!$B$16:$J$16,'Component Weights'!$B$17:$J$17)*$AA$4))","v":" "},{"$f":"IF(ISBLANK(D5),\" \",(LOOKUP(D5,'Component Weights'!$B$16:$J$16,'Component Weights'!$B$17:$J$17)*$AA$5))","v":0},{"$f":"IF(ISBLANK(E5),\" \",(LOOKUP(E5,'Component Weights'!$B$16:$J$16,'Component Weights'!$B$17:$J$17)*$AA$6))","v":0.24},{"$f":"IF(ISBLANK(F5),\" \",(LOOKUP(F5,'Component Weights'!$B$16:$J$16,'Component Weights'!$B$17:$J$17)*$AA$7))","v":0.12},{"$f":"IF(ISBLANK(G5),\" \",(LOOKUP(G5,'Component Weights'!$B$16:$J$16,'Component Weights'!$B$17:$J$17)*$AA$8))","v":0.15000000000000002},{"$f":"IF(ISBLANK(B5),\" \",(LOOKUP(B5,'Component Weights'!$B$16:$J$16,'Component Weights'!$B$17:$J$17)*$AA$9))","v":" "},{"$f":"IF(ISBLANK(H5),\" \",(LOOKUP(H5,'Component Weights'!$B$16:$J$16,'Component Weights'!$B$17:$J$17)*$AA$10))","v":" "},{"$f":"IF(ISBLANK(I5),\" \",(LOOKUP(I5,'Component Weights'!$B$16:$J$16,'Component Weights'!$B$17:$J$17)*$AA$11))","v":0.16},{"$f":"IF(ISBLANK(J5),\" \",(LOOKUP(J5,'Component Weights'!$B$16:$J$16,'Component Weights'!$B$17:$J$17)*$AA$12))","v":0.36},1.03,4,null,1.03,null,"Use of Recycled Content",0.12,"H","The amount of recycled content, expressed as a percentage, found in a product."]
["Clay Tile",null,null,"N","H","L","H",null,"N","H",{"$f":"SUM(IF(ISBLANK(C6),,LOOKUP(C6,'Component Weights'!$B$16:$J$16,'Component Weights'!$B$17:$J$17)),IF(ISBLANK(D6),,LOOKUP(D6,'Component Weights'!$B$16:$J$16,'Component Weights'!$B$17:$J$17)),IF(ISBLANK(E6),,LOOKUP(E6,'Component Weights'!$B$16:$J$16,'Component Weights'!$B$17:$J$17)),IF(ISBLANK(F6),,LOOKUP(F6,'Component Weights'!$B$16:$J$16,'Component Weights'!$B$17:$J$17)),IF(ISBLANK(G6),,LOOKUP(G6,'Component Weights'!$B$16:$J$16,'Component Weights'!$B$17:$J$17)),IF(ISBLANK(B6),,LOOKUP(B6,'Component Weights'!$B$16:$J$16,'Component Weights'!$B$17:$J$17)),IF(ISBLANK(H6),,LOOKUP(H6,'Component Weights'!$B$16:$J$16,'Component Weights'!$B$17:$J$17)),IF(ISBLANK(I6),,LOOKUP(I6,'Component Weights'!$B$16:$J$16,'Component Weights'!$B$17:$J$17)),IF(ISBLANK(J6),,LOOKUP(J6,'Component Weights'!$B$16:$J$16,'Component Weights'!$B$17:$J$17)))","v":10},{"$f":"IF(ISBLANK(C6),\" \",(LOOKUP(C6,'Component Weights'!$B$16:$J$16,'Component Weights'!$B$17:$J$17)*$AA$4))","v":" "},{"$f":"IF(ISBLANK(D6),\" \",(LOOKUP(D6,'Component Weights'!$B$16:$J$16,'Component Weights'!$B$17:$J$17)*$AA$5))","v":0},{"$f":"IF(ISBLANK(E6),\" \",(LOOKUP(E6,'Component Weights'!$B$16:$J$16,'Component Weights'!$B$17:$J$17)*$AA$6))","v":0.24},{"$f":"IF(ISBLANK(F6),\" \",(LOOKUP(F6,'Component Weights'!$B$16:$J$16,'Component Weights'!$B$17:$J$17)*$AA$7))","v":0.12},{"$f":"IF(ISBLANK(G6),\" \",(LOOKUP(G6,'Component Weights'!$B$16:$J$16,'Component Weights'!$B$17:$J$17)*$AA$8))","v":0.15000000000000002},{"$f":"IF(ISBLANK(B6),\" \",(LOOKUP(B6,'Component Weights'!$B$16:$J$16,'Component Weights'!$B$17:$J$17)*$AA$9))","v":" "},{"$f":"IF(ISBLANK(H6),\" \",(LOOKUP(H6,'Component Weights'!$B$16:$J$16,'Component Weights'!$B$17:$J$17)*$AA$10))","v":" "},{"$f":"IF(ISBLANK(I6),\" \",(LOOKUP(I6,'Component Weights'!$B$16:$J$16,'Component Weights'!$B$17:$J$17)*$AA$11))","v":0},{"$f":"IF(ISBLANK(J6),\" \",(LOOKUP(J6,'Component Weights'!$B$16:$J$16,'Component Weights'!$B$17:$J$17)*$AA$12))","v":0.36},0.87,5,null,0.87,null,"Low Energy Usage Manufacturing Process",0.08,"M","The amount of energy used in manufacture of the product."]
["Asphalt (short life)",null,null,"M","L","M","M",null,"N","L",{"$f":"SUM(IF(ISBLANK(C7),,LOOKUP(C7,'Component Weights'!$B$16:$J$16,'Component Weights'!$B$17:$J$17)),IF(ISBLANK(D7),,LOOKUP(D7,'Component Weights'!$B$16:$J$16,'Component Weights'!$B$17:$J$17)),IF(ISBLANK(E7),,LOOKUP(E7,'Component Weights'!$B$16:$J$16,'Component Weights'!$B$17:$J$17)),IF(ISBLANK(F7),,LOOKUP(F7,'Component Weights'!$B$16:$J$16,'Component Weights'!$B$17:$J$17)),IF(ISBLANK(G7),,LOOKUP(G7,'Component Weights'!$B$16:$J$16,'Component Weights'!$B$17:$J$17)),IF(ISBLANK(B7),,LOOKUP(B7,'Component Weights'!$B$16:$J$16,'Component Weights'!$B$17:$J$17)),IF(ISBLANK(H7),,LOOKUP(H7,'Component Weights'!$B$16:$J$16,'Component Weights'!$B$17:$J$17)),IF(ISBLANK(I7),,LOOKUP(I7,'Component Weights'!$B$16:$J$16,'Component Weights'!$B$17:$J$17)),IF(ISBLANK(J7),,LOOKUP(J7,'Component Weights'!$B$16:$J$16,'Component Weights'!$B$17:$J$17)))","v":8},{"$f":"IF(ISBLANK(C7),\" \",(LOOKUP(C7,'Component Weights'!$B$16:$J$16,'Component Weights'!$B$17:$J$17)*$AA$4))","v":" "},{"$f":"IF(ISBLANK(D7),\" \",(LOOKUP(D7,'Component Weights'!$B$16:$J$16,'Component Weights'!$B$17:$J$17)*$AA$5))","v":0.24},{"$f":"IF(ISBLANK(E7),\" \",(LOOKUP(E7,'Component Weights'!$B$16:$J$16,'Component Weights'!$B$17:$J$17)*$AA$6))","v":0.08},{"$f":"IF(ISBLANK(F7),\" \",(LOOKUP(F7,'Component Weights'!$B$16:$J$16,'Component Weights'!$B$17:$J$17)*$AA$7))","v":0.24},{"$f":"IF(ISBLANK(G7),\" \",(LOOKUP(G7,'Component Weights'!$B$16:$J$16,'Component Weights'!$B$17:$J$17)*$AA$8))","v":0.1},{"$f":"IF(ISBLANK(B7),\" \",(LOOKUP(B7,'Component Weights'!$B$16:$J$16,'Component Weights'!$B$17:$J$17)*$AA$9))","v":" "},{"$f":"IF(ISBLANK(H7),\" \",(LOOKUP(H7,'Component Weights'!$B$16:$J$16,'Component Weights'!$B$17:$J$17)*$AA$10))","v":" "},{"$f":"IF(ISBLANK(I7),\" \",(LOOKUP(I7,'Component Weights'!$B$16:$J$16,'Component Weights'!$B$17:$J$17)*$AA$11))","v":0},{"$f":"IF(ISBLANK(J7),\" \",(LOOKUP(J7,'Component Weights'!$B$16:$J$16,'Component Weights'!$B$17:$J$17)*$AA$12))","v":0.12},0.78,6,null,0.78,null,"Easily Biodegradable",0.12,"H","The amount of time it will take the product to degrade once its useful life is over."]
["Asphalt (long life)",null,null,"M","L","M","M",null,"N","L",{"$f":"SUM(IF(ISBLANK(C8),,LOOKUP(C8,'Component Weights'!$B$16:$J$16,'Component Weights'!$B$17:$J$17)),IF(ISBLANK(D8),,LOOKUP(D8,'Component Weights'!$B$16:$J$16,'Component Weights'!$B$17:$J$17)),IF(ISBLANK(E8),,LOOKUP(E8,'Component Weights'!$B$16:$J$16,'Component Weights'!$B$17:$J$17)),IF(ISBLANK(F8),,LOOKUP(F8,'Component Weights'!$B$16:$J$16,'Component Weights'!$B$17:$J$17)),IF(ISBLANK(G8),,LOOKUP(G8,'Component Weights'!$B$16:$J$16,'Component Weights'!$B$17:$J$17)),IF(ISBLANK(B8),,LOOKUP(B8,'Component Weights'!$B$16:$J$16,'Component Weights'!$B$17:$J$17)),IF(ISBLANK(H8),,LOOKUP(H8,'Component Weights'!$B$16:$J$16,'Component Weights'!$B$17:$J$17)),IF(ISBLANK(I8),,LOOKUP(I8,'Component Weights'!$B$16:$J$16,'Component Weights'!$B$17:$J$17)),IF(ISBLANK(J8),,LOOKUP(J8,'Component Weights'!$B$16:$J$16,'Component Weights'!$B$17:$J$17)))","v":8},{"$f":"IF(ISBLANK(C8),\" \",(LOOKUP(C8,'Component Weights'!$B$16:$J$16,'Component Weights'!$B$17:$J$17)*$AA$4))","v":" "},{"$f":"IF(ISBLANK(D8),\" \",(LOOKUP(D8,'Component Weights'!$B$16:$J$16,'Component Weights'!$B$17:$J$17)*$AA$5))","v":0.24},{"$f":"IF(ISBLANK(E8),\" \",(LOOKUP(E8,'Component Weights'!$B$16:$J$16,'Component Weights'!$B$17:$J$17)*$AA$6))","v":0.08},{"$f":"IF(ISBLANK(F8),\" \",(LOOKUP(F8,'Component Weights'!$B$16:$J$16,'Component Weights'!$B$17:$J$17)*$AA$7))","v":0.24},{"$f":"IF(ISBLANK(G8),\" \",(LOOKUP(G8,'Component Weights'!$B$16:$J$16,'Component Weights'!$B$17:$J$17)*$AA$8))","v":0.1},{"$f":"IF(ISBLANK(B8),\" \",(LOOKUP(B8,'Component Weights'!$B$16:$J$16,'Component Weights'!$B$17:$J$17)*$AA$9))","v":" "},{"$f":"IF(ISBLANK(H8),\" \",(LOOKUP(H8,'Component Weights'!$B$16:$J$16,'Component Weights'!$B$17:$J$17)*$AA$10))","v":" "},{"$f":"IF(ISBLANK(I8),\" \",(LOOKUP(I8,'Component Weights'!$B$16:$J$16,'Component Weights'!$B$17:$J$17)*$AA$11))","v":0},{"$f":"IF(ISBLANK(J8),\" \",(LOOKUP(J8,'Component Weights'!$B$16:$J$16,'Component Weights'!$B$17:$J$17)*$AA$12))","v":0.12},0.78,6,null,0.78,null,"Made from Natural Materials",0.05,"L","The amount, expressed as a percentage, of natural (not man-made) materials used to make the product."]
["Concrete Tile or Shingles",null,null,"N","L","L","L",null,"M","H",{"$f":"SUM(IF(ISBLANK(C9),,LOOKUP(C9,'Component Weights'!$B$16:$J$16,'Component Weights'!$B$17:$J$17)),IF(ISBLANK(D9),,LOOKUP(D9,'Component Weights'!$B$16:$J$16,'Component Weights'!$B$17:$J$17)),IF(ISBLANK(E9),,LOOKUP(E9,'Component Weights'!$B$16:$J$16,'Component Weights'!$B$17:$J$17)),IF(ISBLANK(F9),,LOOKUP(F9,'Component Weights'!$B$16:$J$16,'Component Weights'!$B$17:$J$17)),IF(ISBLANK(G9),,LOOKUP(G9,'Component Weights'!$B$16:$J$16,'Component Weights'!$B$17:$J$17)),IF(ISBLANK(B9),,LOOKUP(B9,'Component Weights'!$B$16:$J$16,'Component Weights'!$B$17:$J$17)),IF(ISBLANK(H9),,LOOKUP(H9,'Component Weights'!$B$16:$J$16,'Component Weights'!$B$17:$J$17)),IF(ISBLANK(I9),,LOOKUP(I9,'Component Weights'!$B$16:$J$16,'Component Weights'!$B$17:$J$17)),IF(ISBLANK(J9),,LOOKUP(J9,'Component Weights'!$B$16:$J$16,'Component Weights'!$B$17:$J$17)))","v":8},{"$f":"IF(ISBLANK(C9),\" \",(LOOKUP(C9,'Component Weights'!$B$16:$J$16,'Component Weights'!$B$17:$J$17)*$AA$4))","v":" "},{"$f":"IF(ISBLANK(D9),\" \",(LOOKUP(D9,'Component Weights'!$B$16:$J$16,'Component Weights'!$B$17:$J$17)*$AA$5))","v":0},{"$f":"IF(ISBLANK(E9),\" \",(LOOKUP(E9,'Component Weights'!$B$16:$J$16,'Component Weights'!$B$17:$J$17)*$AA$6))","v":0.08},{"$f":"IF(ISBLANK(F9),\" \",(LOOKUP(F9,'Component Weights'!$B$16:$J$16,'Component Weights'!$B$17:$J$17)*$AA$7))","v":0.12},{"$f":"IF(ISBLANK(G9),\" \",(LOOKUP(G9,'Component Weights'!$B$16:$J$16,'Component Weights'!$B$17:$J$17)*$AA$8))","v":0.05},{"$f":"IF(ISBLANK(B9),\" \",(LOOKUP(B9,'Component Weights'!$B$16:$J$16,'Component Weights'!$B$17:$J$17)*$AA$9))","v":" "},{"$f":"IF(ISBLANK(H9),\" \",(LOOKUP(H9,'Component Weights'!$B$16:$J$16,'Component Weights'!$B$17:$J$17)*$AA$10))","v":" "},{"$f":"IF(ISBLANK(I9),\" \",(LOOKUP(I9,'Component Weights'!$B$16:$J$16,'Component Weights'!$B$17:$J$17)*$AA$11))","v":0.16},{"$f":"IF(ISBLANK(J9),\" \",(LOOKUP(J9,'Component Weights'!$B$16:$J$16,'Component Weights'!$B$17:$J$17)*$AA$12))","v":0.36},0.77,8,null,{"$f":"U9","v":0.77},null,"Available Locally",0.23,"H+","The distance in miles that the product must travel to the destination of final use."]
["Simulated Tile",null,null,"M","L","N","M",null,"L","M",{"$f":"SUM(IF(ISBLANK(C10),,LOOKUP(C10,'Component Weights'!$B$16:$J$16,'Component Weights'!$B$17:$J$17)),IF(ISBLANK(D10),,LOOKUP(D10,'Component Weights'!$B$16:$J$16,'Component Weights'!$B$17:$J$17)),IF(ISBLANK(E10),,LOOKUP(E10,'Component Weights'!$B$16:$J$16,'Component Weights'!$B$17:$J$17)),IF(ISBLANK(F10),,LOOKUP(F10,'Component Weights'!$B$16:$J$16,'Component Weights'!$B$17:$J$17)),IF(ISBLANK(G10),,LOOKUP(G10,'Component Weights'!$B$16:$J$16,'Component Weights'!$B$17:$J$17)),IF(ISBLANK(B10),,LOOKUP(B10,'Component Weights'!$B$16:$J$16,'Component Weights'!$B$17:$J$17)),IF(ISBLANK(H10),,LOOKUP(H10,'Component Weights'!$B$16:$J$16,'Component Weights'!$B$17:$J$17)),IF(ISBLANK(I10),,LOOKUP(I10,'Component Weights'!$B$16:$J$16,'Component Weights'!$B$17:$J$17)),IF(ISBLANK(J10),,LOOKUP(J10,'Component Weights'!$B$16:$J$16,'Component Weights'!$B$17:$J$17)))","v":8},{"$f":"IF(ISBLANK(C10),\" \",(LOOKUP(C10,'Component Weights'!$B$16:$J$16,'Component Weights'!$B$17:$J$17)*$AA$4))","v":" "},{"$f":"IF(ISBLANK(D10),\" \",(LOOKUP(D10,'Component Weights'!$B$16:$J$16,'Component Weights'!$B$17:$J$17)*$AA$5))","v":0.24},{"$f":"IF(ISBLANK(E10),\" \",(LOOKUP(E10,'Component Weights'!$B$16:$J$16,'Component Weights'!$B$17:$J$17)*$AA$6))","v":0.08},{"$f":"IF(ISBLANK(F10),\" \",(LOOKUP(F10,'Component Weights'!$B$16:$J$16,'Component Weights'!$B$17:$J$17)*$AA$7))","v":0},{"$f":"IF(ISBLANK(G10),\" \",(LOOKUP(G10,'Component Weights'!$B$16:$J$16,'Component Weights'!$B$17:$J$17)*$AA$8))","v":0.1},{"$f":"IF(ISBLANK(B10),\" \",(LOOKUP(B10,'Component Weights'!$B$16:$J$16,'Component Weights'!$B$17:$J$17)*$AA$9))","v":" "},{"$f":"IF(ISBLANK(H10),\" \",(LOOKUP(H10,'Component Weights'!$B$16:$J$16,'Component Weights'!$B$17:$J$17)*$AA$10))","v":" "},{"$f":"IF(ISBLANK(I10),\" \",(LOOKUP(I10,'Component Weights'!$B$16:$J$16,'Component Weights'!$B$17:$J$17)*$AA$11))","v":0.08},{"$f":"IF(ISBLANK(J10),\" \",(LOOKUP(J10,'Component Weights'!$B$16:$J$16,'Component Weights'!$B$17:$J$17)*$AA$12))","v":0.24},0.74,9,null,0.74,null,"Low Emissions Potential",0.12,"H","The amount of time it will take the product to stop outgassing."]
["Metal Roofing, Seamed",null,null,"L","L","N","N",null,"M","M",{"$f":"SUM(IF(ISBLANK(C11),,LOOKUP(C11,'Component Weights'!$B$16:$J$16,'Component Weights'!$B$17:$J$17)),IF(ISBLANK(D11),,LOOKUP(D11,'Component Weights'!$B$16:$J$16,'Component Weights'!$B$17:$J$17)),IF(ISBLANK(E11),,LOOKUP(E11,'Component Weights'!$B$16:$J$16,'Component Weights'!$B$17:$J$17)),IF(ISBLANK(F11),,LOOKUP(F11,'Component Weights'!$B$16:$J$16,'Component Weights'!$B$17:$J$17)),IF(ISBLANK(G11),,LOOKUP(G11,'Component Weights'!$B$16:$J$16,'Component Weights'!$B$17:$J$17)),IF(ISBLANK(B11),,LOOKUP(B11,'Component Weights'!$B$16:$J$16,'Component Weights'!$B$17:$J$17)),IF(ISBLANK(H11),,LOOKUP(H11,'Component Weights'!$B$16:$J$16,'Component Weights'!$B$17:$J$17)),IF(ISBLANK(I11),,LOOKUP(I11,'Component Weights'!$B$16:$J$16,'Component Weights'!$B$17:$J$17)),IF(ISBLANK(J11),,LOOKUP(J11,'Component Weights'!$B$16:$J$16,'Component Weights'!$B$17:$J$17)))","v":6},{"$f":"IF(ISBLANK(C11),\" \",(LOOKUP(C11,'Component Weights'!$B$16:$J$16,'Component Weights'!$B$17:$J$17)*$AA$4))","v":" "},{"$f":"IF(ISBLANK(D11),\" \",(LOOKUP(D11,'Component Weights'!$B$16:$J$16,'Component Weights'!$B$17:$J$17)*$AA$5))","v":0.12},{"$f":"IF(ISBLANK(E11),\" \",(LOOKUP(E11,'Component Weights'!$B$16:$J$16,'Component Weights'!$B$17:$J$17)*$AA$6))","v":0.08},{"$f":"IF(ISBLANK(F11),\" \",(LOOKUP(F11,'Component Weights'!$B$16:$J$16,'Component Weights'!$B$17:$J$17)*$AA$7))","v":0},{"$f":"IF(ISBLANK(G11),\" \",(LOOKUP(G11,'Component Weights'!$B$16:$J$16,'Component Weights'!$B$17:$J$17)*$AA$8))","v":0},{"$f":"IF(ISBLANK(B11),\" \",(LOOKUP(B11,'Component Weights'!$B$16:$J$16,'Component Weights'!$B$17:$J$17)*$AA$9))","v":" "},{"$f":"IF(ISBLANK(H11),\" \",(LOOKUP(H11,'Component Weights'!$B$16:$J$16,'Component Weights'!$B$17:$J$17)*$AA$10))","v":" "},{"$f":"IF(ISBLANK(I11),\" \",(LOOKUP(I11,'Component Weights'!$B$16:$J$16,'Component Weights'!$B$17:$J$17)*$AA$11))","v":0.16},{"$f":"IF(ISBLANK(J11),\" \",(LOOKUP(J11,'Component Weights'!$B$16:$J$16,'Component Weights'!$B$17:$J$17)*$AA$12))","v":0.24},0.6,10,null,0.6,null,"Listed in Other Programs (e.g. EnergyStar)",0.08,"M","The level of product recommendation in recognized energy and environmental programs."]
["Metal Roofing, Seamlesss",null,null,"L","L","N","N",null,"M","M",{"$f":"SUM(IF(ISBLANK(C12),,LOOKUP(C12,'Component Weights'!$B$16:$J$16,'Component Weights'!$B$17:$J$17)),IF(ISBLANK(D12),,LOOKUP(D12,'Component Weights'!$B$16:$J$16,'Component Weights'!$B$17:$J$17)),IF(ISBLANK(E12),,LOOKUP(E12,'Component Weights'!$B$16:$J$16,'Component Weights'!$B$17:$J$17)),IF(ISBLANK(F12),,LOOKUP(F12,'Component Weights'!$B$16:$J$16,'Component Weights'!$B$17:$J$17)),IF(ISBLANK(G12),,LOOKUP(G12,'Component Weights'!$B$16:$J$16,'Component Weights'!$B$17:$J$17)),IF(ISBLANK(B12),,LOOKUP(B12,'Component Weights'!$B$16:$J$16,'Component Weights'!$B$17:$J$17)),IF(ISBLANK(H12),,LOOKUP(H12,'Component Weights'!$B$16:$J$16,'Component Weights'!$B$17:$J$17)),IF(ISBLANK(I12),,LOOKUP(I12,'Component Weights'!$B$16:$J$16,'Component Weights'!$B$17:$J$17)),IF(ISBLANK(J12),,LOOKUP(J12,'Component Weights'!$B$16:$J$16,'Component Weights'!$B$17:$J$17)))","v":6},{"$f":"IF(ISBLANK(C12),\" \",(LOOKUP(C12,'Component Weights'!$B$16:$J$16,'Component Weights'!$B$17:$J$17)*$AA$4))","v":" "},{"$f":"IF(ISBLANK(D12),\" \",(LOOKUP(D12,'Component Weights'!$B$16:$J$16,'Component Weights'!$B$17:$J$17)*$AA$5))","v":0.12},{"$f":"IF(ISBLANK(E12),\" \",(LOOKUP(E12,'Component Weights'!$B$16:$J$16,'Component Weights'!$B$17:$J$17)*$AA$6))","v":0.08},{"$f":"IF(ISBLANK(F12),\" \",(LOOKUP(F12,'Component Weights'!$B$16:$J$16,'Component Weights'!$B$17:$J$17)*$AA$7))","v":0},{"$f":"IF(ISBLANK(G12),\" \",(LOOKUP(G12,'Component Weights'!$B$16:$J$16,'Component Weights'!$B$17:$J$17)*$AA$8))","v":0},{"$f":"IF(ISBLANK(B12),\" \",(LOOKUP(B12,'Component Weights'!$B$16:$J$16,'Component Weights'!$B$17:$J$17)*$AA$9))","v":" "},{"$f":"IF(ISBLANK(H12),\" \",(LOOKUP(H12,'Component Weights'!$B$16:$J$16,'Component Weights'!$B$17:$J$17)*$AA$10))","v":" "},{"$f":"IF(ISBLANK(I12),\" \",(LOOKUP(I12,'Component Weights'!$B$16:$J$16,'Component Weights'!$B$17:$J$17)*$AA$11))","v":0.16},{"$f":"IF(ISBLANK(J12),\" \",(LOOKUP(J12,'Component Weights'!$B$16:$J$16,'Component Weights'!$B$17:$J$17)*$AA$12))","v":0.24},0.6,10,null,0.6,null,"Non Hazardous as Waste",0.12,"H","The amount of hazardous materials and components found in the product."]
["Metal Roofing w/Laminated Solar Electric Panels",null,null,"L","N","N","N",null,"H","L",{"$f":"SUM(IF(ISBLANK(C13),,LOOKUP(C13,'Component Weights'!$B$16:$J$16,'Component Weights'!$B$17:$J$17)),IF(ISBLANK(D13),,LOOKUP(D13,'Component Weights'!$B$16:$J$16,'Component Weights'!$B$17:$J$17)),IF(ISBLANK(E13),,LOOKUP(E13,'Component Weights'!$B$16:$J$16,'Component Weights'!$B$17:$J$17)),IF(ISBLANK(F13),,LOOKUP(F13,'Component Weights'!$B$16:$J$16,'Component Weights'!$B$17:$J$17)),IF(ISBLANK(G13),,LOOKUP(G13,'Component Weights'!$B$16:$J$16,'Component Weights'!$B$17:$J$17)),IF(ISBLANK(B13),,LOOKUP(B13,'Component Weights'!$B$16:$J$16,'Component Weights'!$B$17:$J$17)),IF(ISBLANK(H13),,LOOKUP(H13,'Component Weights'!$B$16:$J$16,'Component Weights'!$B$17:$J$17)),IF(ISBLANK(I13),,LOOKUP(I13,'Component Weights'!$B$16:$J$16,'Component Weights'!$B$17:$J$17)),IF(ISBLANK(J13),,LOOKUP(J13,'Component Weights'!$B$16:$J$16,'Component Weights'!$B$17:$J$17)))","v":5},{"$f":"IF(ISBLANK(C13),\" \",(LOOKUP(C13,'Component Weights'!$B$16:$J$16,'Component Weights'!$B$17:$J$17)*$AA$4))","v":" "},{"$f":"IF(ISBLANK(D13),\" \",(LOOKUP(D13,'Component Weights'!$B$16:$J$16,'Component Weights'!$B$17:$J$17)*$AA$5))","v":0.12},{"$f":"IF(ISBLANK(E13),\" \",(LOOKUP(E13,'Component Weights'!$B$16:$J$16,'Component Weights'!$B$17:$J$17)*$AA$6))","v":0},{"$f":"IF(ISBLANK(F13),\" \",(LOOKUP(F13,'Component Weights'!$B$16:$J$16,'Component Weights'!$B$17:$J$17)*$AA$7))","v":0},{"$f":"IF(ISBLANK(G13),\" \",(LOOKUP(G13,'Component Weights'!$B$16:$J$16,'Component Weights'!$B$17:$J$17)*$AA$8))","v":0},{"$f":"IF(ISBLANK(B13),\" \",(LOOKUP(B13,'Component Weights'!$B$16:$J$16,'Component Weights'!$B$17:$J$17)*$AA$9))","v":" "},{"$f":"IF(ISBLANK(H13),\" \",(LOOKUP(H13,'Component Weights'!$B$16:$J$16,'Component Weights'!$B$17:$J$17)*$AA$10))","v":" "},{"$f":"IF(ISBLANK(I13),\" \",(LOOKUP(I13,'Component Weights'!$B$16:$J$16,'Component Weights'!$B$17:$J$17)*$AA$11))","v":0.24},{"$f":"IF(ISBLANK(J13),\" \",(LOOKUP(J13,'Component Weights'!$B$16:$J$16,'Component Weights'!$B$17:$J$17)*$AA$12))","v":0.12},0.48,12,null,0.48,null,"Total Weightings Must Equal 100%",{"$f":"SUM(AA4:AA12)","v":1},null,{"$f":"IF(AA13<>100%,\"Keep Working - Weightings must equal 100%\",\" \")","v":" "}]
["Simulated Shingles w/Integrated Solar Electric Panels",null,null,"N","N","N","N",null,"H","L",{"$f":"SUM(IF(ISBLANK(C14),,LOOKUP(C14,'Component Weights'!$B$16:$J$16,'Component Weights'!$B$17:$J$17)),IF(ISBLANK(D14),,LOOKUP(D14,'Component Weights'!$B$16:$J$16,'Component Weights'!$B$17:$J$17)),IF(ISBLANK(E14),,LOOKUP(E14,'Component Weights'!$B$16:$J$16,'Component Weights'!$B$17:$J$17)),IF(ISBLANK(F14),,LOOKUP(F14,'Component Weights'!$B$16:$J$16,'Component Weights'!$B$17:$J$17)),IF(ISBLANK(G14),,LOOKUP(G14,'Component Weights'!$B$16:$J$16,'Component Weights'!$B$17:$J$17)),IF(ISBLANK(B14),,LOOKUP(B14,'Component Weights'!$B$16:$J$16,'Component Weights'!$B$17:$J$17)),IF(ISBLANK(H14),,LOOKUP(H14,'Component Weights'!$B$16:$J$16,'Component Weights'!$B$17:$J$17)),IF(ISBLANK(I14),,LOOKUP(I14,'Component Weights'!$B$16:$J$16,'Component Weights'!$B$17:$J$17)),IF(ISBLANK(J14),,LOOKUP(J14,'Component Weights'!$B$16:$J$16,'Component Weights'!$B$17:$J$17)))","v":4},{"$f":"IF(ISBLANK(C14),\" \",(LOOKUP(C14,'Component Weights'!$B$16:$J$16,'Component Weights'!$B$17:$J$17)*$AA$4))","v":" "},{"$f":"IF(ISBLANK(D14),\" \",(LOOKUP(D14,'Component Weights'!$B$16:$J$16,'Component Weights'!$B$17:$J$17)*$AA$5))","v":0},{"$f":"IF(ISBLANK(E14),\" \",(LOOKUP(E14,'Component Weights'!$B$16:$J$16,'Component Weights'!$B$17:$J$17)*$AA$6))","v":0},{"$f":"IF(ISBLANK(F14),\" \",(LOOKUP(F14,'Component Weights'!$B$16:$J$16,'Component Weights'!$B$17:$J$17)*$AA$7))","v":0},{"$f":"IF(ISBLANK(G14),\" \",(LOOKUP(G14,'Component Weights'!$B$16:$J$16,'Component Weights'!$B$17:$J$17)*$AA$8))","v":0},{"$f":"IF(ISBLANK(B14),\" \",(LOOKUP(B14,'Component Weights'!$B$16:$J$16,'Component Weights'!$B$17:$J$17)*$AA$9))","v":" "},{"$f":"IF(ISBLANK(H14),\" \",(LOOKUP(H14,'Component Weights'!$B$16:$J$16,'Component Weights'!$B$17:$J$17)*$AA$10))","v":" "},{"$f":"IF(ISBLANK(I14),\" \",(LOOKUP(I14,'Component Weights'!$B$16:$J$16,'Component Weights'!$B$17:$J$17)*$AA$11))","v":0.24},{"$f":"IF(ISBLANK(J14),\" \",(LOOKUP(J14,'Component Weights'!$B$16:$J$16,'Component Weights'!$B$17:$J$17)*$AA$12))","v":0.12},0.36,13,null,0.36]
["(Enter Custom Product Here)",null,null,null,null,null,null,null,null,null,{"$f":"SUM(IF(ISBLANK(C15),,LOOKUP(C15,'Component Weights'!$B$16:$J$16,'Component Weights'!$B$17:$J$17)),IF(ISBLANK(D15),,LOOKUP(D15,'Component Weights'!$B$16:$J$16,'Component Weights'!$B$17:$J$17)),IF(ISBLANK(E15),,LOOKUP(E15,'Component Weights'!$B$16:$J$16,'Component Weights'!$B$17:$J$17)),IF(ISBLANK(F15),,LOOKUP(F15,'Component Weights'!$B$16:$J$16,'Component Weights'!$B$17:$J$17)),IF(ISBLANK(G15),,LOOKUP(G15,'Component Weights'!$B$16:$J$16,'Component Weights'!$B$17:$J$17)),IF(ISBLANK(B15),,LOOKUP(B15,'Component Weights'!$B$16:$J$16,'Component Weights'!$B$17:$J$17)),IF(ISBLANK(H15),,LOOKUP(H15,'Component Weights'!$B$16:$J$16,'Component Weights'!$B$17:$J$17)),IF(ISBLANK(I15),,LOOKUP(I15,'Component Weights'!$B$16:$J$16,'Component Weights'!$B$17:$J$17)),IF(ISBLANK(J15),,LOOKUP(J15,'Component Weights'!$B$16:$J$16,'Component Weights'!$B$17:$J$17)))","v":0},{"$f":"IF(ISBLANK(C15),\" \",(LOOKUP(C15,'Component Weights'!$B$16:$J$16,'Component Weights'!$B$17:$J$17)*$AA$4))","v":" "},{"$f":"IF(ISBLANK(D15),\" \",(LOOKUP(D15,'Component Weights'!$B$16:$J$16,'Component Weights'!$B$17:$J$17)*$AA$5))","v":" "},{"$f":"IF(ISBLANK(E15),\" \",(LOOKUP(E15,'Component Weights'!$B$16:$J$16,'Component Weights'!$B$17:$J$17)*$AA$6))","v":" "},{"$f":"IF(ISBLANK(F15),\" \",(LOOKUP(F15,'Component Weights'!$B$16:$J$16,'Component Weights'!$B$17:$J$17)*$AA$7))","v":" "},{"$f":"IF(ISBLANK(G15),\" \",(LOOKUP(G15,'Component Weights'!$B$16:$J$16,'Component Weights'!$B$17:$J$17)*$AA$8))","v":" "},{"$f":"IF(ISBLANK(B15),\" \",(LOOKUP(B15,'Component Weights'!$B$16:$J$16,'Component Weights'!$B$17:$J$17)*$AA$9))","v":" "},{"$f":"IF(ISBLANK(H15),\" \",(LOOKUP(H15,'Component Weights'!$B$16:$J$16,'Component Weights'!$B$17:$J$17)*$AA$10))","v":" "},{"$f":"IF(ISBLANK(I15),\" \",(LOOKUP(I15,'Component Weights'!$B$16:$J$16,'Component Weights'!$B$17:$J$17)*$AA$11))","v":" "},{"$f":"IF(ISBLANK(J15),\" \",(LOOKUP(J15,'Component Weights'!$B$16:$J$16,'Component Weights'!$B$17:$J$17)*$AA$12))","v":" "},0,99,null,0]
["(Enter Custom Product Here)",null,null,null,null,null,null,null,null,null,{"$f":"SUM(IF(ISBLANK(C16),,LOOKUP(C16,'Component Weights'!$B$16:$J$16,'Component Weights'!$B$17:$J$17)),IF(ISBLANK(D16),,LOOKUP(D16,'Component Weights'!$B$16:$J$16,'Component Weights'!$B$17:$J$17)),IF(ISBLANK(E16),,LOOKUP(E16,'Component Weights'!$B$16:$J$16,'Component Weights'!$B$17:$J$17)),IF(ISBLANK(F16),,LOOKUP(F16,'Component Weights'!$B$16:$J$16,'Component Weights'!$B$17:$J$17)),IF(ISBLANK(G16),,LOOKUP(G16,'Component Weights'!$B$16:$J$16,'Component Weights'!$B$17:$J$17)),IF(ISBLANK(B16),,LOOKUP(B16,'Component Weights'!$B$16:$J$16,'Component Weights'!$B$17:$J$17)),IF(ISBLANK(H16),,LOOKUP(H16,'Component Weights'!$B$16:$J$16,'Component Weights'!$B$17:$J$17)),IF(ISBLANK(I16),,LOOKUP(I16,'Component Weights'!$B$16:$J$16,'Component Weights'!$B$17:$J$17)),IF(ISBLANK(J16),,LOOKUP(J16,'Component Weights'!$B$16:$J$16,'Component Weights'!$B$17:$J$17)))","v":0},{"$f":"IF(ISBLANK(C16),\" \",(LOOKUP(C16,'Component Weights'!$B$16:$J$16,'Component Weights'!$B$17:$J$17)*$AA$4))","v":" "},{"$f":"IF(ISBLANK(D16),\" \",(LOOKUP(D16,'Component Weights'!$B$16:$J$16,'Component Weights'!$B$17:$J$17)*$AA$5))","v":" "},{"$f":"IF(ISBLANK(E16),\" \",(LOOKUP(E16,'Component Weights'!$B$16:$J$16,'Component Weights'!$B$17:$J$17)*$AA$6))","v":" "},{"$f":"IF(ISBLANK(F16),\" \",(LOOKUP(F16,'Component Weights'!$B$16:$J$16,'Component Weights'!$B$17:$J$17)*$AA$7))","v":" "},{"$f":"IF(ISBLANK(G16),\" \",(LOOKUP(G16,'Component Weights'!$B$16:$J$16,'Component Weights'!$B$17:$J$17)*$AA$8))","v":" "},{"$f":"IF(ISBLANK(B16),\" \",(LOOKUP(B16,'Component Weights'!$B$16:$J$16,'Component Weights'!$B$17:$J$17)*$AA$9))","v":" "},{"$f":"IF(ISBLANK(H16),\" \",(LOOKUP(H16,'Component Weights'!$B$16:$J$16,'Component Weights'!$B$17:$J$17)*$AA$10))","v":" "},{"$f":"IF(ISBLANK(I16),\" \",(LOOKUP(I16,'Component Weights'!$B$16:$J$16,'Component Weights'!$B$17:$J$17)*$AA$11))","v":" "},{"$f":"IF(ISBLANK(J16),\" \",(LOOKUP(J16,'Component Weights'!$B$16:$J$16,'Component Weights'!$B$17:$J$17)*$AA$12))","v":" "},0,99,null,{"$f":"U16","v":0}]
["(Enter Custom Product Here)",null,null,null,null,null,null,null,null,null,{"$f":"SUM(IF(ISBLANK(C17),,LOOKUP(C17,'Component Weights'!$B$16:$J$16,'Component Weights'!$B$17:$J$17)),IF(ISBLANK(D17),,LOOKUP(D17,'Component Weights'!$B$16:$J$16,'Component Weights'!$B$17:$J$17)),IF(ISBLANK(E17),,LOOKUP(E17,'Component Weights'!$B$16:$J$16,'Component Weights'!$B$17:$J$17)),IF(ISBLANK(F17),,LOOKUP(F17,'Component Weights'!$B$16:$J$16,'Component Weights'!$B$17:$J$17)),IF(ISBLANK(G17),,LOOKUP(G17,'Component Weights'!$B$16:$J$16,'Component Weights'!$B$17:$J$17)),IF(ISBLANK(B17),,LOOKUP(B17,'Component Weights'!$B$16:$J$16,'Component Weights'!$B$17:$J$17)),IF(ISBLANK(H17),,LOOKUP(H17,'Component Weights'!$B$16:$J$16,'Component Weights'!$B$17:$J$17)),IF(ISBLANK(I17),,LOOKUP(I17,'Component Weights'!$B$16:$J$16,'Component Weights'!$B$17:$J$17)),IF(ISBLANK(J17),,LOOKUP(J17,'Component Weights'!$B$16:$J$16,'Component Weights'!$B$17:$J$17)))","v":0},{"$f":"IF(ISBLANK(C17),\" \",(LOOKUP(C17,'Component Weights'!$B$16:$J$16,'Component Weights'!$B$17:$J$17)*$AA$4))","v":" "},{"$f":"IF(ISBLANK(D17),\" \",(LOOKUP(D17,'Component Weights'!$B$16:$J$16,'Component Weights'!$B$17:$J$17)*$AA$5))","v":" "},{"$f":"IF(ISBLANK(E17),\" \",(LOOKUP(E17,'Component Weights'!$B$16:$J$16,'Component Weights'!$B$17:$J$17)*$AA$6))","v":" "},{"$f":"IF(ISBLANK(F17),\" \",(LOOKUP(F17,'Component Weights'!$B$16:$J$16,'Component Weights'!$B$17:$J$17)*$AA$7))","v":" "},{"$f":"IF(ISBLANK(G17),\" \",(LOOKUP(G17,'Component Weights'!$B$16:$J$16,'Component Weights'!$B$17:$J$17)*$AA$8))","v":" "},{"$f":"IF(ISBLANK(B17),\" \",(LOOKUP(B17,'Component Weights'!$B$16:$J$16,'Component Weights'!$B$17:$J$17)*$AA$9))","v":" "},{"$f":"IF(ISBLANK(H17),\" \",(LOOKUP(H17,'Component Weights'!$B$16:$J$16,'Component Weights'!$B$17:$J$17)*$AA$10))","v":" "},{"$f":"IF(ISBLANK(I17),\" \",(LOOKUP(I17,'Component Weights'!$B$16:$J$16,'Component Weights'!$B$17:$J$17)*$AA$11))","v":" "},{"$f":"IF(ISBLANK(J17),\" \",(LOOKUP(J17,'Component Weights'!$B$16:$J$16,'Component Weights'!$B$17:$J$17)*$AA$12))","v":" "},0,99,null,{"$f":"U17","v":0}]
["(Enter Custom Product Here)",null,null,null,null,null,null,null,null,null,{"$f":"SUM(IF(ISBLANK(C18),,LOOKUP(C18,'Component Weights'!$B$16:$J$16,'Component Weights'!$B$17:$J$17)),IF(ISBLANK(D18),,LOOKUP(D18,'Component Weights'!$B$16:$J$16,'Component Weights'!$B$17:$J$17)),IF(ISBLANK(E18),,LOOKUP(E18,'Component Weights'!$B$16:$J$16,'Component Weights'!$B$17:$J$17)),IF(ISBLANK(F18),,LOOKUP(F18,'Component Weights'!$B$16:$J$16,'Component Weights'!$B$17:$J$17)),IF(ISBLANK(G18),,LOOKUP(G18,'Component Weights'!$B$16:$J$16,'Component Weights'!$B$17:$J$17)),IF(ISBLANK(B18),,LOOKUP(B18,'Component Weights'!$B$16:$J$16,'Component Weights'!$B$17:$J$17)),IF(ISBLANK(H18),,LOOKUP(H18,'Component Weights'!$B$16:$J$16,'Component Weights'!$B$17:$J$17)),IF(ISBLANK(I18),,LOOKUP(I18,'Component Weights'!$B$16:$J$16,'Component Weights'!$B$17:$J$17)),IF(ISBLANK(J18),,LOOKUP(J18,'Component Weights'!$B$16:$J$16,'Component Weights'!$B$17:$J$17)))","v":0},{"$f":"IF(ISBLANK(C18),\" \",(LOOKUP(C18,'Component Weights'!$B$16:$J$16,'Component Weights'!$B$17:$J$17)*$AA$4))","v":" "},{"$f":"IF(ISBLANK(D18),\" \",(LOOKUP(D18,'Component Weights'!$B$16:$J$16,'Component Weights'!$B$17:$J$17)*$AA$5))","v":" "},{"$f":"IF(ISBLANK(E18),\" \",(LOOKUP(E18,'Component Weights'!$B$16:$J$16,'Component Weights'!$B$17:$J$17)*$AA$6))","v":" "},{"$f":"IF(ISBLANK(F18),\" \",(LOOKUP(F18,'Component Weights'!$B$16:$J$16,'Component Weights'!$B$17:$J$17)*$AA$7))","v":" "},{"$f":"IF(ISBLANK(G18),\" \",(LOOKUP(G18,'Component Weights'!$B$16:$J$16,'Component Weights'!$B$17:$J$17)*$AA$8))","v":" "},{"$f":"IF(ISBLANK(B18),\" \",(LOOKUP(B18,'Component Weights'!$B$16:$J$16,'Component Weights'!$B$17:$J$17)*$AA$9))","v":" "},{"$f":"IF(ISBLANK(H18),\" \",(LOOKUP(H18,'Component Weights'!$B$16:$J$16,'Component Weights'!$B$17:$J$17)*$AA$10))","v":" "},{"$f":"IF(ISBLANK(I18),\" \",(LOOKUP(I18,'Component Weights'!$B$16:$J$16,'Component Weights'!$B$17:$J$17)*$AA$11))","v":" "},{"$f":"IF(ISBLANK(J18),\" \",(LOOKUP(J18,'Component Weights'!$B$16:$J$16,'Component Weights'!$B$17:$J$17)*$AA$12))","v":" "},0,99,null,{"$f":"U18","v":0}]
["(Enter Custom Product Here)",null,null,null,null,null,null,null,null,null,{"$f":"SUM(IF(ISBLANK(C19),,LOOKUP(C19,'Component Weights'!$B$16:$J$16,'Component Weights'!$B$17:$J$17)),IF(ISBLANK(D19),,LOOKUP(D19,'Component Weights'!$B$16:$J$16,'Component Weights'!$B$17:$J$17)),IF(ISBLANK(E19),,LOOKUP(E19,'Component Weights'!$B$16:$J$16,'Component Weights'!$B$17:$J$17)),IF(ISBLANK(F19),,LOOKUP(F19,'Component Weights'!$B$16:$J$16,'Component Weights'!$B$17:$J$17)),IF(ISBLANK(G19),,LOOKUP(G19,'Component Weights'!$B$16:$J$16,'Component Weights'!$B$17:$J$17)),IF(ISBLANK(B19),,LOOKUP(B19,'Component Weights'!$B$16:$J$16,'Component Weights'!$B$17:$J$17)),IF(ISBLANK(H19),,LOOKUP(H19,'Component Weights'!$B$16:$J$16,'Component Weights'!$B$17:$J$17)),IF(ISBLANK(I19),,LOOKUP(I19,'Component Weights'!$B$16:$J$16,'Component Weights'!$B$17:$J$17)),IF(ISBLANK(J19),,LOOKUP(J19,'Component Weights'!$B$16:$J$16,'Component Weights'!$B$17:$J$17)))","v":0},{"$f":"IF(ISBLANK(C19),\" \",(LOOKUP(C19,'Component Weights'!$B$16:$J$16,'Component Weights'!$B$17:$J$17)*$AA$4))","v":" "},{"$f":"IF(ISBLANK(D19),\" \",(LOOKUP(D19,'Component Weights'!$B$16:$J$16,'Component Weights'!$B$17:$J$17)*$AA$5))","v":" "},{"$f":"IF(ISBLANK(E19),\" \",(LOOKUP(E19,'Component Weights'!$B$16:$J$16,'Component Weights'!$B$17:$J$17)*$AA$6))","v":" "},{"$f":"IF(ISBLANK(F19),\" \",(LOOKUP(F19,'Component Weights'!$B$16:$J$16,'Component Weights'!$B$17:$J$17)*$AA$7))","v":" "},{"$f":"IF(ISBLANK(G19),\" \",(LOOKUP(G19,'Component Weights'!$B$16:$J$16,'Component Weights'!$B$17:$J$17)*$AA$8))","v":" "},{"$f":"IF(ISBLANK(B19),\" \",(LOOKUP(B19,'Component Weights'!$B$16:$J$16,'Component Weights'!$B$17:$J$17)*$AA$9))","v":" "},{"$f":"IF(ISBLANK(H19),\" \",(LOOKUP(H19,'Component Weights'!$B$16:$J$16,'Component Weights'!$B$17:$J$17)*$AA$10))","v":" "},{"$f":"IF(ISBLANK(I19),\" \",(LOOKUP(I19,'Component Weights'!$B$16:$J$16,'Component Weights'!$B$17:$J$17)*$AA$11))","v":" "},{"$f":"IF(ISBLANK(J19),\" \",(LOOKUP(J19,'Component Weights'!$B$16:$J$16,'Component Weights'!$B$17:$J$17)*$AA$12))","v":" "},0,99,null,{"$f":"U19","v":0}]
["(Enter Custom Product Here)",null,null,null,null,null,null,null,null,null,{"$f":"SUM(IF(ISBLANK(C20),,LOOKUP(C20,'Component Weights'!$B$16:$J$16,'Component Weights'!$B$17:$J$17)),IF(ISBLANK(D20),,LOOKUP(D20,'Component Weights'!$B$16:$J$16,'Component Weights'!$B$17:$J$17)),IF(ISBLANK(E20),,LOOKUP(E20,'Component Weights'!$B$16:$J$16,'Component Weights'!$B$17:$J$17)),IF(ISBLANK(F20),,LOOKUP(F20,'Component Weights'!$B$16:$J$16,'Component Weights'!$B$17:$J$17)),IF(ISBLANK(G20),,LOOKUP(G20,'Component Weights'!$B$16:$J$16,'Component Weights'!$B$17:$J$17)),IF(ISBLANK(B20),,LOOKUP(B20,'Component Weights'!$B$16:$J$16,'Component Weights'!$B$17:$J$17)),IF(ISBLANK(H20),,LOOKUP(H20,'Component Weights'!$B$16:$J$16,'Component Weights'!$B$17:$J$17)),IF(ISBLANK(I20),,LOOKUP(I20,'Component Weights'!$B$16:$J$16,'Component Weights'!$B$17:$J$17)),IF(ISBLANK(J20),,LOOKUP(J20,'Component Weights'!$B$16:$J$16,'Component Weights'!$B$17:$J$17)))","v":0},{"$f":"IF(ISBLANK(C20),\" \",(LOOKUP(C20,'Component Weights'!$B$16:$J$16,'Component Weights'!$B$17:$J$17)*$AA$4))","v":" "},{"$f":"IF(ISBLANK(D20),\" \",(LOOKUP(D20,'Component Weights'!$B$16:$J$16,'Component Weights'!$B$17:$J$17)*$AA$5))","v":" "},{"$f":"IF(ISBLANK(E20),\" \",(LOOKUP(E20,'Component Weights'!$B$16:$J$16,'Component Weights'!$B$17:$J$17)*$AA$6))","v":" "},{"$f":"IF(ISBLANK(F20),\" \",(LOOKUP(F20,'Component Weights'!$B$16:$J$16,'Component Weights'!$B$17:$J$17)*$AA$7))","v":" "},{"$f":"IF(ISBLANK(G20),\" \",(LOOKUP(G20,'Component Weights'!$B$16:$J$16,'Component Weights'!$B$17:$J$17)*$AA$8))","v":" "},{"$f":"IF(ISBLANK(B20),\" \",(LOOKUP(B20,'Component Weights'!$B$16:$J$16,'Component Weights'!$B$17:$J$17)*$AA$9))","v":" "},{"$f":"IF(ISBLANK(H20),\" \",(LOOKUP(H20,'Component Weights'!$B$16:$J$16,'Component Weights'!$B$17:$J$17)*$AA$10))","v":" "},{"$f":"IF(ISBLANK(I20),\" \",(LOOKUP(I20,'Component Weights'!$B$16:$J$16,'Component Weights'!$B$17:$J$17)*$AA$11))","v":" "},{"$f":"IF(ISBLANK(J20),\" \",(LOOKUP(J20,'Component Weights'!$B$16:$J$16,'Component Weights'!$B$17:$J$17)*$AA$12))","v":" "},0,99,null,{"$f":"U20","v":0}]
[null,null,null,null,null,null,null,null,null,null,{"$f":"AVERAGE(K$2:K14)","v":9.2307692307692299},{"$f":"AVERAGE(L$2:L14)","v":{"$error":"#DIV/0!"}},{"$f":"AVERAGE(M$2:M14)","v":0.15692307692307692},{"$f":"AVERAGE(N$2:N14)","v":0.12307692307692311},{"$f":"AVERAGE(O$2:O14)","v":0.12000000000000001},{"$f":"AVERAGE(P$2:P14)","v":8.0769230769230774E-2},{"$f":"AVERAGE(Q$2:Q14)","v":{"$error":"#DIV/0!"}},{"$f":"AVERAGE(R$2:R14)","v":{"$error":"#DIV/0!"}},{"$f":"AVERAGE(S$2:S14)","v":0.13538461538461538},{"$f":"AVERAGE(T$2:T14)","v":0.24923076923076926},{"$f":"AVERAGE(U$2:U14)","v":0.86538461538461542},{"$f":"IF(AND(OR(#REF!=72,#REF!=73,#REF!=74,#REF!=75,#REF!=76),$U21>0),RANK($U21,Y$3:Y$43,0),\" \")","v":{"$error":"#REF!"}}]

{"sheet":"Heating","index":6,"n_rows":22,"n_cols":29,"rows_kept":22,"cut":false,"hidden":false,"merged":[]}
["Instructions:\nScroll down to see all products.  New products may be added to the end of the list.  Rate the performance of each product as \"N, L, M or H.\" (Hover over the component title for the rating description.)  Use your Backspace button to clear values.  The Sort button (below) will incorporate your priorities as currently stated on the table to the right.  (Scroll to the right to see the table.)\n\n","Available Locally","Incremental Energy Savings","Use of Recycled Content","Low Energy Usage Manufacturing Process","Easily Biodegradable","Made from Natural Materials","Low Emissions Potential","Listed in Other Programs","Non Hazardous as Waste","Total Raw Score","Incremental Energy Savings Weighted Score","Use of Recycled Content Weighted Score","Low Energy Usage Mfg. Process Weighted Score","Easily Biodegradable Weighted Score","Made from Natural Materials Weighted Score","Available Locally Weighted Score","Low Emissions Potential Weighted Score","Listed in Other Programs Weighted Score","Non Hazardous as Waste Weighted Score","Total Weighted Score","Force Ranking",null,"Weighted Score for Force Rank Calculation ",null,"Detailed instructions and options for using this tool are found in the Using the DYO® GBD Kit Decision Matrix Software Section of your DYO® Green Building Decision Kit."]
["Radiant Heat System/Hydronic",null,null,"N","L","N","N","H","H","M",{"$f":"SUM(IF(ISBLANK(C2),,LOOKUP(C2,'Component Weights'!$B$16:$J$16,'Component Weights'!$B$17:$J$17)),IF(ISBLANK(D2),,LOOKUP(D2,'Component Weights'!$B$16:$J$16,'Component Weights'!$B$17:$J$17)),IF(ISBLANK(E2),,LOOKUP(E2,'Component Weights'!$B$16:$J$16,'Component Weights'!$B$17:$J$17)),IF(ISBLANK(F2),,LOOKUP(F2,'Component Weights'!$B$16:$J$16,'Component Weights'!$B$17:$J$17)),IF(ISBLANK(G2),,LOOKUP(G2,'Component Weights'!$B$16:$J$16,'Component Weights'!$B$17:$J$17)),IF(ISBLANK(B2),,LOOKUP(B2,'Component Weights'!$B$16:$J$16,'Component Weights'!$B$17:$J$17)),IF(ISBLANK(H2),,LOOKUP(H2,'Component Weights'!$B$16:$J$16,'Component Weights'!$B$17:$J$17)),IF(ISBLANK(I2),,LOOKUP(I2,'Component Weights'!$B$16:$J$16,'Component Weights'!$B$17:$J$17)),IF(ISBLANK(J2),,LOOKUP(J2,'Component Weights'!$B$16:$J$16,'Component Weights'!$B$17:$J$17)))","v":9},{"$f":"IF(ISBLANK(C2),\" \",(LOOKUP(C2,'Component Weights'!$B$16:$J$16,'Component Weights'!$B$17:$J$17)*$AA$4))","v":" "},{"$f":"IF(ISBLANK(D2),\" \",(LOOKUP(D2,'Component Weights'!$B$16:$J$16,'Component Weights'!$B$17:$J$17)*$AA$5))","v":0},{"$f":"IF(ISBLANK(E2),\" \",(LOOKUP(E2,'Component Weights'!$B$16:$J$16,'Component Weights'!$B$17:$J$17)*$AA$6))","v":0.08},{"$f":"IF(ISBLANK(F2),\" \",(LOOKUP(F2,'Component Weights'!$B$16:$J$16,'Component Weights'!$B$17:$J$17)*$AA$7))","v":0},{"$f":"IF(ISBLANK(G2),\" \",(LOOKUP(G2,'Component Weights'!$B$16:$J$16,'Component Weights'!$B$17:$J$17)*$AA$8))","v":0},{"$f":"IF(ISBLANK(B2),\" \",(LOOKUP(B2,'Component Weights'!$B$16:$J$16,'Component Weights'!$B$17:$J$17)*$AA$9))","v":" "},{"$f":"IF(ISBLANK(H2),\" \",(LOOKUP(H2,'Component Weights'!$B$16:$J$16,'Component Weights'!$B$17:$J$17)*$AA$10))","v":0.36},{"$f":"IF(ISBLANK(I2),\" \",(LOOKUP(I2,'Component Weights'!$B$16:$J$16,'Component Weights'!$B$17:$J$17)*$AA$11))","v":0.24},{"$f":"IF(ISBLANK(J2),\" \",(LOOKUP(J2,'Component Weights'!$B$16:$J$16,'Component Weights'!$B$17:$J$17)*$AA$12))","v":0.24},{"$f":"SUM(L2:T2)","v":0.91999999999999993},{"$f":"IF($U2>0,RANK($U2,X$2:X$206,0),99)","v":1},null,{"$f":"U2","v":0.91999999999999993},null,"Component Weights for","Weight"]
["External Heat Source",null,null,"N","L","N","N","H","H","M",{"$f":"SUM(IF(ISBLANK(C3),,LOOKUP(C3,'Component Weights'!$B$16:$J$16,'Component Weights'!$B$17:$J$17)),IF(ISBLANK(D3),,LOOKUP(D3,'Component Weights'!$B$16:$J$16,'Component Weights'!$B$17:$J$17)),IF(ISBLANK(E3),,LOOKUP(E3,'Component Weights'!$B$16:$J$16,'Component Weights'!$B$17:$J$17)),IF(ISBLANK(F3),,LOOKUP(F3,'Component Weights'!$B$16:$J$16,'Component Weights'!$B$17:$J$17)),IF(ISBLANK(G3),,LOOKUP(G3,'Component Weights'!$B$16:$J$16,'Component Weights'!$B$17:$J$17)),IF(ISBLANK(B3),,LOOKUP(B3,'Component Weights'!$B$16:$J$16,'Component Weights'!$B$17:$J$17)),IF(ISBLANK(H3),,LOOKUP(H3,'Component Weights'!$B$16:$J$16,'Component Weights'!$B$17:$J$17)),IF(ISBLANK(I3),,LOOKUP(I3,'Component Weights'!$B$16:$J$16,'Component Weights'!$B$17:$J$17)),IF(ISBLANK(J3),,LOOKUP(J3,'Component Weights'!$B$16:$J$16,'Component Weights'!$B$17:$J$17)))","v":9},{"$f":"IF(ISBLANK(C3),\" \",(LOOKUP(C3,'Component Weights'!$B$16:$J$16,'Component Weights'!$B$17:$J$17)*$AA$4))","v":" "},{"$f":"IF(ISBLANK(D3),\" \",(LOOKUP(D3,'Component Weights'!$B$16:$J$16,'Component Weights'!$B$17:$J$17)*$AA$5))","v":0},{"$f":"IF(ISBLANK(E3),\" \",(LOOKUP(E3,'Component Weights'!$B$16:$J$16,'Component Weights'!$B$17:$J$17)*$AA$6))","v":0.08},{"$f":"IF(ISBLANK(F3),\" \",(LOOKUP(F3,'Component Weights'!$B$16:$J$16,'Component Weights'!$B$17:$J$17)*$AA$7))","v":0},{"$f":"IF(ISBLANK(G3),\" \",(LOOKUP(G3,'Component Weights'!$B$16:$J$16,'Component Weights'!$B$17:$J$17)*$AA$8))","v":0},{"$f":"IF(ISBLANK(B3),\" \",(LOOKUP(B3,'Component Weights'!$B$16:$J$16,'Component Weights'!$B$17:$J$17)*$AA$9))","v":" "},{"$f":"IF(ISBLANK(H3),\" \",(LOOKUP(H3,'Component Weights'!$B$16:$J$16,'Component Weights'!$B$17:$J$17)*$AA$10))","v":0.36},{"$f":"IF(ISBLANK(I3),\" \",(LOOKUP(I3,'Component Weights'!$B$16:$J$16,'Component Weights'!$B$17:$J$17)*$AA$11))","v":0.24},{"$f":"IF(ISBLANK(J3),\" \",(LOOKUP(J3,'Component Weights'!$B$16:$J$16,'Component Weights'!$B$17:$J$17)*$AA$12))","v":0.24},0.91999999999999993,1,null,0.91999999999999993,null,"Heating"]
["Geothermal System",null,null,"N","L","N","N","H","M","M",{"$f":"SUM(IF(ISBLANK(C4),,LOOKUP(C4,'Component Weights'!$B$16:$J$16,'Component Weights'!$B$17:$J$17)),IF(ISBLANK(D4),,LOOKUP(D4,'Component Weights'!$B$16:$J$16,'Component Weights'!$B$17:$J$17)),IF(ISBLANK(E4),,LOOKUP(E4,'Component Weights'!$B$16:$J$16,'Component Weights'!$B$17:$J$17)),IF(ISBLANK(F4),,LOOKUP(F4,'Component Weights'!$B$16:$J$16,'Component Weights'!$B$17:$J$17)),IF(ISBLANK(G4),,LOOKUP(G4,'Component Weights'!$B$16:$J$16,'Component Weights'!$B$17:$J$17)),IF(ISBLANK(B4),,LOOKUP(B4,'Component Weights'!$B$16:$J$16,'Component Weights'!$B$17:$J$17)),IF(ISBLANK(H4),,LOOKUP(H4,'Component Weights'!$B$16:$J$16,'Component Weights'!$B$17:$J$17)),IF(ISBLANK(I4),,LOOKUP(I4,'Component Weights'!$B$16:$J$16,'Component Weights'!$B$17:$J$17)),IF(ISBLANK(J4),,LOOKUP(J4,'Component Weights'!$B$16:$J$16,'Component Weights'!$B$17:$J$17)))","v":8},{"$f":"IF(ISBLANK(C4),\" \",(LOOKUP(C4,'Component Weights'!$B$16:$J$16,'Component Weights'!$B$17:$J$17)*$AA$4))","v":" "},{"$f":"IF(ISBLANK(D4),\" \",(LOOKUP(D4,'Component Weights'!$B$16:$J$16,'Component Weights'!$B$17:$J$17)*$AA$5))","v":0},{"$f":"IF(ISBLANK(E4),\" \",(LOOKUP(E4,'Component Weights'!$B$16:$J$16,'Component Weights'!$B$17:$J$17)*$AA$6))","v":0.08},{"$f":"IF(ISBLANK(F4),\" \",(LOOKUP(F4,'Component Weights'!$B$16:$J$16,'Component Weights'!$B$17:$J$17)*$AA$7))","v":0},{"$f":"IF(ISBLANK(G4),\" \",(LOOKUP(G4,'Component Weights'!$B$16:$J$16,'Component Weights'!$B$17:$J$17)*$AA$8))","v":0},{"$f":"IF(ISBLANK(B4),\" \",(LOOKUP(B4,'Component Weights'!$B$16:$J$16,'Component Weights'!$B$17:$J$17)*$AA$9))","v":" "},{"$f":"IF(ISBLANK(H4),\" \",(LOOKUP(H4,'Component Weights'!$B$16:$J$16,'Component Weights'!$B$17:$J$17)*$AA$10))","v":0.36},{"$f":"IF(ISBLANK(I4),\" \",(LOOKUP(I4,'Component Weights'!$B$16:$J$16,'Component Weights'!$B$17:$J$17)*$AA$11))","v":0.16},{"$f":"IF(ISBLANK(J4),\" \",(LOOKUP(J4,'Component Weights'!$B$16:$J$16,'Component Weights'!$B$17:$J$17)*$AA$12))","v":0.24},0.84,3,null,0.84,null,"Incremental Energy Savings",0.08,"M","The amount of incremental energy, expressed in Btu/Hr, that a product saves or generates for the structure."]
["Radiant Heat System/Electric",null,null,"N","L","N","N","H","M","M",{"$f":"SUM(IF(ISBLANK(C5),,LOOKUP(C5,'Component Weights'!$B$16:$J$16,'Component Weights'!$B$17:$J$17)),IF(ISBLANK(D5),,LOOKUP(D5,'Component Weights'!$B$16:$J$16,'Component Weights'!$B$17:$J$17)),IF(ISBLANK(E5),,LOOKUP(E5,'Component Weights'!$B$16:$J$16,'Component Weights'!$B$17:$J$17)),IF(ISBLANK(F5),,LOOKUP(F5,'Component Weights'!$B$16:$J$16,'Component Weights'!$B$17:$J$17)),IF(ISBLANK(G5),,LOOKUP(G5,'Component Weights'!$B$16:$J$16,'Component Weights'!$B$17:$J$17)),IF(ISBLANK(B5),,LOOKUP(B5,'Component Weights'!$B$16:$J$16,'Component Weights'!$B$17:$J$17)),IF(ISBLANK(H5),,LOOKUP(H5,'Component Weights'!$B$16:$J$16,'Component Weights'!$B$17:$J$17)),IF(ISBLANK(I5),,LOOKUP(I5,'Component Weights'!$B$16:$J$16,'Component Weights'!$B$17:$J$17)),IF(ISBLANK(J5),,LOOKUP(J5,'Component Weights'!$B$16:$J$16,'Component Weights'!$B$17:$J$17)))","v":8},{"$f":"IF(ISBLANK(C5),\" \",(LOOKUP(C5,'Component Weights'!$B$16:$J$16,'Component Weights'!$B$17:$J$17)*$AA$4))","v":" "},{"$f":"IF(ISBLANK(D5),\" \",(LOOKUP(D5,'Component Weights'!$B$16:$J$16,'Component Weights'!$B$17:$J$17)*$AA$5))","v":0},{"$f":"IF(ISBLANK(E5),\" \",(LOOKUP(E5,'Component Weights'!$B$16:$J$16,'Component Weights'!$B$17:$J$17)*$AA$6))","v":0.08},{"$f":"IF(ISBLANK(F5),\" \",(LOOKUP(F5,'Component Weights'!$B$16:$J$16,'Component Weights'!$B$17:$J$17)*$AA$7))","v":0},{"$f":"IF(ISBLANK(G5),\" \",(LOOKUP(G5,'Component Weights'!$B$16:$J$16,'Component Weights'!$B$17:$J$17)*$AA$8))","v":0},{"$f":"IF(ISBLANK(B5),\" \",(LOOKUP(B5,'Component Weights'!$B$16:$J$16,'Component Weights'!$B$17:$J$17)*$AA$9))","v":" "},{"$f":"IF(ISBLANK(H5),\" \",(LOOKUP(H5,'Component Weights'!$B$16:$J$16,'Component Weights'!$B$17:$J$17)*$AA$10))","v":0.36},{"$f":"IF(ISBLANK(I5),\" \",(LOOKUP(I5,'Component Weights'!$B$16:$J$16,'Component Weights'!$B$17:$J$17)*$AA$11))","v":0.16},{"$f":"IF(ISBLANK(J5),\" \",(LOOKUP(J5,'Component Weights'!$B$16:$J$16,'Component Weights'!$B$17:$J$17)*$AA$12))","v":0.24},0.84,3,null,0.84,null,"Use of Recycled Content",0.12,"H","The amount of recycled content, expressed as a percentage, found in a product."]
["Fireplace Insert",null,null,"N","L","N","L","M","M","M",{"$f":"SUM(IF(ISBLANK(C6),,LOOKUP(C6,'Component Weights'!$B$16:$J$16,'Component Weights'!$B$17:$J$17)),IF(ISBLANK(D6),,LOOKUP(D6,'Component Weights'!$B$16:$J$16,'Component Weights'!$B$17:$J$17)),IF(ISBLANK(E6),,LOOKUP(E6,'Component Weights'!$B$16:$J$16,'Component Weights'!$B$17:$J$17)),IF(ISBLANK(F6),,LOOKUP(F6,'Component Weights'!$B$16:$J$16,'Component Weights'!$B$17:$J$17)),IF(ISBLANK(G6),,LOOKUP(G6,'Component Weights'!$B$16:$J$16,'Component Weights'!$B$17:$J$17)),IF(ISBLANK(B6),,LOOKUP(B6,'Component Weights'!$B$16:$J$16,'Component Weights'!$B$17:$J$17)),IF(ISBLANK(H6),,LOOKUP(H6,'Component Weights'!$B$16:$J$16,'Component Weights'!$B$17:$J$17)),IF(ISBLANK(I6),,LOOKUP(I6,'Component Weights'!$B$16:$J$16,'Component Weights'!$B$17:$J$17)),IF(ISBLANK(J6),,LOOKUP(J6,'Component Weights'!$B$16:$J$16,'Component Weights'!$B$17:$J$17)))","v":8},{"$f":"IF(ISBLANK(C6),\" \",(LOOKUP(C6,'Component Weights'!$B$16:$J$16,'Component Weights'!$B$17:$J$17)*$AA$4))","v":" "},{"$f":"IF(ISBLANK(D6),\" \",(LOOKUP(D6,'Component Weights'!$B$16:$J$16,'Component Weights'!$B$17:$J$17)*$AA$5))","v":0},{"$f":"IF(ISBLANK(E6),\" \",(LOOKUP(E6,'Component Weights'!$B$16:$J$16,'Component Weights'!$B$17:$J$17)*$AA$6))","v":0.08},{"$f":"IF(ISBLANK(F6),\" \",(LOOKUP(F6,'Component Weights'!$B$16:$J$16,'Component Weights'!$B$17:$J$17)*$AA$7))","v":0},{"$f":"IF(ISBLANK(G6),\" \",(LOOKUP(G6,'Component Weights'!$B$16:$J$16,'Component Weights'!$B$17:$J$17)*$AA$8))","v":0.05},{"$f":"IF(ISBLANK(B6),\" \",(LOOKUP(B6,'Component Weights'!$B$16:$J$16,'Component Weights'!$B$17:$J$17)*$AA$9))","v":" "},{"$f":"IF(ISBLANK(H6),\" \",(LOOKUP(H6,'Component Weights'!$B$16:$J$16,'Component Weights'!$B$17:$J$17)*$AA$10))","v":0.24},{"$f":"IF(ISBLANK(I6),\" \",(LOOKUP(I6,'Component Weights'!$B$16:$J$16,'Component Weights'!$B$17:$J$17)*$AA$11))","v":0.16},{"$f":"IF(ISBLANK(J6),\" \",(LOOKUP(J6,'Component Weights'!$B$16:$J$16,'Component Weights'!$B$17:$J$17)*$AA$12))","v":0.24},0.77,5,null,0.77,null,"Low Energy Usage Manufacturing Process",0.08,"M","The amount of energy used in manufacture of the product."]
["Fireplaces/Wood",null,null,"N","L","N","L","M","M","M",{"$f":"SUM(IF(ISBLANK(C7),,LOOKUP(C7,'Component Weights'!$B$16:$J$16,'Component Weights'!$B$17:$J$17)),IF(ISBLANK(D7),,LOOKUP(D7,'Component Weights'!$B$16:$J$16,'Component Weights'!$B$17:$J$17)),IF(ISBLANK(E7),,LOOKUP(E7,'Component Weights'!$B$16:$J$16,'Component Weights'!$B$17:$J$17)),IF(ISBLANK(F7),,LOOKUP(F7,'Component Weights'!$B$16:$J$16,'Component Weights'!$B$17:$J$17)),IF(ISBLANK(G7),,LOOKUP(G7,'Component Weights'!$B$16:$J$16,'Component Weights'!$B$17:$J$17)),IF(ISBLANK(B7),,LOOKUP(B7,'Component Weights'!$B$16:$J$16,'Component Weights'!$B$17:$J$17)),IF(ISBLANK(H7),,LOOKUP(H7,'Component Weights'!$B$16:$J$16,'Component Weights'!$B$17:$J$17)),IF(ISBLANK(I7),,LOOKUP(I7,'Component Weights'!$B$16:$J$16,'Component Weights'!$B$17:$J$17)),IF(ISBLANK(J7),,LOOKUP(J7,'Component Weights'!$B$16:$J$16,'Component Weights'!$B$17:$J$17)))","v":8},{"$f":"IF(ISBLANK(C7),\" \",(LOOKUP(C7,'Component Weights'!$B$16:$J$16,'Component Weights'!$B$17:$J$17)*$AA$4))","v":" "},{"$f":"IF(ISBLANK(D7),\" \",(LOOKUP(D7,'Component Weights'!$B$16:$J$16,'Component Weights'!$B$17:$J$17)*$AA$5))","v":0},{"$f":"IF(ISBLANK(E7),\" \",(LOOKUP(E7,'Component Weights'!$B$16:$J$16,'Component Weights'!$B$17:$J$17)*$AA$6))","v":0.08},{"$f":"IF(ISBLANK(F7),\" \",(LOOKUP(F7,'Component Weights'!$B$16:$J$16,'Component Weights'!$B$17:$J$17)*$AA$7))","v":0},{"$f":"IF(ISBLANK(G7),\" \",(LOOKUP(G7,'Component Weights'!$B$16:$J$16,'Component Weights'!$B$17:$J$17)*$AA$8))","v":0.05},{"$f":"IF(ISBLANK(B7),\" \",(LOOKUP(B7,'Component Weights'!$B$16:$J$16,'Component Weights'!$B$17:$J$17)*$AA$9))","v":" "},{"$f":"IF(ISBLANK(H7),\" \",(LOOKUP(H7,'Component Weights'!$B$16:$J$16,'Component Weights'!$B$17:$J$17)*$AA$10))","v":0.24},{"$f":"IF(ISBLANK(I7),\" \",(LOOKUP(I7,'Component Weights'!$B$16:$J$16,'Component Weights'!$B$17:$J$17)*$AA$11))","v":0.16},{"$f":"IF(ISBLANK(J7),\" \",(LOOKUP(J7,'Component Weights'!$B$16:$J$16,'Component Weights'!$B$17:$J$17)*$AA$12))","v":0.24},0.77,5,null,0.77,null,"Easily Biodegradable",0.12,"H","The amount of time it will take the product to degrade once its useful life is over."]
["Forced Air via Air Handler with Electric Resistance Coils (all electric heat pumps)",null,null,"N","L","N","N","H","L","M",{"$f":"SUM(IF(ISBLANK(C8),,LOOKUP(C8,'Component Weights'!$B$16:$J$16,'Component Weights'!$B$17:$J$17)),IF(ISBLANK(D8),,LOOKUP(D8,'Component Weights'!$B$16:$J$16,'Component Weights'!$B$17:$J$17)),IF(ISBLANK(E8),,LOOKUP(E8,'Component Weights'!$B$16:$J$16,'Component Weights'!$B$17:$J$17)),IF(ISBLANK(F8),,LOOKUP(F8,'Component Weights'!$B$16:$J$16,'Component Weights'!$B$17:$J$17)),IF(ISBLANK(G8),,LOOKUP(G8,'Component Weights'!$B$16:$J$16,'Component Weights'!$B$17:$J$17)),IF(ISBLANK(B8),,LOOKUP(B8,'Component Weights'!$B$16:$J$16,'Component Weights'!$B$17:$J$17)),IF(ISBLANK(H8),,LOOKUP(H8,'Component Weights'!$B$16:$J$16,'Component Weights'!$B$17:$J$17)),IF(ISBLANK(I8),,LOOKUP(I8,'Component Weights'!$B$16:$J$16,'Component Weights'!$B$17:$J$17)),IF(ISBLANK(J8),,LOOKUP(J8,'Component Weights'!$B$16:$J$16,'Component Weights'!$B$17:$J$17)))","v":7},{"$f":"IF(ISBLANK(C8),\" \",(LOOKUP(C8,'Component Weights'!$B$16:$J$16,'Component Weights'!$B$17:$J$17)*$AA$4))","v":" "},{"$f":"IF(ISBLANK(D8),\" \",(LOOKUP(D8,'Component Weights'!$B$16:$J$16,'Component Weights'!$B$17:$J$17)*$AA$5))","v":0},{"$f":"IF(ISBLANK(E8),\" \",(LOOKUP(E8,'Component Weights'!$B$16:$J$16,'Component Weights'!$B$17:$J$17)*$AA$6))","v":0.08},{"$f":"IF(ISBLANK(F8),\" \",(LOOKUP(F8,'Component Weights'!$B$16:$J$16,'Component Weights'!$B$17:$J$17)*$AA$7))","v":0},{"$f":"IF(ISBLANK(G8),\" \",(LOOKUP(G8,'Component Weights'!$B$16:$J$16,'Component Weights'!$B$17:$J$17)*$AA$8))","v":0},{"$f":"IF(ISBLANK(B8),\" \",(LOOKUP(B8,'Component Weights'!$B$16:$J$16,'Component Weights'!$B$17:$J$17)*$AA$9))","v":" "},{"$f":"IF(ISBLANK(H8),\" \",(LOOKUP(H8,'Component Weights'!$B$16:$J$16,'Component Weights'!$B$17:$J$17)*$AA$10))","v":0.36},{"$f":"IF(ISBLANK(I8),\" \",(LOOKUP(I8,'Component Weights'!$B$16:$J$16,'Component Weights'!$B$17:$J$17)*$AA$11))","v":0.08},{"$f":"IF(ISBLANK(J8),\" \",(LOOKUP(J8,'Component Weights'!$B$16:$J$16,'Component Weights'!$B$17:$J$17)*$AA$12))","v":0.24},0.76,7,null,0.76,null,"Made from Natural Materials",0.05,"L","The amount, expressed as a percentage, of natural (not man-made) materials used to make the product."]
["Air-to-Air or Conventional Heat Pump",null,null,"N","L","N","N","H","L","M",{"$f":"SUM(IF(ISBLANK(C9),,LOOKUP(C9,'Component Weights'!$B$16:$J$16,'Component Weights'!$B$17:$J$17)),IF(ISBLANK(D9),,LOOKUP(D9,'Component Weights'!$B$16:$J$16,'Component Weights'!$B$17:$J$17)),IF(ISBLANK(E9),,LOOKUP(E9,'Component Weights'!$B$16:$J$16,'Component Weights'!$B$17:$J$17)),IF(ISBLANK(F9),,LOOKUP(F9,'Component Weights'!$B$16:$J$16,'Component Weights'!$B$17:$J$17)),IF(ISBLANK(G9),,LOOKUP(G9,'Component Weights'!$B$16:$J$16,'Component Weights'!$B$17:$J$17)),IF(ISBLANK(B9),,LOOKUP(B9,'Component Weights'!$B$16:$J$16,'Component Weights'!$B$17:$J$17)),IF(ISBLANK(H9),,LOOKUP(H9,'Component Weights'!$B$16:$J$16,'Component Weights'!$B$17:$J$17)),IF(ISBLANK(I9),,LOOKUP(I9,'Component Weights'!$B$16:$J$16,'Component Weights'!$B$17:$J$17)),IF(ISBLANK(J9),,LOOKUP(J9,'Component Weights'!$B$16:$J$16,'Component Weights'!$B$17:$J$17)))","v":7},{"$f":"IF(ISBLANK(C9),\" \",(LOOKUP(C9,'Component Weights'!$B$16:$J$16,'Component Weights'!$B$17:$J$17)*$AA$4))","v":" "},{"$f":"IF(ISBLANK(D9),\" \",(LOOKUP(D9,'Component Weights'!$B$16:$J$16,'Component Weights'!$B$17:$J$17)*$AA$5))","v":0},{"$f":"IF(ISBLANK(E9),\" \",(LOOKUP(E9,'Component Weights'!$B$16:$J$16,'Component Weights'!$B$17:$J$17)*$AA$6))","v":0.08},{"$f":"IF(ISBLANK(F9),\" \",(LOOKUP(F9,'Component Weights'!$B$16:$J$16,'Component Weights'!$B$17:$J$17)*$AA$7))","v":0},{"$f":"IF(ISBLANK(G9),\" \",(LOOKUP(G9,'Component Weights'!$B$16:$J$16,'Component Weights'!$B$17:$J$17)*$AA$8))","v":0},{"$f":"IF(ISBLANK(B9),\" \",(LOOKUP(B9,'Component Weights'!$B$16:$J$16,'Component Weights'!$B$17:$J$17)*$AA$9))","v":" "},{"$f":"IF(ISBLANK(H9),\" \",(LOOKUP(H9,'Component Weights'!$B$16:$J$16,'Component Weights'!$B$17:$J$17)*$AA$10))","v":0.36},{"$f":"IF(ISBLANK(I9),\" \",(LOOKUP(I9,'Component Weights'!$B$16:$J$16,'Component Weights'!$B$17:$J$17)*$AA$11))","v":0.08},{"$f":"IF(ISBLANK(J9),\" \",(LOOKUP(J9,'Component Weights'!$B$16:$J$16,'Component Weights'!$B$17:$J$17)*$AA$12))","v":0.24},0.76,7,null,0.76,null,"Available Locally",0.23,"H+","The distance in miles that the product must travel to the destination of final use."]
["Electric Baseboard",null,null,"N","L","N","N","H","L","M",{"$f":"SUM(IF(ISBLANK(C10),,LOOKUP(C10,'Component Weights'!$B$16:$J$16,'Component Weights'!$B$17:$J$17)),IF(ISBLANK(D10),,LOOKUP(D10,'Component Weights'!$B$16:$J$16,'Component Weights'!$B$17:$J$17)),IF(ISBLANK(E10),,LOOKUP(E10,'Component Weights'!$B$16:$J$16,'Component Weights'!$B$17:$J$17)),IF(ISBLANK(F10),,LOOKUP(F10,'Component Weights'!$B$16:$J$16,'Component Weights'!$B$17:$J$17)),IF(ISBLANK(G10),,LOOKUP(G10,'Component Weights'!$B$16:$J$16,'Component Weights'!$B$17:$J$17)),IF(ISBLANK(B10),,LOOKUP(B10,'Component Weights'!$B$16:$J$16,'Component Weights'!$B$17:$J$17)),IF(ISBLANK(H10),,LOOKUP(H10,'Component Weights'!$B$16:$J$16,'Component Weights'!$B$17:$J$17)),IF(ISBLANK(I10),,LOOKUP(I10,'Component Weights'!$B$16:$J$16,'Component Weights'!$B$17:$J$17)),IF(ISBLANK(J10),,LOOKUP(J10,'Component Weights'!$B$16:$J$16,'Component Weights'!$B$17:$J$17)))","v":7},{"$f":"IF(ISBLANK(C10),\" \",(LOOKUP(C10,'Component Weights'!$B$16:$J$16,'Component Weights'!$B$17:$J$17)*$AA$4))","v":" "},{"$f":"IF(ISBLANK(D10),\" \",(LOOKUP(D10,'Component Weights'!$B$16:$J$16,'Component Weights'!$B$17:$J$17)*$AA$5))","v":0},{"$f":"IF(ISBLANK(E10),\" \",(LOOKUP(E10,'Component Weights'!$B$16:$J$16,'Component Weights'!$B$17:$J$17)*$AA$6))","v":0.08},{"$f":"IF(ISBLANK(F10),\" \",(LOOKUP(F10,'Component Weights'!$B$16:$J$16,'Component Weights'!$B$17:$J$17)*$AA$7))","v":0},{"$f":"IF(ISBLANK(G10),\" \",(LOOKUP(G10,'Component Weights'!$B$16:$J$16,'Component Weights'!$B$17:$J$17)*$AA$8))","v":0},{"$f":"IF(ISBLANK(B10),\" \",(LOOKUP(B10,'Component Weights'!$B$16:$J$16,'Component Weights'!$B$17:$J$17)*$AA$9))","v":" "},{"$f":"IF(ISBLANK(H10),\" \",(LOOKUP(H10,'Component Weights'!$B$16:$J$16,'Component Weights'!$B$17:$J$17)*$AA$10))","v":0.36},{"$f":"IF(ISBLANK(I10),\" \",(LOOKUP(I10,'Component Weights'!$B$16:$J$16,'Component Weights'!$B$17:$J$17)*$AA$11))","v":0.08},{"$f":"IF(ISBLANK(J10),\" \",(LOOKUP(J10,'Component Weights'!$B$16:$J$16,'Component Weights'!$B$17:$J$17)*$AA$12))","v":0.24},0.76,7,null,0.76,null,"Low Emissions Potential",0.12,"H","The amount of time it will take the product to stop outgassing."]
["Boiler/Steam or Hot Water",null,null,"N","L","N","N","H","L","M",{"$f":"SUM(IF(ISBLANK(C11),,LOOKUP(C11,'Component Weights'!$B$16:$J$16,'Component Weights'!$B$17:$J$17)),IF(ISBLANK(D11),,LOOKUP(D11,'Component Weights'!$B$16:$J$16,'Component Weights'!$B$17:$J$17)),IF(ISBLANK(E11),,LOOKUP(E11,'Component Weights'!$B$16:$J$16,'Component Weights'!$B$17:$J$17)),IF(ISBLANK(F11),,LOOKUP(F11,'Component Weights'!$B$16:$J$16,'Component Weights'!$B$17:$J$17)),IF(ISBLANK(G11),,LOOKUP(G11,'Component Weights'!$B$16:$J$16,'Component Weights'!$B$17:$J$17)),IF(ISBLANK(B11),,LOOKUP(B11,'Component Weights'!$B$16:$J$16,'Component Weights'!$B$17:$J$17)),IF(ISBLANK(H11),,LOOKUP(H11,'Component Weights'!$B$16:$J$16,'Component Weights'!$B$17:$J$17)),IF(ISBLANK(I11),,LOOKUP(I11,'Component Weights'!$B$16:$J$16,'Component Weights'!$B$17:$J$17)),IF(ISBLANK(J11),,LOOKUP(J11,'Component Weights'!$B$16:$J$16,'Component Weights'!$B$17:$J$17)))","v":7},{"$f":"IF(ISBLANK(C11),\" \",(LOOKUP(C11,'Component Weights'!$B$16:$J$16,'Component Weights'!$B$17:$J$17)*$AA$4))","v":" "},{"$f":"IF(ISBLANK(D11),\" \",(LOOKUP(D11,'Component Weights'!$B$16:$J$16,'Component Weights'!$B$17:$J$17)*$AA$5))","v":0},{"$f":"IF(ISBLANK(E11),\" \",(LOOKUP(E11,'Component Weights'!$B$16:$J$16,'Component Weights'!$B$17:$J$17)*$AA$6))","v":0.08},{"$f":"IF(ISBLANK(F11),\" \",(LOOKUP(F11,'Component Weights'!$B$16:$J$16,'Component Weights'!$B$17:$J$17)*$AA$7))","v":0},{"$f":"IF(ISBLANK(G11),\" \",(LOOKUP(G11,'Component Weights'!$B$16:$J$16,'Component Weights'!$B$17:$J$17)*$AA$8))","v":0},{"$f":"IF(ISBLANK(B11),\" \",(LOOKUP(B11,'Component Weights'!$B$16:$J$16,'Component Weights'!$B$17:$J$17)*$AA$9))","v":" "},{"$f":"IF(ISBLANK(H11),\" \",(LOOKUP(H11,'Component Weights'!$B$16:$J$16,'Component Weights'!$B$17:$J$17)*$AA$10))","v":0.36},{"$f":"IF(ISBLANK(I11),\" \",(LOOKUP(I11,'Component Weights'!$B$16:$J$16,'Component Weights'!$B$17:$J$17)*$AA$11))","v":0.08},{"$f":"IF(ISBLANK(J11),\" \",(LOOKUP(J11,'Component Weights'!$B$16:$J$16,'Component Weights'!$B$17:$J$17)*$AA$12))","v":0.24},0.76,7,null,0.76,null,"Listed in Other Programs (e.g. EnergyStar)",0.08,"M","The level of product recommendation in recognized energy and environmental programs."]
["High-Efficiency Sealed Combustion Forced Air Furnace",null,null,"N","L","N","N","M","M","M",{"$f":"SUM(IF(ISBLANK(C12),,LOOKUP(C12,'Component Weights'!$B$16:$J$16,'Component Weights'!$B$17:$J$17)),IF(ISBLANK(D12),,LOOKUP(D12,'Component Weights'!$B$16:$J$16,'Component Weights'!$B$17:$J$17)),IF(ISBLANK(E12),,LOOKUP(E12,'Component Weights'!$B$16:$J$16,'Component Weights'!$B$17:$J$17)),IF(ISBLANK(F12),,LOOKUP(F12,'Component Weights'!$B$16:$J$16,'Component Weights'!$B$17:$J$17)),IF(ISBLANK(G12),,LOOKUP(G12,'Component Weights'!$B$16:$J$16,'Component Weights'!$B$17:$J$17)),IF(ISBLANK(B12),,LOOKUP(B12,'Component Weights'!$B$16:$J$16,'Component Weights'!$B$17:$J$17)),IF(ISBLANK(H12),,LOOKUP(H12,'Component Weights'!$B$16:$J$16,'Component Weights'!$B$17:$J$17)),IF(ISBLANK(I12),,LOOKUP(I12,'Component Weights'!$B$16:$J$16,'Component Weights'!$B$17:$J$17)),IF(ISBLANK(J12),,LOOKUP(J12,'Component Weights'!$B$16:$J$16,'Component Weights'!$B$17:$J$17)))","v":7},{"$f":"IF(ISBLANK(C12),\" \",(LOOKUP(C12,'Component Weights'!$B$16:$J$16,'Component Weights'!$B$17:$J$17)*$AA$4))","v":" "},{"$f":"IF(ISBLANK(D12),\" \",(LOOKUP(D12,'Component Weights'!$B$16:$J$16,'Component Weights'!$B$17:$J$17)*$AA$5))","v":0},{"$f":"IF(ISBLANK(E12),\" \",(LOOKUP(E12,'Component Weights'!$B$16:$J$16,'Component Weights'!$B$17:$J$17)*$AA$6))","v":0.08},{"$f":"IF(ISBLANK(F12),\" \",(LOOKUP(F12,'Component Weights'!$B$16:$J$16,'Component Weights'!$B$17:$J$17)*$AA$7))","v":0},{"$f":"IF(ISBLANK(G12),\" \",(LOOKUP(G12,'Component Weights'!$B$16:$J$16,'Component Weights'!$B$17:$J$17)*$AA$8))","v":0},{"$f":"IF(ISBLANK(B12),\" \",(LOOKUP(B12,'Component Weights'!$B$16:$J$16,'Component Weights'!$B$17:$J$17)*$AA$9))","v":" "},{"$f":"IF(ISBLANK(H12),\" \",(LOOKUP(H12,'Component Weights'!$B$16:$J$16,'Component Weights'!$B$17:$J$17)*$AA$10))","v":0.24},{"$f":"IF(ISBLANK(I12),\" \",(LOOKUP(I12,'Component Weights'!$B$16:$J$16,'Component Weights'!$B$17:$J$17)*$AA$11))","v":0.16},{"$f":"IF(ISBLANK(J12),\" \",(LOOKUP(J12,'Component Weights'!$B$16:$J$16,'Component Weights'!$B$17:$J$17)*$AA$12))","v":0.24},0.72,11,null,0.72,null,"Non Hazardous as Waste",0.12,"H","The amount of hazardous materials and components found in the product."]
["Wood Stove",null,null,"N","L","N","N","M","M","M",{"$f":"SUM(IF(ISBLANK(C13),,LOOKUP(C13,'Component Weights'!$B$16:$J$16,'Component Weights'!$B$17:$J$17)),IF(ISBLANK(D13),,LOOKUP(D13,'Component Weights'!$B$16:$J$16,'Component Weights'!$B$17:$J$17)),IF(ISBLANK(E13),,LOOKUP(E13,'Component Weights'!$B$16:$J$16,'Component Weights'!$B$17:$J$17)),IF(ISBLANK(F13),,LOOKUP(F13,'Component Weights'!$B$16:$J$16,'Component Weights'!$B$17:$J$17)),IF(ISBLANK(G13),,LOOKUP(G13,'Component Weights'!$B$16:$J$16,'Component Weights'!$B$17:$J$17)),IF(ISBLANK(B13),,LOOKUP(B13,'Component Weights'!$B$16:$J$16,'Component Weights'!$B$17:$J$17)),IF(ISBLANK(H13),,LOOKUP(H13,'Component Weights'!$B$16:$J$16,'Component Weights'!$B$17:$J$17)),IF(ISBLANK(I13),,LOOKUP(I13,'Component Weights'!$B$16:$J$16,'Component Weights'!$B$17:$J$17)),IF(ISBLANK(J13),,LOOKUP(J13,'Component Weights'!$B$16:$J$16,'Component Weights'!$B$17:$J$17)))","v":7},{"$f":"IF(ISBLANK(C13),\" \",(LOOKUP(C13,'Component Weights'!$B$16:$J$16,'Component Weights'!$B$17:$J$17)*$AA$4))","v":" "},{"$f":"IF(ISBLANK(D13),\" \",(LOOKUP(D13,'Component Weights'!$B$16:$J$16,'Component Weights'!$B$17:$J$17)*$AA$5))","v":0},{"$f":"IF(ISBLANK(E13),\" \",(LOOKUP(E13,'Component Weights'!$B$16:$J$16,'Component Weights'!$B$17:$J$17)*$AA$6))","v":0.08},{"$f":"IF(ISBLANK(F13),\" \",(LOOKUP(F13,'Component Weights'!$B$16:$J$16,'Component Weights'!$B$17:$J$17)*$AA$7))","v":0},{"$f":"IF(ISBLANK(G13),\" \",(LOOKUP(G13,'Component Weights'!$B$16:$J$16,'Component Weights'!$B$17:$J$17)*$AA$8))","v":0},{"$f":"IF(ISBLANK(B13),\" \",(LOOKUP(B13,'Component Weights'!$B$16:$J$16,'Component Weights'!$B$17:$J$17)*$AA$9))","v":" "},{"$f":"IF(ISBLANK(H13),\" \",(LOOKUP(H13,'Component Weights'!$B$16:$J$16,'Component Weights'!$B$17:$J$17)*$AA$10))","v":0.24},{"$f":"IF(ISBLANK(I13),\" \",(LOOKUP(I13,'Component Weights'!$B$16:$J$16,'Component Weights'!$B$17:$J$17)*$AA$11))","v":0.16},{"$f":"IF(ISBLANK(J13),\" \",(LOOKUP(J13,'Component Weights'!$B$16:$J$16,'Component Weights'!$B$17:$J$17)*$AA$12))","v":0.24},0.72,11,null,0.72,null,"Total Weightings Must Equal 100%",{"$f":"SUM(AA4:AA12)","v":1},null,{"$f":"IF(AA13<>100%,\"Keep Working - Weightings must equal 100%\",\" \")","v":" "}]
["Standard Forced Air Furnace",null,null,"N","L","N","N","M","L","M",{"$f":"SUM(IF(ISBLANK(C14),,LOOKUP(C14,'Component Weights'!$B$16:$J$16,'Component Weights'!$B$17:$J$17)),IF(ISBLANK(D14),,LOOKUP(D14,'Component Weights'!$B$16:$J$16,'Component Weights'!$B$17:$J$17)),IF(ISBLANK(E14),,LOOKUP(E14,'Component Weights'!$B$16:$J$16,'Component Weights'!$B$17:$J$17)),IF(ISBLANK(F14),,LOOKUP(F14,'Component Weights'!$B$16:$J$16,'Component Weights'!$B$17:$J$17)),IF(ISBLANK(G14),,LOOKUP(G14,'Component Weights'!$B$16:$J$16,'Component Weights'!$B$17:$J$17)),IF(ISBLANK(B14),,LOOKUP(B14,'Component Weights'!$B$16:$J$16,'Component Weights'!$B$17:$J$17)),IF(ISBLANK(H14),,LOOKUP(H14,'Component Weights'!$B$16:$J$16,'Component Weights'!$B$17:$J$17)),IF(ISBLANK(I14),,LOOKUP(I14,'Component Weights'!$B$16:$J$16,'Component Weights'!$B$17:$J$17)),IF(ISBLANK(J14),,LOOKUP(J14,'Component Weights'!$B$16:$J$16,'Component Weights'!$B$17:$J$17)))","v":6},{"$f":"IF(ISBLANK(C14),\" \",(LOOKUP(C14,'Component Weights'!$B$16:$J$16,'Component Weights'!$B$17:$J$17)*$AA$4))","v":" "},{"$f":"IF(ISBLANK(D14),\" \",(LOOKUP(D14,'Component Weights'!$B$16:$J$16,'Component Weights'!$B$17:$J$17)*$AA$5))","v":0},{"$f":"IF(ISBLANK(E14),\" \",(LOOKUP(E14,'Component Weights'!$B$16:$J$16,'Component Weights'!$B$17:$J$17)*$AA$6))","v":0.08},{"$f":"IF(ISBLANK(F14),\" \",(LOOKUP(F14,'Component Weights'!$B$16:$J$16,'Component Weights'!$B$17:$J$17)*$AA$7))","v":0},{"$f":"IF(ISBLANK(G14),\" \",(LOOKUP(G14,'Component Weights'!$B$16:$J$16,'Component Weights'!$B$17:$J$17)*$AA$8))","v":0},{"$f":"IF(ISBLANK(B14),\" \",(LOOKUP(B14,'Component Weights'!$B$16:$J$16,'Component Weights'!$B$17:$J$17)*$AA$9))","v":" "},{"$f":"IF(ISBLANK(H14),\" \",(LOOKUP(H14,'Component Weights'!$B$16:$J$16,'Component Weights'!$B$17:$J$17)*$AA$10))","v":0.24},{"$f":"IF(ISBLANK(I14),\" \",(LOOKUP(I14,'Component Weights'!$B$16:$J$16,'Component Weights'!$B$17:$J$17)*$AA$11))","v":0.08},{"$f":"IF(ISBLANK(J14),\" \",(LOOKUP(J14,'Component Weights'!$B$16:$J$16,'Component Weights'!$B$17:$J$17)*$AA$12))","v":0.24},0.64,13,null,0.64]
["Fireplaces/Gas",null,null,"N","L","N","N","L","M","M",{"$f":"SUM(IF(ISBLANK(C15),,LOOKUP(C15,'Component Weights'!$B$16:$J$16,'Component Weights'!$B$17:$J$17)),IF(ISBLANK(D15),,LOOKUP(D15,'Component Weights'!$B$16:$J$16,'Component Weights'!$B$17:$J$17)),IF(ISBLANK(E15),,LOOKUP(E15,'Component Weights'!$B$16:$J$16,'Component Weights'!$B$17:$J$17)),IF(ISBLANK(F15),,LOOKUP(F15,'Component Weights'!$B$16:$J$16,'Component Weights'!$B$17:$J$17)),IF(ISBLANK(G15),,LOOKUP(G15,'Component Weights'!$B$16:$J$16,'Component Weights'!$B$17:$J$17)),IF(ISBLANK(B15),,LOOKUP(B15,'Component Weights'!$B$16:$J$16,'Component Weights'!$B$17:$J$17)),IF(ISBLANK(H15),,LOOKUP(H15,'Component Weights'!$B$16:$J$16,'Component Weights'!$B$17:$J$17)),IF(ISBLANK(I15),,LOOKUP(I15,'Component Weights'!$B$16:$J$16,'Component Weights'!$B$17:$J$17)),IF(ISBLANK(J15),,LOOKUP(J15,'Component Weights'!$B$16:$J$16,'Component Weights'!$B$17:$J$17)))","v":6},{"$f":"IF(ISBLANK(C15),\" \",(LOOKUP(C15,'Component Weights'!$B$16:$J$16,'Component Weights'!$B$17:$J$17)*$AA$4))","v":" "},{"$f":"IF(ISBLANK(D15),\" \",(LOOKUP(D15,'Component Weights'!$B$16:$J$16,'Component Weights'!$B$17:$J$17)*$AA$5))","v":0},{"$f":"IF(ISBLANK(E15),\" \",(LOOKUP(E15,'Component Weights'!$B$16:$J$16,'Component Weights'!$B$17:$J$17)*$AA$6))","v":0.08},{"$f":"IF(ISBLANK(F15),\" \",(LOOKUP(F15,'Component Weights'!$B$16:$J$16,'Component Weights'!$B$17:$J$17)*$AA$7))","v":0},{"$f":"IF(ISBLANK(G15),\" \",(LOOKUP(G15,'Component Weights'!$B$16:$J$16,'Component Weights'!$B$17:$J$17)*$AA$8))","v":0},{"$f":"IF(ISBLANK(B15),\" \",(LOOKUP(B15,'Component Weights'!$B$16:$J$16,'Component Weights'!$B$17:$J$17)*$AA$9))","v":" "},{"$f":"IF(ISBLANK(H15),\" \",(LOOKUP(H15,'Component Weights'!$B$16:$J$16,'Component Weights'!$B$17:$J$17)*$AA$10))","v":0.12},{"$f":"IF(ISBLANK(I15),\" \",(LOOKUP(I15,'Component Weights'!$B$16:$J$16,'Component Weights'!$B$17:$J$17)*$AA$11))","v":0.16},{"$f":"IF(ISBLANK(J15),\" \",(LOOKUP(J15,'Component Weights'!$B$16:$J$16,'Component Weights'!$B$17:$J$17)*$AA$12))","v":0.24},0.6,14,null,0.6]
["(Enter Custom Product Here)",null,null,null,null,null,null,null,null,null,{"$f":"SUM(IF(ISBLANK(C16),,LOOKUP(C16,'Component Weights'!$B$16:$J$16,'Component Weights'!$B$17:$J$17)),IF(ISBLANK(D16),,LOOKUP(D16,'Component Weights'!$B$16:$J$16,'Component Weights'!$B$17:$J$17)),IF(ISBLANK(E16),,LOOKUP(E16,'Component Weights'!$B$16:$J$16,'Component Weights'!$B$17:$J$17)),IF(ISBLANK(F16),,LOOKUP(F16,'Component Weights'!$B$16:$J$16,'Component Weights'!$B$17:$J$17)),IF(ISBLANK(G16),,LOOKUP(G16,'Component Weights'!$B$16:$J$16,'Component Weights'!$B$17:$J$17)),IF(ISBLANK(B16),,LOOKUP(B16,'Component Weights'!$B$16:$J$16,'Component Weights'!$B$17:$J$17)),IF(ISBLANK(H16),,LOOKUP(H16,'Component Weights'!$B$16:$J$16,'Component Weights'!$B$17:$J$17)),IF(ISBLANK(I16),,LOOKUP(I16,'Component Weights'!$B$16:$J$16,'Component Weights'!$B$17:$J$17)),IF(ISBLANK(J16),,LOOKUP(J16,'Component Weights'!$B$16:$J$16,'Component Weights'!$B$17:$J$17)))","v":0},{"$f":"IF(ISBLANK(C16),\" \",(LOOKUP(C16,'Component Weights'!$B$16:$J$16,'Component Weights'!$B$17:$J$17)*$AA$4))","v":" "},{"$f":"IF(ISBLANK(D16),\" \",(LOOKUP(D16,'Component Weights'!$B$16:$J$16,'Component Weights'!$B$17:$J$17)*$AA$5))","v":" "},{"$f":"IF(ISBLANK(E16),\" \",(LOOKUP(E16,'Component Weights'!$B$16:$J$16,'Component Weights'!$B$17:$J$17)*$AA$6))","v":" "},{"$f":"IF(ISBLANK(F16),\" \",(LOOKUP(F16,'Component Weights'!$B$16:$J$16,'Component Weights'!$B$17:$J$17)*$AA$7))","v":" "},{"$f":"IF(ISBLANK(G16),\" \",(LOOKUP(G16,'Component Weights'!$B$16:$J$16,'Component Weights'!$B$17:$J$17)*$AA$8))","v":" "},{"$f":"IF(ISBLANK(B16),\" \",(LOOKUP(B16,'Component Weights'!$B$16:$J$16,'Component Weights'!$B$17:$J$17)*$AA$9))","v":" "},{"$f":"IF(ISBLANK(H16),\" \",(LOOKUP(H16,'Component Weights'!$B$16:$J$16,'Component Weights'!$B$17:$J$17)*$AA$10))","v":" "},{"$f":"IF(ISBLANK(I16),\" \",(LOOKUP(I16,'Component Weights'!$B$16:$J$16,'Component Weights'!$B$17:$J$17)*$AA$11))","v":" "},{"$f":"IF(ISBLANK(J16),\" \",(LOOKUP(J16,'Component Weights'!$B$16:$J$16,'Component Weights'!$B$17:$J$17)*$AA$12))","v":" "},0,99,null,0]
["(Enter Custom Product Here)",null,null,null,null,null,null,null,null,null,{"$f":"SUM(IF(ISBLANK(C17),,LOOKUP(C17,'Component Weights'!$B$16:$J$16,'Component Weights'!$B$17:$J$17)),IF(ISBLANK(D17),,LOOKUP(D17,'Component Weights'!$B$16:$J$16,'Component Weights'!$B$17:$J$17)),IF(ISBLANK(E17),,LOOKUP(E17,'Component Weights'!$B$16:$J$16,'Component Weights'!$B$17:$J$17)),IF(ISBLANK(F17),,LOOKUP(F17,'Component Weights'!$B$16:$J$16,'Component Weights'!$B$17:$J$17)),IF(ISBLANK(G17),,LOOKUP(G17,'Component Weights'!$B$16:$J$16,'Component Weights'!$B$17:$J$17)),IF(ISBLANK(B17),,LOOKUP(B17,'Component Weights'!$B$16:$J$16,'Component Weights'!$B$17:$J$17)),IF(ISBLANK(H17),,LOOKUP(H17,'Component Weights'!$B$16:$J$16,'Component Weights'!$B$17:$J$17)),IF(ISBLANK(I17),,LOOKUP(I17,'Component Weights'!$B$16:$J$16,'Component Weights'!$B$17:$J$17)),IF(ISBLANK(J17),,LOOKUP(J17,'Component Weights'!$B$16:$J$16,'Component Weights'!$B$17:$J$17)))","v":0},{"$f":"IF(ISBLANK(C17),\" \",(LOOKUP(C17,'Component Weights'!$B$16:$J$16,'Component Weights'!$B$17:$J$17)*$AA$4))","v":" "},{"$f":"IF(ISBLANK(D17),\" \",(LOOKUP(D17,'Component Weights'!$B$16:$J$16,'Component Weights'!$B$17:$J$17)*$AA$5))","v":" "},{"$f":"IF(ISBLANK(E17),\" \",(LOOKUP(E17,'Component Weights'!$B$16:$J$16,'Component Weights'!$B$17:$J$17)*$AA$6))","v":" "},{"$f":"IF(ISBLANK(F17),\" \",(LOOKUP(F17,'Component Weights'!$B$16:$J$16,'Component Weights'!$B$17:$J$17)*$AA$7))","v":" "},{"$f":"IF(ISBLANK(G17),\" \",(LOOKUP(G17,'Component Weights'!$B$16:$J$16,'Component Weights'!$B$17:$J$17)*$AA$8))","v":" "},{"$f":"IF(ISBLANK(B17),\" \",(LOOKUP(B17,'Component Weights'!$B$16:$J$16,'Component Weights'!$B$17:$J$17)*$AA$9))","v":" "},{"$f":"IF(ISBLANK(H17),\" \",(LOOKUP(H17,'Component Weights'!$B$16:$J$16,'Component Weights'!$B$17:$J$17)*$AA$10))","v":" "},{"$f":"IF(ISBLANK(I17),\" \",(LOOKUP(I17,'Component Weights'!$B$16:$J$16,'Component Weights'!$B$17:$J$17)*$AA$11))","v":" "},{"$f":"IF(ISBLANK(J17),\" \",(LOOKUP(J17,'Component Weights'!$B$16:$J$16,'Component Weights'!$B$17:$J$17)*$AA$12))","v":" "},0,99,null,{"$f":"U17","v":0}]
["(Enter Custom Product Here)",null,null,null,null,null,null,null,null,null,{"$f":"SUM(IF(ISBLANK(C18),,LOOKUP(C18,'Component Weights'!$B$16:$J$16,'Component Weights'!$B$17:$J$17)),IF(ISBLANK(D18),,LOOKUP(D18,'Component Weights'!$B$16:$J$16,'Component Weights'!$B$17:$J$17)),IF(ISBLANK(E18),,LOOKUP(E18,'Component Weights'!$B$16:$J$16,'Component Weights'!$B$17:$J$17)),IF(ISBLANK(F18),,LOOKUP(F18,'Component Weights'!$B$16:$J$16,'Component Weights'!$B$17:$J$17)),IF(ISBLANK(G18),,LOOKUP(G18,'Component Weights'!$B$16:$J$16,'Component Weights'!$B$17:$J$17)),IF(ISBLANK(B18),,LOOKUP(B18,'Component Weights'!$B$16:$J$16,'Component Weights'!$B$17:$J$17)),IF(ISBLANK(H18),,LOOKUP(H18,'Component Weights'!$B$16:$J$16,'Component Weights'!$B$17:$J$17)),IF(ISBLANK(I18),,LOOKUP(I18,'Component Weights'!$B$16:$J$16,'Component Weights'!$B$17:$J$17)),IF(ISBLANK(J18),,LOOKUP(J18,'Component Weights'!$B$16:$J$16,'Component Weights'!$B$17:$J$17)))","v":0},{"$f":"IF(ISBLANK(C18),\" \",(LOOKUP(C18,'Component Weights'!$B$16:$J$16,'Component Weights'!$B$17:$J$17)*$AA$4))","v":" "},{"$f":"IF(ISBLANK(D18),\" \",(LOOKUP(D18,'Component Weights'!$B$16:$J$16,'Component Weights'!$B$17:$J$17)*$AA$5))","v":" "},{"$f":"IF(ISBLANK(E18),\" \",(LOOKUP(E18,'Component Weights'!$B$16:$J$16,'Component Weights'!$B$17:$J$17)*$AA$6))","v":" "},{"$f":"IF(ISBLANK(F18),\" \",(LOOKUP(F18,'Component Weights'!$B$16:$J$16,'Component Weights'!$B$17:$J$17)*$AA$7))","v":" "},{"$f":"IF(ISBLANK(G18),\" \",(LOOKUP(G18,'Component Weights'!$B$16:$J$16,'Component Weights'!$B$17:$J$17)*$AA$8))","v":" "},{"$f":"IF(ISBLANK(B18),\" \",(LOOKUP(B18,'Component Weights'!$B$16:$J$16,'Component Weights'!$B$17:$J$17)*$AA$9))","v":" "},{"$f":"IF(ISBLANK(H18),\" \",(LOOKUP(H18,'Component Weights'!$B$16:$J$16,'Component Weights'!$B$17:$J$17)*$AA$10))","v":" "},{"$f":"IF(ISBLANK(I18),\" \",(LOOKUP(I18,'Component Weights'!$B$16:$J$16,'Component Weights'!$B$17:$J$17)*$AA$11))","v":" "},{"$f":"IF(ISBLANK(J18),\" \",(LOOKUP(J18,'Component Weights'!$B$16:$J$16,'Component Weights'!$B$17:$J$17)*$AA$12))","v":" "},0,99,null,{"$f":"U18","v":0}]
["(Enter Custom Product Here)",null,null,null,null,null,null,null,null,null,{"$f":"SUM(IF(ISBLANK(C19),,LOOKUP(C19,'Component Weights'!$B$16:$J$16,'Component Weights'!$B$17:$J$17)),IF(ISBLANK(D19),,LOOKUP(D19,'Component Weights'!$B$16:$J$16,'Component Weights'!$B$17:$J$17)),IF(ISBLANK(E19),,LOOKUP(E19,'Component Weights'!$B$16:$J$16,'Component Weights'!$B$17:$J$17)),IF(ISBLANK(F19),,LOOKUP(F19,'Component Weights'!$B$16:$J$16,'Component Weights'!$B$17:$J$17)),IF(ISBLANK(G19),,LOOKUP(G19,'Component Weights'!$B$16:$J$16,'Component Weights'!$B$17:$J$17)),IF(ISBLANK(B19),,LOOKUP(B19,'Component Weights'!$B$16:$J$16,'Component Weights'!$B$17:$J$17)),IF(ISBLANK(H19),,LOOKUP(H19,'Component Weights'!$B$16:$J$16,'Component Weights'!$B$17:$J$17)),IF(ISBLANK(I19),,LOOKUP(I19,'Component Weights'!$B$16:$J$16,'Component Weights'!$B$17:$J$17)),IF(ISBLANK(J19),,LOOKUP(J19,'Component Weights'!$B$16:$J$16,'Component Weights'!$B$17:$J$17)))","v":0},{"$f":"IF(ISBLANK(C19),\" \",(LOOKUP(C19,'Component Weights'!$B$16:$J$16,'Component Weights'!$B$17:$J$17)*$AA$4))","v":" "},{"$f":"IF(ISBLANK(D19),\" \",(LOOKUP(D19,'Component Weights'!$B$16:$J$16,'Component Weights'!$B$17:$J$17)*$AA$5))","v":" "},{"$f":"IF(ISBLANK(E19),\" \",(LOOKUP(E19,'Component Weights'!$B$16:$J$16,'Component Weights'!$B$17:$J$17)*$AA$6))","v":" "},{"$f":"IF(ISBLANK(F19),\" \",(LOOKUP(F19,'Component Weights'!$B$16:$J$16,'Component Weights'!$B$17:$J$17)*$AA$7))","v":" "},{"$f":"IF(ISBLANK(G19),\" \",(LOOKUP(G19,'Component Weights'!$B$16:$J$16,'Component Weights'!$B$17:$J$17)*$AA$8))","v":" "},{"$f":"IF(ISBLANK(B19),\" \",(LOOKUP(B19,'Component Weights'!$B$16:$J$16,'Component Weights'!$B$17:$J$17)*$AA$9))","v":" "},{"$f":"IF(ISBLANK(H19),\" \",(LOOKUP(H19,'Component Weights'!$B$16:$J$16,'Component Weights'!$B$17:$J$17)*$AA$10))","v":" "},{"$f":"IF(ISBLANK(I19),\" \",(LOOKUP(I19,'Component Weights'!$B$16:$J$16,'Component Weights'!$B$17:$J$17)*$AA$11))","v":" "},{"$f":"IF(ISBLANK(J19),\" \",(LOOKUP(J19,'Component Weights'!$B$16:$J$16,'Component Weights'!$B$17:$J$17)*$AA$12))","v":" "},0,99,null,{"$f":"U19","v":0}]
["(Enter Custom Product Here)",null,null,null,null,null,null,null,null,null,{"$f":"SUM(IF(ISBLANK(C20),,LOOKUP(C20,'Component Weights'!$B$16:$J$16,'Component Weights'!$B$17:$J$17)),IF(ISBLANK(D20),,LOOKUP(D20,'Component Weights'!$B$16:$J$16,'Component Weights'!$B$17:$J$17)),IF(ISBLANK(E20),,LOOKUP(E20,'Component Weights'!$B$16:$J$16,'Component Weights'!$B$17:$J$17)),IF(ISBLANK(F20),,LOOKUP(F20,'Component Weights'!$B$16:$J$16,'Component Weights'!$B$17:$J$17)),IF(ISBLANK(G20),,LOOKUP(G20,'Component Weights'!$B$16:$J$16,'Component Weights'!$B$17:$J$17)),IF(ISBLANK(B20),,LOOKUP(B20,'Component Weights'!$B$16:$J$16,'Component Weights'!$B$17:$J$17)),IF(ISBLANK(H20),,LOOKUP(H20,'Component Weights'!$B$16:$J$16,'Component Weights'!$B$17:$J$17)),IF(ISBLANK(I20),,LOOKUP(I20,'Component Weights'!$B$16:$J$16,'Component Weights'!$B$17:$J$17)),IF(ISBLANK(J20),,LOOKUP(J20,'Component Weights'!$B$16:$J$16,'Component Weights'!$B$17:$J$17)))","v":0},{"$f":"IF(ISBLANK(C20),\" \",(LOOKUP(C20,'Component Weights'!$B$16:$J$16,'Component Weights'!$B$17:$J$17)*$AA$4))","v":" "},{"$f":"IF(ISBLANK(D20),\" \",(LOOKUP(D20,'Component Weights'!$B$16:$J$16,'Component Weights'!$B$17:$J$17)*$AA$5))","v":" "},{"$f":"IF(ISBLANK(E20),\" \",(LOOKUP(E20,'Component Weights'!$B$16:$J$16,'Component Weights'!$B$17:$J$17)*$AA$6))","v":" "},{"$f":"IF(ISBLANK(F20),\" \",(LOOKUP(F20,'Component Weights'!$B$16:$J$16,'Component Weights'!$B$17:$J$17)*$AA$7))","v":" "},{"$f":"IF(ISBLANK(G20),\" \",(LOOKUP(G20,'Component Weights'!$B$16:$J$16,'Component Weights'!$B$17:$J$17)*$AA$8))","v":" "},{"$f":"IF(ISBLANK(B20),\" \",(LOOKUP(B20,'Component Weights'!$B$16:$J$16,'Component Weights'!$B$17:$J$17)*$AA$9))","v":" "},{"$f":"IF(ISBLANK(H20),\" \",(LOOKUP(H20,'Component Weights'!$B$16:$J$16,'Component Weights'!$B$17:$J$17)*$AA$10))","v":" "},{"$f":"IF(ISBLANK(I20),\" \",(LOOKUP(I20,'Component Weights'!$B$16:$J$16,'Component Weights'!$B$17:$J$17)*$AA$11))","v":" "},{"$f":"IF(ISBLANK(J20),\" \",(LOOKUP(J20,'Component Weights'!$B$16:$J$16,'Component Weights'!$B$17:$J$17)*$AA$12))","v":" "},0,99,null,{"$f":"U20","v":0}]
["(Enter Custom Product Here)",null,null,null,null,null,null,null,null,null,{"$f":"SUM(IF(ISBLANK(C21),,LOOKUP(C21,'Component Weights'!$B$16:$J$16,'Component Weights'!$B$17:$J$17)),IF(ISBLANK(D21),,LOOKUP(D21,'Component Weights'!$B$16:$J$16,'Component Weights'!$B$17:$J$17)),IF(ISBLANK(E21),,LOOKUP(E21,'Component Weights'!$B$16:$J$16,'Component Weights'!$B$17:$J$17)),IF(ISBLANK(F21),,LOOKUP(F21,'Component Weights'!$B$16:$J$16,'Component Weights'!$B$17:$J$17)),IF(ISBLANK(G21),,LOOKUP(G21,'Component Weights'!$B$16:$J$16,'Component Weights'!$B$17:$J$17)),IF(ISBLANK(B21),,LOOKUP(B21,'Component Weights'!$B$16:$J$16,'Component Weights'!$B$17:$J$17)),IF(ISBLANK(H21),,LOOKUP(H21,'Component Weights'!$B$16:$J$16,'Component Weights'!$B$17:$J$17)),IF(ISBLANK(I21),,LOOKUP(I21,'Component Weights'!$B$16:$J$16,'Component Weights'!$B$17:$J$17)),IF(ISBLANK(J21),,LOOKUP(J21,'Component Weights'!$B$16:$J$16,'Component Weights'!$B$17:$J$17)))","v":0},{"$f":"IF(ISBLANK(C21),\" \",(LOOKUP(C21,'Component Weights'!$B$16:$J$16,'Component Weights'!$B$17:$J$17)*$AA$4))","v":" "},{"$f":"IF(ISBLANK(D21),\" \",(LOOKUP(D21,'Component Weights'!$B$16:$J$16,'Component Weights'!$B$17:$J$17)*$AA$5))","v":" "},{"$f":"IF(ISBLANK(E21),\" \",(LOOKUP(E21,'Component Weights'!$B$16:$J$16,'Component Weights'!$B$17:$J$17)*$AA$6))","v":" "},{"$f":"IF(ISBLANK(F21),\" \",(LOOKUP(F21,'Component Weights'!$B$16:$J$16,'Component Weights'!$B$17:$J$17)*$AA$7))","v":" "},{"$f":"IF(ISBLANK(G21),\" \",(LOOKUP(G21,'Component Weights'!$B$16:$J$16,'Component Weights'!$B$17:$J$17)*$AA$8))","v":" "},{"$f":"IF(ISBLANK(B21),\" \",(LOOKUP(B21,'Component Weights'!$B$16:$J$16,'Component Weights'!$B$17:$J$17)*$AA$9))","v":" "},{"$f":"IF(ISBLANK(H21),\" \",(LOOKUP(H21,'Component Weights'!$B$16:$J$16,'Component Weights'!$B$17:$J$17)*$AA$10))","v":" "},{"$f":"IF(ISBLANK(I21),\" \",(LOOKUP(I21,'Component Weights'!$B$16:$J$16,'Component Weights'!$B$17:$J$17)*$AA$11))","v":" "},{"$f":"IF(ISBLANK(J21),\" \",(LOOKUP(J21,'Component Weights'!$B$16:$J$16,'Component Weights'!$B$17:$J$17)*$AA$12))","v":" "},0,99,null,0]
[null,null,null,null,null,null,null,null,null,null,{"$f":"AVERAGE(K$2:K15)","v":7.4285714285714288},{"$f":"AVERAGE(L$2:L15)","v":{"$error":"#DIV/0!"}},{"$f":"AVERAGE(M$2:M15)","v":0},{"$f":"AVERAGE(N$2:N15)","v":7.9999999999999988E-2},{"$f":"AVERAGE(O$2:O15)","v":0},{"$f":"AVERAGE(P$2:P15)","v":7.1428571428571435E-3},{"$f":"AVERAGE(Q$2:Q15)","v":{"$error":"#DIV/0!"}},{"$f":"AVERAGE(R$2:R15)","v":0.3},{"$f":"AVERAGE(S$2:S15)","v":0.14285714285714288},{"$f":"AVERAGE(T$2:T15)","v":0.24000000000000007},{"$f":"AVERAGE(U$2:U15)","v":0.76999999999999991},{"$f":"IF(AND(OR(#REF!=72,#REF!=73,#REF!=74,#REF!=75,#REF!=76),$U22>0),RANK($U22,Y$2:Y$12,0),\" \")","v":{"$error":"#REF!"}}]

{"sheet":"Cooling","index":7,"n_rows":16,"n_cols":29,"rows_kept":16,"cut":false,"hidden":false,"merged":[]}
["Instructions:\nScroll down to see all products.  New products may be added to the end of the list.  Rate the performance of each product as \"N, L, M or H.\" (Hover over the component title for the rating description.)  Use your Backspace button to clear values.  The Sort button (below) will incorporate your priorities as currently stated on the table to the right.  (Scroll to the right to see the table.)\n\n","Available Locally","Incremental Energy Savings","Use of Recycled Content","Low Energy Usage Manufacturing Process","Easily Biodegradable","Made from Natural Materials","Low Emissions Potential","Listed in Other Programs","Non Hazardous as Waste","Total Raw Score","Incremental Energy Savings Weighted Score","Use of Recycled Content Weighted Score","Low Energy Usage Mfg. Process Weighted Score","Easily Biodegradable Weighted Score","Made from Natural Materials Weighted Score","Available Locally Weighted Score","Low Emissions Potential Weighted Score","Listed in Other Programs Weighted Score","Non Hazardous as Waste Weighted Score","Total Weighted Score","Force Ranking",null,"Weighted Score for Force Rank Calculation ",null,"Detailed instructions and options for using this tool are found in the Using the DYO® GBD Kit Decision Matrix Software Section of your DYO® Green Building Decision Kit."]
["Ceiling Fans",null,null,"N","M","N","N","H","H","M",{"$f":"SUM(IF(ISBLANK(C2),,LOOKUP(C2,'Component Weights'!$B$16:$J$16,'Component Weights'!$B$17:$J$17)),IF(ISBLANK(D2),,LOOKUP(D2,'Component Weights'!$B$16:$J$16,'Component Weights'!$B$17:$J$17)),IF(ISBLANK(E2),,LOOKUP(E2,'Component Weights'!$B$16:$J$16,'Component Weights'!$B$17:$J$17)),IF(ISBLANK(F2),,LOOKUP(F2,'Component Weights'!$B$16:$J$16,'Component Weights'!$B$17:$J$17)),IF(ISBLANK(G2),,LOOKUP(G2,'Component Weights'!$B$16:$J$16,'Component Weights'!$B$17:$J$17)),IF(ISBLANK(B2),,LOOKUP(B2,'Component Weights'!$B$16:$J$16,'Component Weights'!$B$17:$J$17)),IF(ISBLANK(H2),,LOOKUP(H2,'Component Weights'!$B$16:$J$16,'Component Weights'!$B$17:$J$17)),IF(ISBLANK(I2),,LOOKUP(I2,'Component Weights'!$B$16:$J$16,'Component Weights'!$B$17:$J$17)),IF(ISBLANK(J2),,LOOKUP(J2,'Component Weights'!$B$16:$J$16,'Component Weights'!$B$17:$J$17)))","v":10},{"$f":"IF(ISBLANK(C2),\" \",(LOOKUP(C2,'Component Weights'!$B$16:$J$16,'Component Weights'!$B$17:$J$17)*$AA$4))","v":" "},{"$f":"IF(ISBLANK(D2),\" \",(LOOKUP(D2,'Component Weights'!$B$16:$J$16,'Component Weights'!$B$17:$J$17)*$AA$5))","v":0},{"$f":"IF(ISBLANK(E2),\" \",(LOOKUP(E2,'Component Weights'!$B$16:$J$16,'Component Weights'!$B$17:$J$17)*$AA$6))","v":0.16},{"$f":"IF(ISBLANK(F2),\" \",(LOOKUP(F2,'Component Weights'!$B$16:$J$16,'Component Weights'!$B$17:$J$17)*$AA$7))","v":0},{"$f":"IF(ISBLANK(G2),\" \",(LOOKUP(G2,'Component Weights'!$B$16:$J$16,'Component Weights'!$B$17:$J$17)*$AA$8))","v":0},{"$f":"IF(ISBLANK(B2),\" \",(LOOKUP(B2,'Component Weights'!$B$16:$J$16,'Component Weights'!$B$17:$J$17)*$AA$9))","v":" "},{"$f":"IF(ISBLANK(H2),\" \",(LOOKUP(H2,'Component Weights'!$B$16:$J$16,'Component Weights'!$B$17:$J$17)*$AA$10))","v":0.36},{"$f":"IF(ISBLANK(I2),\" \",(LOOKUP(I2,'Component Weights'!$B$16:$J$16,'Component Weights'!$B$17:$J$17)*$AA$11))","v":0.24},{"$f":"IF(ISBLANK(J2),\" \",(LOOKUP(J2,'Component Weights'!$B$16:$J$16,'Component Weights'!$B$17:$J$17)*$AA$12))","v":0.24},{"$f":"SUM(L2:T2)","v":1},{"$f":"IF($U2>0,RANK($U2,X$2:X$206,0),99)","v":1},null,{"$f":"U2","v":1},null,"Component Weights for","Weight"]
["Heat Pump",null,null,"N","L","N","N","H","H","M",{"$f":"SUM(IF(ISBLANK(C3),,LOOKUP(C3,'Component Weights'!$B$16:$J$16,'Component Weights'!$B$17:$J$17)),IF(ISBLANK(D3),,LOOKUP(D3,'Component Weights'!$B$16:$J$16,'Component Weights'!$B$17:$J$17)),IF(ISBLANK(E3),,LOOKUP(E3,'Component Weights'!$B$16:$J$16,'Component Weights'!$B$17:$J$17)),IF(ISBLANK(F3),,LOOKUP(F3,'Component Weights'!$B$16:$J$16,'Component Weights'!$B$17:$J$17)),IF(ISBLANK(G3),,LOOKUP(G3,'Component Weights'!$B$16:$J$16,'Component Weights'!$B$17:$J$17)),IF(ISBLANK(B3),,LOOKUP(B3,'Component Weights'!$B$16:$J$16,'Component Weights'!$B$17:$J$17)),IF(ISBLANK(H3),,LOOKUP(H3,'Component Weights'!$B$16:$J$16,'Component Weights'!$B$17:$J$17)),IF(ISBLANK(I3),,LOOKUP(I3,'Component Weights'!$B$16:$J$16,'Component Weights'!$B$17:$J$17)),IF(ISBLANK(J3),,LOOKUP(J3,'Component Weights'!$B$16:$J$16,'Component Weights'!$B$17:$J$17)))","v":9},{"$f":"IF(ISBLANK(C3),\" \",(LOOKUP(C3,'Component Weights'!$B$16:$J$16,'Component Weights'!$B$17:$J$17)*$AA$4))","v":" "},{"$f":"IF(ISBLANK(D3),\" \",(LOOKUP(D3,'Component Weights'!$B$16:$J$16,'Component Weights'!$B$17:$J$17)*$AA$5))","v":0},{"$f":"IF(ISBLANK(E3),\" \",(LOOKUP(E3,'Component Weights'!$B$16:$J$16,'Component Weights'!$B$17:$J$17)*$AA$6))","v":0.08},{"$f":"IF(ISBLANK(F3),\" \",(LOOKUP(F3,'Component Weights'!$B$16:$J$16,'Component Weights'!$B$17:$J$17)*$AA$7))","v":0},{"$f":"IF(ISBLANK(G3),\" \",(LOOKUP(G3,'Component Weights'!$B$16:$J$16,'Component Weights'!$B$17:$J$17)*$AA$8))","v":0},{"$f":"IF(ISBLANK(B3),\" \",(LOOKUP(B3,'Component Weights'!$B$16:$J$16,'Component Weights'!$B$17:$J$17)*$AA$9))","v":" "},{"$f":"IF(ISBLANK(H3),\" \",(LOOKUP(H3,'Component Weights'!$B$16:$J$16,'Component Weights'!$B$17:$J$17)*$AA$10))","v":0.36},{"$f":"IF(ISBLANK(I3),\" \",(LOOKUP(I3,'Component Weights'!$B$16:$J$16,'Component Weights'!$B$17:$J$17)*$AA$11))","v":0.24},{"$f":"IF(ISBLANK(J3),\" \",(LOOKUP(J3,'Component Weights'!$B$16:$J$16,'Component Weights'!$B$17:$J$17)*$AA$12))","v":0.24},0.91999999999999993,2,null,0.91999999999999993,null,"Cooling"]
["Central Air Conditioning, Eco-Friendly Refrigerant",null,null,"N","L","N","N","H","M","M",{"$f":"SUM(IF(ISBLANK(C4),,LOOKUP(C4,'Component Weights'!$B$16:$J$16,'Component Weights'!$B$17:$J$17)),IF(ISBLANK(D4),,LOOKUP(D4,'Component Weights'!$B$16:$J$16,'Component Weights'!$B$17:$J$17)),IF(ISBLANK(E4),,LOOKUP(E4,'Component Weights'!$B$16:$J$16,'Component Weights'!$B$17:$J$17)),IF(ISBLANK(F4),,LOOKUP(F4,'Component Weights'!$B$16:$J$16,'Component Weights'!$B$17:$J$17)),IF(ISBLANK(G4),,LOOKUP(G4,'Component Weights'!$B$16:$J$16,'Component Weights'!$B$17:$J$17)),IF(ISBLANK(B4),,LOOKUP(B4,'Component Weights'!$B$16:$J$16,'Component Weights'!$B$17:$J$17)),IF(ISBLANK(H4),,LOOKUP(H4,'Component Weights'!$B$16:$J$16,'Component Weights'!$B$17:$J$17)),IF(ISBLANK(I4),,LOOKUP(I4,'Component Weights'!$B$16:$J$16,'Component Weights'!$B$17:$J$17)),IF(ISBLANK(J4),,LOOKUP(J4,'Component Weights'!$B$16:$J$16,'Component Weights'!$B$17:$J$17)))","v":8},{"$f":"IF(ISBLANK(C4),\" \",(LOOKUP(C4,'Component Weights'!$B$16:$J$16,'Component Weights'!$B$17:$J$17)*$AA$4))","v":" "},{"$f":"IF(ISBLANK(D4),\" \",(LOOKUP(D4,'Component Weights'!$B$16:$J$16,'Component Weights'!$B$17:$J$17)*$AA$5))","v":0},{"$f":"IF(ISBLANK(E4),\" \",(LOOKUP(E4,'Component Weights'!$B$16:$J$16,'Component Weights'!$B$17:$J$17)*$AA$6))","v":0.08},{"$f":"IF(ISBLANK(F4),\" \",(LOOKUP(F4,'Component Weights'!$B$16:$J$16,'Component Weights'!$B$17:$J$17)*$AA$7))","v":0},{"$f":"IF(ISBLANK(G4),\" \",(LOOKUP(G4,'Component Weights'!$B$16:$J$16,'Component Weights'!$B$17:$J$17)*$AA$8))","v":0},{"$f":"IF(ISBLANK(B4),\" \",(LOOKUP(B4,'Component Weights'!$B$16:$J$16,'Component Weights'!$B$17:$J$17)*$AA$9))","v":" "},{"$f":"IF(ISBLANK(H4),\" \",(LOOKUP(H4,'Component Weights'!$B$16:$J$16,'Component Weights'!$B$17:$J$17)*$AA$10))","v":0.36},{"$f":"IF(ISBLANK(I4),\" \",(LOOKUP(I4,'Component Weights'!$B$16:$J$16,'Component Weights'!$B$17:$J$17)*$AA$11))","v":0.16},{"$f":"IF(ISBLANK(J4),\" \",(LOOKUP(J4,'Component Weights'!$B$16:$J$16,'Component Weights'!$B$17:$J$17)*$AA$12))","v":0.24},0.84,3,null,0.84,null,"Incremental Energy Savings",0.08,"M","The amount of incremental energy, expressed in Btu/Hr, that a product saves or generates for the structure."]
["Window Air Conditioners, Eco-Friendly Refrigerant",null,null,"N","L","N","N","H","M","M",{"$f":"SUM(IF(ISBLANK(C5),,LOOKUP(C5,'Component Weights'!$B$16:$J$16,'Component Weights'!$B$17:$J$17)),IF(ISBLANK(D5),,LOOKUP(D5,'Component Weights'!$B$16:$J$16,'Component Weights'!$B$17:$J$17)),IF(ISBLANK(E5),,LOOKUP(E5,'Component Weights'!$B$16:$J$16,'Component Weights'!$B$17:$J$17)),IF(ISBLANK(F5),,LOOKUP(F5,'Component Weights'!$B$16:$J$16,'Component Weights'!$B$17:$J$17)),IF(ISBLANK(G5),,LOOKUP(G5,'Component Weights'!$B$16:$J$16,'Component Weights'!$B$17:$J$17)),IF(ISBLANK(B5),,LOOKUP(B5,'Component Weights'!$B$16:$J$16,'Component Weights'!$B$17:$J$17)),IF(ISBLANK(H5),,LOOKUP(H5,'Component Weights'!$B$16:$J$16,'Component Weights'!$B$17:$J$17)),IF(ISBLANK(I5),,LOOKUP(I5,'Component Weights'!$B$16:$J$16,'Component Weights'!$B$17:$J$17)),IF(ISBLANK(J5),,LOOKUP(J5,'Component Weights'!$B$16:$J$16,'Component Weights'!$B$17:$J$17)))","v":8},{"$f":"IF(ISBLANK(C5),\" \",(LOOKUP(C5,'Component Weights'!$B$16:$J$16,'Component Weights'!$B$17:$J$17)*$AA$4))","v":" "},{"$f":"IF(ISBLANK(D5),\" \",(LOOKUP(D5,'Component Weights'!$B$16:$J$16,'Component Weights'!$B$17:$J$17)*$AA$5))","v":0},{"$f":"IF(ISBLANK(E5),\" \",(LOOKUP(E5,'Component Weights'!$B$16:$J$16,'Component Weights'!$B$17:$J$17)*$AA$6))","v":0.08},{"$f":"IF(ISBLANK(F5),\" \",(LOOKUP(F5,'Component Weights'!$B$16:$J$16,'Component Weights'!$B$17:$J$17)*$AA$7))","v":0},{"$f":"IF(ISBLANK(G5),\" \",(LOOKUP(G5,'Component Weights'!$B$16:$J$16,'Component Weights'!$B$17:$J$17)*$AA$8))","v":0},{"$f":"IF(ISBLANK(B5),\" \",(LOOKUP(B5,'Component Weights'!$B$16:$J$16,'Component Weights'!$B$17:$J$17)*$AA$9))","v":" "},{"$f":"IF(ISBLANK(H5),\" \",(LOOKUP(H5,'Component Weights'!$B$16:$J$16,'Component Weights'!$B$17:$J$17)*$AA$10))","v":0.36},{"$f":"IF(ISBLANK(I5),\" \",(LOOKUP(I5,'Component Weights'!$B$16:$J$16,'Component Weights'!$B$17:$J$17)*$AA$11))","v":0.16},{"$f":"IF(ISBLANK(J5),\" \",(LOOKUP(J5,'Component Weights'!$B$16:$J$16,'Component Weights'!$B$17:$J$17)*$AA$12))","v":0.24},0.84,3,null,0.84,null,"Use of Recycled Content",0.12,"H","The amount of recycled content, expressed as a percentage, found in a product."]
["Evaporative Cooling System",null,null,"N","L","N","N","H","M","M",{"$f":"SUM(IF(ISBLANK(C6),,LOOKUP(C6,'Component Weights'!$B$16:$J$16,'Component Weights'!$B$17:$J$17)),IF(ISBLANK(D6),,LOOKUP(D6,'Component Weights'!$B$16:$J$16,'Component Weights'!$B$17:$J$17)),IF(ISBLANK(E6),,LOOKUP(E6,'Component Weights'!$B$16:$J$16,'Component Weights'!$B$17:$J$17)),IF(ISBLANK(F6),,LOOKUP(F6,'Component Weights'!$B$16:$J$16,'Component Weights'!$B$17:$J$17)),IF(ISBLANK(G6),,LOOKUP(G6,'Component Weights'!$B$16:$J$16,'Component Weights'!$B$17:$J$17)),IF(ISBLANK(B6),,LOOKUP(B6,'Component Weights'!$B$16:$J$16,'Component Weights'!$B$17:$J$17)),IF(ISBLANK(H6),,LOOKUP(H6,'Component Weights'!$B$16:$J$16,'Component Weights'!$B$17:$J$17)),IF(ISBLANK(I6),,LOOKUP(I6,'Component Weights'!$B$16:$J$16,'Component Weights'!$B$17:$J$17)),IF(ISBLANK(J6),,LOOKUP(J6,'Component Weights'!$B$16:$J$16,'Component Weights'!$B$17:$J$17)))","v":8},{"$f":"IF(ISBLANK(C6),\" \",(LOOKUP(C6,'Component Weights'!$B$16:$J$16,'Component Weights'!$B$17:$J$17)*$AA$4))","v":" "},{"$f":"IF(ISBLANK(D6),\" \",(LOOKUP(D6,'Component Weights'!$B$16:$J$16,'Component Weights'!$B$17:$J$17)*$AA$5))","v":0},{"$f":"IF(ISBLANK(E6),\" \",(LOOKUP(E6,'Component Weights'!$B$16:$J$16,'Component Weights'!$B$17:$J$17)*$AA$6))","v":0.08},{"$f":"IF(ISBLANK(F6),\" \",(LOOKUP(F6,'Component Weights'!$B$16:$J$16,'Component Weights'!$B$17:$J$17)*$AA$7))","v":0},{"$f":"IF(ISBLANK(G6),\" \",(LOOKUP(G6,'Component Weights'!$B$16:$J$16,'Component Weights'!$B$17:$J$17)*$AA$8))","v":0},{"$f":"IF(ISBLANK(B6),\" \",(LOOKUP(B6,'Component Weights'!$B$16:$J$16,'Component Weights'!$B$17:$J$17)*$AA$9))","v":" "},{"$f":"IF(ISBLANK(H6),\" \",(LOOKUP(H6,'Component Weights'!$B$16:$J$16,'Component Weights'!$B$17:$J$17)*$AA$10))","v":0.36},{"$f":"IF(ISBLANK(I6),\" \",(LOOKUP(I6,'Component Weights'!$B$16:$J$16,'Component Weights'!$B$17:$J$17)*$AA$11))","v":0.16},{"$f":"IF(ISBLANK(J6),\" \",(LOOKUP(J6,'Component Weights'!$B$16:$J$16,'Component Weights'!$B$17:$J$17)*$AA$12))","v":0.24},0.84,3,null,0.84,null,"Low Energy Usage Manufacturing Process",0.08,"M","The amount of energy used in manufacture of the product."]
["Radiant Cooling System",null,null,"N","L","N","N","H","L","M",{"$f":"SUM(IF(ISBLANK(C7),,LOOKUP(C7,'Component Weights'!$B$16:$J$16,'Component Weights'!$B$17:$J$17)),IF(ISBLANK(D7),,LOOKUP(D7,'Component Weights'!$B$16:$J$16,'Component Weights'!$B$17:$J$17)),IF(ISBLANK(E7),,LOOKUP(E7,'Component Weights'!$B$16:$J$16,'Component Weights'!$B$17:$J$17)),IF(ISBLANK(F7),,LOOKUP(F7,'Component Weights'!$B$16:$J$16,'Component Weights'!$B$17:$J$17)),IF(ISBLANK(G7),,LOOKUP(G7,'Component Weights'!$B$16:$J$16,'Component Weights'!$B$17:$J$17)),IF(ISBLANK(B7),,LOOKUP(B7,'Component Weights'!$B$16:$J$16,'Component Weights'!$B$17:$J$17)),IF(ISBLANK(H7),,LOOKUP(H7,'Component Weights'!$B$16:$J$16,'Component Weights'!$B$17:$J$17)),IF(ISBLANK(I7),,LOOKUP(I7,'Component Weights'!$B$16:$J$16,'Component Weights'!$B$17:$J$17)),IF(ISBLANK(J7),,LOOKUP(J7,'Component Weights'!$B$16:$J$16,'Component Weights'!$B$17:$J$17)))","v":7},{"$f":"IF(ISBLANK(C7),\" \",(LOOKUP(C7,'Component Weights'!$B$16:$J$16,'Component Weights'!$B$17:$J$17)*$AA$4))","v":" "},{"$f":"IF(ISBLANK(D7),\" \",(LOOKUP(D7,'Component Weights'!$B$16:$J$16,'Component Weights'!$B$17:$J$17)*$AA$5))","v":0},{"$f":"IF(ISBLANK(E7),\" \",(LOOKUP(E7,'Component Weights'!$B$16:$J$16,'Component Weights'!$B$17:$J$17)*$AA$6))","v":0.08},{"$f":"IF(ISBLANK(F7),\" \",(LOOKUP(F7,'Component Weights'!$B$16:$J$16,'Component Weights'!$B$17:$J$17)*$AA$7))","v":0},{"$f":"IF(ISBLANK(G7),\" \",(LOOKUP(G7,'Component Weights'!$B$16:$J$16,'Component Weights'!$B$17:$J$17)*$AA$8))","v":0},{"$f":"IF(ISBLANK(B7),\" \",(LOOKUP(B7,'Component Weights'!$B$16:$J$16,'Component Weights'!$B$17:$J$17)*$AA$9))","v":" "},{"$f":"IF(ISBLANK(H7),\" \",(LOOKUP(H7,'Component Weights'!$B$16:$J$16,'Component Weights'!$B$17:$J$17)*$AA$10))","v":0.36},{"$f":"IF(ISBLANK(I7),\" \",(LOOKUP(I7,'Component Weights'!$B$16:$J$16,'Component Weights'!$B$17:$J$17)*$AA$11))","v":0.08},{"$f":"IF(ISBLANK(J7),\" \",(LOOKUP(J7,'Component Weights'!$B$16:$J$16,'Component Weights'!$B$17:$J$17)*$AA$12))","v":0.24},0.76,6,null,0.76,null,"Easily Biodegradable",0.12,"H","The amount of time it will take the product to degrade once its useful life is over."]
["Central Air Conditioning, Standard Refrigerant",null,null,"N","L","N","N","M","L","M",{"$f":"SUM(IF(ISBLANK(C8),,LOOKUP(C8,'Component Weights'!$B$16:$J$16,'Component Weights'!$B$17:$J$17)),IF(ISBLANK(D8),,LOOKUP(D8,'Component Weights'!$B$16:$J$16,'Component Weights'!$B$17:$J$17)),IF(ISBLANK(E8),,LOOKUP(E8,'Component Weights'!$B$16:$J$16,'Component Weights'!$B$17:$J$17)),IF(ISBLANK(F8),,LOOKUP(F8,'Component Weights'!$B$16:$J$16,'Component Weights'!$B$17:$J$17)),IF(ISBLANK(G8),,LOOKUP(G8,'Component Weights'!$B$16:$J$16,'Component Weights'!$B$17:$J$17)),IF(ISBLANK(B8),,LOOKUP(B8,'Component Weights'!$B$16:$J$16,'Component Weights'!$B$17:$J$17)),IF(ISBLANK(H8),,LOOKUP(H8,'Component Weights'!$B$16:$J$16,'Component Weights'!$B$17:$J$17)),IF(ISBLANK(I8),,LOOKUP(I8,'Component Weights'!$B$16:$J$16,'Component Weights'!$B$17:$J$17)),IF(ISBLANK(J8),,LOOKUP(J8,'Component Weights'!$B$16:$J$16,'Component Weights'!$B$17:$J$17)))","v":6},{"$f":"IF(ISBLANK(C8),\" \",(LOOKUP(C8,'Component Weights'!$B$16:$J$16,'Component Weights'!$B$17:$J$17)*$AA$4))","v":" "},{"$f":"IF(ISBLANK(D8),\" \",(LOOKUP(D8,'Component Weights'!$B$16:$J$16,'Component Weights'!$B$17:$J$17)*$AA$5))","v":0},{"$f":"IF(ISBLANK(E8),\" \",(LOOKUP(E8,'Component Weights'!$B$16:$J$16,'Component Weights'!$B$17:$J$17)*$AA$6))","v":0.08},{"$f":"IF(ISBLANK(F8),\" \",(LOOKUP(F8,'Component Weights'!$B$16:$J$16,'Component Weights'!$B$17:$J$17)*$AA$7))","v":0},{"$f":"IF(ISBLANK(G8),\" \",(LOOKUP(G8,'Component Weights'!$B$16:$J$16,'Component Weights'!$B$17:$J$17)*$AA$8))","v":0},{"$f":"IF(ISBLANK(B8),\" \",(LOOKUP(B8,'Component Weights'!$B$16:$J$16,'Component Weights'!$B$17:$J$17)*$AA$9))","v":" "},{"$f":"IF(ISBLANK(H8),\" \",(LOOKUP(H8,'Component Weights'!$B$16:$J$16,'Component Weights'!$B$17:$J$17)*$AA$10))","v":0.24},{"$f":"IF(ISBLANK(I8),\" \",(LOOKUP(I8,'Component Weights'!$B$16:$J$16,'Component Weights'!$B$17:$J$17)*$AA$11))","v":0.08},{"$f":"IF(ISBLANK(J8),\" \",(LOOKUP(J8,'Component Weights'!$B$16:$J$16,'Component Weights'!$B$17:$J$17)*$AA$12))","v":0.24},0.64,7,null,0.64,null,"Made from Natural Materials",0.05,"L","The amount, expressed as a percentage, of natural (not man-made) materials used to make the product."]
["Window Air Conditioners, Standard Refrigerant",null,null,"N","L","N","N","M","L","M",{"$f":"SUM(IF(ISBLANK(C9),,LOOKUP(C9,'Component Weights'!$B$16:$J$16,'Component Weights'!$B$17:$J$17)),IF(ISBLANK(D9),,LOOKUP(D9,'Component Weights'!$B$16:$J$16,'Component Weights'!$B$17:$J$17)),IF(ISBLANK(E9),,LOOKUP(E9,'Component Weights'!$B$16:$J$16,'Component Weights'!$B$17:$J$17)),IF(ISBLANK(F9),,LOOKUP(F9,'Component Weights'!$B$16:$J$16,'Component Weights'!$B$17:$J$17)),IF(ISBLANK(G9),,LOOKUP(G9,'Component Weights'!$B$16:$J$16,'Component Weights'!$B$17:$J$17)),IF(ISBLANK(B9),,LOOKUP(B9,'Component Weights'!$B$16:$J$16,'Component Weights'!$B$17:$J$17)),IF(ISBLANK(H9),,LOOKUP(H9,'Component Weights'!$B$16:$J$16,'Component Weights'!$B$17:$J$17)),IF(ISBLANK(I9),,LOOKUP(I9,'Component Weights'!$B$16:$J$16,'Component Weights'!$B$17:$J$17)),IF(ISBLANK(J9),,LOOKUP(J9,'Component Weights'!$B$16:$J$16,'Component Weights'!$B$17:$J$17)))","v":6},{"$f":"IF(ISBLANK(C9),\" \",(LOOKUP(C9,'Component Weights'!$B$16:$J$16,'Component Weights'!$B$17:$J$17)*$AA$4))","v":" "},{"$f":"IF(ISBLANK(D9),\" \",(LOOKUP(D9,'Component Weights'!$B$16:$J$16,'Component Weights'!$B$17:$J$17)*$AA$5))","v":0},{"$f":"IF(ISBLANK(E9),\" \",(LOOKUP(E9,'Component Weights'!$B$16:$J$16,'Component Weights'!$B$17:$J$17)*$AA$6))","v":0.08},{"$f":"IF(ISBLANK(F9),\" \",(LOOKUP(F9,'Component Weights'!$B$16:$J$16,'Component Weights'!$B$17:$J$17)*$AA$7))","v":0},{"$f":"IF(ISBLANK(G9),\" \",(LOOKUP(G9,'Component Weights'!$B$16:$J$16,'Component Weights'!$B$17:$J$17)*$AA$8))","v":0},{"$f":"IF(ISBLANK(B9),\" \",(LOOKUP(B9,'Component Weights'!$B$16:$J$16,'Component Weights'!$B$17:$J$17)*$AA$9))","v":" "},{"$f":"IF(ISBLANK(H9),\" \",(LOOKUP(H9,'Component Weights'!$B$16:$J$16,'Component Weights'!$B$17:$J$17)*$AA$10))","v":0.24},{"$f":"IF(ISBLANK(I9),\" \",(LOOKUP(I9,'Component Weights'!$B$16:$J$16,'Component Weights'!$B$17:$J$17)*$AA$11))","v":0.08},{"$f":"IF(ISBLANK(J9),\" \",(LOOKUP(J9,'Component Weights'!$B$16:$J$16,'Component Weights'!$B$17:$J$17)*$AA$12))","v":0.24},0.64,7,null,0.64,null,"Available Locally",0.23,"H+","The distance in miles that the product must travel to the destination of final use."]
["(Enter Custom Product Here)",null,null,null,null,null,null,null,null,null,{"$f":"SUM(IF(ISBLANK(C10),,LOOKUP(C10,'Component Weights'!$B$16:$J$16,'Component Weights'!$B$17:$J$17)),IF(ISBLANK(D10),,LOOKUP(D10,'Component Weights'!$B$16:$J$16,'Component Weights'!$B$17:$J$17)),IF(ISBLANK(E10),,LOOKUP(E10,'Component Weights'!$B$16:$J$16,'Component Weights'!$B$17:$J$17)),IF(ISBLANK(F10),,LOOKUP(F10,'Component Weights'!$B$16:$J$16,'Component Weights'!$B$17:$J$17)),IF(ISBLANK(G10),,LOOKUP(G10,'Component Weights'!$B$16:$J$16,'Component Weights'!$B$17:$J$17)),IF(ISBLANK(B10),,LOOKUP(B10,'Component Weights'!$B$16:$J$16,'Component Weights'!$B$17:$J$17)),IF(ISBLANK(H10),,LOOKUP(H10,'Component Weights'!$B$16:$J$16,'Component Weights'!$B$17:$J$17)),IF(ISBLANK(I10),,LOOKUP(I10,'Component Weights'!$B$16:$J$16,'Component Weights'!$B$17:$J$17)),IF(ISBLANK(J10),,LOOKUP(J10,'Component Weights'!$B$16:$J$16,'Component Weights'!$B$17:$J$17)))","v":0},{"$f":"IF(ISBLANK(C10),\" \",(LOOKUP(C10,'Component Weights'!$B$16:$J$16,'Component Weights'!$B$17:$J$17)*$AA$4))","v":" "},{"$f":"IF(ISBLANK(D10),\" \",(LOOKUP(D10,'Component Weights'!$B$16:$J$16,'Component Weights'!$B$17:$J$17)*$AA$5))","v":" "},{"$f":"IF(ISBLANK(E10),\" \",(LOOKUP(E10,'Component Weights'!$B$16:$J$16,'Component Weights'!$B$17:$J$17)*$AA$6))","v":" "},{"$f":"IF(ISBLANK(F10),\" \",(LOOKUP(F10,'Component Weights'!$B$16:$J$16,'Component Weights'!$B$17:$J$17)*$AA$7))","v":" "},{"$f":"IF(ISBLANK(G10),\" \",(LOOKUP(G10,'Component Weights'!$B$16:$J$16,'Component Weights'!$B$17:$J$17)*$AA$8))","v":" "},{"$f":"IF(ISBLANK(B10),\" \",(LOOKUP(B10,'Component Weights'!$B$16:$J$16,'Component Weights'!$B$17:$J$17)*$AA$9))","v":" "},{"$f":"IF(ISBLANK(H10),\" \",(LOOKUP(H10,'Component Weights'!$B$16:$J$16,'Component Weights'!$B$17:$J$17)*$AA$10))","v":" "},{"$f":"IF(ISBLANK(I10),\" \",(LOOKUP(I10,'Component Weights'!$B$16:$J$16,'Component Weights'!$B$17:$J$17)*$AA$11))","v":" "},{"$f":"IF(ISBLANK(J10),\" \",(LOOKUP(J10,'Component Weights'!$B$16:$J$16,'Component Weights'!$B$17:$J$17)*$AA$12))","v":" "},0,99,null,0,null,"Low Emissions Potential",0.12,"H","The amount of time it will take the product to stop outgassing."]
["(Enter Custom Product Here)",null,null,null,null,null,null,null,null,null,{"$f":"SUM(IF(ISBLANK(C11),,LOOKUP(C11,'Component Weights'!$B$16:$J$16,'Component Weights'!$B$17:$J$17)),IF(ISBLANK(D11),,LOOKUP(D11,'Component Weights'!$B$16:$J$16,'Component Weights'!$B$17:$J$17)),IF(ISBLANK(E11),,LOOKUP(E11,'Component Weights'!$B$16:$J$16,'Component Weights'!$B$17:$J$17)),IF(ISBLANK(F11),,LOOKUP(F11,'Component Weights'!$B$16:$J$16,'Component Weights'!$B$17:$J$17)),IF(ISBLANK(G11),,LOOKUP(G11,'Component Weights'!$B$16:$J$16,'Component Weights'!$B$17:$J$17)),IF(ISBLANK(B11),,LOOKUP(B11,'Component Weights'!$B$16:$J$16,'Component Weights'!$B$17:$J$17)),IF(ISBLANK(H11),,LOOKUP(H11,'Component Weights'!$B$16:$J$16,'Component Weights'!$B$17:$J$17)),IF(ISBLANK(I11),,LOOKUP(I11,'Component Weights'!$B$16:$J$16,'Component Weights'!$B$17:$J$17)),IF(ISBLANK(J11),,LOOKUP(J11,'Component Weights'!$B$16:$J$16,'Component Weights'!$B$17:$J$17)))","v":0},{"$f":"IF(ISBLANK(C11),\" \",(LOOKUP(C11,'Component Weights'!$B$16:$J$16,'Component Weights'!$B$17:$J$17)*$AA$4))","v":" "},{"$f":"IF(ISBLANK(D11),\" \",(LOOKUP(D11,'Component Weights'!$B$16:$J$16,'Component Weights'!$B$17:$J$17)*$AA$5))","v":" "},{"$f":"IF(ISBLANK(E11),\" \",(LOOKUP(E11,'Component Weights'!$B$16:$J$16,'Component Weights'!$B$17:$J$17)*$AA$6))","v":" "},{"$f":"IF(ISBLANK(F11),\" \",(LOOKUP(F11,'Component Weights'!$B$16:$J$16,'Component Weights'!$B$17:$J$17)*$AA$7))","v":" "},{"$f":"IF(ISBLANK(G11),\" \",(LOOKUP(G11,'Component Weights'!$B$16:$J$16,'Component Weights'!$B$17:$J$17)*$AA$8))","v":" "},{"$f":"IF(ISBLANK(B11),\" \",(LOOKUP(B11,'Component Weights'!$B$16:$J$16,'Component Weights'!$B$17:$J$17)*$AA$9))","v":" "},{"$f":"IF(ISBLANK(H11),\" \",(LOOKUP(H11,'Component Weights'!$B$16:$J$16,'Component Weights'!$B$17:$J$17)*$AA$10))","v":" "},{"$f":"IF(ISBLANK(I11),\" \",(LOOKUP(I11,'Component Weights'!$B$16:$J$16,'Component Weights'!$B$17:$J$17)*$AA$11))","v":" "},{"$f":"IF(ISBLANK(J11),\" \",(LOOKUP(J11,'Component Weights'!$B$16:$J$16,'Component Weights'!$B$17:$J$17)*$AA$12))","v":" "},0,99,null,{"$f":"U11","v":0},null,"Listed in Other Programs (e.g. EnergyStar)",0.08,"M","The level of product recommendation in recognized energy and environmental programs."]
["(Enter Custom Product Here)",null,null,null,null,null,null,null,null,null,{"$f":"SUM(IF(ISBLANK(C12),,LOOKUP(C12,'Component Weights'!$B$16:$J$16,'Component Weights'!$B$17:$J$17)),IF(ISBLANK(D12),,LOOKUP(D12,'Component Weights'!$B$16:$J$16,'Component Weights'!$B$17:$J$17)),IF(ISBLANK(E12),,LOOKUP(E12,'Component Weights'!$B$16:$J$16,'Component Weights'!$B$17:$J$17)),IF(ISBLANK(F12),,LOOKUP(F12,'Component Weights'!$B$16:$J$16,'Component Weights'!$B$17:$J$17)),IF(ISBLANK(G12),,LOOKUP(G12,'Component Weights'!$B$16:$J$16,'Component Weights'!$B$17:$J$17)),IF(ISBLANK(B12),,LOOKUP(B12,'Component Weights'!$B$16:$J$16,'Component Weights'!$B$17:$J$17)),IF(ISBLANK(H12),,LOOKUP(H12,'Component Weights'!$B$16:$J$16,'Component Weights'!$B$17:$J$17)),IF(ISBLANK(I12),,LOOKUP(I12,'Component Weights'!$B$16:$J$16,'Component Weights'!$B$17:$J$17)),IF(ISBLANK(J12),,LOOKUP(J12,'Component Weights'!$B$16:$J$16,'Component Weights'!$B$17:$J$17)))","v":0},{"$f":"IF(ISBLANK(C12),\" \",(LOOKUP(C12,'Component Weights'!$B$16:$J$16,'Component Weights'!$B$17:$J$17)*$AA$4))","v":" "},{"$f":"IF(ISBLANK(D12),\" \",(LOOKUP(D12,'Component Weights'!$B$16:$J$16,'Component Weights'!$B$17:$J$17)*$AA$5))","v":" "},{"$f":"IF(ISBLANK(E12),\" \",(LOOKUP(E12,'Component Weights'!$B$16:$J$16,'Component Weights'!$B$17:$J$17)*$AA$6))","v":" "},{"$f":"IF(ISBLANK(F12),\" \",(LOOKUP(F12,'Component Weights'!$B$16:$J$16,'Component Weights'!$B$17:$J$17)*$AA$7))","v":" "},{"$f":"IF(ISBLANK(G12),\" \",(LOOKUP(G12,'Component Weights'!$B$16:$J$16,'Component Weights'!$B$17:$J$17)*$AA$8))","v":" "},{"$f":"IF(ISBLANK(B12),\" \",(LOOKUP(B12,'Component Weights'!$B$16:$J$16,'Component Weights'!$B$17:$J$17)*$AA$9))","v":" "},{"$f":"IF(ISBLANK(H12),\" \",(LOOKUP(H12,'Component Weights'!$B$16:$J$16,'Component Weights'!$B$17:$J$17)*$AA$10))","v":" "},{"$f":"IF(ISBLANK(I12),\" \",(LOOKUP(I12,'Component Weights'!$B$16:$J$16,'Component Weights'!$B$17:$J$17)*$AA$11))","v":" "},{"$f":"IF(ISBLANK(J12),\" \",(LOOKUP(J12,'Component Weights'!$B$16:$J$16,'Component Weights'!$B$17:$J$17)*$AA$12))","v":" "},0,99,null,{"$f":"U12","v":0},null,"Non Hazardous as Waste",0.12,"H","The amount of hazardous materials and components found in the product."]
["(Enter Custom Product Here)",null,null,null,null,null,null,null,null,null,{"$f":"SUM(IF(ISBLANK(C13),,LOOKUP(C13,'Component Weights'!$B$16:$J$16,'Component Weights'!$B$17:$J$17)),IF(ISBLANK(D13),,LOOKUP(D13,'Component Weights'!$B$16:$J$16,'Component Weights'!$B$17:$J$17)),IF(ISBLANK(E13),,LOOKUP(E13,'Component Weights'!$B$16:$J$16,'Component Weights'!$B$17:$J$17)),IF(ISBLANK(F13),,LOOKUP(F13,'Component Weights'!$B$16:$J$16,'Component Weights'!$B$17:$J$17)),IF(ISBLANK(G13),,LOOKUP(G13,'Component Weights'!$B$16:$J$16,'Component Weights'!$B$17:$J$17)),IF(ISBLANK(B13),,LOOKUP(B13,'Component Weights'!$B$16:$J$16,'Component Weights'!$B$17:$J$17)),IF(ISBLANK(H13),,LOOKUP(H13,'Component Weights'!$B$16:$J$16,'Component Weights'!$B$17:$J$17)),IF(ISBLANK(I13),,LOOKUP(I13,'Component Weights'!$B$16:$J$16,'Component Weights'!$B$17:$J$17)),IF(ISBLANK(J13),,LOOKUP(J13,'Component Weights'!$B$16:$J$16,'Component Weights'!$B$17:$J$17)))","v":0},{"$f":"IF(ISBLANK(C13),\" \",(LOOKUP(C13,'Component Weights'!$B$16:$J$16,'Component Weights'!$B$17:$J$17)*$AA$4))","v":" "},{"$f":"IF(ISBLANK(D13),\" \",(LOOKUP(D13,'Component Weights'!$B$16:$J$16,'Component Weights'!$B$17:$J$17)*$AA$5))","v":" "},{"$f":"IF(ISBLANK(E13),\" \",(LOOKUP(E13,'Component Weights'!$B$16:$J$16,'Component Weights'!$B$17:$J$17)*$AA$6))","v":" "},{"$f":"IF(ISBLANK(F13),\" \",(LOOKUP(F13,'Component Weights'!$B$16:$J$16,'Component Weights'!$B$17:$J$17)*$AA$7))","v":" "},{"$f":"IF(ISBLANK(G13),\" \",(LOOKUP(G13,'Component Weights'!$B$16:$J$16,'Component Weights'!$B$17:$J$17)*$AA$8))","v":" "},{"$f":"IF(ISBLANK(B13),\" \",(LOOKUP(B13,'Component Weights'!$B$16:$J$16,'Component Weights'!$B$17:$J$17)*$AA$9))","v":" "},{"$f":"IF(ISBLANK(H13),\" \",(LOOKUP(H13,'Component Weights'!$B$16:$J$16,'Component Weights'!$B$17:$J$17)*$AA$10))","v":" "},{"$f":"IF(ISBLANK(I13),\" \",(LOOKUP(I13,'Component Weights'!$B$16:$J$16,'Component Weights'!$B$17:$J$17)*$AA$11))","v":" "},{"$f":"IF(ISBLANK(J13),\" \",(LOOKUP(J13,'Component Weights'!$B$16:$J$16,'Component Weights'!$B$17:$J$17)*$AA$12))","v":" "},0,99,null,{"$f":"U13","v":0},null,"Total Weightings Must Equal 100%",{"$f":"SUM(AA4:AA12)","v":1},null,{"$f":"IF(AA13<>100%,\"Keep Working - Weightings must equal 100%\",\" \")","v":" "}]
["(Enter Custom Product Here)",null,null,null,null,null,null,null,null,null,{"$f":"SUM(IF(ISBLANK(C14),,LOOKUP(C14,'Component Weights'!$B$16:$J$16,'Component Weights'!$B$17:$J$17)),IF(ISBLANK(D14),,LOOKUP(D14,'Component Weights'!$B$16:$J$16,'Component Weights'!$B$17:$J$17)),IF(ISBLANK(E14),,LOOKUP(E14,'Component Weights'!$B$16:$J$16,'Component Weights'!$B$17:$J$17)),IF(ISBLANK(F14),,LOOKUP(F14,'Component Weights'!$B$16:$J$16,'Component Weights'!$B$17:$J$17)),IF(ISBLANK(G14),,LOOKUP(G14,'Component Weights'!$B$16:$J$16,'Component Weights'!$B$17:$J$17)),IF(ISBLANK(B14),,LOOKUP(B14,'Component Weights'!$B$16:$J$16,'Component Weights'!$B$17:$J$17)),IF(ISBLANK(H14),,LOOKUP(H14,'Component Weights'!$B$16:$J$16,'Component Weights'!$B$17:$J$17)),IF(ISBLANK(I14),,LOOKUP(I14,'Component Weights'!$B$16:$J$16,'Component Weights'!$B$17:$J$17)),IF(ISBLANK(J14),,LOOKUP(J14,'Component Weights'!$B$16:$J$16,'Component Weights'!$B$17:$J$17)))","v":0},{"$f":"IF(ISBLANK(C14),\" \",(LOOKUP(C14,'Component Weights'!$B$16:$J$16,'Component Weights'!$B$17:$J$17)*$AA$4))","v":" "},{"$f":"IF(ISBLANK(D14),\" \",(LOOKUP(D14,'Component Weights'!$B$16:$J$16,'Component Weights'!$B$17:$J$17)*$AA$5))","v":" "},{"$f":"IF(ISBLANK(E14),\" \",(LOOKUP(E14,'Component Weights'!$B$16:$J$16,'Component Weights'!$B$17:$J$17)*$AA$6))","v":" "},{"$f":"IF(ISBLANK(F14),\" \",(LOOKUP(F14,'Component Weights'!$B$16:$J$16,'Component Weights'!$B$17:$J$17)*$AA$7))","v":" "},{"$f":"IF(ISBLANK(G14),\" \",(LOOKUP(G14,'Component Weights'!$B$16:$J$16,'Component Weights'!$B$17:$J$17)*$AA$8))","v":" "},{"$f":"IF(ISBLANK(B14),\" \",(LOOKUP(B14,'Component Weights'!$B$16:$J$16,'Component Weights'!$B$17:$J$17)*$AA$9))","v":" "},{"$f":"IF(ISBLANK(H14),\" \",(LOOKUP(H14,'Component Weights'!$B$16:$J$16,'Component Weights'!$B$17:$J$17)*$AA$10))","v":" "},{"$f":"IF(ISBLANK(I14),\" \",(LOOKUP(I14,'Component Weights'!$B$16:$J$16,'Component Weights'!$B$17:$J$17)*$AA$11))","v":" "},{"$f":"IF(ISBLANK(J14),\" \",(LOOKUP(J14,'Component Weights'!$B$16:$J$16,'Component Weights'!$B$17:$J$17)*$AA$12))","v":" "},0,99,null,{"$f":"U14","v":0}]
["(Enter Custom Product Here)",null,null,null,null,null,null,null,null,null,{"$f":"SUM(IF(ISBLANK(C15),,LOOKUP(C15,'Component Weights'!$B$16:$J$16,'Component Weights'!$B$17:$J$17)),IF(ISBLANK(D15),,LOOKUP(D15,'Component Weights'!$B$16:$J$16,'Component Weights'!$B$17:$J$17)),IF(ISBLANK(E15),,LOOKUP(E15,'Component Weights'!$B$16:$J$16,'Component Weights'!$B$17:$J$17)),IF(ISBLANK(F15),,LOOKUP(F15,'Component Weights'!$B$16:$J$16,'Component Weights'!$B$17:$J$17)),IF(ISBLANK(G15),,LOOKUP(G15,'Component Weights'!$B$16:$J$16,'Component Weights'!$B$17:$J$17)),IF(ISBLANK(B15),,LOOKUP(B15,'Component Weights'!$B$16:$J$16,'Component Weights'!$B$17:$J$17)),IF(ISBLANK(H15),,LOOKUP(H15,'Component Weights'!$B$16:$J$16,'Component Weights'!$B$17:$J$17)),IF(ISBLANK(I15),,LOOKUP(I15,'Component Weights'!$B$16:$J$16,'Component Weights'!$B$17:$J$17)),IF(ISBLANK(J15),,LOOKUP(J15,'Component Weights'!$B$16:$J$16,'Component Weights'!$B$17:$J$17)))","v":0},{"$f":"IF(ISBLANK(C15),\" \",(LOOKUP(C15,'Component Weights'!$B$16:$J$16,'Component Weights'!$B$17:$J$17)*$AA$4))","v":" "},{"$f":"IF(ISBLANK(D15),\" \",(LOOKUP(D15,'Component Weights'!$B$16:$J$16,'Component Weights'!$B$17:$J$17)*$AA$5))","v":" "},{"$f":"IF(ISBLANK(E15),\" \",(LOOKUP(E15,'Component Weights'!$B$16:$J$16,'Component Weights'!$B$17:$J$17)*$AA$6))","v":" "},{"$f":"IF(ISBLANK(F15),\" \",(LOOKUP(F15,'Component Weights'!$B$16:$J$16,'Component Weights'!$B$17:$J$17)*$AA$7))","v":" "},{"$f":"IF(ISBLANK(G15),\" \",(LOOKUP(G15,'Component Weights'!$B$16:$J$16,'Component Weights'!$B$17:$J$17)*$AA$8))","v":" "},{"$f":"IF(ISBLANK(B15),\" \",(LOOKUP(B15,'Component Weights'!$B$16:$J$16,'Component Weights'!$B$17:$J$17)*$AA$9))","v":" "},{"$f":"IF(ISBLANK(H15),\" \",(LOOKUP(H15,'Component Weights'!$B$16:$J$16,'Component Weights'!$B$17:$J$17)*$AA$10))","v":" "},{"$f":"IF(ISBLANK(I15),\" \",(LOOKUP(I15,'Component Weights'!$B$16:$J$16,'Component Weights'!$B$17:$J$17)*$AA$11))","v":" "},{"$f":"IF(ISBLANK(J15),\" \",(LOOKUP(J15,'Component Weights'!$B$16:$J$16,'Component Weights'!$B$17:$J$17)*$AA$12))","v":" "},0,99,null,0]
[null,null,null,null,null,null,null,null,null,null,{"$f":"AVERAGE(K$2:K9)","v":7.75},{"$f":"AVERAGE(L$2:L9)","v":{"$error":"#DIV/0!"}},{"$f":"AVERAGE(M$2:M9)","v":0},{"$f":"AVERAGE(N$2:N9)","v":0.09},{"$f":"AVERAGE(O$2:O9)","v":0},{"$f":"AVERAGE(P$2:P9)","v":0},{"$f":"AVERAGE(Q$2:Q9)","v":{"$error":"#DIV/0!"}},{"$f":"AVERAGE(R$2:R9)","v":0.32999999999999996},{"$f":"AVERAGE(S$2:S9)","v":0.15000000000000002},{"$f":"AVERAGE(T$2:T9)","v":0.24},{"$f":"AVERAGE(U$2:U9)","v":0.80999999999999983},{"$f":"IF(AND(OR(#REF!=72,#REF!=73,#REF!=74,#REF!=75,#REF!=76),$U16>0),RANK($U16,Y$2:Y$18,0),\" \")","v":{"$error":"#REF!"}}]

{"sheet":"Water Heating","index":8,"n_rows":16,"n_cols":29,"rows_kept":16,"cut":false,"hidden":false,"merged":[]}
["Instructions:\nScroll down to see all products.  New products may be added to the end of the list.  Rate the performance of each product as \"N, L, M or H.\" (Hover over the component title for the rating description.)  Use your Backspace button to clear values.  The Sort button (below) will incorporate your priorities as currently stated on the table to the right.  (Scroll to the right to see the table.)\n\n","Available Locally","Incremental Energy Savings","Use of Recycled Content","Low Energy Usage Manufacturing Process","Easily Biodegradable","Made from Natural Materials","Low Emissions Potential","Listed in Other Programs","Non Hazardous as Waste","Total Raw Score","Incremental Energy Savings Weighted Score","Use of Recycled Content Weighted Score","Low Energy Usage Mfg. Process Weighted Score","Easily Biodegradable Weighted Score","Made from Natural Materials Weighted Score","Available Locally Weighted Score","Low Emissions Potential Weighted Score","Listed in Other Programs Weighted Score","Non Hazardous as Waste Weighted Score","Total Weighted Score","Force Ranking",null,"Weighted Score for Force Rank Calculation ",null,"Detailed instructions and options for using this tool are found in the Using the DYO® GBD Kit Decision Matrix Software Section of your DYO® Green Building Decision Kit."]
["Instantaneous/Tankless Style - Gas",null,null,"N","L","N","N","H","H","M",{"$f":"SUM(IF(ISBLANK(C2),,LOOKUP(C2,'Component Weights'!$B$16:$J$16,'Component Weights'!$B$17:$J$17)),IF(ISBLANK(D2),,LOOKUP(D2,'Component Weights'!$B$16:$J$16,'Component Weights'!$B$17:$J$17)),IF(ISBLANK(E2),,LOOKUP(E2,'Component Weights'!$B$16:$J$16,'Component Weights'!$B$17:$J$17)),IF(ISBLANK(F2),,LOOKUP(F2,'Component Weights'!$B$16:$J$16,'Component Weights'!$B$17:$J$17)),IF(ISBLANK(G2),,LOOKUP(G2,'Component Weights'!$B$16:$J$16,'Component Weights'!$B$17:$J$17)),IF(ISBLANK(B2),,LOOKUP(B2,'Component Weights'!$B$16:$J$16,'Component Weights'!$B$17:$J$17)),IF(ISBLANK(H2),,LOOKUP(H2,'Component Weights'!$B$16:$J$16,'Component Weights'!$B$17:$J$17)),IF(ISBLANK(I2),,LOOKUP(I2,'Component Weights'!$B$16:$J$16,'Component Weights'!$B$17:$J$17)),IF(ISBLANK(J2),,LOOKUP(J2,'Component Weights'!$B$16:$J$16,'Component Weights'!$B$17:$J$17)))","v":9},{"$f":"IF(ISBLANK(C2),\" \",(LOOKUP(C2,'Component Weights'!$B$16:$J$16,'Component Weights'!$B$17:$J$17)*$AA$4))","v":" "},{"$f":"IF(ISBLANK(D2),\" \",(LOOKUP(D2,'Component Weights'!$B$16:$J$16,'Component Weights'!$B$17:$J$17)*$AA$5))","v":0},{"$f":"IF(ISBLANK(E2),\" \",(LOOKUP(E2,'Component Weights'!$B$16:$J$16,'Component Weights'!$B$17:$J$17)*$AA$6))","v":0.08},{"$f":"IF(ISBLANK(F2),\" \",(LOOKUP(F2,'Component Weights'!$B$16:$J$16,'Component Weights'!$B$17:$J$17)*$AA$7))","v":0},{"$f":"IF(ISBLANK(G2),\" \",(LOOKUP(G2,'Component Weights'!$B$16:$J$16,'Component Weights'!$B$17:$J$17)*$AA$8))","v":0},{"$f":"IF(ISBLANK(B2),\" \",(LOOKUP(B2,'Component Weights'!$B$16:$J$16,'Component Weights'!$B$17:$J$17)*$AA$9))","v":" "},{"$f":"IF(ISBLANK(H2),\" \",(LOOKUP(H2,'Component Weights'!$B$16:$J$16,'Component Weights'!$B$17:$J$17)*$AA$10))","v":0.36},{"$f":"IF(ISBLANK(I2),\" \",(LOOKUP(I2,'Component Weights'!$B$16:$J$16,'Component Weights'!$B$17:$J$17)*$AA$11))","v":0.24},{"$f":"IF(ISBLANK(J2),\" \",(LOOKUP(J2,'Component Weights'!$B$16:$J$16,'Component Weights'!$B$17:$J$17)*$AA$12))","v":0.24},{"$f":"SUM(L2:T2)","v":0.91999999999999993},{"$f":"IF($U2>0,RANK($U2,X$2:X$211,0),99)","v":1},null,{"$f":"U2","v":0.91999999999999993},null,"Component Weights for","Weight"]
["Instantaneous/Tankless Style - Electric",null,null,"N","L","N","N","H","H","M",{"$f":"SUM(IF(ISBLANK(C3),,LOOKUP(C3,'Component Weights'!$B$16:$J$16,'Component Weights'!$B$17:$J$17)),IF(ISBLANK(D3),,LOOKUP(D3,'Component Weights'!$B$16:$J$16,'Component Weights'!$B$17:$J$17)),IF(ISBLANK(E3),,LOOKUP(E3,'Component Weights'!$B$16:$J$16,'Component Weights'!$B$17:$J$17)),IF(ISBLANK(F3),,LOOKUP(F3,'Component Weights'!$B$16:$J$16,'Component Weights'!$B$17:$J$17)),IF(ISBLANK(G3),,LOOKUP(G3,'Component Weights'!$B$16:$J$16,'Component Weights'!$B$17:$J$17)),IF(ISBLANK(B3),,LOOKUP(B3,'Component Weights'!$B$16:$J$16,'Component Weights'!$B$17:$J$17)),IF(ISBLANK(H3),,LOOKUP(H3,'Component Weights'!$B$16:$J$16,'Component Weights'!$B$17:$J$17)),IF(ISBLANK(I3),,LOOKUP(I3,'Component Weights'!$B$16:$J$16,'Component Weights'!$B$17:$J$17)),IF(ISBLANK(J3),,LOOKUP(J3,'Component Weights'!$B$16:$J$16,'Component Weights'!$B$17:$J$17)))","v":9},{"$f":"IF(ISBLANK(C3),\" \",(LOOKUP(C3,'Component Weights'!$B$16:$J$16,'Component Weights'!$B$17:$J$17)*$AA$4))","v":" "},{"$f":"IF(ISBLANK(D3),\" \",(LOOKUP(D3,'Component Weights'!$B$16:$J$16,'Component Weights'!$B$17:$J$17)*$AA$5))","v":0},{"$f":"IF(ISBLANK(E3),\" \",(LOOKUP(E3,'Component Weights'!$B$16:$J$16,'Component Weights'!$B$17:$J$17)*$AA$6))","v":0.08},{"$f":"IF(ISBLANK(F3),\" \",(LOOKUP(F3,'Component Weights'!$B$16:$J$16,'Component Weights'!$B$17:$J$17)*$AA$7))","v":0},{"$f":"IF(ISBLANK(G3),\" \",(LOOKUP(G3,'Component Weights'!$B$16:$J$16,'Component Weights'!$B$17:$J$17)*$AA$8))","v":0},{"$f":"IF(ISBLANK(B3),\" \",(LOOKUP(B3,'Component Weights'!$B$16:$J$16,'Component Weights'!$B$17:$J$17)*$AA$9))","v":" "},{"$f":"IF(ISBLANK(H3),\" \",(LOOKUP(H3,'Component Weights'!$B$16:$J$16,'Component Weights'!$B$17:$J$17)*$AA$10))","v":0.36},{"$f":"IF(ISBLANK(I3),\" \",(LOOKUP(I3,'Component Weights'!$B$16:$J$16,'Component Weights'!$B$17:$J$17)*$AA$11))","v":0.24},{"$f":"IF(ISBLANK(J3),\" \",(LOOKUP(J3,'Component Weights'!$B$16:$J$16,'Component Weights'!$B$17:$J$17)*$AA$12))","v":0.24},0.91999999999999993,1,null,{"$f":"U3","v":0.91999999999999993},null,"Water Heating"]
["Ground Source Heat Pump - Desuperheater",null,null,"N","L","N","N","H","H","M",{"$f":"SUM(IF(ISBLANK(C4),,LOOKUP(C4,'Component Weights'!$B$16:$J$16,'Component Weights'!$B$17:$J$17)),IF(ISBLANK(D4),,LOOKUP(D4,'Component Weights'!$B$16:$J$16,'Component Weights'!$B$17:$J$17)),IF(ISBLANK(E4),,LOOKUP(E4,'Component Weights'!$B$16:$J$16,'Component Weights'!$B$17:$J$17)),IF(ISBLANK(F4),,LOOKUP(F4,'Component Weights'!$B$16:$J$16,'Component Weights'!$B$17:$J$17)),IF(ISBLANK(G4),,LOOKUP(G4,'Component Weights'!$B$16:$J$16,'Component Weights'!$B$17:$J$17)),IF(ISBLANK(B4),,LOOKUP(B4,'Component Weights'!$B$16:$J$16,'Component Weights'!$B$17:$J$17)),IF(ISBLANK(H4),,LOOKUP(H4,'Component Weights'!$B$16:$J$16,'Component Weights'!$B$17:$J$17)),IF(ISBLANK(I4),,LOOKUP(I4,'Component Weights'!$B$16:$J$16,'Component Weights'!$B$17:$J$17)),IF(ISBLANK(J4),,LOOKUP(J4,'Component Weights'!$B$16:$J$16,'Component Weights'!$B$17:$J$17)))","v":9},{"$f":"IF(ISBLANK(C4),\" \",(LOOKUP(C4,'Component Weights'!$B$16:$J$16,'Component Weights'!$B$17:$J$17)*$AA$4))","v":" "},{"$f":"IF(ISBLANK(D4),\" \",(LOOKUP(D4,'Component Weights'!$B$16:$J$16,'Component Weights'!$B$17:$J$17)*$AA$5))","v":0},{"$f":"IF(ISBLANK(E4),\" \",(LOOKUP(E4,'Component Weights'!$B$16:$J$16,'Component Weights'!$B$17:$J$17)*$AA$6))","v":0.08},{"$f":"IF(ISBLANK(F4),\" \",(LOOKUP(F4,'Component Weights'!$B$16:$J$16,'Component Weights'!$B$17:$J$17)*$AA$7))","v":0},{"$f":"IF(ISBLANK(G4),\" \",(LOOKUP(G4,'Component Weights'!$B$16:$J$16,'Component Weights'!$B$17:$J$17)*$AA$8))","v":0},{"$f":"IF(ISBLANK(B4),\" \",(LOOKUP(B4,'Component Weights'!$B$16:$J$16,'Component Weights'!$B$17:$J$17)*$AA$9))","v":" "},{"$f":"IF(ISBLANK(H4),\" \",(LOOKUP(H4,'Component Weights'!$B$16:$J$16,'Component Weights'!$B$17:$J$17)*$AA$10))","v":0.36},{"$f":"IF(ISBLANK(I4),\" \",(LOOKUP(I4,'Component Weights'!$B$16:$J$16,'Component Weights'!$B$17:$J$17)*$AA$11))","v":0.24},{"$f":"IF(ISBLANK(J4),\" \",(LOOKUP(J4,'Component Weights'!$B$16:$J$16,'Component Weights'!$B$17:$J$17)*$AA$12))","v":0.24},0.91999999999999993,1,null,0.91999999999999993,null,"Incremental Energy Savings",0.08,"M","The amount of incremental energy, expressed in Btu/Hr, that a product saves or generates for the structure."]
["Heat Pump Water Heater - COP 2+",null,null,"N","L","N","N","H","H","M",{"$f":"SUM(IF(ISBLANK(C5),,LOOKUP(C5,'Component Weights'!$B$16:$J$16,'Component Weights'!$B$17:$J$17)),IF(ISBLANK(D5),,LOOKUP(D5,'Component Weights'!$B$16:$J$16,'Component Weights'!$B$17:$J$17)),IF(ISBLANK(E5),,LOOKUP(E5,'Component Weights'!$B$16:$J$16,'Component Weights'!$B$17:$J$17)),IF(ISBLANK(F5),,LOOKUP(F5,'Component Weights'!$B$16:$J$16,'Component Weights'!$B$17:$J$17)),IF(ISBLANK(G5),,LOOKUP(G5,'Component Weights'!$B$16:$J$16,'Component Weights'!$B$17:$J$17)),IF(ISBLANK(B5),,LOOKUP(B5,'Component Weights'!$B$16:$J$16,'Component Weights'!$B$17:$J$17)),IF(ISBLANK(H5),,LOOKUP(H5,'Component Weights'!$B$16:$J$16,'Component Weights'!$B$17:$J$17)),IF(ISBLANK(I5),,LOOKUP(I5,'Component Weights'!$B$16:$J$16,'Component Weights'!$B$17:$J$17)),IF(ISBLANK(J5),,LOOKUP(J5,'Component Weights'!$B$16:$J$16,'Component Weights'!$B$17:$J$17)))","v":9},{"$f":"IF(ISBLANK(C5),\" \",(LOOKUP(C5,'Component Weights'!$B$16:$J$16,'Component Weights'!$B$17:$J$17)*$AA$4))","v":" "},{"$f":"IF(ISBLANK(D5),\" \",(LOOKUP(D5,'Component Weights'!$B$16:$J$16,'Component Weights'!$B$17:$J$17)*$AA$5))","v":0},{"$f":"IF(ISBLANK(E5),\" \",(LOOKUP(E5,'Component Weights'!$B$16:$J$16,'Component Weights'!$B$17:$J$17)*$AA$6))","v":0.08},{"$f":"IF(ISBLANK(F5),\" \",(LOOKUP(F5,'Component Weights'!$B$16:$J$16,'Component Weights'!$B$17:$J$17)*$AA$7))","v":0},{"$f":"IF(ISBLANK(G5),\" \",(LOOKUP(G5,'Component Weights'!$B$16:$J$16,'Component Weights'!$B$17:$J$17)*$AA$8))","v":0},{"$f":"IF(ISBLANK(B5),\" \",(LOOKUP(B5,'Component Weights'!$B$16:$J$16,'Component Weights'!$B$17:$J$17)*$AA$9))","v":" "},{"$f":"IF(ISBLANK(H5),\" \",(LOOKUP(H5,'Component Weights'!$B$16:$J$16,'Component Weights'!$B$17:$J$17)*$AA$10))","v":0.36},{"$f":"IF(ISBLANK(I5),\" \",(LOOKUP(I5,'Component Weights'!$B$16:$J$16,'Component Weights'!$B$17:$J$17)*$AA$11))","v":0.24},{"$f":"IF(ISBLANK(J5),\" \",(LOOKUP(J5,'Component Weights'!$B$16:$J$16,'Component Weights'!$B$17:$J$17)*$AA$12))","v":0.24},0.91999999999999993,1,null,{"$f":"U5","v":0.91999999999999993},null,"Use of Recycled Content",0.12,"H","The amount of recycled content, expressed as a percentage, found in a product."]
["Standard Tank Style - Gas",null,null,"N","L","N","N","M","L","M",{"$f":"SUM(IF(ISBLANK(C6),,LOOKUP(C6,'Component Weights'!$B$16:$J$16,'Component Weights'!$B$17:$J$17)),IF(ISBLANK(D6),,LOOKUP(D6,'Component Weights'!$B$16:$J$16,'Component Weights'!$B$17:$J$17)),IF(ISBLANK(E6),,LOOKUP(E6,'Component Weights'!$B$16:$J$16,'Component Weights'!$B$17:$J$17)),IF(ISBLANK(F6),,LOOKUP(F6,'Component Weights'!$B$16:$J$16,'Component Weights'!$B$17:$J$17)),IF(ISBLANK(G6),,LOOKUP(G6,'Component Weights'!$B$16:$J$16,'Component Weights'!$B$17:$J$17)),IF(ISBLANK(B6),,LOOKUP(B6,'Component Weights'!$B$16:$J$16,'Component Weights'!$B$17:$J$17)),IF(ISBLANK(H6),,LOOKUP(H6,'Component Weights'!$B$16:$J$16,'Component Weights'!$B$17:$J$17)),IF(ISBLANK(I6),,LOOKUP(I6,'Component Weights'!$B$16:$J$16,'Component Weights'!$B$17:$J$17)),IF(ISBLANK(J6),,LOOKUP(J6,'Component Weights'!$B$16:$J$16,'Component Weights'!$B$17:$J$17)))","v":6},{"$f":"IF(ISBLANK(C6),\" \",(LOOKUP(C6,'Component Weights'!$B$16:$J$16,'Component Weights'!$B$17:$J$17)*$AA$4))","v":" "},{"$f":"IF(ISBLANK(D6),\" \",(LOOKUP(D6,'Component Weights'!$B$16:$J$16,'Component Weights'!$B$17:$J$17)*$AA$5))","v":0},{"$f":"IF(ISBLANK(E6),\" \",(LOOKUP(E6,'Component Weights'!$B$16:$J$16,'Component Weights'!$B$17:$J$17)*$AA$6))","v":0.08},{"$f":"IF(ISBLANK(F6),\" \",(LOOKUP(F6,'Component Weights'!$B$16:$J$16,'Component Weights'!$B$17:$J$17)*$AA$7))","v":0},{"$f":"IF(ISBLANK(G6),\" \",(LOOKUP(G6,'Component Weights'!$B$16:$J$16,'Component Weights'!$B$17:$J$17)*$AA$8))","v":0},{"$f":"IF(ISBLANK(B6),\" \",(LOOKUP(B6,'Component Weights'!$B$16:$J$16,'Component Weights'!$B$17:$J$17)*$AA$9))","v":" "},{"$f":"IF(ISBLANK(H6),\" \",(LOOKUP(H6,'Component Weights'!$B$16:$J$16,'Component Weights'!$B$17:$J$17)*$AA$10))","v":0.24},{"$f":"IF(ISBLANK(I6),\" \",(LOOKUP(I6,'Component Weights'!$B$16:$J$16,'Component Weights'!$B$17:$J$17)*$AA$11))","v":0.08},{"$f":"IF(ISBLANK(J6),\" \",(LOOKUP(J6,'Component Weights'!$B$16:$J$16,'Component Weights'!$B$17:$J$17)*$AA$12))","v":0.24},0.64,5,null,0.64,null,"Low Energy Usage Manufacturing Process",0.08,"M","The amount of energy used in manufacture of the product."]
["Standard Tank Style - Electric",null,null,"N","L","N","N","M","L","M",{"$f":"SUM(IF(ISBLANK(C7),,LOOKUP(C7,'Component Weights'!$B$16:$J$16,'Component Weights'!$B$17:$J$17)),IF(ISBLANK(D7),,LOOKUP(D7,'Component Weights'!$B$16:$J$16,'Component Weights'!$B$17:$J$17)),IF(ISBLANK(E7),,LOOKUP(E7,'Component Weights'!$B$16:$J$16,'Component Weights'!$B$17:$J$17)),IF(ISBLANK(F7),,LOOKUP(F7,'Component Weights'!$B$16:$J$16,'Component Weights'!$B$17:$J$17)),IF(ISBLANK(G7),,LOOKUP(G7,'Component Weights'!$B$16:$J$16,'Component Weights'!$B$17:$J$17)),IF(ISBLANK(B7),,LOOKUP(B7,'Component Weights'!$B$16:$J$16,'Component Weights'!$B$17:$J$17)),IF(ISBLANK(H7),,LOOKUP(H7,'Component Weights'!$B$16:$J$16,'Component Weights'!$B$17:$J$17)),IF(ISBLANK(I7),,LOOKUP(I7,'Component Weights'!$B$16:$J$16,'Component Weights'!$B$17:$J$17)),IF(ISBLANK(J7),,LOOKUP(J7,'Component Weights'!$B$16:$J$16,'Component Weights'!$B$17:$J$17)))","v":6},{"$f":"IF(ISBLANK(C7),\" \",(LOOKUP(C7,'Component Weights'!$B$16:$J$16,'Component Weights'!$B$17:$J$17)*$AA$4))","v":" "},{"$f":"IF(ISBLANK(D7),\" \",(LOOKUP(D7,'Component Weights'!$B$16:$J$16,'Component Weights'!$B$17:$J$17)*$AA$5))","v":0},{"$f":"IF(ISBLANK(E7),\" \",(LOOKUP(E7,'Component Weights'!$B$16:$J$16,'Component Weights'!$B$17:$J$17)*$AA$6))","v":0.08},{"$f":"IF(ISBLANK(F7),\" \",(LOOKUP(F7,'Component Weights'!$B$16:$J$16,'Component Weights'!$B$17:$J$17)*$AA$7))","v":0},{"$f":"IF(ISBLANK(G7),\" \",(LOOKUP(G7,'Component Weights'!$B$16:$J$16,'Component Weights'!$B$17:$J$17)*$AA$8))","v":0},{"$f":"IF(ISBLANK(B7),\" \",(LOOKUP(B7,'Component Weights'!$B$16:$J$16,'Component Weights'!$B$17:$J$17)*$AA$9))","v":" "},{"$f":"IF(ISBLANK(H7),\" \",(LOOKUP(H7,'Component Weights'!$B$16:$J$16,'Component Weights'!$B$17:$J$17)*$AA$10))","v":0.24},{"$f":"IF(ISBLANK(I7),\" \",(LOOKUP(I7,'Component Weights'!$B$16:$J$16,'Component Weights'!$B$17:$J$17)*$AA$11))","v":0.08},{"$f":"IF(ISBLANK(J7),\" \",(LOOKUP(J7,'Component Weights'!$B$16:$J$16,'Component Weights'!$B$17:$J$17)*$AA$12))","v":0.24},0.64,5,null,{"$f":"U7","v":0.64},null,"Easily Biodegradable",0.12,"H","The amount of time it will take the product to degrade once its useful life is over."]
["Premium Tank Style - Gas",null,null,"N","L","N","N","M","L","M",{"$f":"SUM(IF(ISBLANK(C8),,LOOKUP(C8,'Component Weights'!$B$16:$J$16,'Component Weights'!$B$17:$J$17)),IF(ISBLANK(D8),,LOOKUP(D8,'Component Weights'!$B$16:$J$16,'Component Weights'!$B$17:$J$17)),IF(ISBLANK(E8),,LOOKUP(E8,'Component Weights'!$B$16:$J$16,'Component Weights'!$B$17:$J$17)),IF(ISBLANK(F8),,LOOKUP(F8,'Component Weights'!$B$16:$J$16,'Component Weights'!$B$17:$J$17)),IF(ISBLANK(G8),,LOOKUP(G8,'Component Weights'!$B$16:$J$16,'Component Weights'!$B$17:$J$17)),IF(ISBLANK(B8),,LOOKUP(B8,'Component Weights'!$B$16:$J$16,'Component Weights'!$B$17:$J$17)),IF(ISBLANK(H8),,LOOKUP(H8,'Component Weights'!$B$16:$J$16,'Component Weights'!$B$17:$J$17)),IF(ISBLANK(I8),,LOOKUP(I8,'Component Weights'!$B$16:$J$16,'Component Weights'!$B$17:$J$17)),IF(ISBLANK(J8),,LOOKUP(J8,'Component Weights'!$B$16:$J$16,'Component Weights'!$B$17:$J$17)))","v":6},{"$f":"IF(ISBLANK(C8),\" \",(LOOKUP(C8,'Component Weights'!$B$16:$J$16,'Component Weights'!$B$17:$J$17)*$AA$4))","v":" "},{"$f":"IF(ISBLANK(D8),\" \",(LOOKUP(D8,'Component Weights'!$B$16:$J$16,'Component Weights'!$B$17:$J$17)*$AA$5))","v":0},{"$f":"IF(ISBLANK(E8),\" \",(LOOKUP(E8,'Component Weights'!$B$16:$J$16,'Component Weights'!$B$17:$J$17)*$AA$6))","v":0.08},{"$f":"IF(ISBLANK(F8),\" \",(LOOKUP(F8,'Component Weights'!$B$16:$J$16,'Component Weights'!$B$17:$J$17)*$AA$7))","v":0},{"$f":"IF(ISBLANK(G8),\" \",(LOOKUP(G8,'Component Weights'!$B$16:$J$16,'Component Weights'!$B$17:$J$17)*$AA$8))","v":0},{"$f":"IF(ISBLANK(B8),\" \",(LOOKUP(B8,'Component Weights'!$B$16:$J$16,'Component Weights'!$B$17:$J$17)*$AA$9))","v":" "},{"$f":"IF(ISBLANK(H8),\" \",(LOOKUP(H8,'Component Weights'!$B$16:$J$16,'Component Weights'!$B$17:$J$17)*$AA$10))","v":0.24},{"$f":"IF(ISBLANK(I8),\" \",(LOOKUP(I8,'Component Weights'!$B$16:$J$16,'Component Weights'!$B$17:$J$17)*$AA$11))","v":0.08},{"$f":"IF(ISBLANK(J8),\" \",(LOOKUP(J8,'Component Weights'!$B$16:$J$16,'Component Weights'!$B$17:$J$17)*$AA$12))","v":0.24},0.64,5,null,{"$f":"U8","v":0.64},null,"Made from Natural Materials",0.05,"L","The amount, expressed as a percentage, of natural (not man-made) materials used to make the product."]
["Premium Tank Style - Electric",null,null,"N","L","N","N","M","L","M",{"$f":"SUM(IF(ISBLANK(C9),,LOOKUP(C9,'Component Weights'!$B$16:$J$16,'Component Weights'!$B$17:$J$17)),IF(ISBLANK(D9),,LOOKUP(D9,'Component Weights'!$B$16:$J$16,'Component Weights'!$B$17:$J$17)),IF(ISBLANK(E9),,LOOKUP(E9,'Component Weights'!$B$16:$J$16,'Component Weights'!$B$17:$J$17)),IF(ISBLANK(F9),,LOOKUP(F9,'Component Weights'!$B$16:$J$16,'Component Weights'!$B$17:$J$17)),IF(ISBLANK(G9),,LOOKUP(G9,'Component Weights'!$B$16:$J$16,'Component Weights'!$B$17:$J$17)),IF(ISBLANK(B9),,LOOKUP(B9,'Component Weights'!$B$16:$J$16,'Component Weights'!$B$17:$J$17)),IF(ISBLANK(H9),,LOOKUP(H9,'Component Weights'!$B$16:$J$16,'Component Weights'!$B$17:$J$17)),IF(ISBLANK(I9),,LOOKUP(I9,'Component Weights'!$B$16:$J$16,'Component Weights'!$B$17:$J$17)),IF(ISBLANK(J9),,LOOKUP(J9,'Component Weights'!$B$16:$J$16,'Component Weights'!$B$17:$J$17)))","v":6},{"$f":"IF(ISBLANK(C9),\" \",(LOOKUP(C9,'Component Weights'!$B$16:$J$16,'Component Weights'!$B$17:$J$17)*$AA$4))","v":" "},{"$f":"IF(ISBLANK(D9),\" \",(LOOKUP(D9,'Component Weights'!$B$16:$J$16,'Component Weights'!$B$17:$J$17)*$AA$5))","v":0},{"$f":"IF(ISBLANK(E9),\" \",(LOOKUP(E9,'Component Weights'!$B$16:$J$16,'Component Weights'!$B$17:$J$17)*$AA$6))","v":0.08},{"$f":"IF(ISBLANK(F9),\" \",(LOOKUP(F9,'Component Weights'!$B$16:$J$16,'Component Weights'!$B$17:$J$17)*$AA$7))","v":0},{"$f":"IF(ISBLANK(G9),\" \",(LOOKUP(G9,'Component Weights'!$B$16:$J$16,'Component Weights'!$B$17:$J$17)*$AA$8))","v":0},{"$f":"IF(ISBLANK(B9),\" \",(LOOKUP(B9,'Component Weights'!$B$16:$J$16,'Component Weights'!$B$17:$J$17)*$AA$9))","v":" "},{"$f":"IF(ISBLANK(H9),\" \",(LOOKUP(H9,'Component Weights'!$B$16:$J$16,'Component Weights'!$B$17:$J$17)*$AA$10))","v":0.24},{"$f":"IF(ISBLANK(I9),\" \",(LOOKUP(I9,'Component Weights'!$B$16:$J$16,'Component Weights'!$B$17:$J$17)*$AA$11))","v":0.08},{"$f":"IF(ISBLANK(J9),\" \",(LOOKUP(J9,'Component Weights'!$B$16:$J$16,'Component Weights'!$B$17:$J$17)*$AA$12))","v":0.24},0.64,5,null,{"$f":"U9","v":0.64},null,"Available Locally",0.23,"H+","The distance in miles that the product must travel to the destination of final use."]
["(Enter Custom Product Here)",null,null,null,null,null,null,null,null,null,{"$f":"SUM(IF(ISBLANK(C10),,LOOKUP(C10,'Component Weights'!$B$16:$J$16,'Component Weights'!$B$17:$J$17)),IF(ISBLANK(D10),,LOOKUP(D10,'Component Weights'!$B$16:$J$16,'Component Weights'!$B$17:$J$17)),IF(ISBLANK(E10),,LOOKUP(E10,'Component Weights'!$B$16:$J$16,'Component Weights'!$B$17:$J$17)),IF(ISBLANK(F10),,LOOKUP(F10,'Component Weights'!$B$16:$J$16,'Component Weights'!$B$17:$J$17)),IF(ISBLANK(G10),,LOOKUP(G10,'Component Weights'!$B$16:$J$16,'Component Weights'!$B$17:$J$17)),IF(ISBLANK(B10),,LOOKUP(B10,'Component Weights'!$B$16:$J$16,'Component Weights'!$B$17:$J$17)),IF(ISBLANK(H10),,LOOKUP(H10,'Component Weights'!$B$16:$J$16,'Component Weights'!$B$17:$J$17)),IF(ISBLANK(I10),,LOOKUP(I10,'Component Weights'!$B$16:$J$16,'Component Weights'!$B$17:$J$17)),IF(ISBLANK(J10),,LOOKUP(J10,'Component Weights'!$B$16:$J$16,'Component Weights'!$B$17:$J$17)))","v":0},{"$f":"IF(ISBLANK(C10),\" \",(LOOKUP(C10,'Component Weights'!$B$16:$J$16,'Component Weights'!$B$17:$J$17)*$AA$4))","v":" "},{"$f":"IF(ISBLANK(D10),\" \",(LOOKUP(D10,'Component Weights'!$B$16:$J$16,'Component Weights'!$B$17:$J$17)*$AA$5))","v":" "},{"$f":"IF(ISBLANK(E10),\" \",(LOOKUP(E10,'Component Weights'!$B$16:$J$16,'Component Weights'!$B$17:$J$17)*$AA$6))","v":" "},{"$f":"IF(ISBLANK(F10),\" \",(LOOKUP(F10,'Component Weights'!$B$16:$J$16,'Component Weights'!$B$17:$J$17)*$AA$7))","v":" "},{"$f":"IF(ISBLANK(G10),\" \",(LOOKUP(G10,'Component Weights'!$B$16:$J$16,'Component Weights'!$B$17:$J$17)*$AA$8))","v":" "},{"$f":"IF(ISBLANK(B10),\" \",(LOOKUP(B10,'Component Weights'!$B$16:$J$16,'Component Weights'!$B$17:$J$17)*$AA$9))","v":" "},{"$f":"IF(ISBLANK(H10),\" \",(LOOKUP(H10,'Component Weights'!$B$16:$J$16,'Component Weights'!$B$17:$J$17)*$AA$10))","v":" "},{"$f":"IF(ISBLANK(I10),\" \",(LOOKUP(I10,'Component Weights'!$B$16:$J$16,'Component Weights'!$B$17:$J$17)*$AA$11))","v":" "},{"$f":"IF(ISBLANK(J10),\" \",(LOOKUP(J10,'Component Weights'!$B$16:$J$16,'Component Weights'!$B$17:$J$17)*$AA$12))","v":" "},0,99,null,0,null,"Low Emissions Potential",0.12,"H","The amount of time it will take the product to stop outgassing."]
["(Enter Custom Product Here)",null,null,null,null,null,null,null,null,null,{"$f":"SUM(IF(ISBLANK(C11),,LOOKUP(C11,'Component Weights'!$B$16:$J$16,'Component Weights'!$B$17:$J$17)),IF(ISBLANK(D11),,LOOKUP(D11,'Component Weights'!$B$16:$J$16,'Component Weights'!$B$17:$J$17)),IF(ISBLANK(E11),,LOOKUP(E11,'Component Weights'!$B$16:$J$16,'Component Weights'!$B$17:$J$17)),IF(ISBLANK(F11),,LOOKUP(F11,'Component Weights'!$B$16:$J$16,'Component Weights'!$B$17:$J$17)),IF(ISBLANK(G11),,LOOKUP(G11,'Component Weights'!$B$16:$J$16,'Component Weights'!$B$17:$J$17)),IF(ISBLANK(B11),,LOOKUP(B11,'Component Weights'!$B$16:$J$16,'Component Weights'!$B$17:$J$17)),IF(ISBLANK(H11),,LOOKUP(H11,'Component Weights'!$B$16:$J$16,'Component Weights'!$B$17:$J$17)),IF(ISBLANK(I11),,LOOKUP(I11,'Component Weights'!$B$16:$J$16,'Component Weights'!$B$17:$J$17)),IF(ISBLANK(J11),,LOOKUP(J11,'Component Weights'!$B$16:$J$16,'Component Weights'!$B$17:$J$17)))","v":0},{"$f":"IF(ISBLANK(C11),\" \",(LOOKUP(C11,'Component Weights'!$B$16:$J$16,'Component Weights'!$B$17:$J$17)*$AA$4))","v":" "},{"$f":"IF(ISBLANK(D11),\" \",(LOOKUP(D11,'Component Weights'!$B$16:$J$16,'Component Weights'!$B$17:$J$17)*$AA$5))","v":" "},{"$f":"IF(ISBLANK(E11),\" \",(LOOKUP(E11,'Component Weights'!$B$16:$J$16,'Component Weights'!$B$17:$J$17)*$AA$6))","v":" "},{"$f":"IF(ISBLANK(F11),\" \",(LOOKUP(F11,'Component Weights'!$B$16:$J$16,'Component Weights'!$B$17:$J$17)*$AA$7))","v":" "},{"$f":"IF(ISBLANK(G11),\" \",(LOOKUP(G11,'Component Weights'!$B$16:$J$16,'Component Weights'!$B$17:$J$17)*$AA$8))","v":" "},{"$f":"IF(ISBLANK(B11),\" \",(LOOKUP(B11,'Component Weights'!$B$16:$J$16,'Component Weights'!$B$17:$J$17)*$AA$9))","v":" "},{"$f":"IF(ISBLANK(H11),\" \",(LOOKUP(H11,'Component Weights'!$B$16:$J$16,'Component Weights'!$B$17:$J$17)*$AA$10))","v":" "},{"$f":"IF(ISBLANK(I11),\" \",(LOOKUP(I11,'Component Weights'!$B$16:$J$16,'Component Weights'!$B$17:$J$17)*$AA$11))","v":" "},{"$f":"IF(ISBLANK(J11),\" \",(LOOKUP(J11,'Component Weights'!$B$16:$J$16,'Component Weights'!$B$17:$J$17)*$AA$12))","v":" "},0,99,null,0,null,"Listed in Other Programs (e.g. EnergyStar)",0.08,"M","The level of product recommendation in recognized energy and environmental programs."]
["(Enter Custom Product Here)",null,null,null,null,null,null,null,null,null,{"$f":"SUM(IF(ISBLANK(C12),,LOOKUP(C12,'Component Weights'!$B$16:$J$16,'Component Weights'!$B$17:$J$17)),IF(ISBLANK(D12),,LOOKUP(D12,'Component Weights'!$B$16:$J$16,'Component Weights'!$B$17:$J$17)),IF(ISBLANK(E12),,LOOKUP(E12,'Component Weights'!$B$16:$J$16,'Component Weights'!$B$17:$J$17)),IF(ISBLANK(F12),,LOOKUP(F12,'Component Weights'!$B$16:$J$16,'Component Weights'!$B$17:$J$17)),IF(ISBLANK(G12),,LOOKUP(G12,'Component Weights'!$B$16:$J$16,'Component Weights'!$B$17:$J$17)),IF(ISBLANK(B12),,LOOKUP(B12,'Component Weights'!$B$16:$J$16,'Component Weights'!$B$17:$J$17)),IF(ISBLANK(H12),,LOOKUP(H12,'Component Weights'!$B$16:$J$16,'Component Weights'!$B$17:$J$17)),IF(ISBLANK(I12),,LOOKUP(I12,'Component Weights'!$B$16:$J$16,'Component Weights'!$B$17:$J$17)),IF(ISBLANK(J12),,LOOKUP(J12,'Component Weights'!$B$16:$J$16,'Component Weights'!$B$17:$J$17)))","v":0},{"$f":"IF(ISBLANK(C12),\" \",(LOOKUP(C12,'Component Weights'!$B$16:$J$16,'Component Weights'!$B$17:$J$17)*$AA$4))","v":" "},{"$f":"IF(ISBLANK(D12),\" \",(LOOKUP(D12,'Component Weights'!$B$16:$J$16,'Component Weights'!$B$17:$J$17)*$AA$5))","v":" "},{"$f":"IF(ISBLANK(E12),\" \",(LOOKUP(E12,'Component Weights'!$B$16:$J$16,'Component Weights'!$B$17:$J$17)*$AA$6))","v":" "},{"$f":"IF(ISBLANK(F12),\" \",(LOOKUP(F12,'Component Weights'!$B$16:$J$16,'Component Weights'!$B$17:$J$17)*$AA$7))","v":" "},{"$f":"IF(ISBLANK(G12),\" \",(LOOKUP(G12,'Component Weights'!$B$16:$J$16,'Component Weights'!$B$17:$J$17)*$AA$8))","v":" "},{"$f":"IF(ISBLANK(B12),\" \",(LOOKUP(B12,'Component Weights'!$B$16:$J$16,'Component Weights'!$B$17:$J$17)*$AA$9))","v":" "},{"$f":"IF(ISBLANK(H12),\" \",(LOOKUP(H12,'Component Weights'!$B$16:$J$16,'Component Weights'!$B$17:$J$17)*$AA$10))","v":" "},{"$f":"IF(ISBLANK(I12),\" \",(LOOKUP(I12,'Component Weights'!$B$16:$J$16,'Component Weights'!$B$17:$J$17)*$AA$11))","v":" "},{"$f":"IF(ISBLANK(J12),\" \",(LOOKUP(J12,'Component Weights'!$B$16:$J$16,'Component Weights'!$B$17:$J$17)*$AA$12))","v":" "},0,99,null,0,null,"Non Hazardous as Waste",0.12,"H","The amount of hazardous materials and components found in the product."]
["(Enter Custom Product Here)",null,null,null,null,null,null,null,null,null,{"$f":"SUM(IF(ISBLANK(C13),,LOOKUP(C13,'Component Weights'!$B$16:$J$16,'Component Weights'!$B$17:$J$17)),IF(ISBLANK(D13),,LOOKUP(D13,'Component Weights'!$B$16:$J$16,'Component Weights'!$B$17:$J$17)),IF(ISBLANK(E13),,LOOKUP(E13,'Component Weights'!$B$16:$J$16,'Component Weights'!$B$17:$J$17)),IF(ISBLANK(F13),,LOOKUP(F13,'Component Weights'!$B$16:$J$16,'Component Weights'!$B$17:$J$17)),IF(ISBLANK(G13),,LOOKUP(G13,'Component Weights'!$B$16:$J$16,'Component Weights'!$B$17:$J$17)),IF(ISBLANK(B13),,LOOKUP(B13,'Component Weights'!$B$16:$J$16,'Component Weights'!$B$17:$J$17)),IF(ISBLANK(H13),,LOOKUP(H13,'Component Weights'!$B$16:$J$16,'Component Weights'!$B$17:$J$17)),IF(ISBLANK(I13),,LOOKUP(I13,'Component Weights'!$B$16:$J$16,'Component Weights'!$B$17:$J$17)),IF(ISBLANK(J13),,LOOKUP(J13,'Component Weights'!$B$16:$J$16,'Component Weights'!$B$17:$J$17)))","v":0},{"$f":"IF(ISBLANK(C13),\" \",(LOOKUP(C13,'Component Weights'!$B$16:$J$16,'Component Weights'!$B$17:$J$17)*$AA$4))","v":" "},{"$f":"IF(ISBLANK(D13),\" \",(LOOKUP(D13,'Component Weights'!$B$16:$J$16,'Component Weights'!$B$17:$J$17)*$AA$5))","v":" "},{"$f":"IF(ISBLANK(E13),\" \",(LOOKUP(E13,'Component Weights'!$B$16:$J$16,'Component Weights'!$B$17:$J$17)*$AA$6))","v":" "},{"$f":"IF(ISBLANK(F13),\" \",(LOOKUP(F13,'Component Weights'!$B$16:$J$16,'Component Weights'!$B$17:$J$17)*$AA$7))","v":" "},{"$f":"IF(ISBLANK(G13),\" \",(LOOKUP(G13,'Component Weights'!$B$16:$J$16,'Component Weights'!$B$17:$J$17)*$AA$8))","v":" "},{"$f":"IF(ISBLANK(B13),\" \",(LOOKUP(B13,'Component Weights'!$B$16:$J$16,'Component Weights'!$B$17:$J$17)*$AA$9))","v":" "},{"$f":"IF(ISBLANK(H13),\" \",(LOOKUP(H13,'Component Weights'!$B$16:$J$16,'Component Weights'!$B$17:$J$17)*$AA$10))","v":" "},{"$f":"IF(ISBLANK(I13),\" \",(LOOKUP(I13,'Component Weights'!$B$16:$J$16,'Component Weights'!$B$17:$J$17)*$AA$11))","v":" "},{"$f":"IF(ISBLANK(J13),\" \",(LOOKUP(J13,'Component Weights'!$B$16:$J$16,'Component Weights'!$B$17:$J$17)*$AA$12))","v":" "},0,99,null,0,null,"Total Weightings Must Equal 100%",{"$f":"SUM(AA4:AA12)","v":1},null,{"$f":"IF(AA13<>100%,\"Keep Working - Weightings must equal 100%\",\" \")","v":" "}]
["(Enter Custom Product Here)",null,null,null,null,null,null,null,null,null,{"$f":"SUM(IF(ISBLANK(C14),,LOOKUP(C14,'Component Weights'!$B$16:$J$16,'Component Weights'!$B$17:$J$17)),IF(ISBLANK(D14),,LOOKUP(D14,'Component Weights'!$B$16:$J$16,'Component Weights'!$B$17:$J$17)),IF(ISBLANK(E14),,LOOKUP(E14,'Component Weights'!$B$16:$J$16,'Component Weights'!$B$17:$J$17)),IF(ISBLANK(F14),,LOOKUP(F14,'Component Weights'!$B$16:$J$16,'Component Weights'!$B$17:$J$17)),IF(ISBLANK(G14),,LOOKUP(G14,'Component Weights'!$B$16:$J$16,'Component Weights'!$B$17:$J$17)),IF(ISBLANK(B14),,LOOKUP(B14,'Component Weights'!$B$16:$J$16,'Component Weights'!$B$17:$J$17)),IF(ISBLANK(H14),,LOOKUP(H14,'Component Weights'!$B$16:$J$16,'Component Weights'!$B$17:$J$17)),IF(ISBLANK(I14),,LOOKUP(I14,'Component Weights'!$B$16:$J$16,'Component Weights'!$B$17:$J$17)),IF(ISBLANK(J14),,LOOKUP(J14,'Component Weights'!$B$16:$J$16,'Component Weights'!$B$17:$J$17)))","v":0},{"$f":"IF(ISBLANK(C14),\" \",(LOOKUP(C14,'Component Weights'!$B$16:$J$16,'Component Weights'!$B$17:$J$17)*$AA$4))","v":" "},{"$f":"IF(ISBLANK(D14),\" \",(LOOKUP(D14,'Component Weights'!$B$16:$J$16,'Component Weights'!$B$17:$J$17)*$AA$5))","v":" "},{"$f":"IF(ISBLANK(E14),\" \",(LOOKUP(E14,'Component Weights'!$B$16:$J$16,'Component Weights'!$B$17:$J$17)*$AA$6))","v":" "},{"$f":"IF(ISBLANK(F14),\" \",(LOOKUP(F14,'Component Weights'!$B$16:$J$16,'Component Weights'!$B$17:$J$17)*$AA$7))","v":" "},{"$f":"IF(ISBLANK(G14),\" \",(LOOKUP(G14,'Component Weights'!$B$16:$J$16,'Component Weights'!$B$17:$J$17)*$AA$8))","v":" "},{"$f":"IF(ISBLANK(B14),\" \",(LOOKUP(B14,'Component Weights'!$B$16:$J$16,'Component Weights'!$B$17:$J$17)*$AA$9))","v":" "},{"$f":"IF(ISBLANK(H14),\" \",(LOOKUP(H14,'Component Weights'!$B$16:$J$16,'Component Weights'!$B$17:$J$17)*$AA$10))","v":" "},{"$f":"IF(ISBLANK(I14),\" \",(LOOKUP(I14,'Component Weights'!$B$16:$J$16,'Component Weights'!$B$17:$J$17)*$AA$11))","v":" "},{"$f":"IF(ISBLANK(J14),\" \",(LOOKUP(J14,'Component Weights'!$B$16:$J$16,'Component Weights'!$B$17:$J$17)*$AA$12))","v":" "},0,99,null,0]
["(Enter Custom Product Here)",null,null,null,null,null,null,null,null,null,{"$f":"SUM(IF(ISBLANK(C15),,LOOKUP(C15,'Component Weights'!$B$16:$J$16,'Component Weights'!$B$17:$J$17)),IF(ISBLANK(D15),,LOOKUP(D15,'Component Weights'!$B$16:$J$16,'Component Weights'!$B$17:$J$17)),IF(ISBLANK(E15),,LOOKUP(E15,'Component Weights'!$B$16:$J$16,'Component Weights'!$B$17:$J$17)),IF(ISBLANK(F15),,LOOKUP(F15,'Component Weights'!$B$16:$J$16,'Component Weights'!$B$17:$J$17)),IF(ISBLANK(G15),,LOOKUP(G15,'Component Weights'!$B$16:$J$16,'Component Weights'!$B$17:$J$17)),IF(ISBLANK(B15),,LOOKUP(B15,'Component Weights'!$B$16:$J$16,'Component Weights'!$B$17:$J$17)),IF(ISBLANK(H15),,LOOKUP(H15,'Component Weights'!$B$16:$J$16,'Component Weights'!$B$17:$J$17)),IF(ISBLANK(I15),,LOOKUP(I15,'Component Weights'!$B$16:$J$16,'Component Weights'!$B$17:$J$17)),IF(ISBLANK(J15),,LOOKUP(J15,'Component Weights'!$B$16:$J$16,'Component Weights'!$B$17:$J$17)))","v":0},{"$f":"IF(ISBLANK(C15),\" \",(LOOKUP(C15,'Component Weights'!$B$16:$J$16,'Component Weights'!$B$17:$J$17)*$AA$4))","v":" "},{"$f":"IF(ISBLANK(D15),\" \",(LOOKUP(D15,'Component Weights'!$B$16:$J$16,'Component Weights'!$B$17:$J$17)*$AA$5))","v":" "},{"$f":"IF(ISBLANK(E15),\" \",(LOOKUP(E15,'Component Weights'!$B$16:$J$16,'Component Weights'!$B$17:$J$17)*$AA$6))","v":" "},{"$f":"IF(ISBLANK(F15),\" \",(LOOKUP(F15,'Component Weights'!$B$16:$J$16,'Component Weights'!$B$17:$J$17)*$AA$7))","v":" "},{"$f":"IF(ISBLANK(G15),\" \",(LOOKUP(G15,'Component Weights'!$B$16:$J$16,'Component Weights'!$B$17:$J$17)*$AA$8))","v":" "},{"$f":"IF(ISBLANK(B15),\" \",(LOOKUP(B15,'Component Weights'!$B$16:$J$16,'Component Weights'!$B$17:$J$17)*$AA$9))","v":" "},{"$f":"IF(ISBLANK(H15),\" \",(LOOKUP(H15,'Component Weights'!$B$16:$J$16,'Component Weights'!$B$17:$J$17)*$AA$10))","v":" "},{"$f":"IF(ISBLANK(I15),\" \",(LOOKUP(I15,'Component Weights'!$B$16:$J$16,'Component Weights'!$B$17:$J$17)*$AA$11))","v":" "},{"$f":"IF(ISBLANK(J15),\" \",(LOOKUP(J15,'Component Weights'!$B$16:$J$16,'Component Weights'!$B$17:$J$17)*$AA$12))","v":" "},0,99,null,0]
[null,null,null,null,null,null,null,null,null,null,{"$f":"AVERAGE(K$2:K6)","v":8.4},{"$f":"AVERAGE(L$2:L6)","v":{"$error":"#DIV/0!"}},{"$f":"AVERAGE(M$2:M6)","v":0},{"$f":"AVERAGE(N$2:N6)","v":0.08},{"$f":"AVERAGE(O$2:O6)","v":0},{"$f":"AVERAGE(P$2:P6)","v":0},{"$f":"AVERAGE(Q$2:Q6)","v":{"$error":"#DIV/0!"}},{"$f":"AVERAGE(R$2:R6)","v":0.33599999999999997},{"$f":"AVERAGE(S$2:S6)","v":0.20800000000000002},{"$f":"AVERAGE(T$2:T6)","v":0.24},{"$f":"AVERAGE(U$2:U6)","v":0.86399999999999988},{"$f":"IF(AND(OR(#REF!=72,#REF!=73,#REF!=74,#REF!=75,#REF!=76),$U16>0),RANK($U16,Y$2:Y$23,0),\" \")","v":{"$error":"#REF!"}}]

{"sheet":"Primary Heating Fuel Types","index":9,"n_rows":19,"n_cols":29,"rows_kept":19,"cut":false,"hidden":false,"merged":[]}
["Instructions:\nScroll down to see all products.  New products may be added to the end of the list.  Rate the performance of each product as \"N, L, M or H.\" (Hover over the component title for the rating description.)  Use your Backspace button to clear values.  The Sort button (below) will incorporate your priorities as currently stated on the table to the right.  (Scroll to the right to see the table.)\n\n","Available Locally","Incremental Energy Savings","Use of Recycled Content","Low Energy Usage Manufacturing Process","Easily Biodegradable","Made from Natural Materials","Low Emissions Potential","Listed in Other Programs","Non Hazardous as Waste","Total Raw Score","Incremental Energy Savings Weighted Score","Use of Recycled Content Weighted Score","Low Energy Usage Mfg. Process Weighted Score","Easily Biodegradable Weighted Score","Made from Natural Materials Weighted Score","Available Locally Weighted Score","Low Emissions Potential Weighted Score","Listed in Other Programs Weighted Score","Non Hazardous as Waste Weighted Score","Total Weighted Score","Force Ranking",null,"Weighted Score for Force Rank Calculation ",null,"Detailed instructions and options for using this tool are found in the Using the DYO® GBD Kit Decision Matrix Software Section of your DYO® Green Building Decision Kit."]
["Bio-Mass Burning",null,null,"H","H",null,"H","M","H",null,{"$f":"SUM(IF(ISBLANK(C2),,LOOKUP(C2,'Component Weights'!$B$16:$J$16,'Component Weights'!$B$17:$J$17)),IF(ISBLANK(D2),,LOOKUP(D2,'Component Weights'!$B$16:$J$16,'Component Weights'!$B$17:$J$17)),IF(ISBLANK(E2),,LOOKUP(E2,'Component Weights'!$B$16:$J$16,'Component Weights'!$B$17:$J$17)),IF(ISBLANK(F2),,LOOKUP(F2,'Component Weights'!$B$16:$J$16,'Component Weights'!$B$17:$J$17)),IF(ISBLANK(G2),,LOOKUP(G2,'Component Weights'!$B$16:$J$16,'Component Weights'!$B$17:$J$17)),IF(ISBLANK(B2),,LOOKUP(B2,'Component Weights'!$B$16:$J$16,'Component Weights'!$B$17:$J$17)),IF(ISBLANK(H2),,LOOKUP(H2,'Component Weights'!$B$16:$J$16,'Component Weights'!$B$17:$J$17)),IF(ISBLANK(I2),,LOOKUP(I2,'Component Weights'!$B$16:$J$16,'Component Weights'!$B$17:$J$17)),IF(ISBLANK(J2),,LOOKUP(J2,'Component Weights'!$B$16:$J$16,'Component Weights'!$B$17:$J$17)))","v":14},{"$f":"IF(ISBLANK(C2),\" \",(LOOKUP(C2,'Component Weights'!$B$16:$J$16,'Component Weights'!$B$17:$J$17)*$AA$4))","v":" "},{"$f":"IF(ISBLANK(D2),\" \",(LOOKUP(D2,'Component Weights'!$B$16:$J$16,'Component Weights'!$B$17:$J$17)*$AA$5))","v":0.36},{"$f":"IF(ISBLANK(E2),\" \",(LOOKUP(E2,'Component Weights'!$B$16:$J$16,'Component Weights'!$B$17:$J$17)*$AA$6))","v":0.24},{"$f":"IF(ISBLANK(F2),\" \",(LOOKUP(F2,'Component Weights'!$B$16:$J$16,'Component Weights'!$B$17:$J$17)*$AA$7))","v":" "},{"$f":"IF(ISBLANK(G2),\" \",(LOOKUP(G2,'Component Weights'!$B$16:$J$16,'Component Weights'!$B$17:$J$17)*$AA$8))","v":0.15000000000000002},{"$f":"IF(ISBLANK(B2),\" \",(LOOKUP(B2,'Component Weights'!$B$16:$J$16,'Component Weights'!$B$17:$J$17)*$AA$9))","v":" "},{"$f":"IF(ISBLANK(H2),\" \",(LOOKUP(H2,'Component Weights'!$B$16:$J$16,'Component Weights'!$B$17:$J$17)*$AA$10))","v":0.24},{"$f":"IF(ISBLANK(I2),\" \",(LOOKUP(I2,'Component Weights'!$B$16:$J$16,'Component Weights'!$B$17:$J$17)*$AA$11))","v":0.24},{"$f":"IF(ISBLANK(J2),\" \",(LOOKUP(J2,'Component Weights'!$B$16:$J$16,'Component Weights'!$B$17:$J$17)*$AA$12))","v":" "},{"$f":"SUM(L2:T2)","v":1.23},{"$f":"IF($U2>0,RANK($U2,X$2:X$206,0),99)","v":1},null,{"$f":"U2","v":1.23},null,"Component Weights for","Weight"]
["Pellet Burning",null,null,"H","H",null,"H","M","M",null,{"$f":"SUM(IF(ISBLANK(C3),,LOOKUP(C3,'Component Weights'!$B$16:$J$16,'Component Weights'!$B$17:$J$17)),IF(ISBLANK(D3),,LOOKUP(D3,'Component Weights'!$B$16:$J$16,'Component Weights'!$B$17:$J$17)),IF(ISBLANK(E3),,LOOKUP(E3,'Component Weights'!$B$16:$J$16,'Component Weights'!$B$17:$J$17)),IF(ISBLANK(F3),,LOOKUP(F3,'Component Weights'!$B$16:$J$16,'Component Weights'!$B$17:$J$17)),IF(ISBLANK(G3),,LOOKUP(G3,'Component Weights'!$B$16:$J$16,'Component Weights'!$B$17:$J$17)),IF(ISBLANK(B3),,LOOKUP(B3,'Component Weights'!$B$16:$J$16,'Component Weights'!$B$17:$J$17)),IF(ISBLANK(H3),,LOOKUP(H3,'Component Weights'!$B$16:$J$16,'Component Weights'!$B$17:$J$17)),IF(ISBLANK(I3),,LOOKUP(I3,'Component Weights'!$B$16:$J$16,'Component Weights'!$B$17:$J$17)),IF(ISBLANK(J3),,LOOKUP(J3,'Component Weights'!$B$16:$J$16,'Component Weights'!$B$17:$J$17)))","v":13},{"$f":"IF(ISBLANK(C3),\" \",(LOOKUP(C3,'Component Weights'!$B$16:$J$16,'Component Weights'!$B$17:$J$17)*$AA$4))","v":" "},{"$f":"IF(ISBLANK(D3),\" \",(LOOKUP(D3,'Component Weights'!$B$16:$J$16,'Component Weights'!$B$17:$J$17)*$AA$5))","v":0.36},{"$f":"IF(ISBLANK(E3),\" \",(LOOKUP(E3,'Component Weights'!$B$16:$J$16,'Component Weights'!$B$17:$J$17)*$AA$6))","v":0.24},{"$f":"IF(ISBLANK(F3),\" \",(LOOKUP(F3,'Component Weights'!$B$16:$J$16,'Component Weights'!$B$17:$J$17)*$AA$7))","v":" "},{"$f":"IF(ISBLANK(G3),\" \",(LOOKUP(G3,'Component Weights'!$B$16:$J$16,'Component Weights'!$B$17:$J$17)*$AA$8))","v":0.15000000000000002},{"$f":"IF(ISBLANK(B3),\" \",(LOOKUP(B3,'Component Weights'!$B$16:$J$16,'Component Weights'!$B$17:$J$17)*$AA$9))","v":" "},{"$f":"IF(ISBLANK(H3),\" \",(LOOKUP(H3,'Component Weights'!$B$16:$J$16,'Component Weights'!$B$17:$J$17)*$AA$10))","v":0.24},{"$f":"IF(ISBLANK(I3),\" \",(LOOKUP(I3,'Component Weights'!$B$16:$J$16,'Component Weights'!$B$17:$J$17)*$AA$11))","v":0.16},{"$f":"IF(ISBLANK(J3),\" \",(LOOKUP(J3,'Component Weights'!$B$16:$J$16,'Component Weights'!$B$17:$J$17)*$AA$12))","v":" "},1.1499999999999999,2,null,1.1499999999999999,null,"Primary Heating Fuel Types"]
["Maize Burning",null,null,"M","H",null,"H","M","M",null,{"$f":"SUM(IF(ISBLANK(C4),,LOOKUP(C4,'Component Weights'!$B$16:$J$16,'Component Weights'!$B$17:$J$17)),IF(ISBLANK(D4),,LOOKUP(D4,'Component Weights'!$B$16:$J$16,'Component Weights'!$B$17:$J$17)),IF(ISBLANK(E4),,LOOKUP(E4,'Component Weights'!$B$16:$J$16,'Component Weights'!$B$17:$J$17)),IF(ISBLANK(F4),,LOOKUP(F4,'Component Weights'!$B$16:$J$16,'Component Weights'!$B$17:$J$17)),IF(ISBLANK(G4),,LOOKUP(G4,'Component Weights'!$B$16:$J$16,'Component Weights'!$B$17:$J$17)),IF(ISBLANK(B4),,LOOKUP(B4,'Component Weights'!$B$16:$J$16,'Component Weights'!$B$17:$J$17)),IF(ISBLANK(H4),,LOOKUP(H4,'Component Weights'!$B$16:$J$16,'Component Weights'!$B$17:$J$17)),IF(ISBLANK(I4),,LOOKUP(I4,'Component Weights'!$B$16:$J$16,'Component Weights'!$B$17:$J$17)),IF(ISBLANK(J4),,LOOKUP(J4,'Component Weights'!$B$16:$J$16,'Component Weights'!$B$17:$J$17)))","v":12},{"$f":"IF(ISBLANK(C4),\" \",(LOOKUP(C4,'Component Weights'!$B$16:$J$16,'Component Weights'!$B$17:$J$17)*$AA$4))","v":" "},{"$f":"IF(ISBLANK(D4),\" \",(LOOKUP(D4,'Component Weights'!$B$16:$J$16,'Component Weights'!$B$17:$J$17)*$AA$5))","v":0.24},{"$f":"IF(ISBLANK(E4),\" \",(LOOKUP(E4,'Component Weights'!$B$16:$J$16,'Component Weights'!$B$17:$J$17)*$AA$6))","v":0.24},{"$f":"IF(ISBLANK(F4),\" \",(LOOKUP(F4,'Component Weights'!$B$16:$J$16,'Component Weights'!$B$17:$J$17)*$AA$7))","v":" "},{"$f":"IF(ISBLANK(G4),\" \",(LOOKUP(G4,'Component Weights'!$B$16:$J$16,'Component Weights'!$B$17:$J$17)*$AA$8))","v":0.15000000000000002},{"$f":"IF(ISBLANK(B4),\" \",(LOOKUP(B4,'Component Weights'!$B$16:$J$16,'Component Weights'!$B$17:$J$17)*$AA$9))","v":" "},{"$f":"IF(ISBLANK(H4),\" \",(LOOKUP(H4,'Component Weights'!$B$16:$J$16,'Component Weights'!$B$17:$J$17)*$AA$10))","v":0.24},{"$f":"IF(ISBLANK(I4),\" \",(LOOKUP(I4,'Component Weights'!$B$16:$J$16,'Component Weights'!$B$17:$J$17)*$AA$11))","v":0.16},{"$f":"IF(ISBLANK(J4),\" \",(LOOKUP(J4,'Component Weights'!$B$16:$J$16,'Component Weights'!$B$17:$J$17)*$AA$12))","v":" "},1.03,3,null,1.03,null,"Incremental Energy Savings",0.08,"M","The amount of incremental energy, expressed in Btu/Hr, that a product saves or generates for the structure."]
["Solar Thermal",null,null,"N","H",null,"H","H","H",null,{"$f":"SUM(IF(ISBLANK(C5),,LOOKUP(C5,'Component Weights'!$B$16:$J$16,'Component Weights'!$B$17:$J$17)),IF(ISBLANK(D5),,LOOKUP(D5,'Component Weights'!$B$16:$J$16,'Component Weights'!$B$17:$J$17)),IF(ISBLANK(E5),,LOOKUP(E5,'Component Weights'!$B$16:$J$16,'Component Weights'!$B$17:$J$17)),IF(ISBLANK(F5),,LOOKUP(F5,'Component Weights'!$B$16:$J$16,'Component Weights'!$B$17:$J$17)),IF(ISBLANK(G5),,LOOKUP(G5,'Component Weights'!$B$16:$J$16,'Component Weights'!$B$17:$J$17)),IF(ISBLANK(B5),,LOOKUP(B5,'Component Weights'!$B$16:$J$16,'Component Weights'!$B$17:$J$17)),IF(ISBLANK(H5),,LOOKUP(H5,'Component Weights'!$B$16:$J$16,'Component Weights'!$B$17:$J$17)),IF(ISBLANK(I5),,LOOKUP(I5,'Component Weights'!$B$16:$J$16,'Component Weights'!$B$17:$J$17)),IF(ISBLANK(J5),,LOOKUP(J5,'Component Weights'!$B$16:$J$16,'Component Weights'!$B$17:$J$17)))","v":12},{"$f":"IF(ISBLANK(C5),\" \",(LOOKUP(C5,'Component Weights'!$B$16:$J$16,'Component Weights'!$B$17:$J$17)*$AA$4))","v":" "},{"$f":"IF(ISBLANK(D5),\" \",(LOOKUP(D5,'Component Weights'!$B$16:$J$16,'Component Weights'!$B$17:$J$17)*$AA$5))","v":0},{"$f":"IF(ISBLANK(E5),\" \",(LOOKUP(E5,'Component Weights'!$B$16:$J$16,'Component Weights'!$B$17:$J$17)*$AA$6))","v":0.24},{"$f":"IF(ISBLANK(F5),\" \",(LOOKUP(F5,'Component Weights'!$B$16:$J$16,'Component Weights'!$B$17:$J$17)*$AA$7))","v":" "},{"$f":"IF(ISBLANK(G5),\" \",(LOOKUP(G5,'Component Weights'!$B$16:$J$16,'Component Weights'!$B$17:$J$17)*$AA$8))","v":0.15000000000000002},{"$f":"IF(ISBLANK(B5),\" \",(LOOKUP(B5,'Component Weights'!$B$16:$J$16,'Component Weights'!$B$17:$J$17)*$AA$9))","v":" "},{"$f":"IF(ISBLANK(H5),\" \",(LOOKUP(H5,'Component Weights'!$B$16:$J$16,'Component Weights'!$B$17:$J$17)*$AA$10))","v":0.36},{"$f":"IF(ISBLANK(I5),\" \",(LOOKUP(I5,'Component Weights'!$B$16:$J$16,'Component Weights'!$B$17:$J$17)*$AA$11))","v":0.24},{"$f":"IF(ISBLANK(J5),\" \",(LOOKUP(J5,'Component Weights'!$B$16:$J$16,'Component Weights'!$B$17:$J$17)*$AA$12))","v":" "},0.99,4,null,0.99,null,"Use of Recycled Content",0.12,"H","The amount of recycled content, expressed as a percentage, found in a product."]
["Electric – Direct Current (DC) - from Solar, Wind, Hydrogen, Water (on-site) ",null,null,"N","H",null,"H","H","H",null,{"$f":"SUM(IF(ISBLANK(C6),,LOOKUP(C6,'Component Weights'!$B$16:$J$16,'Component Weights'!$B$17:$J$17)),IF(ISBLANK(D6),,LOOKUP(D6,'Component Weights'!$B$16:$J$16,'Component Weights'!$B$17:$J$17)),IF(ISBLANK(E6),,LOOKUP(E6,'Component Weights'!$B$16:$J$16,'Component Weights'!$B$17:$J$17)),IF(ISBLANK(F6),,LOOKUP(F6,'Component Weights'!$B$16:$J$16,'Component Weights'!$B$17:$J$17)),IF(ISBLANK(G6),,LOOKUP(G6,'Component Weights'!$B$16:$J$16,'Component Weights'!$B$17:$J$17)),IF(ISBLANK(B6),,LOOKUP(B6,'Component Weights'!$B$16:$J$16,'Component Weights'!$B$17:$J$17)),IF(ISBLANK(H6),,LOOKUP(H6,'Component Weights'!$B$16:$J$16,'Component Weights'!$B$17:$J$17)),IF(ISBLANK(I6),,LOOKUP(I6,'Component Weights'!$B$16:$J$16,'Component Weights'!$B$17:$J$17)),IF(ISBLANK(J6),,LOOKUP(J6,'Component Weights'!$B$16:$J$16,'Component Weights'!$B$17:$J$17)))","v":12},{"$f":"IF(ISBLANK(C6),\" \",(LOOKUP(C6,'Component Weights'!$B$16:$J$16,'Component Weights'!$B$17:$J$17)*$AA$4))","v":" "},{"$f":"IF(ISBLANK(D6),\" \",(LOOKUP(D6,'Component Weights'!$B$16:$J$16,'Component Weights'!$B$17:$J$17)*$AA$5))","v":0},{"$f":"IF(ISBLANK(E6),\" \",(LOOKUP(E6,'Component Weights'!$B$16:$J$16,'Component Weights'!$B$17:$J$17)*$AA$6))","v":0.24},{"$f":"IF(ISBLANK(F6),\" \",(LOOKUP(F6,'Component Weights'!$B$16:$J$16,'Component Weights'!$B$17:$J$17)*$AA$7))","v":" "},{"$f":"IF(ISBLANK(G6),\" \",(LOOKUP(G6,'Component Weights'!$B$16:$J$16,'Component Weights'!$B$17:$J$17)*$AA$8))","v":0.15000000000000002},{"$f":"IF(ISBLANK(B6),\" \",(LOOKUP(B6,'Component Weights'!$B$16:$J$16,'Component Weights'!$B$17:$J$17)*$AA$9))","v":" "},{"$f":"IF(ISBLANK(H6),\" \",(LOOKUP(H6,'Component Weights'!$B$16:$J$16,'Component Weights'!$B$17:$J$17)*$AA$10))","v":0.36},{"$f":"IF(ISBLANK(I6),\" \",(LOOKUP(I6,'Component Weights'!$B$16:$J$16,'Component Weights'!$B$17:$J$17)*$AA$11))","v":0.24},{"$f":"IF(ISBLANK(J6),\" \",(LOOKUP(J6,'Component Weights'!$B$16:$J$16,'Component Weights'!$B$17:$J$17)*$AA$12))","v":" "},0.99,4,null,0.99,null,"Low Energy Usage Manufacturing Process",0.08,"M","The amount of energy used in manufacture of the product."]
["Electric – Alternating Current (AC) - from Solar, Wind, Hydrogen, Water (on-site)",null,null,"N","H",null,"H","H","H",null,{"$f":"SUM(IF(ISBLANK(C7),,LOOKUP(C7,'Component Weights'!$B$16:$J$16,'Component Weights'!$B$17:$J$17)),IF(ISBLANK(D7),,LOOKUP(D7,'Component Weights'!$B$16:$J$16,'Component Weights'!$B$17:$J$17)),IF(ISBLANK(E7),,LOOKUP(E7,'Component Weights'!$B$16:$J$16,'Component Weights'!$B$17:$J$17)),IF(ISBLANK(F7),,LOOKUP(F7,'Component Weights'!$B$16:$J$16,'Component Weights'!$B$17:$J$17)),IF(ISBLANK(G7),,LOOKUP(G7,'Component Weights'!$B$16:$J$16,'Component Weights'!$B$17:$J$17)),IF(ISBLANK(B7),,LOOKUP(B7,'Component Weights'!$B$16:$J$16,'Component Weights'!$B$17:$J$17)),IF(ISBLANK(H7),,LOOKUP(H7,'Component Weights'!$B$16:$J$16,'Component Weights'!$B$17:$J$17)),IF(ISBLANK(I7),,LOOKUP(I7,'Component Weights'!$B$16:$J$16,'Component Weights'!$B$17:$J$17)),IF(ISBLANK(J7),,LOOKUP(J7,'Component Weights'!$B$16:$J$16,'Component Weights'!$B$17:$J$17)))","v":12},{"$f":"IF(ISBLANK(C7),\" \",(LOOKUP(C7,'Component Weights'!$B$16:$J$16,'Component Weights'!$B$17:$J$17)*$AA$4))","v":" "},{"$f":"IF(ISBLANK(D7),\" \",(LOOKUP(D7,'Component Weights'!$B$16:$J$16,'Component Weights'!$B$17:$J$17)*$AA$5))","v":0},{"$f":"IF(ISBLANK(E7),\" \",(LOOKUP(E7,'Component Weights'!$B$16:$J$16,'Component Weights'!$B$17:$J$17)*$AA$6))","v":0.24},{"$f":"IF(ISBLANK(F7),\" \",(LOOKUP(F7,'Component Weights'!$B$16:$J$16,'Component Weights'!$B$17:$J$17)*$AA$7))","v":" "},{"$f":"IF(ISBLANK(G7),\" \",(LOOKUP(G7,'Component Weights'!$B$16:$J$16,'Component Weights'!$B$17:$J$17)*$AA$8))","v":0.15000000000000002},{"$f":"IF(ISBLANK(B7),\" \",(LOOKUP(B7,'Component Weights'!$B$16:$J$16,'Component Weights'!$B$17:$J$17)*$AA$9))","v":" "},{"$f":"IF(ISBLANK(H7),\" \",(LOOKUP(H7,'Component Weights'!$B$16:$J$16,'Component Weights'!$B$17:$J$17)*$AA$10))","v":0.36},{"$f":"IF(ISBLANK(I7),\" \",(LOOKUP(I7,'Component Weights'!$B$16:$J$16,'Component Weights'!$B$17:$J$17)*$AA$11))","v":0.24},{"$f":"IF(ISBLANK(J7),\" \",(LOOKUP(J7,'Component Weights'!$B$16:$J$16,'Component Weights'!$B$17:$J$17)*$AA$12))","v":" "},0.99,4,null,0.99,null,"Easily Biodegradable",0.12,"H","The amount of time it will take the product to degrade once its useful life is over."]
["Natural Gas",null,null,"N","H",null,"H","H","M",null,{"$f":"SUM(IF(ISBLANK(C8),,LOOKUP(C8,'Component Weights'!$B$16:$J$16,'Component Weights'!$B$17:$J$17)),IF(ISBLANK(D8),,LOOKUP(D8,'Component Weights'!$B$16:$J$16,'Component Weights'!$B$17:$J$17)),IF(ISBLANK(E8),,LOOKUP(E8,'Component Weights'!$B$16:$J$16,'Component Weights'!$B$17:$J$17)),IF(ISBLANK(F8),,LOOKUP(F8,'Component Weights'!$B$16:$J$16,'Component Weights'!$B$17:$J$17)),IF(ISBLANK(G8),,LOOKUP(G8,'Component Weights'!$B$16:$J$16,'Component Weights'!$B$17:$J$17)),IF(ISBLANK(B8),,LOOKUP(B8,'Component Weights'!$B$16:$J$16,'Component Weights'!$B$17:$J$17)),IF(ISBLANK(H8),,LOOKUP(H8,'Component Weights'!$B$16:$J$16,'Component Weights'!$B$17:$J$17)),IF(ISBLANK(I8),,LOOKUP(I8,'Component Weights'!$B$16:$J$16,'Component Weights'!$B$17:$J$17)),IF(ISBLANK(J8),,LOOKUP(J8,'Component Weights'!$B$16:$J$16,'Component Weights'!$B$17:$J$17)))","v":11},{"$f":"IF(ISBLANK(C8),\" \",(LOOKUP(C8,'Component Weights'!$B$16:$J$16,'Component Weights'!$B$17:$J$17)*$AA$4))","v":" "},{"$f":"IF(ISBLANK(D8),\" \",(LOOKUP(D8,'Component Weights'!$B$16:$J$16,'Component Weights'!$B$17:$J$17)*$AA$5))","v":0},{"$f":"IF(ISBLANK(E8),\" \",(LOOKUP(E8,'Component Weights'!$B$16:$J$16,'Component Weights'!$B$17:$J$17)*$AA$6))","v":0.24},{"$f":"IF(ISBLANK(F8),\" \",(LOOKUP(F8,'Component Weights'!$B$16:$J$16,'Component Weights'!$B$17:$J$17)*$AA$7))","v":" "},{"$f":"IF(ISBLANK(G8),\" \",(LOOKUP(G8,'Component Weights'!$B$16:$J$16,'Component Weights'!$B$17:$J$17)*$AA$8))","v":0.15000000000000002},{"$f":"IF(ISBLANK(B8),\" \",(LOOKUP(B8,'Component Weights'!$B$16:$J$16,'Component Weights'!$B$17:$J$17)*$AA$9))","v":" "},{"$f":"IF(ISBLANK(H8),\" \",(LOOKUP(H8,'Component Weights'!$B$16:$J$16,'Component Weights'!$B$17:$J$17)*$AA$10))","v":0.36},{"$f":"IF(ISBLANK(I8),\" \",(LOOKUP(I8,'Component Weights'!$B$16:$J$16,'Component Weights'!$B$17:$J$17)*$AA$11))","v":0.16},{"$f":"IF(ISBLANK(J8),\" \",(LOOKUP(J8,'Component Weights'!$B$16:$J$16,'Component Weights'!$B$17:$J$17)*$AA$12))","v":" "},0.91,7,null,0.91,null,"Made from Natural Materials",0.05,"L","The amount, expressed as a percentage, of natural (not man-made) materials used to make the product."]
["Wood Burning",null,null,"N","H",null,"H","M","M",null,{"$f":"SUM(IF(ISBLANK(C9),,LOOKUP(C9,'Component Weights'!$B$16:$J$16,'Component Weights'!$B$17:$J$17)),IF(ISBLANK(D9),,LOOKUP(D9,'Component Weights'!$B$16:$J$16,'Component Weights'!$B$17:$J$17)),IF(ISBLANK(E9),,LOOKUP(E9,'Component Weights'!$B$16:$J$16,'Component Weights'!$B$17:$J$17)),IF(ISBLANK(F9),,LOOKUP(F9,'Component Weights'!$B$16:$J$16,'Component Weights'!$B$17:$J$17)),IF(ISBLANK(G9),,LOOKUP(G9,'Component Weights'!$B$16:$J$16,'Component Weights'!$B$17:$J$17)),IF(ISBLANK(B9),,LOOKUP(B9,'Component Weights'!$B$16:$J$16,'Component Weights'!$B$17:$J$17)),IF(ISBLANK(H9),,LOOKUP(H9,'Component Weights'!$B$16:$J$16,'Component Weights'!$B$17:$J$17)),IF(ISBLANK(I9),,LOOKUP(I9,'Component Weights'!$B$16:$J$16,'Component Weights'!$B$17:$J$17)),IF(ISBLANK(J9),,LOOKUP(J9,'Component Weights'!$B$16:$J$16,'Component Weights'!$B$17:$J$17)))","v":10},{"$f":"IF(ISBLANK(C9),\" \",(LOOKUP(C9,'Component Weights'!$B$16:$J$16,'Component Weights'!$B$17:$J$17)*$AA$4))","v":" "},{"$f":"IF(ISBLANK(D9),\" \",(LOOKUP(D9,'Component Weights'!$B$16:$J$16,'Component Weights'!$B$17:$J$17)*$AA$5))","v":0},{"$f":"IF(ISBLANK(E9),\" \",(LOOKUP(E9,'Component Weights'!$B$16:$J$16,'Component Weights'!$B$17:$J$17)*$AA$6))","v":0.24},{"$f":"IF(ISBLANK(F9),\" \",(LOOKUP(F9,'Component Weights'!$B$16:$J$16,'Component Weights'!$B$17:$J$17)*$AA$7))","v":" "},{"$f":"IF(ISBLANK(G9),\" \",(LOOKUP(G9,'Component Weights'!$B$16:$J$16,'Component Weights'!$B$17:$J$17)*$AA$8))","v":0.15000000000000002},{"$f":"IF(ISBLANK(B9),\" \",(LOOKUP(B9,'Component Weights'!$B$16:$J$16,'Component Weights'!$B$17:$J$17)*$AA$9))","v":" "},{"$f":"IF(ISBLANK(H9),\" \",(LOOKUP(H9,'Component Weights'!$B$16:$J$16,'Component Weights'!$B$17:$J$17)*$AA$10))","v":0.24},{"$f":"IF(ISBLANK(I9),\" \",(LOOKUP(I9,'Component Weights'!$B$16:$J$16,'Component Weights'!$B$17:$J$17)*$AA$11))","v":0.16},{"$f":"IF(ISBLANK(J9),\" \",(LOOKUP(J9,'Component Weights'!$B$16:$J$16,'Component Weights'!$B$17:$J$17)*$AA$12))","v":" "},0.79,8,null,0.79,null,"Available Locally",0.23,"H+","The distance in miles that the product must travel to the destination of final use."]
["Propane",null,null,"N","M",null,"L","M","N",null,{"$f":"SUM(IF(ISBLANK(C10),,LOOKUP(C10,'Component Weights'!$B$16:$J$16,'Component Weights'!$B$17:$J$17)),IF(ISBLANK(D10),,LOOKUP(D10,'Component Weights'!$B$16:$J$16,'Component Weights'!$B$17:$J$17)),IF(ISBLANK(E10),,LOOKUP(E10,'Component Weights'!$B$16:$J$16,'Component Weights'!$B$17:$J$17)),IF(ISBLANK(F10),,LOOKUP(F10,'Component Weights'!$B$16:$J$16,'Component Weights'!$B$17:$J$17)),IF(ISBLANK(G10),,LOOKUP(G10,'Component Weights'!$B$16:$J$16,'Component Weights'!$B$17:$J$17)),IF(ISBLANK(B10),,LOOKUP(B10,'Component Weights'!$B$16:$J$16,'Component Weights'!$B$17:$J$17)),IF(ISBLANK(H10),,LOOKUP(H10,'Component Weights'!$B$16:$J$16,'Component Weights'!$B$17:$J$17)),IF(ISBLANK(I10),,LOOKUP(I10,'Component Weights'!$B$16:$J$16,'Component Weights'!$B$17:$J$17)),IF(ISBLANK(J10),,LOOKUP(J10,'Component Weights'!$B$16:$J$16,'Component Weights'!$B$17:$J$17)))","v":5},{"$f":"IF(ISBLANK(C10),\" \",(LOOKUP(C10,'Component Weights'!$B$16:$J$16,'Component Weights'!$B$17:$J$17)*$AA$4))","v":" "},{"$f":"IF(ISBLANK(D10),\" \",(LOOKUP(D10,'Component Weights'!$B$16:$J$16,'Component Weights'!$B$17:$J$17)*$AA$5))","v":0},{"$f":"IF(ISBLANK(E10),\" \",(LOOKUP(E10,'Component Weights'!$B$16:$J$16,'Component Weights'!$B$17:$J$17)*$AA$6))","v":0.16},{"$f":"IF(ISBLANK(F10),\" \",(LOOKUP(F10,'Component Weights'!$B$16:$J$16,'Component Weights'!$B$17:$J$17)*$AA$7))","v":" "},{"$f":"IF(ISBLANK(G10),\" \",(LOOKUP(G10,'Component Weights'!$B$16:$J$16,'Component Weights'!$B$17:$J$17)*$AA$8))","v":0.05},{"$f":"IF(ISBLANK(B10),\" \",(LOOKUP(B10,'Component Weights'!$B$16:$J$16,'Component Weights'!$B$17:$J$17)*$AA$9))","v":" "},{"$f":"IF(ISBLANK(H10),\" \",(LOOKUP(H10,'Component Weights'!$B$16:$J$16,'Component Weights'!$B$17:$J$17)*$AA$10))","v":0.24},{"$f":"IF(ISBLANK(I10),\" \",(LOOKUP(I10,'Component Weights'!$B$16:$J$16,'Component Weights'!$B$17:$J$17)*$AA$11))","v":0},{"$f":"IF(ISBLANK(J10),\" \",(LOOKUP(J10,'Component Weights'!$B$16:$J$16,'Component Weights'!$B$17:$J$17)*$AA$12))","v":" "},0.45,9,null,0.45,null,"Low Emissions Potential",0.12,"H","The amount of time it will take the product to stop outgassing."]
["Heating Oil",null,null,"N","L",null,"L","M","N",null,{"$f":"SUM(IF(ISBLANK(C11),,LOOKUP(C11,'Component Weights'!$B$16:$J$16,'Component Weights'!$B$17:$J$17)),IF(ISBLANK(D11),,LOOKUP(D11,'Component Weights'!$B$16:$J$16,'Component Weights'!$B$17:$J$17)),IF(ISBLANK(E11),,LOOKUP(E11,'Component Weights'!$B$16:$J$16,'Component Weights'!$B$17:$J$17)),IF(ISBLANK(F11),,LOOKUP(F11,'Component Weights'!$B$16:$J$16,'Component Weights'!$B$17:$J$17)),IF(ISBLANK(G11),,LOOKUP(G11,'Component Weights'!$B$16:$J$16,'Component Weights'!$B$17:$J$17)),IF(ISBLANK(B11),,LOOKUP(B11,'Component Weights'!$B$16:$J$16,'Component Weights'!$B$17:$J$17)),IF(ISBLANK(H11),,LOOKUP(H11,'Component Weights'!$B$16:$J$16,'Component Weights'!$B$17:$J$17)),IF(ISBLANK(I11),,LOOKUP(I11,'Component Weights'!$B$16:$J$16,'Component Weights'!$B$17:$J$17)),IF(ISBLANK(J11),,LOOKUP(J11,'Component Weights'!$B$16:$J$16,'Component Weights'!$B$17:$J$17)))","v":4},{"$f":"IF(ISBLANK(C11),\" \",(LOOKUP(C11,'Component Weights'!$B$16:$J$16,'Component Weights'!$B$17:$J$17)*$AA$4))","v":" "},{"$f":"IF(ISBLANK(D11),\" \",(LOOKUP(D11,'Component Weights'!$B$16:$J$16,'Component Weights'!$B$17:$J$17)*$AA$5))","v":0},{"$f":"IF(ISBLANK(E11),\" \",(LOOKUP(E11,'Component Weights'!$B$16:$J$16,'Component Weights'!$B$17:$J$17)*$AA$6))","v":0.08},{"$f":"IF(ISBLANK(F11),\" \",(LOOKUP(F11,'Component Weights'!$B$16:$J$16,'Component Weights'!$B$17:$J$17)*$AA$7))","v":" "},{"$f":"IF(ISBLANK(G11),\" \",(LOOKUP(G11,'Component Weights'!$B$16:$J$16,'Component Weights'!$B$17:$J$17)*$AA$8))","v":0.05},{"$f":"IF(ISBLANK(B11),\" \",(LOOKUP(B11,'Component Weights'!$B$16:$J$16,'Component Weights'!$B$17:$J$17)*$AA$9))","v":" "},{"$f":"IF(ISBLANK(H11),\" \",(LOOKUP(H11,'Component Weights'!$B$16:$J$16,'Component Weights'!$B$17:$J$17)*$AA$10))","v":0.24},{"$f":"IF(ISBLANK(I11),\" \",(LOOKUP(I11,'Component Weights'!$B$16:$J$16,'Component Weights'!$B$17:$J$17)*$AA$11))","v":0},{"$f":"IF(ISBLANK(J11),\" \",(LOOKUP(J11,'Component Weights'!$B$16:$J$16,'Component Weights'!$B$17:$J$17)*$AA$12))","v":" "},0.37,10,null,0.37,null,"Listed in Other Programs (e.g. EnergyStar)",0.08,"M","The level of product recommendation in recognized energy and environmental programs."]
["Electricity from Fossil Fuels",null,null,"N","L",null,"L","N","N",null,{"$f":"SUM(IF(ISBLANK(C12),,LOOKUP(C12,'Component Weights'!$B$16:$J$16,'Component Weights'!$B$17:$J$17)),IF(ISBLANK(D12),,LOOKUP(D12,'Component Weights'!$B$16:$J$16,'Component Weights'!$B$17:$J$17)),IF(ISBLANK(E12),,LOOKUP(E12,'Component Weights'!$B$16:$J$16,'Component Weights'!$B$17:$J$17)),IF(ISBLANK(F12),,LOOKUP(F12,'Component Weights'!$B$16:$J$16,'Component Weights'!$B$17:$J$17)),IF(ISBLANK(G12),,LOOKUP(G12,'Component Weights'!$B$16:$J$16,'Component Weights'!$B$17:$J$17)),IF(ISBLANK(B12),,LOOKUP(B12,'Component Weights'!$B$16:$J$16,'Component Weights'!$B$17:$J$17)),IF(ISBLANK(H12),,LOOKUP(H12,'Component Weights'!$B$16:$J$16,'Component Weights'!$B$17:$J$17)),IF(ISBLANK(I12),,LOOKUP(I12,'Component Weights'!$B$16:$J$16,'Component Weights'!$B$17:$J$17)),IF(ISBLANK(J12),,LOOKUP(J12,'Component Weights'!$B$16:$J$16,'Component Weights'!$B$17:$J$17)))","v":2},{"$f":"IF(ISBLANK(C12),\" \",(LOOKUP(C12,'Component Weights'!$B$16:$J$16,'Component Weights'!$B$17:$J$17)*$AA$4))","v":" "},{"$f":"IF(ISBLANK(D12),\" \",(LOOKUP(D12,'Component Weights'!$B$16:$J$16,'Component Weights'!$B$17:$J$17)*$AA$5))","v":0},{"$f":"IF(ISBLANK(E12),\" \",(LOOKUP(E12,'Component Weights'!$B$16:$J$16,'Component Weights'!$B$17:$J$17)*$AA$6))","v":0.08},{"$f":"IF(ISBLANK(F12),\" \",(LOOKUP(F12,'Component Weights'!$B$16:$J$16,'Component Weights'!$B$17:$J$17)*$AA$7))","v":" "},{"$f":"IF(ISBLANK(G12),\" \",(LOOKUP(G12,'Component Weights'!$B$16:$J$16,'Component Weights'!$B$17:$J$17)*$AA$8))","v":0.05},{"$f":"IF(ISBLANK(B12),\" \",(LOOKUP(B12,'Component Weights'!$B$16:$J$16,'Component Weights'!$B$17:$J$17)*$AA$9))","v":" "},{"$f":"IF(ISBLANK(H12),\" \",(LOOKUP(H12,'Component Weights'!$B$16:$J$16,'Component Weights'!$B$17:$J$17)*$AA$10))","v":0},{"$f":"IF(ISBLANK(I12),\" \",(LOOKUP(I12,'Component Weights'!$B$16:$J$16,'Component Weights'!$B$17:$J$17)*$AA$11))","v":0},{"$f":"IF(ISBLANK(J12),\" \",(LOOKUP(J12,'Component Weights'!$B$16:$J$16,'Component Weights'!$B$17:$J$17)*$AA$12))","v":" "},0.13,11,null,0.13,null,"Non Hazardous as Waste",0.12,"H","The amount of hazardous materials and components found in the product."]
["(Enter Custom Product Here)",null,null,null,null,null,null,null,null,null,{"$f":"SUM(IF(ISBLANK(C13),,LOOKUP(C13,'Component Weights'!$B$16:$J$16,'Component Weights'!$B$17:$J$17)),IF(ISBLANK(D13),,LOOKUP(D13,'Component Weights'!$B$16:$J$16,'Component Weights'!$B$17:$J$17)),IF(ISBLANK(E13),,LOOKUP(E13,'Component Weights'!$B$16:$J$16,'Component Weights'!$B$17:$J$17)),IF(ISBLANK(F13),,LOOKUP(F13,'Component Weights'!$B$16:$J$16,'Component Weights'!$B$17:$J$17)),IF(ISBLANK(G13),,LOOKUP(G13,'Component Weights'!$B$16:$J$16,'Component Weights'!$B$17:$J$17)),IF(ISBLANK(B13),,LOOKUP(B13,'Component Weights'!$B$16:$J$16,'Component Weights'!$B$17:$J$17)),IF(ISBLANK(H13),,LOOKUP(H13,'Component Weights'!$B$16:$J$16,'Component Weights'!$B$17:$J$17)),IF(ISBLANK(I13),,LOOKUP(I13,'Component Weights'!$B$16:$J$16,'Component Weights'!$B$17:$J$17)),IF(ISBLANK(J13),,LOOKUP(J13,'Component Weights'!$B$16:$J$16,'Component Weights'!$B$17:$J$17)))","v":0},{"$f":"IF(ISBLANK(C13),\" \",(LOOKUP(C13,'Component Weights'!$B$16:$J$16,'Component Weights'!$B$17:$J$17)*$AA$4))","v":" "},{"$f":"IF(ISBLANK(D13),\" \",(LOOKUP(D13,'Component Weights'!$B$16:$J$16,'Component Weights'!$B$17:$J$17)*$AA$5))","v":" "},{"$f":"IF(ISBLANK(E13),\" \",(LOOKUP(E13,'Component Weights'!$B$16:$J$16,'Component Weights'!$B$17:$J$17)*$AA$6))","v":" "},{"$f":"IF(ISBLANK(F13),\" \",(LOOKUP(F13,'Component Weights'!$B$16:$J$16,'Component Weights'!$B$17:$J$17)*$AA$7))","v":" "},{"$f":"IF(ISBLANK(G13),\" \",(LOOKUP(G13,'Component Weights'!$B$16:$J$16,'Component Weights'!$B$17:$J$17)*$AA$8))","v":" "},{"$f":"IF(ISBLANK(B13),\" \",(LOOKUP(B13,'Component Weights'!$B$16:$J$16,'Component Weights'!$B$17:$J$17)*$AA$9))","v":" "},{"$f":"IF(ISBLANK(H13),\" \",(LOOKUP(H13,'Component Weights'!$B$16:$J$16,'Component Weights'!$B$17:$J$17)*$AA$10))","v":" "},{"$f":"IF(ISBLANK(I13),\" \",(LOOKUP(I13,'Component Weights'!$B$16:$J$16,'Component Weights'!$B$17:$J$17)*$AA$11))","v":" "},{"$f":"IF(ISBLANK(J13),\" \",(LOOKUP(J13,'Component Weights'!$B$16:$J$16,'Component Weights'!$B$17:$J$17)*$AA$12))","v":" "},0,99,null,0,null,"Total Weightings Must Equal 100%",{"$f":"SUM(AA4:AA12)","v":1},null,{"$f":"IF(AA13<>100%,\"Keep Working - Weightings must equal 100%\",\" \")","v":" "}]
["(Enter Custom Product Here)",null,null,null,null,null,null,null,null,null,{"$f":"SUM(IF(ISBLANK(C14),,LOOKUP(C14,'Component Weights'!$B$16:$J$16,'Component Weights'!$B$17:$J$17)),IF(ISBLANK(D14),,LOOKUP(D14,'Component Weights'!$B$16:$J$16,'Component Weights'!$B$17:$J$17)),IF(ISBLANK(E14),,LOOKUP(E14,'Component Weights'!$B$16:$J$16,'Component Weights'!$B$17:$J$17)),IF(ISBLANK(F14),,LOOKUP(F14,'Component Weights'!$B$16:$J$16,'Component Weights'!$B$17:$J$17)),IF(ISBLANK(G14),,LOOKUP(G14,'Component Weights'!$B$16:$J$16,'Component Weights'!$B$17:$J$17)),IF(ISBLANK(B14),,LOOKUP(B14,'Component Weights'!$B$16:$J$16,'Component Weights'!$B$17:$J$17)),IF(ISBLANK(H14),,LOOKUP(H14,'Component Weights'!$B$16:$J$16,'Component Weights'!$B$17:$J$17)),IF(ISBLANK(I14),,LOOKUP(I14,'Component Weights'!$B$16:$J$16,'Component Weights'!$B$17:$J$17)),IF(ISBLANK(J14),,LOOKUP(J14,'Component Weights'!$B$16:$J$16,'Component Weights'!$B$17:$J$17)))","v":0},{"$f":"IF(ISBLANK(C14),\" \",(LOOKUP(C14,'Component Weights'!$B$16:$J$16,'Component Weights'!$B$17:$J$17)*$AA$4))","v":" "},{"$f":"IF(ISBLANK(D14),\" \",(LOOKUP(D14,'Component Weights'!$B$16:$J$16,'Component Weights'!$B$17:$J$17)*$AA$5))","v":" "},{"$f":"IF(ISBLANK(E14),\" \",(LOOKUP(E14,'Component Weights'!$B$16:$J$16,'Component Weights'!$B$17:$J$17)*$AA$6))","v":" "},{"$f":"IF(ISBLANK(F14),\" \",(LOOKUP(F14,'Component Weights'!$B$16:$J$16,'Component Weights'!$B$17:$J$17)*$AA$7))","v":" "},{"$f":"IF(ISBLANK(G14),\" \",(LOOKUP(G14,'Component Weights'!$B$16:$J$16,'Component Weights'!$B$17:$J$17)*$AA$8))","v":" "},{"$f":"IF(ISBLANK(B14),\" \",(LOOKUP(B14,'Component Weights'!$B$16:$J$16,'Component Weights'!$B$17:$J$17)*$AA$9))","v":" "},{"$f":"IF(ISBLANK(H14),\" \",(LOOKUP(H14,'Component Weights'!$B$16:$J$16,'Component Weights'!$B$17:$J$17)*$AA$10))","v":" "},{"$f":"IF(ISBLANK(I14),\" \",(LOOKUP(I14,'Component Weights'!$B$16:$J$16,'Component Weights'!$B$17:$J$17)*$AA$11))","v":" "},{"$f":"IF(ISBLANK(J14),\" \",(LOOKUP(J14,'Component Weights'!$B$16:$J$16,'Component Weights'!$B$17:$J$17)*$AA$12))","v":" "},0,99,null,{"$f":"U14","v":0}]
["(Enter Custom Product Here)",null,null,null,null,null,null,null,null,null,{"$f":"SUM(IF(ISBLANK(C15),,LOOKUP(C15,'Component Weights'!$B$16:$J$16,'Component Weights'!$B$17:$J$17)),IF(ISBLANK(D15),,LOOKUP(D15,'Component Weights'!$B$16:$J$16,'Component Weights'!$B$17:$J$17)),IF(ISBLANK(E15),,LOOKUP(E15,'Component Weights'!$B$16:$J$16,'Component Weights'!$B$17:$J$17)),IF(ISBLANK(F15),,LOOKUP(F15,'Component Weights'!$B$16:$J$16,'Component Weights'!$B$17:$J$17)),IF(ISBLANK(G15),,LOOKUP(G15,'Component Weights'!$B$16:$J$16,'Component Weights'!$B$17:$J$17)),IF(ISBLANK(B15),,LOOKUP(B15,'Component Weights'!$B$16:$J$16,'Component Weights'!$B$17:$J$17)),IF(ISBLANK(H15),,LOOKUP(H15,'Component Weights'!$B$16:$J$16,'Component Weights'!$B$17:$J$17)),IF(ISBLANK(I15),,LOOKUP(I15,'Component Weights'!$B$16:$J$16,'Component Weights'!$B$17:$J$17)),IF(ISBLANK(J15),,LOOKUP(J15,'Component Weights'!$B$16:$J$16,'Component Weights'!$B$17:$J$17)))","v":0},{"$f":"IF(ISBLANK(C15),\" \",(LOOKUP(C15,'Component Weights'!$B$16:$J$16,'Component Weights'!$B$17:$J$17)*$AA$4))","v":" "},{"$f":"IF(ISBLANK(D15),\" \",(LOOKUP(D15,'Component Weights'!$B$16:$J$16,'Component Weights'!$B$17:$J$17)*$AA$5))","v":" "},{"$f":"IF(ISBLANK(E15),\" \",(LOOKUP(E15,'Component Weights'!$B$16:$J$16,'Component Weights'!$B$17:$J$17)*$AA$6))","v":" "},{"$f":"IF(ISBLANK(F15),\" \",(LOOKUP(F15,'Component Weights'!$B$16:$J$16,'Component Weights'!$B$17:$J$17)*$AA$7))","v":" "},{"$f":"IF(ISBLANK(G15),\" \",(LOOKUP(G15,'Component Weights'!$B$16:$J$16,'Component Weights'!$B$17:$J$17)*$AA$8))","v":" "},{"$f":"IF(ISBLANK(B15),\" \",(LOOKUP(B15,'Component Weights'!$B$16:$J$16,'Component Weights'!$B$17:$J$17)*$AA$9))","v":" "},{"$f":"IF(ISBLANK(H15),\" \",(LOOKUP(H15,'Component Weights'!$B$16:$J$16,'Component Weights'!$B$17:$J$17)*$AA$10))","v":" "},{"$f":"IF(ISBLANK(I15),\" \",(LOOKUP(I15,'Component Weights'!$B$16:$J$16,'Component Weights'!$B$17:$J$17)*$AA$11))","v":" "},{"$f":"IF(ISBLANK(J15),\" \",(LOOKUP(J15,'Component Weights'!$B$16:$J$16,'Component Weights'!$B$17:$J$17)*$AA$12))","v":" "},0,99,null,{"$f":"U15","v":0}]
["(Enter Custom Product Here)",null,null,null,null,null,null,null,null,null,{"$f":"SUM(IF(ISBLANK(C16),,LOOKUP(C16,'Component Weights'!$B$16:$J$16,'Component Weights'!$B$17:$J$17)),IF(ISBLANK(D16),,LOOKUP(D16,'Component Weights'!$B$16:$J$16,'Component Weights'!$B$17:$J$17)),IF(ISBLANK(E16),,LOOKUP(E16,'Component Weights'!$B$16:$J$16,'Component Weights'!$B$17:$J$17)),IF(ISBLANK(F16),,LOOKUP(F16,'Component Weights'!$B$16:$J$16,'Component Weights'!$B$17:$J$17)),IF(ISBLANK(G16),,LOOKUP(G16,'Component Weights'!$B$16:$J$16,'Component Weights'!$B$17:$J$17)),IF(ISBLANK(B16),,LOOKUP(B16,'Component Weights'!$B$16:$J$16,'Component Weights'!$B$17:$J$17)),IF(ISBLANK(H16),,LOOKUP(H16,'Component Weights'!$B$16:$J$16,'Component Weights'!$B$17:$J$17)),IF(ISBLANK(I16),,LOOKUP(I16,'Component Weights'!$B$16:$J$16,'Component Weights'!$B$17:$J$17)),IF(ISBLANK(J16),,LOOKUP(J16,'Component Weights'!$B$16:$J$16,'Component Weights'!$B$17:$J$17)))","v":0},{"$f":"IF(ISBLANK(C16),\" \",(LOOKUP(C16,'Component Weights'!$B$16:$J$16,'Component Weights'!$B$17:$J$17)*$AA$4))","v":" "},{"$f":"IF(ISBLANK(D16),\" \",(LOOKUP(D16,'Component Weights'!$B$16:$J$16,'Component Weights'!$B$17:$J$17)*$AA$5))","v":" "},{"$f":"IF(ISBLANK(E16),\" \",(LOOKUP(E16,'Component Weights'!$B$16:$J$16,'Component Weights'!$B$17:$J$17)*$AA$6))","v":" "},{"$f":"IF(ISBLANK(F16),\" \",(LOOKUP(F16,'Component Weights'!$B$16:$J$16,'Component Weights'!$B$17:$J$17)*$AA$7))","v":" "},{"$f":"IF(ISBLANK(G16),\" \",(LOOKUP(G16,'Component Weights'!$B$16:$J$16,'Component Weights'!$B$17:$J$17)*$AA$8))","v":" "},{"$f":"IF(ISBLANK(B16),\" \",(LOOKUP(B16,'Component Weights'!$B$16:$J$16,'Component Weights'!$B$17:$J$17)*$AA$9))","v":" "},{"$f":"IF(ISBLANK(H16),\" \",(LOOKUP(H16,'Component Weights'!$B$16:$J$16,'Component Weights'!$B$17:$J$17)*$AA$10))","v":" "},{"$f":"IF(ISBLANK(I16),\" \",(LOOKUP(I16,'Component Weights'!$B$16:$J$16,'Component Weights'!$B$17:$J$17)*$AA$11))","v":" "},{"$f":"IF(ISBLANK(J16),\" \",(LOOKUP(J16,'Component Weights'!$B$16:$J$16,'Component Weights'!$B$17:$J$17)*$AA$12))","v":" "},0,99,null,{"$f":"U16","v":0}]
["(Enter Custom Product Here)",null,null,null,null,null,null,null,null,null,{"$f":"SUM(IF(ISBLANK(C17),,LOOKUP(C17,'Component Weights'!$B$16:$J$16,'Component Weights'!$B$17:$J$17)),IF(ISBLANK(D17),,LOOKUP(D17,'Component Weights'!$B$16:$J$16,'Component Weights'!$B$17:$J$17)),IF(ISBLANK(E17),,LOOKUP(E17,'Component Weights'!$B$16:$J$16,'Component Weights'!$B$17:$J$17)),IF(ISBLANK(F17),,LOOKUP(F17,'Component Weights'!$B$16:$J$16,'Component Weights'!$B$17:$J$17)),IF(ISBLANK(G17),,LOOKUP(G17,'Component Weights'!$B$16:$J$16,'Component Weights'!$B$17:$J$17)),IF(ISBLANK(B17),,LOOKUP(B17,'Component Weights'!$B$16:$J$16,'Component Weights'!$B$17:$J$17)),IF(ISBLANK(H17),,LOOKUP(H17,'Component Weights'!$B$16:$J$16,'Component Weights'!$B$17:$J$17)),IF(ISBLANK(I17),,LOOKUP(I17,'Component Weights'!$B$16:$J$16,'Component Weights'!$B$17:$J$17)),IF(ISBLANK(J17),,LOOKUP(J17,'Component Weights'!$B$16:$J$16,'Component Weights'!$B$17:$J$17)))","v":0},{"$f":"IF(ISBLANK(C17),\" \",(LOOKUP(C17,'Component Weights'!$B$16:$J$16,'Component Weights'!$B$17:$J$17)*$AA$4))","v":" "},{"$f":"IF(ISBLANK(D17),\" \",(LOOKUP(D17,'Component Weights'!$B$16:$J$16,'Component Weights'!$B$17:$J$17)*$AA$5))","v":" "},{"$f":"IF(ISBLANK(E17),\" \",(LOOKUP(E17,'Component Weights'!$B$16:$J$16,'Component Weights'!$B$17:$J$17)*$AA$6))","v":" "},{"$f":"IF(ISBLANK(F17),\" \",(LOOKUP(F17,'Component Weights'!$B$16:$J$16,'Component Weights'!$B$17:$J$17)*$AA$7))","v":" "},{"$f":"IF(ISBLANK(G17),\" \",(LOOKUP(G17,'Component Weights'!$B$16:$J$16,'Component Weights'!$B$17:$J$17)*$AA$8))","v":" "},{"$f":"IF(ISBLANK(B17),\" \",(LOOKUP(B17,'Component Weights'!$B$16:$J$16,'Component Weights'!$B$17:$J$17)*$AA$9))","v":" "},{"$f":"IF(ISBLANK(H17),\" \",(LOOKUP(H17,'Component Weights'!$B$16:$J$16,'Component Weights'!$B$17:$J$17)*$AA$10))","v":" "},{"$f":"IF(ISBLANK(I17),\" \",(LOOKUP(I17,'Component Weights'!$B$16:$J$16,'Component Weights'!$B$17:$J$17)*$AA$11))","v":" "},{"$f":"IF(ISBLANK(J17),\" \",(LOOKUP(J17,'Component Weights'!$B$16:$J$16,'Component Weights'!$B$17:$J$17)*$AA$12))","v":" "},0,99,null,{"$f":"U17","v":0}]
["(Enter Custom Product Here)",null,null,null,null,null,null,null,null,null,{"$f":"SUM(IF(ISBLANK(C18),,LOOKUP(C18,'Component Weights'!$B$16:$J$16,'Component Weights'!$B$17:$J$17)),IF(ISBLANK(D18),,LOOKUP(D18,'Component Weights'!$B$16:$J$16,'Component Weights'!$B$17:$J$17)),IF(ISBLANK(E18),,LOOKUP(E18,'Component Weights'!$B$16:$J$16,'Component Weights'!$B$17:$J$17)),IF(ISBLANK(F18),,LOOKUP(F18,'Component Weights'!$B$16:$J$16,'Component Weights'!$B$17:$J$17)),IF(ISBLANK(G18),,LOOKUP(G18,'Component Weights'!$B$16:$J$16,'Component Weights'!$B$17:$J$17)),IF(ISBLANK(B18),,LOOKUP(B18,'Component Weights'!$B$16:$J$16,'Component Weights'!$B$17:$J$17)),IF(ISBLANK(H18),,LOOKUP(H18,'Component Weights'!$B$16:$J$16,'Component Weights'!$B$17:$J$17)),IF(ISBLANK(I18),,LOOKUP(I18,'Component Weights'!$B$16:$J$16,'Component Weights'!$B$17:$J$17)),IF(ISBLANK(J18),,LOOKUP(J18,'Component Weights'!$B$16:$J$16,'Component Weights'!$B$17:$J$17)))","v":0},{"$f":"IF(ISBLANK(C18),\" \",(LOOKUP(C18,'Component Weights'!$B$16:$J$16,'Component Weights'!$B$17:$J$17)*$AA$4))","v":" "},{"$f":"IF(ISBLANK(D18),\" \",(LOOKUP(D18,'Component Weights'!$B$16:$J$16,'Component Weights'!$B$17:$J$17)*$AA$5))","v":" "},{"$f":"IF(ISBLANK(E18),\" \",(LOOKUP(E18,'Component Weights'!$B$16:$J$16,'Component Weights'!$B$17:$J$17)*$AA$6))","v":" "},{"$f":"IF(ISBLANK(F18),\" \",(LOOKUP(F18,'Component Weights'!$B$16:$J$16,'Component Weights'!$B$17:$J$17)*$AA$7))","v":" "},{"$f":"IF(ISBLANK(G18),\" \",(LOOKUP(G18,'Component Weights'!$B$16:$J$16,'Component Weights'!$B$17:$J$17)*$AA$8))","v":" "},{"$f":"IF(ISBLANK(B18),\" \",(LOOKUP(B18,'Component Weights'!$B$16:$J$16,'Component Weights'!$B$17:$J$17)*$AA$9))","v":" "},{"$f":"IF(ISBLANK(H18),\" \",(LOOKUP(H18,'Component Weights'!$B$16:$J$16,'Component Weights'!$B$17:$J$17)*$AA$10))","v":" "},{"$f":"IF(ISBLANK(I18),\" \",(LOOKUP(I18,'Component Weights'!$B$16:$J$16,'Component Weights'!$B$17:$J$17)*$AA$11))","v":" "},{"$f":"IF(ISBLANK(J18),\" \",(LOOKUP(J18,'Component Weights'!$B$16:$J$16,'Component Weights'!$B$17:$J$17)*$AA$12))","v":" "},0,99,null,0]
[null,null,null,null,null,null,null,null,null,null,{"$f":"AVERAGE(K$2:K12)","v":9.7272727272727266},{"$f":"AVERAGE(L$2:L12)","v":{"$error":"#DIV/0!"}},{"$f":"AVERAGE(M$2:M12)","v":8.7272727272727266E-2},{"$f":"AVERAGE(N$2:N12)","v":0.20363636363636364},{"$f":"AVERAGE(O$2:O12)","v":{"$error":"#DIV/0!"}},{"$f":"AVERAGE(P$2:P12)","v":0.12272727272727275},{"$f":"AVERAGE(Q$2:Q12)","v":{"$error":"#DIV/0!"}},{"$f":"AVERAGE(R$2:R12)","v":0.26181818181818178},{"$f":"AVERAGE(S$2:S12)","v":0.14545454545454545},{"$f":"AVERAGE(T$2:T12)","v":{"$error":"#DIV/0!"}},{"$f":"AVERAGE(U$2:U12)","v":0.82090909090909103},{"$f":"IF(AND(OR(#REF!=72,#REF!=73,#REF!=74,#REF!=75,#REF!=76),$U19>0),RANK($U19,Y$2:Y$12,0),\" \")","v":{"$error":"#REF!"}}]

{"sheet":"Ventilation","index":10,"n_rows":17,"n_cols":29,"rows_kept":17,"cut":false,"hidden":false,"merged":[]}
["Instructions:\nScroll down to see all products.  New products may be added to the end of the list.  Rate the performance of each product as \"N, L, M or H.\" (Hover over the component title for the rating description.)  Use your Backspace button to clear values.  The Sort button (below) will incorporate your priorities as currently stated on the table to the right.  (Scroll to the right to see the table.)\n\n","Available Locally","Incremental Energy Savings","Use of Recycled Content","Low Energy Usage Manufacturing Process","Easily Biodegradable","Made from Natural Materials","Low Emissions Potential","Listed in Other Programs","Non Hazardous as Waste","Total Raw Score","Incremental Energy Savings Weighted Score","Use of Recycled Content Weighted Score","Low Energy Usage Mfg. Process Weighted Score","Easily Biodegradable Weighted Score","Made from Natural Materials Weighted Score","Available Locally Weighted Score","Low Emissions Potential Weighted Score","Listed in Other Programs Weighted Score","Non Hazardous as Waste Weighted Score","Total Weighted Score","Force Ranking",null,"Weighted Score for Force Rank Calculation ",null,"Detailed instructions and options for using this tool are found in the Using the DYO® GBD Kit Decision Matrix Software Section of your DYO® Green Building Decision Kit."]
["Heat Recovery Ventilator",null,null,null,"M","N",null,null,"H","M",{"$f":"SUM(IF(ISBLANK(C2),,LOOKUP(C2,'Component Weights'!$B$16:$J$16,'Component Weights'!$B$17:$J$17)),IF(ISBLANK(D2),,LOOKUP(D2,'Component Weights'!$B$16:$J$16,'Component Weights'!$B$17:$J$17)),IF(ISBLANK(E2),,LOOKUP(E2,'Component Weights'!$B$16:$J$16,'Component Weights'!$B$17:$J$17)),IF(ISBLANK(F2),,LOOKUP(F2,'Component Weights'!$B$16:$J$16,'Component Weights'!$B$17:$J$17)),IF(ISBLANK(G2),,LOOKUP(G2,'Component Weights'!$B$16:$J$16,'Component Weights'!$B$17:$J$17)),IF(ISBLANK(B2),,LOOKUP(B2,'Component Weights'!$B$16:$J$16,'Component Weights'!$B$17:$J$17)),IF(ISBLANK(H2),,LOOKUP(H2,'Component Weights'!$B$16:$J$16,'Component Weights'!$B$17:$J$17)),IF(ISBLANK(I2),,LOOKUP(I2,'Component Weights'!$B$16:$J$16,'Component Weights'!$B$17:$J$17)),IF(ISBLANK(J2),,LOOKUP(J2,'Component Weights'!$B$16:$J$16,'Component Weights'!$B$17:$J$17)))","v":7},{"$f":"IF(ISBLANK(C2),\" \",(LOOKUP(C2,'Component Weights'!$B$16:$J$16,'Component Weights'!$B$17:$J$17)*$AA$4))","v":" "},{"$f":"IF(ISBLANK(D2),\" \",(LOOKUP(D2,'Component Weights'!$B$16:$J$16,'Component Weights'!$B$17:$J$17)*$AA$5))","v":" "},{"$f":"IF(ISBLANK(E2),\" \",(LOOKUP(E2,'Component Weights'!$B$16:$J$16,'Component Weights'!$B$17:$J$17)*$AA$6))","v":0.16},{"$f":"IF(ISBLANK(F2),\" \",(LOOKUP(F2,'Component Weights'!$B$16:$J$16,'Component Weights'!$B$17:$J$17)*$AA$7))","v":0},{"$f":"IF(ISBLANK(G2),\" \",(LOOKUP(G2,'Component Weights'!$B$16:$J$16,'Component Weights'!$B$17:$J$17)*$AA$8))","v":" "},{"$f":"IF(ISBLANK(B2),\" \",(LOOKUP(B2,'Component Weights'!$B$16:$J$16,'Component Weights'!$B$17:$J$17)*$AA$9))","v":" "},{"$f":"IF(ISBLANK(H2),\" \",(LOOKUP(H2,'Component Weights'!$B$16:$J$16,'Component Weights'!$B$17:$J$17)*$AA$10))","v":" "},{"$f":"IF(ISBLANK(I2),\" \",(LOOKUP(I2,'Component Weights'!$B$16:$J$16,'Component Weights'!$B$17:$J$17)*$AA$11))","v":0.24},{"$f":"IF(ISBLANK(J2),\" \",(LOOKUP(J2,'Component Weights'!$B$16:$J$16,'Component Weights'!$B$17:$J$17)*$AA$12))","v":0.24},{"$f":"SUM(L2:T2)","v":0.64},{"$f":"IF($U2>0,RANK($U2,X$2:X$213,0),99)","v":1},null,{"$f":"U2","v":0.64},null,"Component Weights for","Weight"]
["Energy Recovery Ventilator",null,null,null,"M","N",null,null,"H","M",{"$f":"SUM(IF(ISBLANK(C3),,LOOKUP(C3,'Component Weights'!$B$16:$J$16,'Component Weights'!$B$17:$J$17)),IF(ISBLANK(D3),,LOOKUP(D3,'Component Weights'!$B$16:$J$16,'Component Weights'!$B$17:$J$17)),IF(ISBLANK(E3),,LOOKUP(E3,'Component Weights'!$B$16:$J$16,'Component Weights'!$B$17:$J$17)),IF(ISBLANK(F3),,LOOKUP(F3,'Component Weights'!$B$16:$J$16,'Component Weights'!$B$17:$J$17)),IF(ISBLANK(G3),,LOOKUP(G3,'Component Weights'!$B$16:$J$16,'Component Weights'!$B$17:$J$17)),IF(ISBLANK(B3),,LOOKUP(B3,'Component Weights'!$B$16:$J$16,'Component Weights'!$B$17:$J$17)),IF(ISBLANK(H3),,LOOKUP(H3,'Component Weights'!$B$16:$J$16,'Component Weights'!$B$17:$J$17)),IF(ISBLANK(I3),,LOOKUP(I3,'Component Weights'!$B$16:$J$16,'Component Weights'!$B$17:$J$17)),IF(ISBLANK(J3),,LOOKUP(J3,'Component Weights'!$B$16:$J$16,'Component Weights'!$B$17:$J$17)))","v":7},{"$f":"IF(ISBLANK(C3),\" \",(LOOKUP(C3,'Component Weights'!$B$16:$J$16,'Component Weights'!$B$17:$J$17)*$AA$4))","v":" "},{"$f":"IF(ISBLANK(D3),\" \",(LOOKUP(D3,'Component Weights'!$B$16:$J$16,'Component Weights'!$B$17:$J$17)*$AA$5))","v":" "},{"$f":"IF(ISBLANK(E3),\" \",(LOOKUP(E3,'Component Weights'!$B$16:$J$16,'Component Weights'!$B$17:$J$17)*$AA$6))","v":0.16},{"$f":"IF(ISBLANK(F3),\" \",(LOOKUP(F3,'Component Weights'!$B$16:$J$16,'Component Weights'!$B$17:$J$17)*$AA$7))","v":0},{"$f":"IF(ISBLANK(G3),\" \",(LOOKUP(G3,'Component Weights'!$B$16:$J$16,'Component Weights'!$B$17:$J$17)*$AA$8))","v":" "},{"$f":"IF(ISBLANK(B3),\" \",(LOOKUP(B3,'Component Weights'!$B$16:$J$16,'Component Weights'!$B$17:$J$17)*$AA$9))","v":" "},{"$f":"IF(ISBLANK(H3),\" \",(LOOKUP(H3,'Component Weights'!$B$16:$J$16,'Component Weights'!$B$17:$J$17)*$AA$10))","v":" "},{"$f":"IF(ISBLANK(I3),\" \",(LOOKUP(I3,'Component Weights'!$B$16:$J$16,'Component Weights'!$B$17:$J$17)*$AA$11))","v":0.24},{"$f":"IF(ISBLANK(J3),\" \",(LOOKUP(J3,'Component Weights'!$B$16:$J$16,'Component Weights'!$B$17:$J$17)*$AA$12))","v":0.24},0.64,1,null,0.64,null,"Ventilation"]
["Passive Wall Vents",null,null,null,"M","N",null,null,"H","M",{"$f":"SUM(IF(ISBLANK(C4),,LOOKUP(C4,'Component Weights'!$B$16:$J$16,'Component Weights'!$B$17:$J$17)),IF(ISBLANK(D4),,LOOKUP(D4,'Component Weights'!$B$16:$J$16,'Component Weights'!$B$17:$J$17)),IF(ISBLANK(E4),,LOOKUP(E4,'Component Weights'!$B$16:$J$16,'Component Weights'!$B$17:$J$17)),IF(ISBLANK(F4),,LOOKUP(F4,'Component Weights'!$B$16:$J$16,'Component Weights'!$B$17:$J$17)),IF(ISBLANK(G4),,LOOKUP(G4,'Component Weights'!$B$16:$J$16,'Component Weights'!$B$17:$J$17)),IF(ISBLANK(B4),,LOOKUP(B4,'Component Weights'!$B$16:$J$16,'Component Weights'!$B$17:$J$17)),IF(ISBLANK(H4),,LOOKUP(H4,'Component Weights'!$B$16:$J$16,'Component Weights'!$B$17:$J$17)),IF(ISBLANK(I4),,LOOKUP(I4,'Component Weights'!$B$16:$J$16,'Component Weights'!$B$17:$J$17)),IF(ISBLANK(J4),,LOOKUP(J4,'Component Weights'!$B$16:$J$16,'Component Weights'!$B$17:$J$17)))","v":7},{"$f":"IF(ISBLANK(C4),\" \",(LOOKUP(C4,'Component Weights'!$B$16:$J$16,'Component Weights'!$B$17:$J$17)*$AA$4))","v":" "},{"$f":"IF(ISBLANK(D4),\" \",(LOOKUP(D4,'Component Weights'!$B$16:$J$16,'Component Weights'!$B$17:$J$17)*$AA$5))","v":" "},{"$f":"IF(ISBLANK(E4),\" \",(LOOKUP(E4,'Component Weights'!$B$16:$J$16,'Component Weights'!$B$17:$J$17)*$AA$6))","v":0.16},{"$f":"IF(ISBLANK(F4),\" \",(LOOKUP(F4,'Component Weights'!$B$16:$J$16,'Component Weights'!$B$17:$J$17)*$AA$7))","v":0},{"$f":"IF(ISBLANK(G4),\" \",(LOOKUP(G4,'Component Weights'!$B$16:$J$16,'Component Weights'!$B$17:$J$17)*$AA$8))","v":" "},{"$f":"IF(ISBLANK(B4),\" \",(LOOKUP(B4,'Component Weights'!$B$16:$J$16,'Component Weights'!$B$17:$J$17)*$AA$9))","v":" "},{"$f":"IF(ISBLANK(H4),\" \",(LOOKUP(H4,'Component Weights'!$B$16:$J$16,'Component Weights'!$B$17:$J$17)*$AA$10))","v":" "},{"$f":"IF(ISBLANK(I4),\" \",(LOOKUP(I4,'Component Weights'!$B$16:$J$16,'Component Weights'!$B$17:$J$17)*$AA$11))","v":0.24},{"$f":"IF(ISBLANK(J4),\" \",(LOOKUP(J4,'Component Weights'!$B$16:$J$16,'Component Weights'!$B$17:$J$17)*$AA$12))","v":0.24},0.64,1,null,{"$f":"U4","v":0.64},null,"Incremental Energy Savings",0.08,"M","The amount of incremental energy, expressed in Btu/Hr, that a product saves or generates for the structure."]
["Atmospheric Dampers",null,null,null,"M","N",null,null,"H","M",{"$f":"SUM(IF(ISBLANK(C5),,LOOKUP(C5,'Component Weights'!$B$16:$J$16,'Component Weights'!$B$17:$J$17)),IF(ISBLANK(D5),,LOOKUP(D5,'Component Weights'!$B$16:$J$16,'Component Weights'!$B$17:$J$17)),IF(ISBLANK(E5),,LOOKUP(E5,'Component Weights'!$B$16:$J$16,'Component Weights'!$B$17:$J$17)),IF(ISBLANK(F5),,LOOKUP(F5,'Component Weights'!$B$16:$J$16,'Component Weights'!$B$17:$J$17)),IF(ISBLANK(G5),,LOOKUP(G5,'Component Weights'!$B$16:$J$16,'Component Weights'!$B$17:$J$17)),IF(ISBLANK(B5),,LOOKUP(B5,'Component Weights'!$B$16:$J$16,'Component Weights'!$B$17:$J$17)),IF(ISBLANK(H5),,LOOKUP(H5,'Component Weights'!$B$16:$J$16,'Component Weights'!$B$17:$J$17)),IF(ISBLANK(I5),,LOOKUP(I5,'Component Weights'!$B$16:$J$16,'Component Weights'!$B$17:$J$17)),IF(ISBLANK(J5),,LOOKUP(J5,'Component Weights'!$B$16:$J$16,'Component Weights'!$B$17:$J$17)))","v":7},{"$f":"IF(ISBLANK(C5),\" \",(LOOKUP(C5,'Component Weights'!$B$16:$J$16,'Component Weights'!$B$17:$J$17)*$AA$4))","v":" "},{"$f":"IF(ISBLANK(D5),\" \",(LOOKUP(D5,'Component Weights'!$B$16:$J$16,'Component Weights'!$B$17:$J$17)*$AA$5))","v":" "},{"$f":"IF(ISBLANK(E5),\" \",(LOOKUP(E5,'Component Weights'!$B$16:$J$16,'Component Weights'!$B$17:$J$17)*$AA$6))","v":0.16},{"$f":"IF(ISBLANK(F5),\" \",(LOOKUP(F5,'Component Weights'!$B$16:$J$16,'Component Weights'!$B$17:$J$17)*$AA$7))","v":0},{"$f":"IF(ISBLANK(G5),\" \",(LOOKUP(G5,'Component Weights'!$B$16:$J$16,'Component Weights'!$B$17:$J$17)*$AA$8))","v":" "},{"$f":"IF(ISBLANK(B5),\" \",(LOOKUP(B5,'Component Weights'!$B$16:$J$16,'Component Weights'!$B$17:$J$17)*$AA$9))","v":" "},{"$f":"IF(ISBLANK(H5),\" \",(LOOKUP(H5,'Component Weights'!$B$16:$J$16,'Component Weights'!$B$17:$J$17)*$AA$10))","v":" "},{"$f":"IF(ISBLANK(I5),\" \",(LOOKUP(I5,'Component Weights'!$B$16:$J$16,'Component Weights'!$B$17:$J$17)*$AA$11))","v":0.24},{"$f":"IF(ISBLANK(J5),\" \",(LOOKUP(J5,'Component Weights'!$B$16:$J$16,'Component Weights'!$B$17:$J$17)*$AA$12))","v":0.24},0.64,1,null,0.64,null,"Use of Recycled Content",0.12,"H","The amount of recycled content, expressed as a percentage, found in a product."]
["Combustion Air Supply/Outside Combustion Air Ports",null,null,null,"M","N",null,null,"H","M",{"$f":"SUM(IF(ISBLANK(C6),,LOOKUP(C6,'Component Weights'!$B$16:$J$16,'Component Weights'!$B$17:$J$17)),IF(ISBLANK(D6),,LOOKUP(D6,'Component Weights'!$B$16:$J$16,'Component Weights'!$B$17:$J$17)),IF(ISBLANK(E6),,LOOKUP(E6,'Component Weights'!$B$16:$J$16,'Component Weights'!$B$17:$J$17)),IF(ISBLANK(F6),,LOOKUP(F6,'Component Weights'!$B$16:$J$16,'Component Weights'!$B$17:$J$17)),IF(ISBLANK(G6),,LOOKUP(G6,'Component Weights'!$B$16:$J$16,'Component Weights'!$B$17:$J$17)),IF(ISBLANK(B6),,LOOKUP(B6,'Component Weights'!$B$16:$J$16,'Component Weights'!$B$17:$J$17)),IF(ISBLANK(H6),,LOOKUP(H6,'Component Weights'!$B$16:$J$16,'Component Weights'!$B$17:$J$17)),IF(ISBLANK(I6),,LOOKUP(I6,'Component Weights'!$B$16:$J$16,'Component Weights'!$B$17:$J$17)),IF(ISBLANK(J6),,LOOKUP(J6,'Component Weights'!$B$16:$J$16,'Component Weights'!$B$17:$J$17)))","v":7},{"$f":"IF(ISBLANK(C6),\" \",(LOOKUP(C6,'Component Weights'!$B$16:$J$16,'Component Weights'!$B$17:$J$17)*$AA$4))","v":" "},{"$f":"IF(ISBLANK(D6),\" \",(LOOKUP(D6,'Component Weights'!$B$16:$J$16,'Component Weights'!$B$17:$J$17)*$AA$5))","v":" "},{"$f":"IF(ISBLANK(E6),\" \",(LOOKUP(E6,'Component Weights'!$B$16:$J$16,'Component Weights'!$B$17:$J$17)*$AA$6))","v":0.16},{"$f":"IF(ISBLANK(F6),\" \",(LOOKUP(F6,'Component Weights'!$B$16:$J$16,'Component Weights'!$B$17:$J$17)*$AA$7))","v":0},{"$f":"IF(ISBLANK(G6),\" \",(LOOKUP(G6,'Component Weights'!$B$16:$J$16,'Component Weights'!$B$17:$J$17)*$AA$8))","v":" "},{"$f":"IF(ISBLANK(B6),\" \",(LOOKUP(B6,'Component Weights'!$B$16:$J$16,'Component Weights'!$B$17:$J$17)*$AA$9))","v":" "},{"$f":"IF(ISBLANK(H6),\" \",(LOOKUP(H6,'Component Weights'!$B$16:$J$16,'Component Weights'!$B$17:$J$17)*$AA$10))","v":" "},{"$f":"IF(ISBLANK(I6),\" \",(LOOKUP(I6,'Component Weights'!$B$16:$J$16,'Component Weights'!$B$17:$J$17)*$AA$11))","v":0.24},{"$f":"IF(ISBLANK(J6),\" \",(LOOKUP(J6,'Component Weights'!$B$16:$J$16,'Component Weights'!$B$17:$J$17)*$AA$12))","v":0.24},0.64,1,null,0.64,null,"Low Energy Usage Manufacturing Process",0.08,"M","The amount of energy used in manufacture of the product."]
["Quick Relief Devices",null,null,null,"M","N",null,null,"M","M",{"$f":"SUM(IF(ISBLANK(C7),,LOOKUP(C7,'Component Weights'!$B$16:$J$16,'Component Weights'!$B$17:$J$17)),IF(ISBLANK(D7),,LOOKUP(D7,'Component Weights'!$B$16:$J$16,'Component Weights'!$B$17:$J$17)),IF(ISBLANK(E7),,LOOKUP(E7,'Component Weights'!$B$16:$J$16,'Component Weights'!$B$17:$J$17)),IF(ISBLANK(F7),,LOOKUP(F7,'Component Weights'!$B$16:$J$16,'Component Weights'!$B$17:$J$17)),IF(ISBLANK(G7),,LOOKUP(G7,'Component Weights'!$B$16:$J$16,'Component Weights'!$B$17:$J$17)),IF(ISBLANK(B7),,LOOKUP(B7,'Component Weights'!$B$16:$J$16,'Component Weights'!$B$17:$J$17)),IF(ISBLANK(H7),,LOOKUP(H7,'Component Weights'!$B$16:$J$16,'Component Weights'!$B$17:$J$17)),IF(ISBLANK(I7),,LOOKUP(I7,'Component Weights'!$B$16:$J$16,'Component Weights'!$B$17:$J$17)),IF(ISBLANK(J7),,LOOKUP(J7,'Component Weights'!$B$16:$J$16,'Component Weights'!$B$17:$J$17)))","v":6},{"$f":"IF(ISBLANK(C7),\" \",(LOOKUP(C7,'Component Weights'!$B$16:$J$16,'Component Weights'!$B$17:$J$17)*$AA$4))","v":" "},{"$f":"IF(ISBLANK(D7),\" \",(LOOKUP(D7,'Component Weights'!$B$16:$J$16,'Component Weights'!$B$17:$J$17)*$AA$5))","v":" "},{"$f":"IF(ISBLANK(E7),\" \",(LOOKUP(E7,'Component Weights'!$B$16:$J$16,'Component Weights'!$B$17:$J$17)*$AA$6))","v":0.16},{"$f":"IF(ISBLANK(F7),\" \",(LOOKUP(F7,'Component Weights'!$B$16:$J$16,'Component Weights'!$B$17:$J$17)*$AA$7))","v":0},{"$f":"IF(ISBLANK(G7),\" \",(LOOKUP(G7,'Component Weights'!$B$16:$J$16,'Component Weights'!$B$17:$J$17)*$AA$8))","v":" "},{"$f":"IF(ISBLANK(B7),\" \",(LOOKUP(B7,'Component Weights'!$B$16:$J$16,'Component Weights'!$B$17:$J$17)*$AA$9))","v":" "},{"$f":"IF(ISBLANK(H7),\" \",(LOOKUP(H7,'Component Weights'!$B$16:$J$16,'Component Weights'!$B$17:$J$17)*$AA$10))","v":" "},{"$f":"IF(ISBLANK(I7),\" \",(LOOKUP(I7,'Component Weights'!$B$16:$J$16,'Component Weights'!$B$17:$J$17)*$AA$11))","v":0.16},{"$f":"IF(ISBLANK(J7),\" \",(LOOKUP(J7,'Component Weights'!$B$16:$J$16,'Component Weights'!$B$17:$J$17)*$AA$12))","v":0.24},0.56000000000000005,6,null,0.56000000000000005,null,"Easily Biodegradable",0.12,"H","The amount of time it will take the product to degrade once its useful life is over."]
["Fresh Air Intake System",null,null,null,"M","N",null,null,"M","M",{"$f":"SUM(IF(ISBLANK(C8),,LOOKUP(C8,'Component Weights'!$B$16:$J$16,'Component Weights'!$B$17:$J$17)),IF(ISBLANK(D8),,LOOKUP(D8,'Component Weights'!$B$16:$J$16,'Component Weights'!$B$17:$J$17)),IF(ISBLANK(E8),,LOOKUP(E8,'Component Weights'!$B$16:$J$16,'Component Weights'!$B$17:$J$17)),IF(ISBLANK(F8),,LOOKUP(F8,'Component Weights'!$B$16:$J$16,'Component Weights'!$B$17:$J$17)),IF(ISBLANK(G8),,LOOKUP(G8,'Component Weights'!$B$16:$J$16,'Component Weights'!$B$17:$J$17)),IF(ISBLANK(B8),,LOOKUP(B8,'Component Weights'!$B$16:$J$16,'Component Weights'!$B$17:$J$17)),IF(ISBLANK(H8),,LOOKUP(H8,'Component Weights'!$B$16:$J$16,'Component Weights'!$B$17:$J$17)),IF(ISBLANK(I8),,LOOKUP(I8,'Component Weights'!$B$16:$J$16,'Component Weights'!$B$17:$J$17)),IF(ISBLANK(J8),,LOOKUP(J8,'Component Weights'!$B$16:$J$16,'Component Weights'!$B$17:$J$17)))","v":6},{"$f":"IF(ISBLANK(C8),\" \",(LOOKUP(C8,'Component Weights'!$B$16:$J$16,'Component Weights'!$B$17:$J$17)*$AA$4))","v":" "},{"$f":"IF(ISBLANK(D8),\" \",(LOOKUP(D8,'Component Weights'!$B$16:$J$16,'Component Weights'!$B$17:$J$17)*$AA$5))","v":" "},{"$f":"IF(ISBLANK(E8),\" \",(LOOKUP(E8,'Component Weights'!$B$16:$J$16,'Component Weights'!$B$17:$J$17)*$AA$6))","v":0.16},{"$f":"IF(ISBLANK(F8),\" \",(LOOKUP(F8,'Component Weights'!$B$16:$J$16,'Component Weights'!$B$17:$J$17)*$AA$7))","v":0},{"$f":"IF(ISBLANK(G8),\" \",(LOOKUP(G8,'Component Weights'!$B$16:$J$16,'Component Weights'!$B$17:$J$17)*$AA$8))","v":" "},{"$f":"IF(ISBLANK(B8),\" \",(LOOKUP(B8,'Component Weights'!$B$16:$J$16,'Component Weights'!$B$17:$J$17)*$AA$9))","v":" "},{"$f":"IF(ISBLANK(H8),\" \",(LOOKUP(H8,'Component Weights'!$B$16:$J$16,'Component Weights'!$B$17:$J$17)*$AA$10))","v":" "},{"$f":"IF(ISBLANK(I8),\" \",(LOOKUP(I8,'Component Weights'!$B$16:$J$16,'Component Weights'!$B$17:$J$17)*$AA$11))","v":0.16},{"$f":"IF(ISBLANK(J8),\" \",(LOOKUP(J8,'Component Weights'!$B$16:$J$16,'Component Weights'!$B$17:$J$17)*$AA$12))","v":0.24},0.56000000000000005,6,null,0.56000000000000005,null,"Made from Natural Materials",0.05,"L","The amount, expressed as a percentage, of natural (not man-made) materials used to make the product."]
["Exhaust Only",null,null,null,"M","N",null,null,"L","M",{"$f":"SUM(IF(ISBLANK(C9),,LOOKUP(C9,'Component Weights'!$B$16:$J$16,'Component Weights'!$B$17:$J$17)),IF(ISBLANK(D9),,LOOKUP(D9,'Component Weights'!$B$16:$J$16,'Component Weights'!$B$17:$J$17)),IF(ISBLANK(E9),,LOOKUP(E9,'Component Weights'!$B$16:$J$16,'Component Weights'!$B$17:$J$17)),IF(ISBLANK(F9),,LOOKUP(F9,'Component Weights'!$B$16:$J$16,'Component Weights'!$B$17:$J$17)),IF(ISBLANK(G9),,LOOKUP(G9,'Component Weights'!$B$16:$J$16,'Component Weights'!$B$17:$J$17)),IF(ISBLANK(B9),,LOOKUP(B9,'Component Weights'!$B$16:$J$16,'Component Weights'!$B$17:$J$17)),IF(ISBLANK(H9),,LOOKUP(H9,'Component Weights'!$B$16:$J$16,'Component Weights'!$B$17:$J$17)),IF(ISBLANK(I9),,LOOKUP(I9,'Component Weights'!$B$16:$J$16,'Component Weights'!$B$17:$J$17)),IF(ISBLANK(J9),,LOOKUP(J9,'Component Weights'!$B$16:$J$16,'Component Weights'!$B$17:$J$17)))","v":5},{"$f":"IF(ISBLANK(C9),\" \",(LOOKUP(C9,'Component Weights'!$B$16:$J$16,'Component Weights'!$B$17:$J$17)*$AA$4))","v":" "},{"$f":"IF(ISBLANK(D9),\" \",(LOOKUP(D9,'Component Weights'!$B$16:$J$16,'Component Weights'!$B$17:$J$17)*$AA$5))","v":" "},{"$f":"IF(ISBLANK(E9),\" \",(LOOKUP(E9,'Component Weights'!$B$16:$J$16,'Component Weights'!$B$17:$J$17)*$AA$6))","v":0.16},{"$f":"IF(ISBLANK(F9),\" \",(LOOKUP(F9,'Component Weights'!$B$16:$J$16,'Component Weights'!$B$17:$J$17)*$AA$7))","v":0},{"$f":"IF(ISBLANK(G9),\" \",(LOOKUP(G9,'Component Weights'!$B$16:$J$16,'Component Weights'!$B$17:$J$17)*$AA$8))","v":" "},{"$f":"IF(ISBLANK(B9),\" \",(LOOKUP(B9,'Component Weights'!$B$16:$J$16,'Component Weights'!$B$17:$J$17)*$AA$9))","v":" "},{"$f":"IF(ISBLANK(H9),\" \",(LOOKUP(H9,'Component Weights'!$B$16:$J$16,'Component Weights'!$B$17:$J$17)*$AA$10))","v":" "},{"$f":"IF(ISBLANK(I9),\" \",(LOOKUP(I9,'Component Weights'!$B$16:$J$16,'Component Weights'!$B$17:$J$17)*$AA$11))","v":0.08},{"$f":"IF(ISBLANK(J9),\" \",(LOOKUP(J9,'Component Weights'!$B$16:$J$16,'Component Weights'!$B$17:$J$17)*$AA$12))","v":0.24},0.48,8,null,0.48,null,"Available Locally",0.23,"H+","The distance in miles that the product must travel to the destination of final use."]
["Momentary Pressure Relief",null,null,null,"M","N",null,null,"N","M",{"$f":"SUM(IF(ISBLANK(C10),,LOOKUP(C10,'Component Weights'!$B$16:$J$16,'Component Weights'!$B$17:$J$17)),IF(ISBLANK(D10),,LOOKUP(D10,'Component Weights'!$B$16:$J$16,'Component Weights'!$B$17:$J$17)),IF(ISBLANK(E10),,LOOKUP(E10,'Component Weights'!$B$16:$J$16,'Component Weights'!$B$17:$J$17)),IF(ISBLANK(F10),,LOOKUP(F10,'Component Weights'!$B$16:$J$16,'Component Weights'!$B$17:$J$17)),IF(ISBLANK(G10),,LOOKUP(G10,'Component Weights'!$B$16:$J$16,'Component Weights'!$B$17:$J$17)),IF(ISBLANK(B10),,LOOKUP(B10,'Component Weights'!$B$16:$J$16,'Component Weights'!$B$17:$J$17)),IF(ISBLANK(H10),,LOOKUP(H10,'Component Weights'!$B$16:$J$16,'Component Weights'!$B$17:$J$17)),IF(ISBLANK(I10),,LOOKUP(I10,'Component Weights'!$B$16:$J$16,'Component Weights'!$B$17:$J$17)),IF(ISBLANK(J10),,LOOKUP(J10,'Component Weights'!$B$16:$J$16,'Component Weights'!$B$17:$J$17)))","v":4},{"$f":"IF(ISBLANK(C10),\" \",(LOOKUP(C10,'Component Weights'!$B$16:$J$16,'Component Weights'!$B$17:$J$17)*$AA$4))","v":" "},{"$f":"IF(ISBLANK(D10),\" \",(LOOKUP(D10,'Component Weights'!$B$16:$J$16,'Component Weights'!$B$17:$J$17)*$AA$5))","v":" "},{"$f":"IF(ISBLANK(E10),\" \",(LOOKUP(E10,'Component Weights'!$B$16:$J$16,'Component Weights'!$B$17:$J$17)*$AA$6))","v":0.16},{"$f":"IF(ISBLANK(F10),\" \",(LOOKUP(F10,'Component Weights'!$B$16:$J$16,'Component Weights'!$B$17:$J$17)*$AA$7))","v":0},{"$f":"IF(ISBLANK(G10),\" \",(LOOKUP(G10,'Component Weights'!$B$16:$J$16,'Component Weights'!$B$17:$J$17)*$AA$8))","v":" "},{"$f":"IF(ISBLANK(B10),\" \",(LOOKUP(B10,'Component Weights'!$B$16:$J$16,'Component Weights'!$B$17:$J$17)*$AA$9))","v":" "},{"$f":"IF(ISBLANK(H10),\" \",(LOOKUP(H10,'Component Weights'!$B$16:$J$16,'Component Weights'!$B$17:$J$17)*$AA$10))","v":" "},{"$f":"IF(ISBLANK(I10),\" \",(LOOKUP(I10,'Component Weights'!$B$16:$J$16,'Component Weights'!$B$17:$J$17)*$AA$11))","v":0},{"$f":"IF(ISBLANK(J10),\" \",(LOOKUP(J10,'Component Weights'!$B$16:$J$16,'Component Weights'!$B$17:$J$17)*$AA$12))","v":0.24},0.4,9,null,0.4,null,"Low Emissions Potential",0.12,"H","The amount of time it will take the product to stop outgassing."]
["(Enter Custom Product Here)",null,null,null,null,null,null,null,null,null,{"$f":"SUM(IF(ISBLANK(C11),,LOOKUP(C11,'Component Weights'!$B$16:$J$16,'Component Weights'!$B$17:$J$17)),IF(ISBLANK(D11),,LOOKUP(D11,'Component Weights'!$B$16:$J$16,'Component Weights'!$B$17:$J$17)),IF(ISBLANK(E11),,LOOKUP(E11,'Component Weights'!$B$16:$J$16,'Component Weights'!$B$17:$J$17)),IF(ISBLANK(F11),,LOOKUP(F11,'Component Weights'!$B$16:$J$16,'Component Weights'!$B$17:$J$17)),IF(ISBLANK(G11),,LOOKUP(G11,'Component Weights'!$B$16:$J$16,'Component Weights'!$B$17:$J$17)),IF(ISBLANK(B11),,LOOKUP(B11,'Component Weights'!$B$16:$J$16,'Component Weights'!$B$17:$J$17)),IF(ISBLANK(H11),,LOOKUP(H11,'Component Weights'!$B$16:$J$16,'Component Weights'!$B$17:$J$17)),IF(ISBLANK(I11),,LOOKUP(I11,'Component Weights'!$B$16:$J$16,'Component Weights'!$B$17:$J$17)),IF(ISBLANK(J11),,LOOKUP(J11,'Component Weights'!$B$16:$J$16,'Component Weights'!$B$17:$J$17)))","v":0},{"$f":"IF(ISBLANK(C11),\" \",(LOOKUP(C11,'Component Weights'!$B$16:$J$16,'Component Weights'!$B$17:$J$17)*$AA$4))","v":" "},{"$f":"IF(ISBLANK(D11),\" \",(LOOKUP(D11,'Component Weights'!$B$16:$J$16,'Component Weights'!$B$17:$J$17)*$AA$5))","v":" "},{"$f":"IF(ISBLANK(E11),\" \",(LOOKUP(E11,'Component Weights'!$B$16:$J$16,'Component Weights'!$B$17:$J$17)*$AA$6))","v":" "},{"$f":"IF(ISBLANK(F11),\" \",(LOOKUP(F11,'Component Weights'!$B$16:$J$16,'Component Weights'!$B$17:$J$17)*$AA$7))","v":" "},{"$f":"IF(ISBLANK(G11),\" \",(LOOKUP(G11,'Component Weights'!$B$16:$J$16,'Component Weights'!$B$17:$J$17)*$AA$8))","v":" "},{"$f":"IF(ISBLANK(B11),\" \",(LOOKUP(B11,'Component Weights'!$B$16:$J$16,'Component Weights'!$B$17:$J$17)*$AA$9))","v":" "},{"$f":"IF(ISBLANK(H11),\" \",(LOOKUP(H11,'Component Weights'!$B$16:$J$16,'Component Weights'!$B$17:$J$17)*$AA$10))","v":" "},{"$f":"IF(ISBLANK(I11),\" \",(LOOKUP(I11,'Component Weights'!$B$16:$J$16,'Component Weights'!$B$17:$J$17)*$AA$11))","v":" "},{"$f":"IF(ISBLANK(J11),\" \",(LOOKUP(J11,'Component Weights'!$B$16:$J$16,'Component Weights'!$B$17:$J$17)*$AA$12))","v":" "},0,99,null,0,null,"Listed in Other Programs (e.g. EnergyStar)",0.08,"M","The level of product recommendation in recognized energy and environmental programs."]
["(Enter Custom Product Here)",null,null,null,null,null,null,null,null,null,{"$f":"SUM(IF(ISBLANK(C12),,LOOKUP(C12,'Component Weights'!$B$16:$J$16,'Component Weights'!$B$17:$J$17)),IF(ISBLANK(D12),,LOOKUP(D12,'Component Weights'!$B$16:$J$16,'Component Weights'!$B$17:$J$17)),IF(ISBLANK(E12),,LOOKUP(E12,'Component Weights'!$B$16:$J$16,'Component Weights'!$B$17:$J$17)),IF(ISBLANK(F12),,LOOKUP(F12,'Component Weights'!$B$16:$J$16,'Component Weights'!$B$17:$J$17)),IF(ISBLANK(G12),,LOOKUP(G12,'Component Weights'!$B$16:$J$16,'Component Weights'!$B$17:$J$17)),IF(ISBLANK(B12),,LOOKUP(B12,'Component Weights'!$B$16:$J$16,'Component Weights'!$B$17:$J$17)),IF(ISBLANK(H12),,LOOKUP(H12,'Component Weights'!$B$16:$J$16,'Component Weights'!$B$17:$J$17)),IF(ISBLANK(I12),,LOOKUP(I12,'Component Weights'!$B$16:$J$16,'Component Weights'!$B$17:$J$17)),IF(ISBLANK(J12),,LOOKUP(J12,'Component Weights'!$B$16:$J$16,'Component Weights'!$B$17:$J$17)))","v":0},{"$f":"IF(ISBLANK(C12),\" \",(LOOKUP(C12,'Component Weights'!$B$16:$J$16,'Component Weights'!$B$17:$J$17)*$AA$4))","v":" "},{"$f":"IF(ISBLANK(D12),\" \",(LOOKUP(D12,'Component Weights'!$B$16:$J$16,'Component Weights'!$B$17:$J$17)*$AA$5))","v":" "},{"$f":"IF(ISBLANK(E12),\" \",(LOOKUP(E12,'Component Weights'!$B$16:$J$16,'Component Weights'!$B$17:$J$17)*$AA$6))","v":" "},{"$f":"IF(ISBLANK(F12),\" \",(LOOKUP(F12,'Component Weights'!$B$16:$J$16,'Component Weights'!$B$17:$J$17)*$AA$7))","v":" "},{"$f":"IF(ISBLANK(G12),\" \",(LOOKUP(G12,'Component Weights'!$B$16:$J$16,'Component Weights'!$B$17:$J$17)*$AA$8))","v":" "},{"$f":"IF(ISBLANK(B12),\" \",(LOOKUP(B12,'Component Weights'!$B$16:$J$16,'Component Weights'!$B$17:$J$17)*$AA$9))","v":" "},{"$f":"IF(ISBLANK(H12),\" \",(LOOKUP(H12,'Component Weights'!$B$16:$J$16,'Component Weights'!$B$17:$J$17)*$AA$10))","v":" "},{"$f":"IF(ISBLANK(I12),\" \",(LOOKUP(I12,'Component Weights'!$B$16:$J$16,'Component Weights'!$B$17:$J$17)*$AA$11))","v":" "},{"$f":"IF(ISBLANK(J12),\" \",(LOOKUP(J12,'Component Weights'!$B$16:$J$16,'Component Weights'!$B$17:$J$17)*$AA$12))","v":" "},0,99,null,0,null,"Non Hazardous as Waste",0.12,"H","The amount of hazardous materials and components found in the product."]
["(Enter Custom Product Here)",null,null,null,null,null,null,null,null,null,{"$f":"SUM(IF(ISBLANK(C13),,LOOKUP(C13,'Component Weights'!$B$16:$J$16,'Component Weights'!$B$17:$J$17)),IF(ISBLANK(D13),,LOOKUP(D13,'Component Weights'!$B$16:$J$16,'Component Weights'!$B$17:$J$17)),IF(ISBLANK(E13),,LOOKUP(E13,'Component Weights'!$B$16:$J$16,'Component Weights'!$B$17:$J$17)),IF(ISBLANK(F13),,LOOKUP(F13,'Component Weights'!$B$16:$J$16,'Component Weights'!$B$17:$J$17)),IF(ISBLANK(G13),,LOOKUP(G13,'Component Weights'!$B$16:$J$16,'Component Weights'!$B$17:$J$17)),IF(ISBLANK(B13),,LOOKUP(B13,'Component Weights'!$B$16:$J$16,'Component Weights'!$B$17:$J$17)),IF(ISBLANK(H13),,LOOKUP(H13,'Component Weights'!$B$16:$J$16,'Component Weights'!$B$17:$J$17)),IF(ISBLANK(I13),,LOOKUP(I13,'Component Weights'!$B$16:$J$16,'Component Weights'!$B$17:$J$17)),IF(ISBLANK(J13),,LOOKUP(J13,'Component Weights'!$B$16:$J$16,'Component Weights'!$B$17:$J$17)))","v":0},{"$f":"IF(ISBLANK(C13),\" \",(LOOKUP(C13,'Component Weights'!$B$16:$J$16,'Component Weights'!$B$17:$J$17)*$AA$4))","v":" "},{"$f":"IF(ISBLANK(D13),\" \",(LOOKUP(D13,'Component Weights'!$B$16:$J$16,'Component Weights'!$B$17:$J$17)*$AA$5))","v":" "},{"$f":"IF(ISBLANK(E13),\" \",(LOOKUP(E13,'Component Weights'!$B$16:$J$16,'Component Weights'!$B$17:$J$17)*$AA$6))","v":" "},{"$f":"IF(ISBLANK(F13),\" \",(LOOKUP(F13,'Component Weights'!$B$16:$J$16,'Component Weights'!$B$17:$J$17)*$AA$7))","v":" "},{"$f":"IF(ISBLANK(G13),\" \",(LOOKUP(G13,'Component Weights'!$B$16:$J$16,'Component Weights'!$B$17:$J$17)*$AA$8))","v":" "},{"$f":"IF(ISBLANK(B13),\" \",(LOOKUP(B13,'Component Weights'!$B$16:$J$16,'Component Weights'!$B$17:$J$17)*$AA$9))","v":" "},{"$f":"IF(ISBLANK(H13),\" \",(LOOKUP(H13,'Component Weights'!$B$16:$J$16,'Component Weights'!$B$17:$J$17)*$AA$10))","v":" "},{"$f":"IF(ISBLANK(I13),\" \",(LOOKUP(I13,'Component Weights'!$B$16:$J$16,'Component Weights'!$B$17:$J$17)*$AA$11))","v":" "},{"$f":"IF(ISBLANK(J13),\" \",(LOOKUP(J13,'Component Weights'!$B$16:$J$16,'Component Weights'!$B$17:$J$17)*$AA$12))","v":" "},0,99,null,0,null,"Total Weightings Must Equal 100%",{"$f":"SUM(AA4:AA12)","v":1},null,{"$f":"IF(AA13<>100%,\"Keep Working - Weightings must equal 100%\",\" \")","v":" "}]
["(Enter Custom Product Here)",null,null,null,null,null,null,null,null,null,{"$f":"SUM(IF(ISBLANK(C14),,LOOKUP(C14,'Component Weights'!$B$16:$J$16,'Component Weights'!$B$17:$J$17)),IF(ISBLANK(D14),,LOOKUP(D14,'Component Weights'!$B$16:$J$16,'Component Weights'!$B$17:$J$17)),IF(ISBLANK(E14),,LOOKUP(E14,'Component Weights'!$B$16:$J$16,'Component Weights'!$B$17:$J$17)),IF(ISBLANK(F14),,LOOKUP(F14,'Component Weights'!$B$16:$J$16,'Component Weights'!$B$17:$J$17)),IF(ISBLANK(G14),,LOOKUP(G14,'Component Weights'!$B$16:$J$16,'Component Weights'!$B$17:$J$17)),IF(ISBLANK(B14),,LOOKUP(B14,'Component Weights'!$B$16:$J$16,'Component Weights'!$B$17:$J$17)),IF(ISBLANK(H14),,LOOKUP(H14,'Component Weights'!$B$16:$J$16,'Component Weights'!$B$17:$J$17)),IF(ISBLANK(I14),,LOOKUP(I14,'Component Weights'!$B$16:$J$16,'Component Weights'!$B$17:$J$17)),IF(ISBLANK(J14),,LOOKUP(J14,'Component Weights'!$B$16:$J$16,'Component Weights'!$B$17:$J$17)))","v":0},{"$f":"IF(ISBLANK(C14),\" \",(LOOKUP(C14,'Component Weights'!$B$16:$J$16,'Component Weights'!$B$17:$J$17)*$AA$4))","v":" "},{"$f":"IF(ISBLANK(D14),\" \",(LOOKUP(D14,'Component Weights'!$B$16:$J$16,'Component Weights'!$B$17:$J$17)*$AA$5))","v":" "},{"$f":"IF(ISBLANK(E14),\" \",(LOOKUP(E14,'Component Weights'!$B$16:$J$16,'Component Weights'!$B$17:$J$17)*$AA$6))","v":" "},{"$f":"IF(ISBLANK(F14),\" \",(LOOKUP(F14,'Component Weights'!$B$16:$J$16,'Component Weights'!$B$17:$J$17)*$AA$7))","v":" "},{"$f":"IF(ISBLANK(G14),\" \",(LOOKUP(G14,'Component Weights'!$B$16:$J$16,'Component Weights'!$B$17:$J$17)*$AA$8))","v":" "},{"$f":"IF(ISBLANK(B14),\" \",(LOOKUP(B14,'Component Weights'!$B$16:$J$16,'Component Weights'!$B$17:$J$17)*$AA$9))","v":" "},{"$f":"IF(ISBLANK(H14),\" \",(LOOKUP(H14,'Component Weights'!$B$16:$J$16,'Component Weights'!$B$17:$J$17)*$AA$10))","v":" "},{"$f":"IF(ISBLANK(I14),\" \",(LOOKUP(I14,'Component Weights'!$B$16:$J$16,'Component Weights'!$B$17:$J$17)*$AA$11))","v":" "},{"$f":"IF(ISBLANK(J14),\" \",(LOOKUP(J14,'Component Weights'!$B$16:$J$16,'Component Weights'!$B$17:$J$17)*$AA$12))","v":" "},0,99,null,0]
["(Enter Custom Product Here)",null,null,null,null,null,null,null,null,null,{"$f":"SUM(IF(ISBLANK(C15),,LOOKUP(C15,'Component Weights'!$B$16:$J$16,'Component Weights'!$B$17:$J$17)),IF(ISBLANK(D15),,LOOKUP(D15,'Component Weights'!$B$16:$J$16,'Component Weights'!$B$17:$J$17)),IF(ISBLANK(E15),,LOOKUP(E15,'Component Weights'!$B$16:$J$16,'Component Weights'!$B$17:$J$17)),IF(ISBLANK(F15),,LOOKUP(F15,'Component Weights'!$B$16:$J$16,'Component Weights'!$B$17:$J$17)),IF(ISBLANK(G15),,LOOKUP(G15,'Component Weights'!$B$16:$J$16,'Component Weights'!$B$17:$J$17)),IF(ISBLANK(B15),,LOOKUP(B15,'Component Weights'!$B$16:$J$16,'Component Weights'!$B$17:$J$17)),IF(ISBLANK(H15),,LOOKUP(H15,'Component Weights'!$B$16:$J$16,'Component Weights'!$B$17:$J$17)),IF(ISBLANK(I15),,LOOKUP(I15,'Component Weights'!$B$16:$J$16,'Component Weights'!$B$17:$J$17)),IF(ISBLANK(J15),,LOOKUP(J15,'Component Weights'!$B$16:$J$16,'Component Weights'!$B$17:$J$17)))","v":0},{"$f":"IF(ISBLANK(C15),\" \",(LOOKUP(C15,'Component Weights'!$B$16:$J$16,'Component Weights'!$B$17:$J$17)*$AA$4))","v":" "},{"$f":"IF(ISBLANK(D15),\" \",(LOOKUP(D15,'Component Weights'!$B$16:$J$16,'Component Weights'!$B$17:$J$17)*$AA$5))","v":" "},{"$f":"IF(ISBLANK(E15),\" \",(LOOKUP(E15,'Component Weights'!$B$16:$J$16,'Component Weights'!$B$17:$J$17)*$AA$6))","v":" "},{"$f":"IF(ISBLANK(F15),\" \",(LOOKUP(F15,'Component Weights'!$B$16:$J$16,'Component Weights'!$B$17:$J$17)*$AA$7))","v":" "},{"$f":"IF(ISBLANK(G15),\" \",(LOOKUP(G15,'Component Weights'!$B$16:$J$16,'Component Weights'!$B$17:$J$17)*$AA$8))","v":" "},{"$f":"IF(ISBLANK(B15),\" \",(LOOKUP(B15,'Component Weights'!$B$16:$J$16,'Component Weights'!$B$17:$J$17)*$AA$9))","v":" "},{"$f":"IF(ISBLANK(H15),\" \",(LOOKUP(H15,'Component Weights'!$B$16:$J$16,'Component Weights'!$B$17:$J$17)*$AA$10))","v":" "},{"$f":"IF(ISBLANK(I15),\" \",(LOOKUP(I15,'Component Weights'!$B$16:$J$16,'Component Weights'!$B$17:$J$17)*$AA$11))","v":" "},{"$f":"IF(ISBLANK(J15),\" \",(LOOKUP(J15,'Component Weights'!$B$16:$J$16,'Component Weights'!$B$17:$J$17)*$AA$12))","v":" "},0,99,null,0]
["(Enter Custom Product Here)",null,null,null,null,null,null,null,null,null,{"$f":"SUM(IF(ISBLANK(C16),,LOOKUP(C16,'Component Weights'!$B$16:$J$16,'Component Weights'!$B$17:$J$17)),IF(ISBLANK(D16),,LOOKUP(D16,'Component Weights'!$B$16:$J$16,'Component Weights'!$B$17:$J$17)),IF(ISBLANK(E16),,LOOKUP(E16,'Component Weights'!$B$16:$J$16,'Component Weights'!$B$17:$J$17)),IF(ISBLANK(F16),,LOOKUP(F16,'Component Weights'!$B$16:$J$16,'Component Weights'!$B$17:$J$17)),IF(ISBLANK(G16),,LOOKUP(G16,'Component Weights'!$B$16:$J$16,'Component Weights'!$B$17:$J$17)),IF(ISBLANK(B16),,LOOKUP(B16,'Component Weights'!$B$16:$J$16,'Component Weights'!$B$17:$J$17)),IF(ISBLANK(H16),,LOOKUP(H16,'Component Weights'!$B$16:$J$16,'Component Weights'!$B$17:$J$17)),IF(ISBLANK(I16),,LOOKUP(I16,'Component Weights'!$B$16:$J$16,'Component Weights'!$B$17:$J$17)),IF(ISBLANK(J16),,LOOKUP(J16,'Component Weights'!$B$16:$J$16,'Component Weights'!$B$17:$J$17)))","v":0},{"$f":"IF(ISBLANK(C16),\" \",(LOOKUP(C16,'Component Weights'!$B$16:$J$16,'Component Weights'!$B$17:$J$17)*$AA$4))","v":" "},{"$f":"IF(ISBLANK(D16),\" \",(LOOKUP(D16,'Component Weights'!$B$16:$J$16,'Component Weights'!$B$17:$J$17)*$AA$5))","v":" "},{"$f":"IF(ISBLANK(E16),\" \",(LOOKUP(E16,'Component Weights'!$B$16:$J$16,'Component Weights'!$B$17:$J$17)*$AA$6))","v":" "},{"$f":"IF(ISBLANK(F16),\" \",(LOOKUP(F16,'Component Weights'!$B$16:$J$16,'Component Weights'!$B$17:$J$17)*$AA$7))","v":" "},{"$f":"IF(ISBLANK(G16),\" \",(LOOKUP(G16,'Component Weights'!$B$16:$J$16,'Component Weights'!$B$17:$J$17)*$AA$8))","v":" "},{"$f":"IF(ISBLANK(B16),\" \",(LOOKUP(B16,'Component Weights'!$B$16:$J$16,'Component Weights'!$B$17:$J$17)*$AA$9))","v":" "},{"$f":"IF(ISBLANK(H16),\" \",(LOOKUP(H16,'Component Weights'!$B$16:$J$16,'Component Weights'!$B$17:$J$17)*$AA$10))","v":" "},{"$f":"IF(ISBLANK(I16),\" \",(LOOKUP(I16,'Component Weights'!$B$16:$J$16,'Component Weights'!$B$17:$J$17)*$AA$11))","v":" "},{"$f":"IF(ISBLANK(J16),\" \",(LOOKUP(J16,'Component Weights'!$B$16:$J$16,'Component Weights'!$B$17:$J$17)*$AA$12))","v":" "},0,99,null,0]
[null,null,null,null,null,null,null,null,null,null,{"$f":"AVERAGE(K$2:K3)","v":7},{"$f":"AVERAGE(L$2:L3)","v":{"$error":"#DIV/0!"}},{"$f":"AVERAGE(M$2:M3)","v":{"$error":"#DIV/0!"}},{"$f":"AVERAGE(N$2:N3)","v":0.16},{"$f":"AVERAGE(O$2:O3)","v":0},{"$f":"AVERAGE(P$2:P3)","v":{"$error":"#DIV/0!"}},{"$f":"AVERAGE(Q$2:Q3)","v":{"$error":"#DIV/0!"}},{"$f":"AVERAGE(R$2:R3)","v":{"$error":"#DIV/0!"}},{"$f":"AVERAGE(S$2:S3)","v":0.24},{"$f":"AVERAGE(T$2:T3)","v":0.24},{"$f":"AVERAGE(U$2:U3)","v":0.64},{"$f":"IF(AND(OR(#REF!=72,#REF!=73,#REF!=74,#REF!=75,#REF!=76),$U17>0),RANK($U17,Y$2:Y$28,0),\" \")","v":{"$error":"#REF!"}}]

{"sheet":"Ventilation Filters","index":11,"n_rows":16,"n_cols":29,"rows_kept":16,"cut":false,"hidden":false,"merged":[]}
["Instructions:\nScroll down to see all products.  New products may be added to the end of the list.  Rate the performance of each product as \"N, L, M or H.\" (Hover over the component title for the rating description.)  Use your Backspace button to clear values.  The Sort button (below) will incorporate your priorities as currently stated on the table to the right.  (Scroll to the right to see the table.)\n\n","Available Locally","Incremental Energy Savings","Use of Recycled Content","Low Energy Usage Manufacturing Process","Easily Biodegradable","Made from Natural Materials","Low Emissions Potential","Listed in Other Programs","Non Hazardous as Waste","Total Raw Score","Incremental Energy Savings Weighted Score","Use of Recycled Content Weighted Score","Low Energy Usage Mfg. Process Weighted Score","Easily Biodegradable Weighted Score","Made from Natural Materials Weighted Score","Available Locally Weighted Score","Low Emissions Potential Weighted Score","Listed in Other Programs Weighted Score","Non Hazardous as Waste Weighted Score","Total Weighted Score","Force Ranking",null,"Weighted Score for Force Rank Calculation ",null,"Detailed instructions and options for using this tool are found in the Using the DYO® GBD Kit Decision Matrix Software Section of your DYO® Green Building Decision Kit."]
["High-Efficiency Pleated",null,null,"N","H","H","N",null,"H","H",{"$f":"SUM(IF(ISBLANK(C2),,LOOKUP(C2,'Component Weights'!$B$16:$J$16,'Component Weights'!$B$17:$J$17)),IF(ISBLANK(D2),,LOOKUP(D2,'Component Weights'!$B$16:$J$16,'Component Weights'!$B$17:$J$17)),IF(ISBLANK(E2),,LOOKUP(E2,'Component Weights'!$B$16:$J$16,'Component Weights'!$B$17:$J$17)),IF(ISBLANK(F2),,LOOKUP(F2,'Component Weights'!$B$16:$J$16,'Component Weights'!$B$17:$J$17)),IF(ISBLANK(G2),,LOOKUP(G2,'Component Weights'!$B$16:$J$16,'Component Weights'!$B$17:$J$17)),IF(ISBLANK(B2),,LOOKUP(B2,'Component Weights'!$B$16:$J$16,'Component Weights'!$B$17:$J$17)),IF(ISBLANK(H2),,LOOKUP(H2,'Component Weights'!$B$16:$J$16,'Component Weights'!$B$17:$J$17)),IF(ISBLANK(I2),,LOOKUP(I2,'Component Weights'!$B$16:$J$16,'Component Weights'!$B$17:$J$17)),IF(ISBLANK(J2),,LOOKUP(J2,'Component Weights'!$B$16:$J$16,'Component Weights'!$B$17:$J$17)))","v":12},{"$f":"IF(ISBLANK(C2),\" \",(LOOKUP(C2,'Component Weights'!$B$16:$J$16,'Component Weights'!$B$17:$J$17)*$AA$4))","v":" "},{"$f":"IF(ISBLANK(D2),\" \",(LOOKUP(D2,'Component Weights'!$B$16:$J$16,'Component Weights'!$B$17:$J$17)*$AA$5))","v":0},{"$f":"IF(ISBLANK(E2),\" \",(LOOKUP(E2,'Component Weights'!$B$16:$J$16,'Component Weights'!$B$17:$J$17)*$AA$6))","v":0.24},{"$f":"IF(ISBLANK(F2),\" \",(LOOKUP(F2,'Component Weights'!$B$16:$J$16,'Component Weights'!$B$17:$J$17)*$AA$7))","v":0.36},{"$f":"IF(ISBLANK(G2),\" \",(LOOKUP(G2,'Component Weights'!$B$16:$J$16,'Component Weights'!$B$17:$J$17)*$AA$8))","v":0},{"$f":"IF(ISBLANK(B2),\" \",(LOOKUP(B2,'Component Weights'!$B$16:$J$16,'Component Weights'!$B$17:$J$17)*$AA$9))","v":" "},{"$f":"IF(ISBLANK(H2),\" \",(LOOKUP(H2,'Component Weights'!$B$16:$J$16,'Component Weights'!$B$17:$J$17)*$AA$10))","v":" "},{"$f":"IF(ISBLANK(I2),\" \",(LOOKUP(I2,'Component Weights'!$B$16:$J$16,'Component Weights'!$B$17:$J$17)*$AA$11))","v":0.24},{"$f":"IF(ISBLANK(J2),\" \",(LOOKUP(J2,'Component Weights'!$B$16:$J$16,'Component Weights'!$B$17:$J$17)*$AA$12))","v":0.36},{"$f":"SUM(L2:T2)","v":1.2},{"$f":"IF($U2>0,RANK($U2,X$2:X$206,0),99)","v":1},null,{"$f":"U2","v":1.2},null,"Component Weights for","Weight"]
["Medium-Efficiency Pleated",null,null,"N","H","H","N",null,"M","H",{"$f":"SUM(IF(ISBLANK(C3),,LOOKUP(C3,'Component Weights'!$B$16:$J$16,'Component Weights'!$B$17:$J$17)),IF(ISBLANK(D3),,LOOKUP(D3,'Component Weights'!$B$16:$J$16,'Component Weights'!$B$17:$J$17)),IF(ISBLANK(E3),,LOOKUP(E3,'Component Weights'!$B$16:$J$16,'Component Weights'!$B$17:$J$17)),IF(ISBLANK(F3),,LOOKUP(F3,'Component Weights'!$B$16:$J$16,'Component Weights'!$B$17:$J$17)),IF(ISBLANK(G3),,LOOKUP(G3,'Component Weights'!$B$16:$J$16,'Component Weights'!$B$17:$J$17)),IF(ISBLANK(B3),,LOOKUP(B3,'Component Weights'!$B$16:$J$16,'Component Weights'!$B$17:$J$17)),IF(ISBLANK(H3),,LOOKUP(H3,'Component Weights'!$B$16:$J$16,'Component Weights'!$B$17:$J$17)),IF(ISBLANK(I3),,LOOKUP(I3,'Component Weights'!$B$16:$J$16,'Component Weights'!$B$17:$J$17)),IF(ISBLANK(J3),,LOOKUP(J3,'Component Weights'!$B$16:$J$16,'Component Weights'!$B$17:$J$17)))","v":11},{"$f":"IF(ISBLANK(C3),\" \",(LOOKUP(C3,'Component Weights'!$B$16:$J$16,'Component Weights'!$B$17:$J$17)*$AA$4))","v":" "},{"$f":"IF(ISBLANK(D3),\" \",(LOOKUP(D3,'Component Weights'!$B$16:$J$16,'Component Weights'!$B$17:$J$17)*$AA$5))","v":0},{"$f":"IF(ISBLANK(E3),\" \",(LOOKUP(E3,'Component Weights'!$B$16:$J$16,'Component Weights'!$B$17:$J$17)*$AA$6))","v":0.24},{"$f":"IF(ISBLANK(F3),\" \",(LOOKUP(F3,'Component Weights'!$B$16:$J$16,'Component Weights'!$B$17:$J$17)*$AA$7))","v":0.36},{"$f":"IF(ISBLANK(G3),\" \",(LOOKUP(G3,'Component Weights'!$B$16:$J$16,'Component Weights'!$B$17:$J$17)*$AA$8))","v":0},{"$f":"IF(ISBLANK(B3),\" \",(LOOKUP(B3,'Component Weights'!$B$16:$J$16,'Component Weights'!$B$17:$J$17)*$AA$9))","v":" "},{"$f":"IF(ISBLANK(H3),\" \",(LOOKUP(H3,'Component Weights'!$B$16:$J$16,'Component Weights'!$B$17:$J$17)*$AA$10))","v":" "},{"$f":"IF(ISBLANK(I3),\" \",(LOOKUP(I3,'Component Weights'!$B$16:$J$16,'Component Weights'!$B$17:$J$17)*$AA$11))","v":0.16},{"$f":"IF(ISBLANK(J3),\" \",(LOOKUP(J3,'Component Weights'!$B$16:$J$16,'Component Weights'!$B$17:$J$17)*$AA$12))","v":0.36},1.1200000000000001,2,null,1.1200000000000001,null,"Ventilation Filters"]
["Carbon/Charcoal",null,null,"N","M","M","L",null,"H","H",{"$f":"SUM(IF(ISBLANK(C4),,LOOKUP(C4,'Component Weights'!$B$16:$J$16,'Component Weights'!$B$17:$J$17)),IF(ISBLANK(D4),,LOOKUP(D4,'Component Weights'!$B$16:$J$16,'Component Weights'!$B$17:$J$17)),IF(ISBLANK(E4),,LOOKUP(E4,'Component Weights'!$B$16:$J$16,'Component Weights'!$B$17:$J$17)),IF(ISBLANK(F4),,LOOKUP(F4,'Component Weights'!$B$16:$J$16,'Component Weights'!$B$17:$J$17)),IF(ISBLANK(G4),,LOOKUP(G4,'Component Weights'!$B$16:$J$16,'Component Weights'!$B$17:$J$17)),IF(ISBLANK(B4),,LOOKUP(B4,'Component Weights'!$B$16:$J$16,'Component Weights'!$B$17:$J$17)),IF(ISBLANK(H4),,LOOKUP(H4,'Component Weights'!$B$16:$J$16,'Component Weights'!$B$17:$J$17)),IF(ISBLANK(I4),,LOOKUP(I4,'Component Weights'!$B$16:$J$16,'Component Weights'!$B$17:$J$17)),IF(ISBLANK(J4),,LOOKUP(J4,'Component Weights'!$B$16:$J$16,'Component Weights'!$B$17:$J$17)))","v":11},{"$f":"IF(ISBLANK(C4),\" \",(LOOKUP(C4,'Component Weights'!$B$16:$J$16,'Component Weights'!$B$17:$J$17)*$AA$4))","v":" "},{"$f":"IF(ISBLANK(D4),\" \",(LOOKUP(D4,'Component Weights'!$B$16:$J$16,'Component Weights'!$B$17:$J$17)*$AA$5))","v":0},{"$f":"IF(ISBLANK(E4),\" \",(LOOKUP(E4,'Component Weights'!$B$16:$J$16,'Component Weights'!$B$17:$J$17)*$AA$6))","v":0.16},{"$f":"IF(ISBLANK(F4),\" \",(LOOKUP(F4,'Component Weights'!$B$16:$J$16,'Component Weights'!$B$17:$J$17)*$AA$7))","v":0.24},{"$f":"IF(ISBLANK(G4),\" \",(LOOKUP(G4,'Component Weights'!$B$16:$J$16,'Component Weights'!$B$17:$J$17)*$AA$8))","v":0.05},{"$f":"IF(ISBLANK(B4),\" \",(LOOKUP(B4,'Component Weights'!$B$16:$J$16,'Component Weights'!$B$17:$J$17)*$AA$9))","v":" "},{"$f":"IF(ISBLANK(H4),\" \",(LOOKUP(H4,'Component Weights'!$B$16:$J$16,'Component Weights'!$B$17:$J$17)*$AA$10))","v":" "},{"$f":"IF(ISBLANK(I4),\" \",(LOOKUP(I4,'Component Weights'!$B$16:$J$16,'Component Weights'!$B$17:$J$17)*$AA$11))","v":0.24},{"$f":"IF(ISBLANK(J4),\" \",(LOOKUP(J4,'Component Weights'!$B$16:$J$16,'Component Weights'!$B$17:$J$17)*$AA$12))","v":0.36},1.0499999999999998,3,null,1.0499999999999998,null,"Incremental Energy Savings",0.08,"M","The amount of incremental energy, expressed in Btu/Hr, that a product saves or generates for the structure."]
["Low-Efficiency Pleated",null,null,"N","H","H","N",null,"L","H",{"$f":"SUM(IF(ISBLANK(C5),,LOOKUP(C5,'Component Weights'!$B$16:$J$16,'Component Weights'!$B$17:$J$17)),IF(ISBLANK(D5),,LOOKUP(D5,'Component Weights'!$B$16:$J$16,'Component Weights'!$B$17:$J$17)),IF(ISBLANK(E5),,LOOKUP(E5,'Component Weights'!$B$16:$J$16,'Component Weights'!$B$17:$J$17)),IF(ISBLANK(F5),,LOOKUP(F5,'Component Weights'!$B$16:$J$16,'Component Weights'!$B$17:$J$17)),IF(ISBLANK(G5),,LOOKUP(G5,'Component Weights'!$B$16:$J$16,'Component Weights'!$B$17:$J$17)),IF(ISBLANK(B5),,LOOKUP(B5,'Component Weights'!$B$16:$J$16,'Component Weights'!$B$17:$J$17)),IF(ISBLANK(H5),,LOOKUP(H5,'Component Weights'!$B$16:$J$16,'Component Weights'!$B$17:$J$17)),IF(ISBLANK(I5),,LOOKUP(I5,'Component Weights'!$B$16:$J$16,'Component Weights'!$B$17:$J$17)),IF(ISBLANK(J5),,LOOKUP(J5,'Component Weights'!$B$16:$J$16,'Component Weights'!$B$17:$J$17)))","v":10},{"$f":"IF(ISBLANK(C5),\" \",(LOOKUP(C5,'Component Weights'!$B$16:$J$16,'Component Weights'!$B$17:$J$17)*$AA$4))","v":" "},{"$f":"IF(ISBLANK(D5),\" \",(LOOKUP(D5,'Component Weights'!$B$16:$J$16,'Component Weights'!$B$17:$J$17)*$AA$5))","v":0},{"$f":"IF(ISBLANK(E5),\" \",(LOOKUP(E5,'Component Weights'!$B$16:$J$16,'Component Weights'!$B$17:$J$17)*$AA$6))","v":0.24},{"$f":"IF(ISBLANK(F5),\" \",(LOOKUP(F5,'Component Weights'!$B$16:$J$16,'Component Weights'!$B$17:$J$17)*$AA$7))","v":0.36},{"$f":"IF(ISBLANK(G5),\" \",(LOOKUP(G5,'Component Weights'!$B$16:$J$16,'Component Weights'!$B$17:$J$17)*$AA$8))","v":0},{"$f":"IF(ISBLANK(B5),\" \",(LOOKUP(B5,'Component Weights'!$B$16:$J$16,'Component Weights'!$B$17:$J$17)*$AA$9))","v":" "},{"$f":"IF(ISBLANK(H5),\" \",(LOOKUP(H5,'Component Weights'!$B$16:$J$16,'Component Weights'!$B$17:$J$17)*$AA$10))","v":" "},{"$f":"IF(ISBLANK(I5),\" \",(LOOKUP(I5,'Component Weights'!$B$16:$J$16,'Component Weights'!$B$17:$J$17)*$AA$11))","v":0.08},{"$f":"IF(ISBLANK(J5),\" \",(LOOKUP(J5,'Component Weights'!$B$16:$J$16,'Component Weights'!$B$17:$J$17)*$AA$12))","v":0.36},1.04,4,null,1.04,null,"Use of Recycled Content",0.12,"H","The amount of recycled content, expressed as a percentage, found in a product."]
["HEPA",null,null,"N","M","L","N",null,"H","M",{"$f":"SUM(IF(ISBLANK(C6),,LOOKUP(C6,'Component Weights'!$B$16:$J$16,'Component Weights'!$B$17:$J$17)),IF(ISBLANK(D6),,LOOKUP(D6,'Component Weights'!$B$16:$J$16,'Component Weights'!$B$17:$J$17)),IF(ISBLANK(E6),,LOOKUP(E6,'Component Weights'!$B$16:$J$16,'Component Weights'!$B$17:$J$17)),IF(ISBLANK(F6),,LOOKUP(F6,'Component Weights'!$B$16:$J$16,'Component Weights'!$B$17:$J$17)),IF(ISBLANK(G6),,LOOKUP(G6,'Component Weights'!$B$16:$J$16,'Component Weights'!$B$17:$J$17)),IF(ISBLANK(B6),,LOOKUP(B6,'Component Weights'!$B$16:$J$16,'Component Weights'!$B$17:$J$17)),IF(ISBLANK(H6),,LOOKUP(H6,'Component Weights'!$B$16:$J$16,'Component Weights'!$B$17:$J$17)),IF(ISBLANK(I6),,LOOKUP(I6,'Component Weights'!$B$16:$J$16,'Component Weights'!$B$17:$J$17)),IF(ISBLANK(J6),,LOOKUP(J6,'Component Weights'!$B$16:$J$16,'Component Weights'!$B$17:$J$17)))","v":8},{"$f":"IF(ISBLANK(C6),\" \",(LOOKUP(C6,'Component Weights'!$B$16:$J$16,'Component Weights'!$B$17:$J$17)*$AA$4))","v":" "},{"$f":"IF(ISBLANK(D6),\" \",(LOOKUP(D6,'Component Weights'!$B$16:$J$16,'Component Weights'!$B$17:$J$17)*$AA$5))","v":0},{"$f":"IF(ISBLANK(E6),\" \",(LOOKUP(E6,'Component Weights'!$B$16:$J$16,'Component Weights'!$B$17:$J$17)*$AA$6))","v":0.16},{"$f":"IF(ISBLANK(F6),\" \",(LOOKUP(F6,'Component Weights'!$B$16:$J$16,'Component Weights'!$B$17:$J$17)*$AA$7))","v":0.12},{"$f":"IF(ISBLANK(G6),\" \",(LOOKUP(G6,'Component Weights'!$B$16:$J$16,'Component Weights'!$B$17:$J$17)*$AA$8))","v":0},{"$f":"IF(ISBLANK(B6),\" \",(LOOKUP(B6,'Component Weights'!$B$16:$J$16,'Component Weights'!$B$17:$J$17)*$AA$9))","v":" "},{"$f":"IF(ISBLANK(H6),\" \",(LOOKUP(H6,'Component Weights'!$B$16:$J$16,'Component Weights'!$B$17:$J$17)*$AA$10))","v":" "},{"$f":"IF(ISBLANK(I6),\" \",(LOOKUP(I6,'Component Weights'!$B$16:$J$16,'Component Weights'!$B$17:$J$17)*$AA$11))","v":0.24},{"$f":"IF(ISBLANK(J6),\" \",(LOOKUP(J6,'Component Weights'!$B$16:$J$16,'Component Weights'!$B$17:$J$17)*$AA$12))","v":0.24},0.76,5,null,0.76,null,"Low Energy Usage Manufacturing Process",0.08,"M","The amount of energy used in manufacture of the product."]
["Electrostatic",null,null,"N","L","L","N",null,"H","M",{"$f":"SUM(IF(ISBLANK(C7),,LOOKUP(C7,'Component Weights'!$B$16:$J$16,'Component Weights'!$B$17:$J$17)),IF(ISBLANK(D7),,LOOKUP(D7,'Component Weights'!$B$16:$J$16,'Component Weights'!$B$17:$J$17)),IF(ISBLANK(E7),,LOOKUP(E7,'Component Weights'!$B$16:$J$16,'Component Weights'!$B$17:$J$17)),IF(ISBLANK(F7),,LOOKUP(F7,'Component Weights'!$B$16:$J$16,'Component Weights'!$B$17:$J$17)),IF(ISBLANK(G7),,LOOKUP(G7,'Component Weights'!$B$16:$J$16,'Component Weights'!$B$17:$J$17)),IF(ISBLANK(B7),,LOOKUP(B7,'Component Weights'!$B$16:$J$16,'Component Weights'!$B$17:$J$17)),IF(ISBLANK(H7),,LOOKUP(H7,'Component Weights'!$B$16:$J$16,'Component Weights'!$B$17:$J$17)),IF(ISBLANK(I7),,LOOKUP(I7,'Component Weights'!$B$16:$J$16,'Component Weights'!$B$17:$J$17)),IF(ISBLANK(J7),,LOOKUP(J7,'Component Weights'!$B$16:$J$16,'Component Weights'!$B$17:$J$17)))","v":7},{"$f":"IF(ISBLANK(C7),\" \",(LOOKUP(C7,'Component Weights'!$B$16:$J$16,'Component Weights'!$B$17:$J$17)*$AA$4))","v":" "},{"$f":"IF(ISBLANK(D7),\" \",(LOOKUP(D7,'Component Weights'!$B$16:$J$16,'Component Weights'!$B$17:$J$17)*$AA$5))","v":0},{"$f":"IF(ISBLANK(E7),\" \",(LOOKUP(E7,'Component Weights'!$B$16:$J$16,'Component Weights'!$B$17:$J$17)*$AA$6))","v":0.08},{"$f":"IF(ISBLANK(F7),\" \",(LOOKUP(F7,'Component Weights'!$B$16:$J$16,'Component Weights'!$B$17:$J$17)*$AA$7))","v":0.12},{"$f":"IF(ISBLANK(G7),\" \",(LOOKUP(G7,'Component Weights'!$B$16:$J$16,'Component Weights'!$B$17:$J$17)*$AA$8))","v":0},{"$f":"IF(ISBLANK(B7),\" \",(LOOKUP(B7,'Component Weights'!$B$16:$J$16,'Component Weights'!$B$17:$J$17)*$AA$9))","v":" "},{"$f":"IF(ISBLANK(H7),\" \",(LOOKUP(H7,'Component Weights'!$B$16:$J$16,'Component Weights'!$B$17:$J$17)*$AA$10))","v":" "},{"$f":"IF(ISBLANK(I7),\" \",(LOOKUP(I7,'Component Weights'!$B$16:$J$16,'Component Weights'!$B$17:$J$17)*$AA$11))","v":0.24},{"$f":"IF(ISBLANK(J7),\" \",(LOOKUP(J7,'Component Weights'!$B$16:$J$16,'Component Weights'!$B$17:$J$17)*$AA$12))","v":0.24},0.67999999999999994,6,null,0.67999999999999994,null,"Easily Biodegradable",0.12,"H","The amount of time it will take the product to degrade once its useful life is over."]
["Standard Thin",null,null,"N","M","M","N",null,"N","M",{"$f":"SUM(IF(ISBLANK(C8),,LOOKUP(C8,'Component Weights'!$B$16:$J$16,'Component Weights'!$B$17:$J$17)),IF(ISBLANK(D8),,LOOKUP(D8,'Component Weights'!$B$16:$J$16,'Component Weights'!$B$17:$J$17)),IF(ISBLANK(E8),,LOOKUP(E8,'Component Weights'!$B$16:$J$16,'Component Weights'!$B$17:$J$17)),IF(ISBLANK(F8),,LOOKUP(F8,'Component Weights'!$B$16:$J$16,'Component Weights'!$B$17:$J$17)),IF(ISBLANK(G8),,LOOKUP(G8,'Component Weights'!$B$16:$J$16,'Component Weights'!$B$17:$J$17)),IF(ISBLANK(B8),,LOOKUP(B8,'Component Weights'!$B$16:$J$16,'Component Weights'!$B$17:$J$17)),IF(ISBLANK(H8),,LOOKUP(H8,'Component Weights'!$B$16:$J$16,'Component Weights'!$B$17:$J$17)),IF(ISBLANK(I8),,LOOKUP(I8,'Component Weights'!$B$16:$J$16,'Component Weights'!$B$17:$J$17)),IF(ISBLANK(J8),,LOOKUP(J8,'Component Weights'!$B$16:$J$16,'Component Weights'!$B$17:$J$17)))","v":6},{"$f":"IF(ISBLANK(C8),\" \",(LOOKUP(C8,'Component Weights'!$B$16:$J$16,'Component Weights'!$B$17:$J$17)*$AA$4))","v":" "},{"$f":"IF(ISBLANK(D8),\" \",(LOOKUP(D8,'Component Weights'!$B$16:$J$16,'Component Weights'!$B$17:$J$17)*$AA$5))","v":0},{"$f":"IF(ISBLANK(E8),\" \",(LOOKUP(E8,'Component Weights'!$B$16:$J$16,'Component Weights'!$B$17:$J$17)*$AA$6))","v":0.16},{"$f":"IF(ISBLANK(F8),\" \",(LOOKUP(F8,'Component Weights'!$B$16:$J$16,'Component Weights'!$B$17:$J$17)*$AA$7))","v":0.24},{"$f":"IF(ISBLANK(G8),\" \",(LOOKUP(G8,'Component Weights'!$B$16:$J$16,'Component Weights'!$B$17:$J$17)*$AA$8))","v":0},{"$f":"IF(ISBLANK(B8),\" \",(LOOKUP(B8,'Component Weights'!$B$16:$J$16,'Component Weights'!$B$17:$J$17)*$AA$9))","v":" "},{"$f":"IF(ISBLANK(H8),\" \",(LOOKUP(H8,'Component Weights'!$B$16:$J$16,'Component Weights'!$B$17:$J$17)*$AA$10))","v":" "},{"$f":"IF(ISBLANK(I8),\" \",(LOOKUP(I8,'Component Weights'!$B$16:$J$16,'Component Weights'!$B$17:$J$17)*$AA$11))","v":0},{"$f":"IF(ISBLANK(J8),\" \",(LOOKUP(J8,'Component Weights'!$B$16:$J$16,'Component Weights'!$B$17:$J$17)*$AA$12))","v":0.24},0.64,7,null,0.64,null,"Made from Natural Materials",0.05,"L","The amount, expressed as a percentage, of natural (not man-made) materials used to make the product."]
["Electronic",null,null,"N","L","N","N",null,"H","L",{"$f":"SUM(IF(ISBLANK(C9),,LOOKUP(C9,'Component Weights'!$B$16:$J$16,'Component Weights'!$B$17:$J$17)),IF(ISBLANK(D9),,LOOKUP(D9,'Component Weights'!$B$16:$J$16,'Component Weights'!$B$17:$J$17)),IF(ISBLANK(E9),,LOOKUP(E9,'Component Weights'!$B$16:$J$16,'Component Weights'!$B$17:$J$17)),IF(ISBLANK(F9),,LOOKUP(F9,'Component Weights'!$B$16:$J$16,'Component Weights'!$B$17:$J$17)),IF(ISBLANK(G9),,LOOKUP(G9,'Component Weights'!$B$16:$J$16,'Component Weights'!$B$17:$J$17)),IF(ISBLANK(B9),,LOOKUP(B9,'Component Weights'!$B$16:$J$16,'Component Weights'!$B$17:$J$17)),IF(ISBLANK(H9),,LOOKUP(H9,'Component Weights'!$B$16:$J$16,'Component Weights'!$B$17:$J$17)),IF(ISBLANK(I9),,LOOKUP(I9,'Component Weights'!$B$16:$J$16,'Component Weights'!$B$17:$J$17)),IF(ISBLANK(J9),,LOOKUP(J9,'Component Weights'!$B$16:$J$16,'Component Weights'!$B$17:$J$17)))","v":5},{"$f":"IF(ISBLANK(C9),\" \",(LOOKUP(C9,'Component Weights'!$B$16:$J$16,'Component Weights'!$B$17:$J$17)*$AA$4))","v":" "},{"$f":"IF(ISBLANK(D9),\" \",(LOOKUP(D9,'Component Weights'!$B$16:$J$16,'Component Weights'!$B$17:$J$17)*$AA$5))","v":0},{"$f":"IF(ISBLANK(E9),\" \",(LOOKUP(E9,'Component Weights'!$B$16:$J$16,'Component Weights'!$B$17:$J$17)*$AA$6))","v":0.08},{"$f":"IF(ISBLANK(F9),\" \",(LOOKUP(F9,'Component Weights'!$B$16:$J$16,'Component Weights'!$B$17:$J$17)*$AA$7))","v":0},{"$f":"IF(ISBLANK(G9),\" \",(LOOKUP(G9,'Component Weights'!$B$16:$J$16,'Component Weights'!$B$17:$J$17)*$AA$8))","v":0},{"$f":"IF(ISBLANK(B9),\" \",(LOOKUP(B9,'Component Weights'!$B$16:$J$16,'Component Weights'!$B$17:$J$17)*$AA$9))","v":" "},{"$f":"IF(ISBLANK(H9),\" \",(LOOKUP(H9,'Component Weights'!$B$16:$J$16,'Component Weights'!$B$17:$J$17)*$AA$10))","v":" "},{"$f":"IF(ISBLANK(I9),\" \",(LOOKUP(I9,'Component Weights'!$B$16:$J$16,'Component Weights'!$B$17:$J$17)*$AA$11))","v":0.24},{"$f":"IF(ISBLANK(J9),\" \",(LOOKUP(J9,'Component Weights'!$B$16:$J$16,'Component Weights'!$B$17:$J$17)*$AA$12))","v":0.12},0.44,8,null,0.44,null,"Available Locally",0.23,"H+","The distance in miles that the product must travel to the destination of final use."]
["(Enter Custom Product Here)",null,null,null,null,null,null,null,null,null,{"$f":"SUM(IF(ISBLANK(C10),,LOOKUP(C10,'Component Weights'!$B$16:$J$16,'Component Weights'!$B$17:$J$17)),IF(ISBLANK(D10),,LOOKUP(D10,'Component Weights'!$B$16:$J$16,'Component Weights'!$B$17:$J$17)),IF(ISBLANK(E10),,LOOKUP(E10,'Component Weights'!$B$16:$J$16,'Component Weights'!$B$17:$J$17)),IF(ISBLANK(F10),,LOOKUP(F10,'Component Weights'!$B$16:$J$16,'Component Weights'!$B$17:$J$17)),IF(ISBLANK(G10),,LOOKUP(G10,'Component Weights'!$B$16:$J$16,'Component Weights'!$B$17:$J$17)),IF(ISBLANK(B10),,LOOKUP(B10,'Component Weights'!$B$16:$J$16,'Component Weights'!$B$17:$J$17)),IF(ISBLANK(H10),,LOOKUP(H10,'Component Weights'!$B$16:$J$16,'Component Weights'!$B$17:$J$17)),IF(ISBLANK(I10),,LOOKUP(I10,'Component Weights'!$B$16:$J$16,'Component Weights'!$B$17:$J$17)),IF(ISBLANK(J10),,LOOKUP(J10,'Component Weights'!$B$16:$J$16,'Component Weights'!$B$17:$J$17)))","v":0},{"$f":"IF(ISBLANK(C10),\" \",(LOOKUP(C10,'Component Weights'!$B$16:$J$16,'Component Weights'!$B$17:$J$17)*$AA$4))","v":" "},{"$f":"IF(ISBLANK(D10),\" \",(LOOKUP(D10,'Component Weights'!$B$16:$J$16,'Component Weights'!$B$17:$J$17)*$AA$5))","v":" "},{"$f":"IF(ISBLANK(E10),\" \",(LOOKUP(E10,'Component Weights'!$B$16:$J$16,'Component Weights'!$B$17:$J$17)*$AA$6))","v":" "},{"$f":"IF(ISBLANK(F10),\" \",(LOOKUP(F10,'Component Weights'!$B$16:$J$16,'Component Weights'!$B$17:$J$17)*$AA$7))","v":" "},{"$f":"IF(ISBLANK(G10),\" \",(LOOKUP(G10,'Component Weights'!$B$16:$J$16,'Component Weights'!$B$17:$J$17)*$AA$8))","v":" "},{"$f":"IF(ISBLANK(B10),\" \",(LOOKUP(B10,'Component Weights'!$B$16:$J$16,'Component Weights'!$B$17:$J$17)*$AA$9))","v":" "},{"$f":"IF(ISBLANK(H10),\" \",(LOOKUP(H10,'Component Weights'!$B$16:$J$16,'Component Weights'!$B$17:$J$17)*$AA$10))","v":" "},{"$f":"IF(ISBLANK(I10),\" \",(LOOKUP(I10,'Component Weights'!$B$16:$J$16,'Component Weights'!$B$17:$J$17)*$AA$11))","v":" "},{"$f":"IF(ISBLANK(J10),\" \",(LOOKUP(J10,'Component Weights'!$B$16:$J$16,'Component Weights'!$B$17:$J$17)*$AA$12))","v":" "},0,99,null,0,null,"Low Emissions Potential",0.12,"H","The amount of time it will take the product to stop outgassing."]
["(Enter Custom Product Here)",null,null,null,null,null,null,null,null,null,{"$f":"SUM(IF(ISBLANK(C11),,LOOKUP(C11,'Component Weights'!$B$16:$J$16,'Component Weights'!$B$17:$J$17)),IF(ISBLANK(D11),,LOOKUP(D11,'Component Weights'!$B$16:$J$16,'Component Weights'!$B$17:$J$17)),IF(ISBLANK(E11),,LOOKUP(E11,'Component Weights'!$B$16:$J$16,'Component Weights'!$B$17:$J$17)),IF(ISBLANK(F11),,LOOKUP(F11,'Component Weights'!$B$16:$J$16,'Component Weights'!$B$17:$J$17)),IF(ISBLANK(G11),,LOOKUP(G11,'Component Weights'!$B$16:$J$16,'Component Weights'!$B$17:$J$17)),IF(ISBLANK(B11),,LOOKUP(B11,'Component Weights'!$B$16:$J$16,'Component Weights'!$B$17:$J$17)),IF(ISBLANK(H11),,LOOKUP(H11,'Component Weights'!$B$16:$J$16,'Component Weights'!$B$17:$J$17)),IF(ISBLANK(I11),,LOOKUP(I11,'Component Weights'!$B$16:$J$16,'Component Weights'!$B$17:$J$17)),IF(ISBLANK(J11),,LOOKUP(J11,'Component Weights'!$B$16:$J$16,'Component Weights'!$B$17:$J$17)))","v":0},{"$f":"IF(ISBLANK(C11),\" \",(LOOKUP(C11,'Component Weights'!$B$16:$J$16,'Component Weights'!$B$17:$J$17)*$AA$4))","v":" "},{"$f":"IF(ISBLANK(D11),\" \",(LOOKUP(D11,'Component Weights'!$B$16:$J$16,'Component Weights'!$B$17:$J$17)*$AA$5))","v":" "},{"$f":"IF(ISBLANK(E11),\" \",(LOOKUP(E11,'Component Weights'!$B$16:$J$16,'Component Weights'!$B$17:$J$17)*$AA$6))","v":" "},{"$f":"IF(ISBLANK(F11),\" \",(LOOKUP(F11,'Component Weights'!$B$16:$J$16,'Component Weights'!$B$17:$J$17)*$AA$7))","v":" "},{"$f":"IF(ISBLANK(G11),\" \",(LOOKUP(G11,'Component Weights'!$B$16:$J$16,'Component Weights'!$B$17:$J$17)*$AA$8))","v":" "},{"$f":"IF(ISBLANK(B11),\" \",(LOOKUP(B11,'Component Weights'!$B$16:$J$16,'Component Weights'!$B$17:$J$17)*$AA$9))","v":" "},{"$f":"IF(ISBLANK(H11),\" \",(LOOKUP(H11,'Component Weights'!$B$16:$J$16,'Component Weights'!$B$17:$J$17)*$AA$10))","v":" "},{"$f":"IF(ISBLANK(I11),\" \",(LOOKUP(I11,'Component Weights'!$B$16:$J$16,'Component Weights'!$B$17:$J$17)*$AA$11))","v":" "},{"$f":"IF(ISBLANK(J11),\" \",(LOOKUP(J11,'Component Weights'!$B$16:$J$16,'Component Weights'!$B$17:$J$17)*$AA$12))","v":" "},0,99,null,{"$f":"U11","v":0},null,"Listed in Other Programs (e.g. EnergyStar)",0.08,"M","The level of product recommendation in recognized energy and environmental programs."]
["(Enter Custom Product Here)",null,null,null,null,null,null,null,null,null,{"$f":"SUM(IF(ISBLANK(C12),,LOOKUP(C12,'Component Weights'!$B$16:$J$16,'Component Weights'!$B$17:$J$17)),IF(ISBLANK(D12),,LOOKUP(D12,'Component Weights'!$B$16:$J$16,'Component Weights'!$B$17:$J$17)),IF(ISBLANK(E12),,LOOKUP(E12,'Component Weights'!$B$16:$J$16,'Component Weights'!$B$17:$J$17)),IF(ISBLANK(F12),,LOOKUP(F12,'Component Weights'!$B$16:$J$16,'Component Weights'!$B$17:$J$17)),IF(ISBLANK(G12),,LOOKUP(G12,'Component Weights'!$B$16:$J$16,'Component Weights'!$B$17:$J$17)),IF(ISBLANK(B12),,LOOKUP(B12,'Component Weights'!$B$16:$J$16,'Component Weights'!$B$17:$J$17)),IF(ISBLANK(H12),,LOOKUP(H12,'Component Weights'!$B$16:$J$16,'Component Weights'!$B$17:$J$17)),IF(ISBLANK(I12),,LOOKUP(I12,'Component Weights'!$B$16:$J$16,'Component Weights'!$B$17:$J$17)),IF(ISBLANK(J12),,LOOKUP(J12,'Component Weights'!$B$16:$J$16,'Component Weights'!$B$17:$J$17)))","v":0},{"$f":"IF(ISBLANK(C12),\" \",(LOOKUP(C12,'Component Weights'!$B$16:$J$16,'Component Weights'!$B$17:$J$17)*$AA$4))","v":" "},{"$f":"IF(ISBLANK(D12),\" \",(LOOKUP(D12,'Component Weights'!$B$16:$J$16,'Component Weights'!$B$17:$J$17)*$AA$5))","v":" "},{"$f":"IF(ISBLANK(E12),\" \",(LOOKUP(E12,'Component Weights'!$B$16:$J$16,'Component Weights'!$B$17:$J$17)*$AA$6))","v":" "},{"$f":"IF(ISBLANK(F12),\" \",(LOOKUP(F12,'Component Weights'!$B$16:$J$16,'Component Weights'!$B$17:$J$17)*$AA$7))","v":" "},{"$f":"IF(ISBLANK(G12),\" \",(LOOKUP(G12,'Component Weights'!$B$16:$J$16,'Component Weights'!$B$17:$J$17)*$AA$8))","v":" "},{"$f":"IF(ISBLANK(B12),\" \",(LOOKUP(B12,'Component Weights'!$B$16:$J$16,'Component Weights'!$B$17:$J$17)*$AA$9))","v":" "},{"$f":"IF(ISBLANK(H12),\" \",(LOOKUP(H12,'Component Weights'!$B$16:$J$16,'Component Weights'!$B$17:$J$17)*$AA$10))","v":" "},{"$f":"IF(ISBLANK(I12),\" \",(LOOKUP(I12,'Component Weights'!$B$16:$J$16,'Component Weights'!$B$17:$J$17)*$AA$11))","v":" "},{"$f":"IF(ISBLANK(J12),\" \",(LOOKUP(J12,'Component Weights'!$B$16:$J$16,'Component Weights'!$B$17:$J$17)*$AA$12))","v":" "},0,99,null,{"$f":"U12","v":0},null,"Non Hazardous as Waste",0.12,"H","The amount of hazardous materials and components found in the product."]
["(Enter Custom Product Here)",null,null,null,null,null,null,null,null,null,{"$f":"SUM(IF(ISBLANK(C13),,LOOKUP(C13,'Component Weights'!$B$16:$J$16,'Component Weights'!$B$17:$J$17)),IF(ISBLANK(D13),,LOOKUP(D13,'Component Weights'!$B$16:$J$16,'Component Weights'!$B$17:$J$17)),IF(ISBLANK(E13),,LOOKUP(E13,'Component Weights'!$B$16:$J$16,'Component Weights'!$B$17:$J$17)),IF(ISBLANK(F13),,LOOKUP(F13,'Component Weights'!$B$16:$J$16,'Component Weights'!$B$17:$J$17)),IF(ISBLANK(G13),,LOOKUP(G13,'Component Weights'!$B$16:$J$16,'Component Weights'!$B$17:$J$17)),IF(ISBLANK(B13),,LOOKUP(B13,'Component Weights'!$B$16:$J$16,'Component Weights'!$B$17:$J$17)),IF(ISBLANK(H13),,LOOKUP(H13,'Component Weights'!$B$16:$J$16,'Component Weights'!$B$17:$J$17)),IF(ISBLANK(I13),,LOOKUP(I13,'Component Weights'!$B$16:$J$16,'Component Weights'!$B$17:$J$17)),IF(ISBLANK(J13),,LOOKUP(J13,'Component Weights'!$B$16:$J$16,'Component Weights'!$B$17:$J$17)))","v":0},{"$f":"IF(ISBLANK(C13),\" \",(LOOKUP(C13,'Component Weights'!$B$16:$J$16,'Component Weights'!$B$17:$J$17)*$AA$4))","v":" "},{"$f":"IF(ISBLANK(D13),\" \",(LOOKUP(D13,'Component Weights'!$B$16:$J$16,'Component Weights'!$B$17:$J$17)*$AA$5))","v":" "},{"$f":"IF(ISBLANK(E13),\" \",(LOOKUP(E13,'Component Weights'!$B$16:$J$16,'Component Weights'!$B$17:$J$17)*$AA$6))","v":" "},{"$f":"IF(ISBLANK(F13),\" \",(LOOKUP(F13,'Component Weights'!$B$16:$J$16,'Component Weights'!$B$17:$J$17)*$AA$7))","v":" "},{"$f":"IF(ISBLANK(G13),\" \",(LOOKUP(G13,'Component Weights'!$B$16:$J$16,'Component Weights'!$B$17:$J$17)*$AA$8))","v":" "},{"$f":"IF(ISBLANK(B13),\" \",(LOOKUP(B13,'Component Weights'!$B$16:$J$16,'Component Weights'!$B$17:$J$17)*$AA$9))","v":" "},{"$f":"IF(ISBLANK(H13),\" \",(LOOKUP(H13,'Component Weights'!$B$16:$J$16,'Component Weights'!$B$17:$J$17)*$AA$10))","v":" "},{"$f":"IF(ISBLANK(I13),\" \",(LOOKUP(I13,'Component Weights'!$B$16:$J$16,'Component Weights'!$B$17:$J$17)*$AA$11))","v":" "},{"$f":"IF(ISBLANK(J13),\" \",(LOOKUP(J13,'Component Weights'!$B$16:$J$16,'Component Weights'!$B$17:$J$17)*$AA$12))","v":" "},0,99,null,{"$f":"U13","v":0},null,"Total Weightings Must Equal 100%",{"$f":"SUM(AA4:AA12)","v":1},null,{"$f":"IF(AA13<>100%,\"Keep Working - Weightings must equal 100%\",\" \")","v":" "}]
["(Enter Custom Product Here)",null,null,null,null,null,null,null,null,null,{"$f":"SUM(IF(ISBLANK(C14),,LOOKUP(C14,'Component Weights'!$B$16:$J$16,'Component Weights'!$B$17:$J$17)),IF(ISBLANK(D14),,LOOKUP(D14,'Component Weights'!$B$16:$J$16,'Component Weights'!$B$17:$J$17)),IF(ISBLANK(E14),,LOOKUP(E14,'Component Weights'!$B$16:$J$16,'Component Weights'!$B$17:$J$17)),IF(ISBLANK(F14),,LOOKUP(F14,'Component Weights'!$B$16:$J$16,'Component Weights'!$B$17:$J$17)),IF(ISBLANK(G14),,LOOKUP(G14,'Component Weights'!$B$16:$J$16,'Component Weights'!$B$17:$J$17)),IF(ISBLANK(B14),,LOOKUP(B14,'Component Weights'!$B$16:$J$16,'Component Weights'!$B$17:$J$17)),IF(ISBLANK(H14),,LOOKUP(H14,'Component Weights'!$B$16:$J$16,'Component Weights'!$B$17:$J$17)),IF(ISBLANK(I14),,LOOKUP(I14,'Component Weights'!$B$16:$J$16,'Component Weights'!$B$17:$J$17)),IF(ISBLANK(J14),,LOOKUP(J14,'Component Weights'!$B$16:$J$16,'Component Weights'!$B$17:$J$17)))","v":0},{"$f":"IF(ISBLANK(C14),\" \",(LOOKUP(C14,'Component Weights'!$B$16:$J$16,'Component Weights'!$B$17:$J$17)*$AA$4))","v":" "},{"$f":"IF(ISBLANK(D14),\" \",(LOOKUP(D14,'Component Weights'!$B$16:$J$16,'Component Weights'!$B$17:$J$17)*$AA$5))","v":" "},{"$f":"IF(ISBLANK(E14),\" \",(LOOKUP(E14,'Component Weights'!$B$16:$J$16,'Component Weights'!$B$17:$J$17)*$AA$6))","v":" "},{"$f":"IF(ISBLANK(F14),\" \",(LOOKUP(F14,'Component Weights'!$B$16:$J$16,'Component Weights'!$B$17:$J$17)*$AA$7))","v":" "},{"$f":"IF(ISBLANK(G14),\" \",(LOOKUP(G14,'Component Weights'!$B$16:$J$16,'Component Weights'!$B$17:$J$17)*$AA$8))","v":" "},{"$f":"IF(ISBLANK(B14),\" \",(LOOKUP(B14,'Component Weights'!$B$16:$J$16,'Component Weights'!$B$17:$J$17)*$AA$9))","v":" "},{"$f":"IF(ISBLANK(H14),\" \",(LOOKUP(H14,'Component Weights'!$B$16:$J$16,'Component Weights'!$B$17:$J$17)*$AA$10))","v":" "},{"$f":"IF(ISBLANK(I14),\" \",(LOOKUP(I14,'Component Weights'!$B$16:$J$16,'Component Weights'!$B$17:$J$17)*$AA$11))","v":" "},{"$f":"IF(ISBLANK(J14),\" \",(LOOKUP(J14,'Component Weights'!$B$16:$J$16,'Component Weights'!$B$17:$J$17)*$AA$12))","v":" "},0,99,null,{"$f":"U14","v":0}]
["(Enter Custom Product Here)",null,null,null,null,null,null,null,null,null,{"$f":"SUM(IF(ISBLANK(C15),,LOOKUP(C15,'Component Weights'!$B$16:$J$16,'Component Weights'!$B$17:$J$17)),IF(ISBLANK(D15),,LOOKUP(D15,'Component Weights'!$B$16:$J$16,'Component Weights'!$B$17:$J$17)),IF(ISBLANK(E15),,LOOKUP(E15,'Component Weights'!$B$16:$J$16,'Component Weights'!$B$17:$J$17)),IF(ISBLANK(F15),,LOOKUP(F15,'Component Weights'!$B$16:$J$16,'Component Weights'!$B$17:$J$17)),IF(ISBLANK(G15),,LOOKUP(G15,'Component Weights'!$B$16:$J$16,'Component Weights'!$B$17:$J$17)),IF(ISBLANK(B15),,LOOKUP(B15,'Component Weights'!$B$16:$J$16,'Component Weights'!$B$17:$J$17)),IF(ISBLANK(H15),,LOOKUP(H15,'Component Weights'!$B$16:$J$16,'Component Weights'!$B$17:$J$17)),IF(ISBLANK(I15),,LOOKUP(I15,'Component Weights'!$B$16:$J$16,'Component Weights'!$B$17:$J$17)),IF(ISBLANK(J15),,LOOKUP(J15,'Component Weights'!$B$16:$J$16,'Component Weights'!$B$17:$J$17)))","v":0},{"$f":"IF(ISBLANK(C15),\" \",(LOOKUP(C15,'Component Weights'!$B$16:$J$16,'Component Weights'!$B$17:$J$17)*$AA$4))","v":" "},{"$f":"IF(ISBLANK(D15),\" \",(LOOKUP(D15,'Component Weights'!$B$16:$J$16,'Component Weights'!$B$17:$J$17)*$AA$5))","v":" "},{"$f":"IF(ISBLANK(E15),\" \",(LOOKUP(E15,'Component Weights'!$B$16:$J$16,'Component Weights'!$B$17:$J$17)*$AA$6))","v":" "},{"$f":"IF(ISBLANK(F15),\" \",(LOOKUP(F15,'Component Weights'!$B$16:$J$16,'Component Weights'!$B$17:$J$17)*$AA$7))","v":" "},{"$f":"IF(ISBLANK(G15),\" \",(LOOKUP(G15,'Component Weights'!$B$16:$J$16,'Component Weights'!$B$17:$J$17)*$AA$8))","v":" "},{"$f":"IF(ISBLANK(B15),\" \",(LOOKUP(B15,'Component Weights'!$B$16:$J$16,'Component Weights'!$B$17:$J$17)*$AA$9))","v":" "},{"$f":"IF(ISBLANK(H15),\" \",(LOOKUP(H15,'Component Weights'!$B$16:$J$16,'Component Weights'!$B$17:$J$17)*$AA$10))","v":" "},{"$f":"IF(ISBLANK(I15),\" \",(LOOKUP(I15,'Component Weights'!$B$16:$J$16,'Component Weights'!$B$17:$J$17)*$AA$11))","v":" "},{"$f":"IF(ISBLANK(J15),\" \",(LOOKUP(J15,'Component Weights'!$B$16:$J$16,'Component Weights'!$B$17:$J$17)*$AA$12))","v":" "},0,99,null,0]
[null,null,null,null,null,null,null,null,null,null,{"$f":"AVERAGE(K$2:K9)","v":8.75},{"$f":"AVERAGE(L$2:L9)","v":{"$error":"#DIV/0!"}},{"$f":"AVERAGE(M$2:M9)","v":0},{"$f":"AVERAGE(N$2:N9)","v":0.17},{"$f":"AVERAGE(O$2:O9)","v":0.22500000000000001},{"$f":"AVERAGE(P$2:P9)","v":6.2500000000000003E-3},{"$f":"AVERAGE(Q$2:Q9)","v":{"$error":"#DIV/0!"}},{"$f":"AVERAGE(R$2:R9)","v":{"$error":"#DIV/0!"}},{"$f":"AVERAGE(S$2:S9)","v":0.18},{"$f":"AVERAGE(T$2:T9)","v":0.28500000000000003},{"$f":"AVERAGE(U$2:U9)","v":0.86624999999999996},{"$f":"IF(AND(OR(#REF!=72,#REF!=73,#REF!=74,#REF!=75,#REF!=76),$U16>0),RANK($U16,Y$2:Y$21,0),\" \")","v":{"$error":"#REF!"}}]

{"sheet":"Rainwater Catchment","index":12,"n_rows":15,"n_cols":29,"rows_kept":15,"cut":false,"hidden":false,"merged":[]}
["Instructions:\nScroll down to see all products.  New products may be added to the end of the list.  Rate the performance of each product as \"N, L, M or H.\" (Hover over the component title for the rating description.)  Use your Backspace button to clear values.  The Sort button (below) will incorporate your priorities as currently stated on the table to the right.  (Scroll to the right to see the table.)\n\n","Available Locally","Incremental Energy Savings","Use of Recycled Content","Low Energy Usage Manufacturing Process","Easily Biodegradable","Made from Natural Materials","Low Emissions Potential","Listed in Other Programs","Non Hazardous as Waste","Total Raw Score","Incremental Energy Savings Weighted Score","Use of Recycled Content Weighted Score","Low Energy Usage Mfg. Process Weighted Score","Easily Biodegradable Weighted Score","Made from Natural Materials Weighted Score","Available Locally Weighted Score","Low Emissions Potential Weighted Score","Listed in Other Programs Weighted Score","Non Hazardous as Waste Weighted Score","Total Weighted Score","Force Ranking",null,"Weighted Score for Force Rank Calculation ",null,"Detailed instructions and options for using this tool are found in the Using the DYO® GBD Kit Decision Matrix Software Section of your DYO® Green Building Decision Kit."]
["Cistern/Above Ground",null,null,"L","M","L","N",null,"H","M",{"$f":"SUM(IF(ISBLANK(C2),,LOOKUP(C2,'Component Weights'!$B$16:$J$16,'Component Weights'!$B$17:$J$17)),IF(ISBLANK(D2),,LOOKUP(D2,'Component Weights'!$B$16:$J$16,'Component Weights'!$B$17:$J$17)),IF(ISBLANK(E2),,LOOKUP(E2,'Component Weights'!$B$16:$J$16,'Component Weights'!$B$17:$J$17)),IF(ISBLANK(F2),,LOOKUP(F2,'Component Weights'!$B$16:$J$16,'Component Weights'!$B$17:$J$17)),IF(ISBLANK(G2),,LOOKUP(G2,'Component Weights'!$B$16:$J$16,'Component Weights'!$B$17:$J$17)),IF(ISBLANK(B2),,LOOKUP(B2,'Component Weights'!$B$16:$J$16,'Component Weights'!$B$17:$J$17)),IF(ISBLANK(H2),,LOOKUP(H2,'Component Weights'!$B$16:$J$16,'Component Weights'!$B$17:$J$17)),IF(ISBLANK(I2),,LOOKUP(I2,'Component Weights'!$B$16:$J$16,'Component Weights'!$B$17:$J$17)),IF(ISBLANK(J2),,LOOKUP(J2,'Component Weights'!$B$16:$J$16,'Component Weights'!$B$17:$J$17)))","v":9},{"$f":"IF(ISBLANK(C2),\" \",(LOOKUP(C2,'Component Weights'!$B$16:$J$16,'Component Weights'!$B$17:$J$17)*$AA$4))","v":" "},{"$f":"IF(ISBLANK(D2),\" \",(LOOKUP(D2,'Component Weights'!$B$16:$J$16,'Component Weights'!$B$17:$J$17)*$AA$5))","v":0.12},{"$f":"IF(ISBLANK(E2),\" \",(LOOKUP(E2,'Component Weights'!$B$16:$J$16,'Component Weights'!$B$17:$J$17)*$AA$6))","v":0.16},{"$f":"IF(ISBLANK(F2),\" \",(LOOKUP(F2,'Component Weights'!$B$16:$J$16,'Component Weights'!$B$17:$J$17)*$AA$7))","v":0.12},{"$f":"IF(ISBLANK(G2),\" \",(LOOKUP(G2,'Component Weights'!$B$16:$J$16,'Component Weights'!$B$17:$J$17)*$AA$8))","v":0},{"$f":"IF(ISBLANK(B2),\" \",(LOOKUP(B2,'Component Weights'!$B$16:$J$16,'Component Weights'!$B$17:$J$17)*$AA$9))","v":" "},{"$f":"IF(ISBLANK(H2),\" \",(LOOKUP(H2,'Component Weights'!$B$16:$J$16,'Component Weights'!$B$17:$J$17)*$AA$10))","v":" "},{"$f":"IF(ISBLANK(I2),\" \",(LOOKUP(I2,'Component Weights'!$B$16:$J$16,'Component Weights'!$B$17:$J$17)*$AA$11))","v":0.24},{"$f":"IF(ISBLANK(J2),\" \",(LOOKUP(J2,'Component Weights'!$B$16:$J$16,'Component Weights'!$B$17:$J$17)*$AA$12))","v":0.24},{"$f":"SUM(L2:T2)","v":0.88},{"$f":"IF($U2>0,RANK($U2,X$2:X$206,0),99)","v":1},null,{"$f":"U2","v":0.88},null,"Component Weights for","Weight"]
["Cistern/Below Ground",null,null,"L","M","L","N",null,"H","M",{"$f":"SUM(IF(ISBLANK(C3),,LOOKUP(C3,'Component Weights'!$B$16:$J$16,'Component Weights'!$B$17:$J$17)),IF(ISBLANK(D3),,LOOKUP(D3,'Component Weights'!$B$16:$J$16,'Component Weights'!$B$17:$J$17)),IF(ISBLANK(E3),,LOOKUP(E3,'Component Weights'!$B$16:$J$16,'Component Weights'!$B$17:$J$17)),IF(ISBLANK(F3),,LOOKUP(F3,'Component Weights'!$B$16:$J$16,'Component Weights'!$B$17:$J$17)),IF(ISBLANK(G3),,LOOKUP(G3,'Component Weights'!$B$16:$J$16,'Component Weights'!$B$17:$J$17)),IF(ISBLANK(B3),,LOOKUP(B3,'Component Weights'!$B$16:$J$16,'Component Weights'!$B$17:$J$17)),IF(ISBLANK(H3),,LOOKUP(H3,'Component Weights'!$B$16:$J$16,'Component Weights'!$B$17:$J$17)),IF(ISBLANK(I3),,LOOKUP(I3,'Component Weights'!$B$16:$J$16,'Component Weights'!$B$17:$J$17)),IF(ISBLANK(J3),,LOOKUP(J3,'Component Weights'!$B$16:$J$16,'Component Weights'!$B$17:$J$17)))","v":9},{"$f":"IF(ISBLANK(C3),\" \",(LOOKUP(C3,'Component Weights'!$B$16:$J$16,'Component Weights'!$B$17:$J$17)*$AA$4))","v":" "},{"$f":"IF(ISBLANK(D3),\" \",(LOOKUP(D3,'Component Weights'!$B$16:$J$16,'Component Weights'!$B$17:$J$17)*$AA$5))","v":0.12},{"$f":"IF(ISBLANK(E3),\" \",(LOOKUP(E3,'Component Weights'!$B$16:$J$16,'Component Weights'!$B$17:$J$17)*$AA$6))","v":0.16},{"$f":"IF(ISBLANK(F3),\" \",(LOOKUP(F3,'Component Weights'!$B$16:$J$16,'Component Weights'!$B$17:$J$17)*$AA$7))","v":0.12},{"$f":"IF(ISBLANK(G3),\" \",(LOOKUP(G3,'Component Weights'!$B$16:$J$16,'Component Weights'!$B$17:$J$17)*$AA$8))","v":0},{"$f":"IF(ISBLANK(B3),\" \",(LOOKUP(B3,'Component Weights'!$B$16:$J$16,'Component Weights'!$B$17:$J$17)*$AA$9))","v":" "},{"$f":"IF(ISBLANK(H3),\" \",(LOOKUP(H3,'Component Weights'!$B$16:$J$16,'Component Weights'!$B$17:$J$17)*$AA$10))","v":" "},{"$f":"IF(ISBLANK(I3),\" \",(LOOKUP(I3,'Component Weights'!$B$16:$J$16,'Component Weights'!$B$17:$J$17)*$AA$11))","v":0.24},{"$f":"IF(ISBLANK(J3),\" \",(LOOKUP(J3,'Component Weights'!$B$16:$J$16,'Component Weights'!$B$17:$J$17)*$AA$12))","v":0.24},0.88,1,null,0.88,null,"Rainwater Catchment"]
["Metal Drums",null,null,"L","L","L","N",null,"L","M",{"$f":"SUM(IF(ISBLANK(C4),,LOOKUP(C4,'Component Weights'!$B$16:$J$16,'Component Weights'!$B$17:$J$17)),IF(ISBLANK(D4),,LOOKUP(D4,'Component Weights'!$B$16:$J$16,'Component Weights'!$B$17:$J$17)),IF(ISBLANK(E4),,LOOKUP(E4,'Component Weights'!$B$16:$J$16,'Component Weights'!$B$17:$J$17)),IF(ISBLANK(F4),,LOOKUP(F4,'Component Weights'!$B$16:$J$16,'Component Weights'!$B$17:$J$17)),IF(ISBLANK(G4),,LOOKUP(G4,'Component Weights'!$B$16:$J$16,'Component Weights'!$B$17:$J$17)),IF(ISBLANK(B4),,LOOKUP(B4,'Component Weights'!$B$16:$J$16,'Component Weights'!$B$17:$J$17)),IF(ISBLANK(H4),,LOOKUP(H4,'Component Weights'!$B$16:$J$16,'Component Weights'!$B$17:$J$17)),IF(ISBLANK(I4),,LOOKUP(I4,'Component Weights'!$B$16:$J$16,'Component Weights'!$B$17:$J$17)),IF(ISBLANK(J4),,LOOKUP(J4,'Component Weights'!$B$16:$J$16,'Component Weights'!$B$17:$J$17)))","v":6},{"$f":"IF(ISBLANK(C4),\" \",(LOOKUP(C4,'Component Weights'!$B$16:$J$16,'Component Weights'!$B$17:$J$17)*$AA$4))","v":" "},{"$f":"IF(ISBLANK(D4),\" \",(LOOKUP(D4,'Component Weights'!$B$16:$J$16,'Component Weights'!$B$17:$J$17)*$AA$5))","v":0.12},{"$f":"IF(ISBLANK(E4),\" \",(LOOKUP(E4,'Component Weights'!$B$16:$J$16,'Component Weights'!$B$17:$J$17)*$AA$6))","v":0.08},{"$f":"IF(ISBLANK(F4),\" \",(LOOKUP(F4,'Component Weights'!$B$16:$J$16,'Component Weights'!$B$17:$J$17)*$AA$7))","v":0.12},{"$f":"IF(ISBLANK(G4),\" \",(LOOKUP(G4,'Component Weights'!$B$16:$J$16,'Component Weights'!$B$17:$J$17)*$AA$8))","v":0},{"$f":"IF(ISBLANK(B4),\" \",(LOOKUP(B4,'Component Weights'!$B$16:$J$16,'Component Weights'!$B$17:$J$17)*$AA$9))","v":" "},{"$f":"IF(ISBLANK(H4),\" \",(LOOKUP(H4,'Component Weights'!$B$16:$J$16,'Component Weights'!$B$17:$J$17)*$AA$10))","v":" "},{"$f":"IF(ISBLANK(I4),\" \",(LOOKUP(I4,'Component Weights'!$B$16:$J$16,'Component Weights'!$B$17:$J$17)*$AA$11))","v":0.08},{"$f":"IF(ISBLANK(J4),\" \",(LOOKUP(J4,'Component Weights'!$B$16:$J$16,'Component Weights'!$B$17:$J$17)*$AA$12))","v":0.24},0.64,3,null,0.64,null,"Incremental Energy Savings",0.08,"M","The amount of incremental energy, expressed in Btu/Hr, that a product saves or generates for the structure."]
["Fiberglass Tanks",null,null,"L","M","N","N",null,"L","M",{"$f":"SUM(IF(ISBLANK(C5),,LOOKUP(C5,'Component Weights'!$B$16:$J$16,'Component Weights'!$B$17:$J$17)),IF(ISBLANK(D5),,LOOKUP(D5,'Component Weights'!$B$16:$J$16,'Component Weights'!$B$17:$J$17)),IF(ISBLANK(E5),,LOOKUP(E5,'Component Weights'!$B$16:$J$16,'Component Weights'!$B$17:$J$17)),IF(ISBLANK(F5),,LOOKUP(F5,'Component Weights'!$B$16:$J$16,'Component Weights'!$B$17:$J$17)),IF(ISBLANK(G5),,LOOKUP(G5,'Component Weights'!$B$16:$J$16,'Component Weights'!$B$17:$J$17)),IF(ISBLANK(B5),,LOOKUP(B5,'Component Weights'!$B$16:$J$16,'Component Weights'!$B$17:$J$17)),IF(ISBLANK(H5),,LOOKUP(H5,'Component Weights'!$B$16:$J$16,'Component Weights'!$B$17:$J$17)),IF(ISBLANK(I5),,LOOKUP(I5,'Component Weights'!$B$16:$J$16,'Component Weights'!$B$17:$J$17)),IF(ISBLANK(J5),,LOOKUP(J5,'Component Weights'!$B$16:$J$16,'Component Weights'!$B$17:$J$17)))","v":6},{"$f":"IF(ISBLANK(C5),\" \",(LOOKUP(C5,'Component Weights'!$B$16:$J$16,'Component Weights'!$B$17:$J$17)*$AA$4))","v":" "},{"$f":"IF(ISBLANK(D5),\" \",(LOOKUP(D5,'Component Weights'!$B$16:$J$16,'Component Weights'!$B$17:$J$17)*$AA$5))","v":0.12},{"$f":"IF(ISBLANK(E5),\" \",(LOOKUP(E5,'Component Weights'!$B$16:$J$16,'Component Weights'!$B$17:$J$17)*$AA$6))","v":0.16},{"$f":"IF(ISBLANK(F5),\" \",(LOOKUP(F5,'Component Weights'!$B$16:$J$16,'Component Weights'!$B$17:$J$17)*$AA$7))","v":0},{"$f":"IF(ISBLANK(G5),\" \",(LOOKUP(G5,'Component Weights'!$B$16:$J$16,'Component Weights'!$B$17:$J$17)*$AA$8))","v":0},{"$f":"IF(ISBLANK(B5),\" \",(LOOKUP(B5,'Component Weights'!$B$16:$J$16,'Component Weights'!$B$17:$J$17)*$AA$9))","v":" "},{"$f":"IF(ISBLANK(H5),\" \",(LOOKUP(H5,'Component Weights'!$B$16:$J$16,'Component Weights'!$B$17:$J$17)*$AA$10))","v":" "},{"$f":"IF(ISBLANK(I5),\" \",(LOOKUP(I5,'Component Weights'!$B$16:$J$16,'Component Weights'!$B$17:$J$17)*$AA$11))","v":0.08},{"$f":"IF(ISBLANK(J5),\" \",(LOOKUP(J5,'Component Weights'!$B$16:$J$16,'Component Weights'!$B$17:$J$17)*$AA$12))","v":0.24},0.60000000000000009,4,null,0.60000000000000009,null,"Use of Recycled Content",0.12,"H","The amount of recycled content, expressed as a percentage, found in a product."]
["Plastic Barrels",null,null,"N","L","N","N",null,"H","M",{"$f":"SUM(IF(ISBLANK(C6),,LOOKUP(C6,'Component Weights'!$B$16:$J$16,'Component Weights'!$B$17:$J$17)),IF(ISBLANK(D6),,LOOKUP(D6,'Component Weights'!$B$16:$J$16,'Component Weights'!$B$17:$J$17)),IF(ISBLANK(E6),,LOOKUP(E6,'Component Weights'!$B$16:$J$16,'Component Weights'!$B$17:$J$17)),IF(ISBLANK(F6),,LOOKUP(F6,'Component Weights'!$B$16:$J$16,'Component Weights'!$B$17:$J$17)),IF(ISBLANK(G6),,LOOKUP(G6,'Component Weights'!$B$16:$J$16,'Component Weights'!$B$17:$J$17)),IF(ISBLANK(B6),,LOOKUP(B6,'Component Weights'!$B$16:$J$16,'Component Weights'!$B$17:$J$17)),IF(ISBLANK(H6),,LOOKUP(H6,'Component Weights'!$B$16:$J$16,'Component Weights'!$B$17:$J$17)),IF(ISBLANK(I6),,LOOKUP(I6,'Component Weights'!$B$16:$J$16,'Component Weights'!$B$17:$J$17)),IF(ISBLANK(J6),,LOOKUP(J6,'Component Weights'!$B$16:$J$16,'Component Weights'!$B$17:$J$17)))","v":6},{"$f":"IF(ISBLANK(C6),\" \",(LOOKUP(C6,'Component Weights'!$B$16:$J$16,'Component Weights'!$B$17:$J$17)*$AA$4))","v":" "},{"$f":"IF(ISBLANK(D6),\" \",(LOOKUP(D6,'Component Weights'!$B$16:$J$16,'Component Weights'!$B$17:$J$17)*$AA$5))","v":0},{"$f":"IF(ISBLANK(E6),\" \",(LOOKUP(E6,'Component Weights'!$B$16:$J$16,'Component Weights'!$B$17:$J$17)*$AA$6))","v":0.08},{"$f":"IF(ISBLANK(F6),\" \",(LOOKUP(F6,'Component Weights'!$B$16:$J$16,'Component Weights'!$B$17:$J$17)*$AA$7))","v":0},{"$f":"IF(ISBLANK(G6),\" \",(LOOKUP(G6,'Component Weights'!$B$16:$J$16,'Component Weights'!$B$17:$J$17)*$AA$8))","v":0},{"$f":"IF(ISBLANK(B6),\" \",(LOOKUP(B6,'Component Weights'!$B$16:$J$16,'Component Weights'!$B$17:$J$17)*$AA$9))","v":" "},{"$f":"IF(ISBLANK(H6),\" \",(LOOKUP(H6,'Component Weights'!$B$16:$J$16,'Component Weights'!$B$17:$J$17)*$AA$10))","v":" "},{"$f":"IF(ISBLANK(I6),\" \",(LOOKUP(I6,'Component Weights'!$B$16:$J$16,'Component Weights'!$B$17:$J$17)*$AA$11))","v":0.24},{"$f":"IF(ISBLANK(J6),\" \",(LOOKUP(J6,'Component Weights'!$B$16:$J$16,'Component Weights'!$B$17:$J$17)*$AA$12))","v":0.24},0.56000000000000005,5,null,0.56000000000000005,null,"Low Energy Usage Manufacturing Process",0.08,"M","The amount of energy used in manufacture of the product."]
["Molded Plastic Tanks",null,null,"L","L","N","N",null,"L","M",{"$f":"SUM(IF(ISBLANK(C7),,LOOKUP(C7,'Component Weights'!$B$16:$J$16,'Component Weights'!$B$17:$J$17)),IF(ISBLANK(D7),,LOOKUP(D7,'Component Weights'!$B$16:$J$16,'Component Weights'!$B$17:$J$17)),IF(ISBLANK(E7),,LOOKUP(E7,'Component Weights'!$B$16:$J$16,'Component Weights'!$B$17:$J$17)),IF(ISBLANK(F7),,LOOKUP(F7,'Component Weights'!$B$16:$J$16,'Component Weights'!$B$17:$J$17)),IF(ISBLANK(G7),,LOOKUP(G7,'Component Weights'!$B$16:$J$16,'Component Weights'!$B$17:$J$17)),IF(ISBLANK(B7),,LOOKUP(B7,'Component Weights'!$B$16:$J$16,'Component Weights'!$B$17:$J$17)),IF(ISBLANK(H7),,LOOKUP(H7,'Component Weights'!$B$16:$J$16,'Component Weights'!$B$17:$J$17)),IF(ISBLANK(I7),,LOOKUP(I7,'Component Weights'!$B$16:$J$16,'Component Weights'!$B$17:$J$17)),IF(ISBLANK(J7),,LOOKUP(J7,'Component Weights'!$B$16:$J$16,'Component Weights'!$B$17:$J$17)))","v":5},{"$f":"IF(ISBLANK(C7),\" \",(LOOKUP(C7,'Component Weights'!$B$16:$J$16,'Component Weights'!$B$17:$J$17)*$AA$4))","v":" "},{"$f":"IF(ISBLANK(D7),\" \",(LOOKUP(D7,'Component Weights'!$B$16:$J$16,'Component Weights'!$B$17:$J$17)*$AA$5))","v":0.12},{"$f":"IF(ISBLANK(E7),\" \",(LOOKUP(E7,'Component Weights'!$B$16:$J$16,'Component Weights'!$B$17:$J$17)*$AA$6))","v":0.08},{"$f":"IF(ISBLANK(F7),\" \",(LOOKUP(F7,'Component Weights'!$B$16:$J$16,'Component Weights'!$B$17:$J$17)*$AA$7))","v":0},{"$f":"IF(ISBLANK(G7),\" \",(LOOKUP(G7,'Component Weights'!$B$16:$J$16,'Component Weights'!$B$17:$J$17)*$AA$8))","v":0},{"$f":"IF(ISBLANK(B7),\" \",(LOOKUP(B7,'Component Weights'!$B$16:$J$16,'Component Weights'!$B$17:$J$17)*$AA$9))","v":" "},{"$f":"IF(ISBLANK(H7),\" \",(LOOKUP(H7,'Component Weights'!$B$16:$J$16,'Component Weights'!$B$17:$J$17)*$AA$10))","v":" "},{"$f":"IF(ISBLANK(I7),\" \",(LOOKUP(I7,'Component Weights'!$B$16:$J$16,'Component Weights'!$B$17:$J$17)*$AA$11))","v":0.08},{"$f":"IF(ISBLANK(J7),\" \",(LOOKUP(J7,'Component Weights'!$B$16:$J$16,'Component Weights'!$B$17:$J$17)*$AA$12))","v":0.24},0.52,6,null,0.52,null,"Easily Biodegradable",0.12,"H","The amount of time it will take the product to degrade once its useful life is over."]
["Stainless Steel Tanks",null,null,"N","L","N","N",null,"M","M",{"$f":"SUM(IF(ISBLANK(C8),,LOOKUP(C8,'Component Weights'!$B$16:$J$16,'Component Weights'!$B$17:$J$17)),IF(ISBLANK(D8),,LOOKUP(D8,'Component Weights'!$B$16:$J$16,'Component Weights'!$B$17:$J$17)),IF(ISBLANK(E8),,LOOKUP(E8,'Component Weights'!$B$16:$J$16,'Component Weights'!$B$17:$J$17)),IF(ISBLANK(F8),,LOOKUP(F8,'Component Weights'!$B$16:$J$16,'Component Weights'!$B$17:$J$17)),IF(ISBLANK(G8),,LOOKUP(G8,'Component Weights'!$B$16:$J$16,'Component Weights'!$B$17:$J$17)),IF(ISBLANK(B8),,LOOKUP(B8,'Component Weights'!$B$16:$J$16,'Component Weights'!$B$17:$J$17)),IF(ISBLANK(H8),,LOOKUP(H8,'Component Weights'!$B$16:$J$16,'Component Weights'!$B$17:$J$17)),IF(ISBLANK(I8),,LOOKUP(I8,'Component Weights'!$B$16:$J$16,'Component Weights'!$B$17:$J$17)),IF(ISBLANK(J8),,LOOKUP(J8,'Component Weights'!$B$16:$J$16,'Component Weights'!$B$17:$J$17)))","v":5},{"$f":"IF(ISBLANK(C8),\" \",(LOOKUP(C8,'Component Weights'!$B$16:$J$16,'Component Weights'!$B$17:$J$17)*$AA$4))","v":" "},{"$f":"IF(ISBLANK(D8),\" \",(LOOKUP(D8,'Component Weights'!$B$16:$J$16,'Component Weights'!$B$17:$J$17)*$AA$5))","v":0},{"$f":"IF(ISBLANK(E8),\" \",(LOOKUP(E8,'Component Weights'!$B$16:$J$16,'Component Weights'!$B$17:$J$17)*$AA$6))","v":0.08},{"$f":"IF(ISBLANK(F8),\" \",(LOOKUP(F8,'Component Weights'!$B$16:$J$16,'Component Weights'!$B$17:$J$17)*$AA$7))","v":0},{"$f":"IF(ISBLANK(G8),\" \",(LOOKUP(G8,'Component Weights'!$B$16:$J$16,'Component Weights'!$B$17:$J$17)*$AA$8))","v":0},{"$f":"IF(ISBLANK(B8),\" \",(LOOKUP(B8,'Component Weights'!$B$16:$J$16,'Component Weights'!$B$17:$J$17)*$AA$9))","v":" "},{"$f":"IF(ISBLANK(H8),\" \",(LOOKUP(H8,'Component Weights'!$B$16:$J$16,'Component Weights'!$B$17:$J$17)*$AA$10))","v":" "},{"$f":"IF(ISBLANK(I8),\" \",(LOOKUP(I8,'Component Weights'!$B$16:$J$16,'Component Weights'!$B$17:$J$17)*$AA$11))","v":0.16},{"$f":"IF(ISBLANK(J8),\" \",(LOOKUP(J8,'Component Weights'!$B$16:$J$16,'Component Weights'!$B$17:$J$17)*$AA$12))","v":0.24},0.48,7,null,0.48,null,"Made from Natural Materials",0.05,"L","The amount, expressed as a percentage, of natural (not man-made) materials used to make the product."]
["(Enter Custom Product Here)",null,null,null,null,null,null,null,null,null,{"$f":"SUM(IF(ISBLANK(C9),,LOOKUP(C9,'Component Weights'!$B$16:$J$16,'Component Weights'!$B$17:$J$17)),IF(ISBLANK(D9),,LOOKUP(D9,'Component Weights'!$B$16:$J$16,'Component Weights'!$B$17:$J$17)),IF(ISBLANK(E9),,LOOKUP(E9,'Component Weights'!$B$16:$J$16,'Component Weights'!$B$17:$J$17)),IF(ISBLANK(F9),,LOOKUP(F9,'Component Weights'!$B$16:$J$16,'Component Weights'!$B$17:$J$17)),IF(ISBLANK(G9),,LOOKUP(G9,'Component Weights'!$B$16:$J$16,'Component Weights'!$B$17:$J$17)),IF(ISBLANK(B9),,LOOKUP(B9,'Component Weights'!$B$16:$J$16,'Component Weights'!$B$17:$J$17)),IF(ISBLANK(H9),,LOOKUP(H9,'Component Weights'!$B$16:$J$16,'Component Weights'!$B$17:$J$17)),IF(ISBLANK(I9),,LOOKUP(I9,'Component Weights'!$B$16:$J$16,'Component Weights'!$B$17:$J$17)),IF(ISBLANK(J9),,LOOKUP(J9,'Component Weights'!$B$16:$J$16,'Component Weights'!$B$17:$J$17)))","v":0},{"$f":"IF(ISBLANK(C9),\" \",(LOOKUP(C9,'Component Weights'!$B$16:$J$16,'Component Weights'!$B$17:$J$17)*$AA$4))","v":" "},{"$f":"IF(ISBLANK(D9),\" \",(LOOKUP(D9,'Component Weights'!$B$16:$J$16,'Component Weights'!$B$17:$J$17)*$AA$5))","v":" "},{"$f":"IF(ISBLANK(E9),\" \",(LOOKUP(E9,'Component Weights'!$B$16:$J$16,'Component Weights'!$B$17:$J$17)*$AA$6))","v":" "},{"$f":"IF(ISBLANK(F9),\" \",(LOOKUP(F9,'Component Weights'!$B$16:$J$16,'Component Weights'!$B$17:$J$17)*$AA$7))","v":" "},{"$f":"IF(ISBLANK(G9),\" \",(LOOKUP(G9,'Component Weights'!$B$16:$J$16,'Component Weights'!$B$17:$J$17)*$AA$8))","v":" "},{"$f":"IF(ISBLANK(B9),\" \",(LOOKUP(B9,'Component Weights'!$B$16:$J$16,'Component Weights'!$B$17:$J$17)*$AA$9))","v":" "},{"$f":"IF(ISBLANK(H9),\" \",(LOOKUP(H9,'Component Weights'!$B$16:$J$16,'Component Weights'!$B$17:$J$17)*$AA$10))","v":" "},{"$f":"IF(ISBLANK(I9),\" \",(LOOKUP(I9,'Component Weights'!$B$16:$J$16,'Component Weights'!$B$17:$J$17)*$AA$11))","v":" "},{"$f":"IF(ISBLANK(J9),\" \",(LOOKUP(J9,'Component Weights'!$B$16:$J$16,'Component Weights'!$B$17:$J$17)*$AA$12))","v":" "},0,99,null,0,null,"Available Locally",0.23,"H+","The distance in miles that the product must travel to the destination of final use."]
["(Enter Custom Product Here)",null,null,null,null,null,null,null,null,null,{"$f":"SUM(IF(ISBLANK(C10),,LOOKUP(C10,'Component Weights'!$B$16:$J$16,'Component Weights'!$B$17:$J$17)),IF(ISBLANK(D10),,LOOKUP(D10,'Component Weights'!$B$16:$J$16,'Component Weights'!$B$17:$J$17)),IF(ISBLANK(E10),,LOOKUP(E10,'Component Weights'!$B$16:$J$16,'Component Weights'!$B$17:$J$17)),IF(ISBLANK(F10),,LOOKUP(F10,'Component Weights'!$B$16:$J$16,'Component Weights'!$B$17:$J$17)),IF(ISBLANK(G10),,LOOKUP(G10,'Component Weights'!$B$16:$J$16,'Component Weights'!$B$17:$J$17)),IF(ISBLANK(B10),,LOOKUP(B10,'Component Weights'!$B$16:$J$16,'Component Weights'!$B$17:$J$17)),IF(ISBLANK(H10),,LOOKUP(H10,'Component Weights'!$B$16:$J$16,'Component Weights'!$B$17:$J$17)),IF(ISBLANK(I10),,LOOKUP(I10,'Component Weights'!$B$16:$J$16,'Component Weights'!$B$17:$J$17)),IF(ISBLANK(J10),,LOOKUP(J10,'Component Weights'!$B$16:$J$16,'Component Weights'!$B$17:$J$17)))","v":0},{"$f":"IF(ISBLANK(C10),\" \",(LOOKUP(C10,'Component Weights'!$B$16:$J$16,'Component Weights'!$B$17:$J$17)*$AA$4))","v":" "},{"$f":"IF(ISBLANK(D10),\" \",(LOOKUP(D10,'Component Weights'!$B$16:$J$16,'Component Weights'!$B$17:$J$17)*$AA$5))","v":" "},{"$f":"IF(ISBLANK(E10),\" \",(LOOKUP(E10,'Component Weights'!$B$16:$J$16,'Component Weights'!$B$17:$J$17)*$AA$6))","v":" "},{"$f":"IF(ISBLANK(F10),\" \",(LOOKUP(F10,'Component Weights'!$B$16:$J$16,'Component Weights'!$B$17:$J$17)*$AA$7))","v":" "},{"$f":"IF(ISBLANK(G10),\" \",(LOOKUP(G10,'Component Weights'!$B$16:$J$16,'Component Weights'!$B$17:$J$17)*$AA$8))","v":" "},{"$f":"IF(ISBLANK(B10),\" \",(LOOKUP(B10,'Component Weights'!$B$16:$J$16,'Component Weights'!$B$17:$J$17)*$AA$9))","v":" "},{"$f":"IF(ISBLANK(H10),\" \",(LOOKUP(H10,'Component Weights'!$B$16:$J$16,'Component Weights'!$B$17:$J$17)*$AA$10))","v":" "},{"$f":"IF(ISBLANK(I10),\" \",(LOOKUP(I10,'Component Weights'!$B$16:$J$16,'Component Weights'!$B$17:$J$17)*$AA$11))","v":" "},{"$f":"IF(ISBLANK(J10),\" \",(LOOKUP(J10,'Component Weights'!$B$16:$J$16,'Component Weights'!$B$17:$J$17)*$AA$12))","v":" "},0,99,null,{"$f":"U10","v":0},null,"Low Emissions Potential",0.12,"H","The amount of time it will take the product to stop outgassing."]
["(Enter Custom Product Here)",null,null,null,null,null,null,null,null,null,{"$f":"SUM(IF(ISBLANK(C11),,LOOKUP(C11,'Component Weights'!$B$16:$J$16,'Component Weights'!$B$17:$J$17)),IF(ISBLANK(D11),,LOOKUP(D11,'Component Weights'!$B$16:$J$16,'Component Weights'!$B$17:$J$17)),IF(ISBLANK(E11),,LOOKUP(E11,'Component Weights'!$B$16:$J$16,'Component Weights'!$B$17:$J$17)),IF(ISBLANK(F11),,LOOKUP(F11,'Component Weights'!$B$16:$J$16,'Component Weights'!$B$17:$J$17)),IF(ISBLANK(G11),,LOOKUP(G11,'Component Weights'!$B$16:$J$16,'Component Weights'!$B$17:$J$17)),IF(ISBLANK(B11),,LOOKUP(B11,'Component Weights'!$B$16:$J$16,'Component Weights'!$B$17:$J$17)),IF(ISBLANK(H11),,LOOKUP(H11,'Component Weights'!$B$16:$J$16,'Component Weights'!$B$17:$J$17)),IF(ISBLANK(I11),,LOOKUP(I11,'Component Weights'!$B$16:$J$16,'Component Weights'!$B$17:$J$17)),IF(ISBLANK(J11),,LOOKUP(J11,'Component Weights'!$B$16:$J$16,'Component Weights'!$B$17:$J$17)))","v":0},{"$f":"IF(ISBLANK(C11),\" \",(LOOKUP(C11,'Component Weights'!$B$16:$J$16,'Component Weights'!$B$17:$J$17)*$AA$4))","v":" "},{"$f":"IF(ISBLANK(D11),\" \",(LOOKUP(D11,'Component Weights'!$B$16:$J$16,'Component Weights'!$B$17:$J$17)*$AA$5))","v":" "},{"$f":"IF(ISBLANK(E11),\" \",(LOOKUP(E11,'Component Weights'!$B$16:$J$16,'Component Weights'!$B$17:$J$17)*$AA$6))","v":" "},{"$f":"IF(ISBLANK(F11),\" \",(LOOKUP(F11,'Component Weights'!$B$16:$J$16,'Component Weights'!$B$17:$J$17)*$AA$7))","v":" "},{"$f":"IF(ISBLANK(G11),\" \",(LOOKUP(G11,'Component Weights'!$B$16:$J$16,'Component Weights'!$B$17:$J$17)*$AA$8))","v":" "},{"$f":"IF(ISBLANK(B11),\" \",(LOOKUP(B11,'Component Weights'!$B$16:$J$16,'Component Weights'!$B$17:$J$17)*$AA$9))","v":" "},{"$f":"IF(ISBLANK(H11),\" \",(LOOKUP(H11,'Component Weights'!$B$16:$J$16,'Component Weights'!$B$17:$J$17)*$AA$10))","v":" "},{"$f":"IF(ISBLANK(I11),\" \",(LOOKUP(I11,'Component Weights'!$B$16:$J$16,'Component Weights'!$B$17:$J$17)*$AA$11))","v":" "},{"$f":"IF(ISBLANK(J11),\" \",(LOOKUP(J11,'Component Weights'!$B$16:$J$16,'Component Weights'!$B$17:$J$17)*$AA$12))","v":" "},0,99,null,{"$f":"U11","v":0},null,"Listed in Other Programs (e.g. EnergyStar)",0.08,"M","The level of product recommendation in recognized energy and environmental programs."]
["(Enter Custom Product Here)",null,null,null,null,null,null,null,null,null,{"$f":"SUM(IF(ISBLANK(C12),,LOOKUP(C12,'Component Weights'!$B$16:$J$16,'Component Weights'!$B$17:$J$17)),IF(ISBLANK(D12),,LOOKUP(D12,'Component Weights'!$B$16:$J$16,'Component Weights'!$B$17:$J$17)),IF(ISBLANK(E12),,LOOKUP(E12,'Component Weights'!$B$16:$J$16,'Component Weights'!$B$17:$J$17)),IF(ISBLANK(F12),,LOOKUP(F12,'Component Weights'!$B$16:$J$16,'Component Weights'!$B$17:$J$17)),IF(ISBLANK(G12),,LOOKUP(G12,'Component Weights'!$B$16:$J$16,'Component Weights'!$B$17:$J$17)),IF(ISBLANK(B12),,LOOKUP(B12,'Component Weights'!$B$16:$J$16,'Component Weights'!$B$17:$J$17)),IF(ISBLANK(H12),,LOOKUP(H12,'Component Weights'!$B$16:$J$16,'Component Weights'!$B$17:$J$17)),IF(ISBLANK(I12),,LOOKUP(I12,'Component Weights'!$B$16:$J$16,'Component Weights'!$B$17:$J$17)),IF(ISBLANK(J12),,LOOKUP(J12,'Component Weights'!$B$16:$J$16,'Component Weights'!$B$17:$J$17)))","v":0},{"$f":"IF(ISBLANK(C12),\" \",(LOOKUP(C12,'Component Weights'!$B$16:$J$16,'Component Weights'!$B$17:$J$17)*$AA$4))","v":" "},{"$f":"IF(ISBLANK(D12),\" \",(LOOKUP(D12,'Component Weights'!$B$16:$J$16,'Component Weights'!$B$17:$J$17)*$AA$5))","v":" "},{"$f":"IF(ISBLANK(E12),\" \",(LOOKUP(E12,'Component Weights'!$B$16:$J$16,'Component Weights'!$B$17:$J$17)*$AA$6))","v":" "},{"$f":"IF(ISBLANK(F12),\" \",(LOOKUP(F12,'Component Weights'!$B$16:$J$16,'Component Weights'!$B$17:$J$17)*$AA$7))","v":" "},{"$f":"IF(ISBLANK(G12),\" \",(LOOKUP(G12,'Component Weights'!$B$16:$J$16,'Component Weights'!$B$17:$J$17)*$AA$8))","v":" "},{"$f":"IF(ISBLANK(B12),\" \",(LOOKUP(B12,'Component Weights'!$B$16:$J$16,'Component Weights'!$B$17:$J$17)*$AA$9))","v":" "},{"$f":"IF(ISBLANK(H12),\" \",(LOOKUP(H12,'Component Weights'!$B$16:$J$16,'Component Weights'!$B$17:$J$17)*$AA$10))","v":" "},{"$f":"IF(ISBLANK(I12),\" \",(LOOKUP(I12,'Component Weights'!$B$16:$J$16,'Component Weights'!$B$17:$J$17)*$AA$11))","v":" "},{"$f":"IF(ISBLANK(J12),\" \",(LOOKUP(J12,'Component Weights'!$B$16:$J$16,'Component Weights'!$B$17:$J$17)*$AA$12))","v":" "},0,99,null,{"$f":"U12","v":0},null,"Non Hazardous as Waste",0.12,"H","The amount of hazardous materials and components found in the product."]
["(Enter Custom Product Here)",null,null,null,null,null,null,null,null,null,{"$f":"SUM(IF(ISBLANK(C13),,LOOKUP(C13,'Component Weights'!$B$16:$J$16,'Component Weights'!$B$17:$J$17)),IF(ISBLANK(D13),,LOOKUP(D13,'Component Weights'!$B$16:$J$16,'Component Weights'!$B$17:$J$17)),IF(ISBLANK(E13),,LOOKUP(E13,'Component Weights'!$B$16:$J$16,'Component Weights'!$B$17:$J$17)),IF(ISBLANK(F13),,LOOKUP(F13,'Component Weights'!$B$16:$J$16,'Component Weights'!$B$17:$J$17)),IF(ISBLANK(G13),,LOOKUP(G13,'Component Weights'!$B$16:$J$16,'Component Weights'!$B$17:$J$17)),IF(ISBLANK(B13),,LOOKUP(B13,'Component Weights'!$B$16:$J$16,'Component Weights'!$B$17:$J$17)),IF(ISBLANK(H13),,LOOKUP(H13,'Component Weights'!$B$16:$J$16,'Component Weights'!$B$17:$J$17)),IF(ISBLANK(I13),,LOOKUP(I13,'Component Weights'!$B$16:$J$16,'Component Weights'!$B$17:$J$17)),IF(ISBLANK(J13),,LOOKUP(J13,'Component Weights'!$B$16:$J$16,'Component Weights'!$B$17:$J$17)))","v":0},{"$f":"IF(ISBLANK(C13),\" \",(LOOKUP(C13,'Component Weights'!$B$16:$J$16,'Component Weights'!$B$17:$J$17)*$AA$4))","v":" "},{"$f":"IF(ISBLANK(D13),\" \",(LOOKUP(D13,'Component Weights'!$B$16:$J$16,'Component Weights'!$B$17:$J$17)*$AA$5))","v":" "},{"$f":"IF(ISBLANK(E13),\" \",(LOOKUP(E13,'Component Weights'!$B$16:$J$16,'Component Weights'!$B$17:$J$17)*$AA$6))","v":" "},{"$f":"IF(ISBLANK(F13),\" \",(LOOKUP(F13,'Component Weights'!$B$16:$J$16,'Component Weights'!$B$17:$J$17)*$AA$7))","v":" "},{"$f":"IF(ISBLANK(G13),\" \",(LOOKUP(G13,'Component Weights'!$B$16:$J$16,'Component Weights'!$B$17:$J$17)*$AA$8))","v":" "},{"$f":"IF(ISBLANK(B13),\" \",(LOOKUP(B13,'Component Weights'!$B$16:$J$16,'Component Weights'!$B$17:$J$17)*$AA$9))","v":" "},{"$f":"IF(ISBLANK(H13),\" \",(LOOKUP(H13,'Component Weights'!$B$16:$J$16,'Component Weights'!$B$17:$J$17)*$AA$10))","v":" "},{"$f":"IF(ISBLANK(I13),\" \",(LOOKUP(I13,'Component Weights'!$B$16:$J$16,'Component Weights'!$B$17:$J$17)*$AA$11))","v":" "},{"$f":"IF(ISBLANK(J13),\" \",(LOOKUP(J13,'Component Weights'!$B$16:$J$16,'Component Weights'!$B$17:$J$17)*$AA$12))","v":" "},0,99,null,{"$f":"U13","v":0},null,"Total Weightings Must Equal 100%",{"$f":"SUM(AA4:AA12)","v":1},null,{"$f":"IF(AA13<>100%,\"Keep Working - Weightings must equal 100%\",\" \")","v":" "}]
["(Enter Custom Product Here)",null,null,null,null,null,null,null,null,null,{"$f":"SUM(IF(ISBLANK(C14),,LOOKUP(C14,'Component Weights'!$B$16:$J$16,'Component Weights'!$B$17:$J$17)),IF(ISBLANK(D14),,LOOKUP(D14,'Component Weights'!$B$16:$J$16,'Component Weights'!$B$17:$J$17)),IF(ISBLANK(E14),,LOOKUP(E14,'Component Weights'!$B$16:$J$16,'Component Weights'!$B$17:$J$17)),IF(ISBLANK(F14),,LOOKUP(F14,'Component Weights'!$B$16:$J$16,'Component Weights'!$B$17:$J$17)),IF(ISBLANK(G14),,LOOKUP(G14,'Component Weights'!$B$16:$J$16,'Component Weights'!$B$17:$J$17)),IF(ISBLANK(B14),,LOOKUP(B14,'Component Weights'!$B$16:$J$16,'Component Weights'!$B$17:$J$17)),IF(ISBLANK(H14),,LOOKUP(H14,'Component Weights'!$B$16:$J$16,'Component Weights'!$B$17:$J$17)),IF(ISBLANK(I14),,LOOKUP(I14,'Component Weights'!$B$16:$J$16,'Component Weights'!$B$17:$J$17)),IF(ISBLANK(J14),,LOOKUP(J14,'Component Weights'!$B$16:$J$16,'Component Weights'!$B$17:$J$17)))","v":0},{"$f":"IF(ISBLANK(C14),\" \",(LOOKUP(C14,'Component Weights'!$B$16:$J$16,'Component Weights'!$B$17:$J$17)*$AA$4))","v":" "},{"$f":"IF(ISBLANK(D14),\" \",(LOOKUP(D14,'Component Weights'!$B$16:$J$16,'Component Weights'!$B$17:$J$17)*$AA$5))","v":" "},{"$f":"IF(ISBLANK(E14),\" \",(LOOKUP(E14,'Component Weights'!$B$16:$J$16,'Component Weights'!$B$17:$J$17)*$AA$6))","v":" "},{"$f":"IF(ISBLANK(F14),\" \",(LOOKUP(F14,'Component Weights'!$B$16:$J$16,'Component Weights'!$B$17:$J$17)*$AA$7))","v":" "},{"$f":"IF(ISBLANK(G14),\" \",(LOOKUP(G14,'Component Weights'!$B$16:$J$16,'Component Weights'!$B$17:$J$17)*$AA$8))","v":" "},{"$f":"IF(ISBLANK(B14),\" \",(LOOKUP(B14,'Component Weights'!$B$16:$J$16,'Component Weights'!$B$17:$J$17)*$AA$9))","v":" "},{"$f":"IF(ISBLANK(H14),\" \",(LOOKUP(H14,'Component Weights'!$B$16:$J$16,'Component Weights'!$B$17:$J$17)*$AA$10))","v":" "},{"$f":"IF(ISBLANK(I14),\" \",(LOOKUP(I14,'Component Weights'!$B$16:$J$16,'Component Weights'!$B$17:$J$17)*$AA$11))","v":" "},{"$f":"IF(ISBLANK(J14),\" \",(LOOKUP(J14,'Component Weights'!$B$16:$J$16,'Component Weights'!$B$17:$J$17)*$AA$12))","v":" "},0,99,null,0]
[null,null,null,null,null,null,null,null,null,null,{"$f":"AVERAGE(K$2:K8)","v":6.5714285714285712},{"$f":"AVERAGE(L$2:L8)","v":{"$error":"#DIV/0!"}},{"$f":"AVERAGE(M$2:M8)","v":8.5714285714285715E-2},{"$f":"AVERAGE(N$2:N8)","v":0.11428571428571428},{"$f":"AVERAGE(O$2:O8)","v":5.1428571428571428E-2},{"$f":"AVERAGE(P$2:P8)","v":0},{"$f":"AVERAGE(Q$2:Q8)","v":{"$error":"#DIV/0!"}},{"$f":"AVERAGE(R$2:R8)","v":{"$error":"#DIV/0!"}},{"$f":"AVERAGE(S$2:S8)","v":0.15999999999999998},{"$f":"AVERAGE(T$2:T8)","v":0.24},{"$f":"AVERAGE(U$2:U8)","v":0.65142857142857147},{"$f":"IF(AND(OR(#REF!=72,#REF!=73,#REF!=74,#REF!=75,#REF!=76),$U15>0),RANK($U15,Y$2:Y$41,0),\" \")","v":{"$error":"#REF!"}}]

{"sheet":"Water Pipes","index":13,"n_rows":14,"n_cols":29,"rows_kept":14,"cut":false,"hidden":false,"merged":[]}
["Instructions:\nScroll down to see all products.  New products may be added to the end of the list.  Rate the performance of each product as \"N, L, M or H.\" (Hover over the component title for the rating description.)  Use your Backspace button to clear values.  The Sort button (below) will incorporate your priorities as currently stated on the table to the right.  (Scroll to the right to see the table.)\n\n","Available Locally","Incremental Energy Savings","Use of Recycled Content","Low Energy Usage Manufacturing Process","Easily Biodegradable","Made from Natural Materials","Low Emissions Potential","Listed in Other Programs","Non Hazardous as Waste","Total Raw Score","Incremental Energy Savings Weighted Score","Use of Recycled Content Weighted Score","Low Energy Usage Mfg. Process Weighted Score","Easily Biodegradable Weighted Score","Made from Natural Materials Weighted Score","Available Locally Weighted Score","Low Emissions Potential Weighted Score","Listed in Other Programs Weighted Score","Non Hazardous as Waste Weighted Score","Total Weighted Score","Force Ranking",null,"Weighted Score for Force Rank Calculation ",null,"Detailed instructions and options for using this tool are found in the Using the DYO® GBD Kit Decision Matrix Software Section of your DYO® Green Building Decision Kit."]
["Galvanized Steel",null,null,null,"L","L","N",null,"L","M",{"$f":"SUM(IF(ISBLANK(C2),,LOOKUP(C2,'Component Weights'!$B$16:$J$16,'Component Weights'!$B$17:$J$17)),IF(ISBLANK(D2),,LOOKUP(D2,'Component Weights'!$B$16:$J$16,'Component Weights'!$B$17:$J$17)),IF(ISBLANK(E2),,LOOKUP(E2,'Component Weights'!$B$16:$J$16,'Component Weights'!$B$17:$J$17)),IF(ISBLANK(F2),,LOOKUP(F2,'Component Weights'!$B$16:$J$16,'Component Weights'!$B$17:$J$17)),IF(ISBLANK(G2),,LOOKUP(G2,'Component Weights'!$B$16:$J$16,'Component Weights'!$B$17:$J$17)),IF(ISBLANK(B2),,LOOKUP(B2,'Component Weights'!$B$16:$J$16,'Component Weights'!$B$17:$J$17)),IF(ISBLANK(H2),,LOOKUP(H2,'Component Weights'!$B$16:$J$16,'Component Weights'!$B$17:$J$17)),IF(ISBLANK(I2),,LOOKUP(I2,'Component Weights'!$B$16:$J$16,'Component Weights'!$B$17:$J$17)),IF(ISBLANK(J2),,LOOKUP(J2,'Component Weights'!$B$16:$J$16,'Component Weights'!$B$17:$J$17)))","v":5},{"$f":"IF(ISBLANK(C2),\" \",(LOOKUP(C2,'Component Weights'!$B$16:$J$16,'Component Weights'!$B$17:$J$17)*$AA$4))","v":" "},{"$f":"IF(ISBLANK(D2),\" \",(LOOKUP(D2,'Component Weights'!$B$16:$J$16,'Component Weights'!$B$17:$J$17)*$AA$5))","v":" "},{"$f":"IF(ISBLANK(E2),\" \",(LOOKUP(E2,'Component Weights'!$B$16:$J$16,'Component Weights'!$B$17:$J$17)*$AA$6))","v":0.08},{"$f":"IF(ISBLANK(F2),\" \",(LOOKUP(F2,'Component Weights'!$B$16:$J$16,'Component Weights'!$B$17:$J$17)*$AA$7))","v":0.12},{"$f":"IF(ISBLANK(G2),\" \",(LOOKUP(G2,'Component Weights'!$B$16:$J$16,'Component Weights'!$B$17:$J$17)*$AA$8))","v":0},{"$f":"IF(ISBLANK(B2),\" \",(LOOKUP(B2,'Component Weights'!$B$16:$J$16,'Component Weights'!$B$17:$J$17)*$AA$9))","v":" "},{"$f":"IF(ISBLANK(H2),\" \",(LOOKUP(H2,'Component Weights'!$B$16:$J$16,'Component Weights'!$B$17:$J$17)*$AA$10))","v":" "},{"$f":"IF(ISBLANK(I2),\" \",(LOOKUP(I2,'Component Weights'!$B$16:$J$16,'Component Weights'!$B$17:$J$17)*$AA$11))","v":0.08},{"$f":"IF(ISBLANK(J2),\" \",(LOOKUP(J2,'Component Weights'!$B$16:$J$16,'Component Weights'!$B$17:$J$17)*$AA$12))","v":0.24},{"$f":"SUM(L2:T2)","v":0.52},{"$f":"IF($U2>0,RANK($U2,X$2:X$207,0),99)","v":1},null,{"$f":"U2","v":0.52},null,"Component Weights for","Weight"]
["Copper",null,null,null,"N","L","L",null,"L","M",{"$f":"SUM(IF(ISBLANK(C3),,LOOKUP(C3,'Component Weights'!$B$16:$J$16,'Component Weights'!$B$17:$J$17)),IF(ISBLANK(D3),,LOOKUP(D3,'Component Weights'!$B$16:$J$16,'Component Weights'!$B$17:$J$17)),IF(ISBLANK(E3),,LOOKUP(E3,'Component Weights'!$B$16:$J$16,'Component Weights'!$B$17:$J$17)),IF(ISBLANK(F3),,LOOKUP(F3,'Component Weights'!$B$16:$J$16,'Component Weights'!$B$17:$J$17)),IF(ISBLANK(G3),,LOOKUP(G3,'Component Weights'!$B$16:$J$16,'Component Weights'!$B$17:$J$17)),IF(ISBLANK(B3),,LOOKUP(B3,'Component Weights'!$B$16:$J$16,'Component Weights'!$B$17:$J$17)),IF(ISBLANK(H3),,LOOKUP(H3,'Component Weights'!$B$16:$J$16,'Component Weights'!$B$17:$J$17)),IF(ISBLANK(I3),,LOOKUP(I3,'Component Weights'!$B$16:$J$16,'Component Weights'!$B$17:$J$17)),IF(ISBLANK(J3),,LOOKUP(J3,'Component Weights'!$B$16:$J$16,'Component Weights'!$B$17:$J$17)))","v":5},{"$f":"IF(ISBLANK(C3),\" \",(LOOKUP(C3,'Component Weights'!$B$16:$J$16,'Component Weights'!$B$17:$J$17)*$AA$4))","v":" "},{"$f":"IF(ISBLANK(D3),\" \",(LOOKUP(D3,'Component Weights'!$B$16:$J$16,'Component Weights'!$B$17:$J$17)*$AA$5))","v":" "},{"$f":"IF(ISBLANK(E3),\" \",(LOOKUP(E3,'Component Weights'!$B$16:$J$16,'Component Weights'!$B$17:$J$17)*$AA$6))","v":0},{"$f":"IF(ISBLANK(F3),\" \",(LOOKUP(F3,'Component Weights'!$B$16:$J$16,'Component Weights'!$B$17:$J$17)*$AA$7))","v":0.12},{"$f":"IF(ISBLANK(G3),\" \",(LOOKUP(G3,'Component Weights'!$B$16:$J$16,'Component Weights'!$B$17:$J$17)*$AA$8))","v":0.05},{"$f":"IF(ISBLANK(B3),\" \",(LOOKUP(B3,'Component Weights'!$B$16:$J$16,'Component Weights'!$B$17:$J$17)*$AA$9))","v":" "},{"$f":"IF(ISBLANK(H3),\" \",(LOOKUP(H3,'Component Weights'!$B$16:$J$16,'Component Weights'!$B$17:$J$17)*$AA$10))","v":" "},{"$f":"IF(ISBLANK(I3),\" \",(LOOKUP(I3,'Component Weights'!$B$16:$J$16,'Component Weights'!$B$17:$J$17)*$AA$11))","v":0.08},{"$f":"IF(ISBLANK(J3),\" \",(LOOKUP(J3,'Component Weights'!$B$16:$J$16,'Component Weights'!$B$17:$J$17)*$AA$12))","v":0.24},0.49,2,null,0.49,null,"Water Pipes"]
["PEX",null,null,null,"L","N","N",null,"H","L",{"$f":"SUM(IF(ISBLANK(C4),,LOOKUP(C4,'Component Weights'!$B$16:$J$16,'Component Weights'!$B$17:$J$17)),IF(ISBLANK(D4),,LOOKUP(D4,'Component Weights'!$B$16:$J$16,'Component Weights'!$B$17:$J$17)),IF(ISBLANK(E4),,LOOKUP(E4,'Component Weights'!$B$16:$J$16,'Component Weights'!$B$17:$J$17)),IF(ISBLANK(F4),,LOOKUP(F4,'Component Weights'!$B$16:$J$16,'Component Weights'!$B$17:$J$17)),IF(ISBLANK(G4),,LOOKUP(G4,'Component Weights'!$B$16:$J$16,'Component Weights'!$B$17:$J$17)),IF(ISBLANK(B4),,LOOKUP(B4,'Component Weights'!$B$16:$J$16,'Component Weights'!$B$17:$J$17)),IF(ISBLANK(H4),,LOOKUP(H4,'Component Weights'!$B$16:$J$16,'Component Weights'!$B$17:$J$17)),IF(ISBLANK(I4),,LOOKUP(I4,'Component Weights'!$B$16:$J$16,'Component Weights'!$B$17:$J$17)),IF(ISBLANK(J4),,LOOKUP(J4,'Component Weights'!$B$16:$J$16,'Component Weights'!$B$17:$J$17)))","v":5},{"$f":"IF(ISBLANK(C4),\" \",(LOOKUP(C4,'Component Weights'!$B$16:$J$16,'Component Weights'!$B$17:$J$17)*$AA$4))","v":" "},{"$f":"IF(ISBLANK(D4),\" \",(LOOKUP(D4,'Component Weights'!$B$16:$J$16,'Component Weights'!$B$17:$J$17)*$AA$5))","v":" "},{"$f":"IF(ISBLANK(E4),\" \",(LOOKUP(E4,'Component Weights'!$B$16:$J$16,'Component Weights'!$B$17:$J$17)*$AA$6))","v":0.08},{"$f":"IF(ISBLANK(F4),\" \",(LOOKUP(F4,'Component Weights'!$B$16:$J$16,'Component Weights'!$B$17:$J$17)*$AA$7))","v":0},{"$f":"IF(ISBLANK(G4),\" \",(LOOKUP(G4,'Component Weights'!$B$16:$J$16,'Component Weights'!$B$17:$J$17)*$AA$8))","v":0},{"$f":"IF(ISBLANK(B4),\" \",(LOOKUP(B4,'Component Weights'!$B$16:$J$16,'Component Weights'!$B$17:$J$17)*$AA$9))","v":" "},{"$f":"IF(ISBLANK(H4),\" \",(LOOKUP(H4,'Component Weights'!$B$16:$J$16,'Component Weights'!$B$17:$J$17)*$AA$10))","v":" "},{"$f":"IF(ISBLANK(I4),\" \",(LOOKUP(I4,'Component Weights'!$B$16:$J$16,'Component Weights'!$B$17:$J$17)*$AA$11))","v":0.24},{"$f":"IF(ISBLANK(J4),\" \",(LOOKUP(J4,'Component Weights'!$B$16:$J$16,'Component Weights'!$B$17:$J$17)*$AA$12))","v":0.12},0.44,3,null,0.44,null,"Incremental Energy Savings",0.08,"M","The amount of incremental energy, expressed in Btu/Hr, that a product saves or generates for the structure."]
["PVC",null,null,null,"L","N","N",null,"M","L",{"$f":"SUM(IF(ISBLANK(C5),,LOOKUP(C5,'Component Weights'!$B$16:$J$16,'Component Weights'!$B$17:$J$17)),IF(ISBLANK(D5),,LOOKUP(D5,'Component Weights'!$B$16:$J$16,'Component Weights'!$B$17:$J$17)),IF(ISBLANK(E5),,LOOKUP(E5,'Component Weights'!$B$16:$J$16,'Component Weights'!$B$17:$J$17)),IF(ISBLANK(F5),,LOOKUP(F5,'Component Weights'!$B$16:$J$16,'Component Weights'!$B$17:$J$17)),IF(ISBLANK(G5),,LOOKUP(G5,'Component Weights'!$B$16:$J$16,'Component Weights'!$B$17:$J$17)),IF(ISBLANK(B5),,LOOKUP(B5,'Component Weights'!$B$16:$J$16,'Component Weights'!$B$17:$J$17)),IF(ISBLANK(H5),,LOOKUP(H5,'Component Weights'!$B$16:$J$16,'Component Weights'!$B$17:$J$17)),IF(ISBLANK(I5),,LOOKUP(I5,'Component Weights'!$B$16:$J$16,'Component Weights'!$B$17:$J$17)),IF(ISBLANK(J5),,LOOKUP(J5,'Component Weights'!$B$16:$J$16,'Component Weights'!$B$17:$J$17)))","v":4},{"$f":"IF(ISBLANK(C5),\" \",(LOOKUP(C5,'Component Weights'!$B$16:$J$16,'Component Weights'!$B$17:$J$17)*$AA$4))","v":" "},{"$f":"IF(ISBLANK(D5),\" \",(LOOKUP(D5,'Component Weights'!$B$16:$J$16,'Component Weights'!$B$17:$J$17)*$AA$5))","v":" "},{"$f":"IF(ISBLANK(E5),\" \",(LOOKUP(E5,'Component Weights'!$B$16:$J$16,'Component Weights'!$B$17:$J$17)*$AA$6))","v":0.08},{"$f":"IF(ISBLANK(F5),\" \",(LOOKUP(F5,'Component Weights'!$B$16:$J$16,'Component Weights'!$B$17:$J$17)*$AA$7))","v":0},{"$f":"IF(ISBLANK(G5),\" \",(LOOKUP(G5,'Component Weights'!$B$16:$J$16,'Component Weights'!$B$17:$J$17)*$AA$8))","v":0},{"$f":"IF(ISBLANK(B5),\" \",(LOOKUP(B5,'Component Weights'!$B$16:$J$16,'Component Weights'!$B$17:$J$17)*$AA$9))","v":" "},{"$f":"IF(ISBLANK(H5),\" \",(LOOKUP(H5,'Component Weights'!$B$16:$J$16,'Component Weights'!$B$17:$J$17)*$AA$10))","v":" "},{"$f":"IF(ISBLANK(I5),\" \",(LOOKUP(I5,'Component Weights'!$B$16:$J$16,'Component Weights'!$B$17:$J$17)*$AA$11))","v":0.16},{"$f":"IF(ISBLANK(J5),\" \",(LOOKUP(J5,'Component Weights'!$B$16:$J$16,'Component Weights'!$B$17:$J$17)*$AA$12))","v":0.12},0.36,4,null,0.36,null,"Use of Recycled Content",0.12,"H","The amount of recycled content, expressed as a percentage, found in a product."]
["Chlorinated PVC",null,null,null,"L","N","N",null,"M","L",{"$f":"SUM(IF(ISBLANK(C6),,LOOKUP(C6,'Component Weights'!$B$16:$J$16,'Component Weights'!$B$17:$J$17)),IF(ISBLANK(D6),,LOOKUP(D6,'Component Weights'!$B$16:$J$16,'Component Weights'!$B$17:$J$17)),IF(ISBLANK(E6),,LOOKUP(E6,'Component Weights'!$B$16:$J$16,'Component Weights'!$B$17:$J$17)),IF(ISBLANK(F6),,LOOKUP(F6,'Component Weights'!$B$16:$J$16,'Component Weights'!$B$17:$J$17)),IF(ISBLANK(G6),,LOOKUP(G6,'Component Weights'!$B$16:$J$16,'Component Weights'!$B$17:$J$17)),IF(ISBLANK(B6),,LOOKUP(B6,'Component Weights'!$B$16:$J$16,'Component Weights'!$B$17:$J$17)),IF(ISBLANK(H6),,LOOKUP(H6,'Component Weights'!$B$16:$J$16,'Component Weights'!$B$17:$J$17)),IF(ISBLANK(I6),,LOOKUP(I6,'Component Weights'!$B$16:$J$16,'Component Weights'!$B$17:$J$17)),IF(ISBLANK(J6),,LOOKUP(J6,'Component Weights'!$B$16:$J$16,'Component Weights'!$B$17:$J$17)))","v":4},{"$f":"IF(ISBLANK(C6),\" \",(LOOKUP(C6,'Component Weights'!$B$16:$J$16,'Component Weights'!$B$17:$J$17)*$AA$4))","v":" "},{"$f":"IF(ISBLANK(D6),\" \",(LOOKUP(D6,'Component Weights'!$B$16:$J$16,'Component Weights'!$B$17:$J$17)*$AA$5))","v":" "},{"$f":"IF(ISBLANK(E6),\" \",(LOOKUP(E6,'Component Weights'!$B$16:$J$16,'Component Weights'!$B$17:$J$17)*$AA$6))","v":0.08},{"$f":"IF(ISBLANK(F6),\" \",(LOOKUP(F6,'Component Weights'!$B$16:$J$16,'Component Weights'!$B$17:$J$17)*$AA$7))","v":0},{"$f":"IF(ISBLANK(G6),\" \",(LOOKUP(G6,'Component Weights'!$B$16:$J$16,'Component Weights'!$B$17:$J$17)*$AA$8))","v":0},{"$f":"IF(ISBLANK(B6),\" \",(LOOKUP(B6,'Component Weights'!$B$16:$J$16,'Component Weights'!$B$17:$J$17)*$AA$9))","v":" "},{"$f":"IF(ISBLANK(H6),\" \",(LOOKUP(H6,'Component Weights'!$B$16:$J$16,'Component Weights'!$B$17:$J$17)*$AA$10))","v":" "},{"$f":"IF(ISBLANK(I6),\" \",(LOOKUP(I6,'Component Weights'!$B$16:$J$16,'Component Weights'!$B$17:$J$17)*$AA$11))","v":0.16},{"$f":"IF(ISBLANK(J6),\" \",(LOOKUP(J6,'Component Weights'!$B$16:$J$16,'Component Weights'!$B$17:$J$17)*$AA$12))","v":0.12},0.36,4,null,0.36,null,"Low Energy Usage Manufacturing Process",0.08,"M","The amount of energy used in manufacture of the product."]
["Metal Encased Plastic Piping",null,null,null,"N","N","N",null,"N","M",{"$f":"SUM(IF(ISBLANK(C7),,LOOKUP(C7,'Component Weights'!$B$16:$J$16,'Component Weights'!$B$17:$J$17)),IF(ISBLANK(D7),,LOOKUP(D7,'Component Weights'!$B$16:$J$16,'Component Weights'!$B$17:$J$17)),IF(ISBLANK(E7),,LOOKUP(E7,'Component Weights'!$B$16:$J$16,'Component Weights'!$B$17:$J$17)),IF(ISBLANK(F7),,LOOKUP(F7,'Component Weights'!$B$16:$J$16,'Component Weights'!$B$17:$J$17)),IF(ISBLANK(G7),,LOOKUP(G7,'Component Weights'!$B$16:$J$16,'Component Weights'!$B$17:$J$17)),IF(ISBLANK(B7),,LOOKUP(B7,'Component Weights'!$B$16:$J$16,'Component Weights'!$B$17:$J$17)),IF(ISBLANK(H7),,LOOKUP(H7,'Component Weights'!$B$16:$J$16,'Component Weights'!$B$17:$J$17)),IF(ISBLANK(I7),,LOOKUP(I7,'Component Weights'!$B$16:$J$16,'Component Weights'!$B$17:$J$17)),IF(ISBLANK(J7),,LOOKUP(J7,'Component Weights'!$B$16:$J$16,'Component Weights'!$B$17:$J$17)))","v":2},{"$f":"IF(ISBLANK(C7),\" \",(LOOKUP(C7,'Component Weights'!$B$16:$J$16,'Component Weights'!$B$17:$J$17)*$AA$4))","v":" "},{"$f":"IF(ISBLANK(D7),\" \",(LOOKUP(D7,'Component Weights'!$B$16:$J$16,'Component Weights'!$B$17:$J$17)*$AA$5))","v":" "},{"$f":"IF(ISBLANK(E7),\" \",(LOOKUP(E7,'Component Weights'!$B$16:$J$16,'Component Weights'!$B$17:$J$17)*$AA$6))","v":0},{"$f":"IF(ISBLANK(F7),\" \",(LOOKUP(F7,'Component Weights'!$B$16:$J$16,'Component Weights'!$B$17:$J$17)*$AA$7))","v":0},{"$f":"IF(ISBLANK(G7),\" \",(LOOKUP(G7,'Component Weights'!$B$16:$J$16,'Component Weights'!$B$17:$J$17)*$AA$8))","v":0},{"$f":"IF(ISBLANK(B7),\" \",(LOOKUP(B7,'Component Weights'!$B$16:$J$16,'Component Weights'!$B$17:$J$17)*$AA$9))","v":" "},{"$f":"IF(ISBLANK(H7),\" \",(LOOKUP(H7,'Component Weights'!$B$16:$J$16,'Component Weights'!$B$17:$J$17)*$AA$10))","v":" "},{"$f":"IF(ISBLANK(I7),\" \",(LOOKUP(I7,'Component Weights'!$B$16:$J$16,'Component Weights'!$B$17:$J$17)*$AA$11))","v":0},{"$f":"IF(ISBLANK(J7),\" \",(LOOKUP(J7,'Component Weights'!$B$16:$J$16,'Component Weights'!$B$17:$J$17)*$AA$12))","v":0.24},0.24,6,null,{"$f":"U7","v":0.24},null,"Easily Biodegradable",0.12,"H","The amount of time it will take the product to degrade once its useful life is over."]
["(Enter Custom Product Here)",null,null,null,null,null,null,null,null,null,{"$f":"SUM(IF(ISBLANK(C8),,LOOKUP(C8,'Component Weights'!$B$16:$J$16,'Component Weights'!$B$17:$J$17)),IF(ISBLANK(D8),,LOOKUP(D8,'Component Weights'!$B$16:$J$16,'Component Weights'!$B$17:$J$17)),IF(ISBLANK(E8),,LOOKUP(E8,'Component Weights'!$B$16:$J$16,'Component Weights'!$B$17:$J$17)),IF(ISBLANK(F8),,LOOKUP(F8,'Component Weights'!$B$16:$J$16,'Component Weights'!$B$17:$J$17)),IF(ISBLANK(G8),,LOOKUP(G8,'Component Weights'!$B$16:$J$16,'Component Weights'!$B$17:$J$17)),IF(ISBLANK(B8),,LOOKUP(B8,'Component Weights'!$B$16:$J$16,'Component Weights'!$B$17:$J$17)),IF(ISBLANK(H8),,LOOKUP(H8,'Component Weights'!$B$16:$J$16,'Component Weights'!$B$17:$J$17)),IF(ISBLANK(I8),,LOOKUP(I8,'Component Weights'!$B$16:$J$16,'Component Weights'!$B$17:$J$17)),IF(ISBLANK(J8),,LOOKUP(J8,'Component Weights'!$B$16:$J$16,'Component Weights'!$B$17:$J$17)))","v":0},{"$f":"IF(ISBLANK(C8),\" \",(LOOKUP(C8,'Component Weights'!$B$16:$J$16,'Component Weights'!$B$17:$J$17)*$AA$4))","v":" "},{"$f":"IF(ISBLANK(D8),\" \",(LOOKUP(D8,'Component Weights'!$B$16:$J$16,'Component Weights'!$B$17:$J$17)*$AA$5))","v":" "},{"$f":"IF(ISBLANK(E8),\" \",(LOOKUP(E8,'Component Weights'!$B$16:$J$16,'Component Weights'!$B$17:$J$17)*$AA$6))","v":" "},{"$f":"IF(ISBLANK(F8),\" \",(LOOKUP(F8,'Component Weights'!$B$16:$J$16,'Component Weights'!$B$17:$J$17)*$AA$7))","v":" "},{"$f":"IF(ISBLANK(G8),\" \",(LOOKUP(G8,'Component Weights'!$B$16:$J$16,'Component Weights'!$B$17:$J$17)*$AA$8))","v":" "},{"$f":"IF(ISBLANK(B8),\" \",(LOOKUP(B8,'Component Weights'!$B$16:$J$16,'Component Weights'!$B$17:$J$17)*$AA$9))","v":" "},{"$f":"IF(ISBLANK(H8),\" \",(LOOKUP(H8,'Component Weights'!$B$16:$J$16,'Component Weights'!$B$17:$J$17)*$AA$10))","v":" "},{"$f":"IF(ISBLANK(I8),\" \",(LOOKUP(I8,'Component Weights'!$B$16:$J$16,'Component Weights'!$B$17:$J$17)*$AA$11))","v":" "},{"$f":"IF(ISBLANK(J8),\" \",(LOOKUP(J8,'Component Weights'!$B$16:$J$16,'Component Weights'!$B$17:$J$17)*$AA$12))","v":" "},0,99,null,0,null,"Made from Natural Materials",0.05,"L","The amount, expressed as a percentage, of natural (not man-made) materials used to make the product."]
["(Enter Custom Product Here)",null,null,null,null,null,null,null,null,null,{"$f":"SUM(IF(ISBLANK(C9),,LOOKUP(C9,'Component Weights'!$B$16:$J$16,'Component Weights'!$B$17:$J$17)),IF(ISBLANK(D9),,LOOKUP(D9,'Component Weights'!$B$16:$J$16,'Component Weights'!$B$17:$J$17)),IF(ISBLANK(E9),,LOOKUP(E9,'Component Weights'!$B$16:$J$16,'Component Weights'!$B$17:$J$17)),IF(ISBLANK(F9),,LOOKUP(F9,'Component Weights'!$B$16:$J$16,'Component Weights'!$B$17:$J$17)),IF(ISBLANK(G9),,LOOKUP(G9,'Component Weights'!$B$16:$J$16,'Component Weights'!$B$17:$J$17)),IF(ISBLANK(B9),,LOOKUP(B9,'Component Weights'!$B$16:$J$16,'Component Weights'!$B$17:$J$17)),IF(ISBLANK(H9),,LOOKUP(H9,'Component Weights'!$B$16:$J$16,'Component Weights'!$B$17:$J$17)),IF(ISBLANK(I9),,LOOKUP(I9,'Component Weights'!$B$16:$J$16,'Component Weights'!$B$17:$J$17)),IF(ISBLANK(J9),,LOOKUP(J9,'Component Weights'!$B$16:$J$16,'Component Weights'!$B$17:$J$17)))","v":0},{"$f":"IF(ISBLANK(C9),\" \",(LOOKUP(C9,'Component Weights'!$B$16:$J$16,'Component Weights'!$B$17:$J$17)*$AA$4))","v":" "},{"$f":"IF(ISBLANK(D9),\" \",(LOOKUP(D9,'Component Weights'!$B$16:$J$16,'Component Weights'!$B$17:$J$17)*$AA$5))","v":" "},{"$f":"IF(ISBLANK(E9),\" \",(LOOKUP(E9,'Component Weights'!$B$16:$J$16,'Component Weights'!$B$17:$J$17)*$AA$6))","v":" "},{"$f":"IF(ISBLANK(F9),\" \",(LOOKUP(F9,'Component Weights'!$B$16:$J$16,'Component Weights'!$B$17:$J$17)*$AA$7))","v":" "},{"$f":"IF(ISBLANK(G9),\" \",(LOOKUP(G9,'Component Weights'!$B$16:$J$16,'Component Weights'!$B$17:$J$17)*$AA$8))","v":" "},{"$f":"IF(ISBLANK(B9),\" \",(LOOKUP(B9,'Component Weights'!$B$16:$J$16,'Component Weights'!$B$17:$J$17)*$AA$9))","v":" "},{"$f":"IF(ISBLANK(H9),\" \",(LOOKUP(H9,'Component Weights'!$B$16:$J$16,'Component Weights'!$B$17:$J$17)*$AA$10))","v":" "},{"$f":"IF(ISBLANK(I9),\" \",(LOOKUP(I9,'Component Weights'!$B$16:$J$16,'Component Weights'!$B$17:$J$17)*$AA$11))","v":" "},{"$f":"IF(ISBLANK(J9),\" \",(LOOKUP(J9,'Component Weights'!$B$16:$J$16,'Component Weights'!$B$17:$J$17)*$AA$12))","v":" "},0,99,null,{"$f":"U9","v":0},null,"Available Locally",0.23,"H+","The distance in miles that the product must travel to the destination of final use."]
["(Enter Custom Product Here)",null,null,null,null,null,null,null,null,null,{"$f":"SUM(IF(ISBLANK(C10),,LOOKUP(C10,'Component Weights'!$B$16:$J$16,'Component Weights'!$B$17:$J$17)),IF(ISBLANK(D10),,LOOKUP(D10,'Component Weights'!$B$16:$J$16,'Component Weights'!$B$17:$J$17)),IF(ISBLANK(E10),,LOOKUP(E10,'Component Weights'!$B$16:$J$16,'Component Weights'!$B$17:$J$17)),IF(ISBLANK(F10),,LOOKUP(F10,'Component Weights'!$B$16:$J$16,'Component Weights'!$B$17:$J$17)),IF(ISBLANK(G10),,LOOKUP(G10,'Component Weights'!$B$16:$J$16,'Component Weights'!$B$17:$J$17)),IF(ISBLANK(B10),,LOOKUP(B10,'Component Weights'!$B$16:$J$16,'Component Weights'!$B$17:$J$17)),IF(ISBLANK(H10),,LOOKUP(H10,'Component Weights'!$B$16:$J$16,'Component Weights'!$B$17:$J$17)),IF(ISBLANK(I10),,LOOKUP(I10,'Component Weights'!$B$16:$J$16,'Component Weights'!$B$17:$J$17)),IF(ISBLANK(J10),,LOOKUP(J10,'Component Weights'!$B$16:$J$16,'Component Weights'!$B$17:$J$17)))","v":0},{"$f":"IF(ISBLANK(C10),\" \",(LOOKUP(C10,'Component Weights'!$B$16:$J$16,'Component Weights'!$B$17:$J$17)*$AA$4))","v":" "},{"$f":"IF(ISBLANK(D10),\" \",(LOOKUP(D10,'Component Weights'!$B$16:$J$16,'Component Weights'!$B$17:$J$17)*$AA$5))","v":" "},{"$f":"IF(ISBLANK(E10),\" \",(LOOKUP(E10,'Component Weights'!$B$16:$J$16,'Component Weights'!$B$17:$J$17)*$AA$6))","v":" "},{"$f":"IF(ISBLANK(F10),\" \",(LOOKUP(F10,'Component Weights'!$B$16:$J$16,'Component Weights'!$B$17:$J$17)*$AA$7))","v":" "},{"$f":"IF(ISBLANK(G10),\" \",(LOOKUP(G10,'Component Weights'!$B$16:$J$16,'Component Weights'!$B$17:$J$17)*$AA$8))","v":" "},{"$f":"IF(ISBLANK(B10),\" \",(LOOKUP(B10,'Component Weights'!$B$16:$J$16,'Component Weights'!$B$17:$J$17)*$AA$9))","v":" "},{"$f":"IF(ISBLANK(H10),\" \",(LOOKUP(H10,'Component Weights'!$B$16:$J$16,'Component Weights'!$B$17:$J$17)*$AA$10))","v":" "},{"$f":"IF(ISBLANK(I10),\" \",(LOOKUP(I10,'Component Weights'!$B$16:$J$16,'Component Weights'!$B$17:$J$17)*$AA$11))","v":" "},{"$f":"IF(ISBLANK(J10),\" \",(LOOKUP(J10,'Component Weights'!$B$16:$J$16,'Component Weights'!$B$17:$J$17)*$AA$12))","v":" "},0,99,null,{"$f":"U10","v":0},null,"Low Emissions Potential",0.12,"H","The amount of time it will take the product to stop outgassing."]
["(Enter Custom Product Here)",null,null,null,null,null,null,null,null,null,{"$f":"SUM(IF(ISBLANK(C11),,LOOKUP(C11,'Component Weights'!$B$16:$J$16,'Component Weights'!$B$17:$J$17)),IF(ISBLANK(D11),,LOOKUP(D11,'Component Weights'!$B$16:$J$16,'Component Weights'!$B$17:$J$17)),IF(ISBLANK(E11),,LOOKUP(E11,'Component Weights'!$B$16:$J$16,'Component Weights'!$B$17:$J$17)),IF(ISBLANK(F11),,LOOKUP(F11,'Component Weights'!$B$16:$J$16,'Component Weights'!$B$17:$J$17)),IF(ISBLANK(G11),,LOOKUP(G11,'Component Weights'!$B$16:$J$16,'Component Weights'!$B$17:$J$17)),IF(ISBLANK(B11),,LOOKUP(B11,'Component Weights'!$B$16:$J$16,'Component Weights'!$B$17:$J$17)),IF(ISBLANK(H11),,LOOKUP(H11,'Component Weights'!$B$16:$J$16,'Component Weights'!$B$17:$J$17)),IF(ISBLANK(I11),,LOOKUP(I11,'Component Weights'!$B$16:$J$16,'Component Weights'!$B$17:$J$17)),IF(ISBLANK(J11),,LOOKUP(J11,'Component Weights'!$B$16:$J$16,'Component Weights'!$B$17:$J$17)))","v":0},{"$f":"IF(ISBLANK(C11),\" \",(LOOKUP(C11,'Component Weights'!$B$16:$J$16,'Component Weights'!$B$17:$J$17)*$AA$4))","v":" "},{"$f":"IF(ISBLANK(D11),\" \",(LOOKUP(D11,'Component Weights'!$B$16:$J$16,'Component Weights'!$B$17:$J$17)*$AA$5))","v":" "},{"$f":"IF(ISBLANK(E11),\" \",(LOOKUP(E11,'Component Weights'!$B$16:$J$16,'Component Weights'!$B$17:$J$17)*$AA$6))","v":" "},{"$f":"IF(ISBLANK(F11),\" \",(LOOKUP(F11,'Component Weights'!$B$16:$J$16,'Component Weights'!$B$17:$J$17)*$AA$7))","v":" "},{"$f":"IF(ISBLANK(G11),\" \",(LOOKUP(G11,'Component Weights'!$B$16:$J$16,'Component Weights'!$B$17:$J$17)*$AA$8))","v":" "},{"$f":"IF(ISBLANK(B11),\" \",(LOOKUP(B11,'Component Weights'!$B$16:$J$16,'Component Weights'!$B$17:$J$17)*$AA$9))","v":" "},{"$f":"IF(ISBLANK(H11),\" \",(LOOKUP(H11,'Component Weights'!$B$16:$J$16,'Component Weights'!$B$17:$J$17)*$AA$10))","v":" "},{"$f":"IF(ISBLANK(I11),\" \",(LOOKUP(I11,'Component Weights'!$B$16:$J$16,'Component Weights'!$B$17:$J$17)*$AA$11))","v":" "},{"$f":"IF(ISBLANK(J11),\" \",(LOOKUP(J11,'Component Weights'!$B$16:$J$16,'Component Weights'!$B$17:$J$17)*$AA$12))","v":" "},0,99,null,{"$f":"U11","v":0},null,"Listed in Other Programs (e.g. EnergyStar)",0.08,"M","The level of product recommendation in recognized energy and environmental programs."]
["(Enter Custom Product Here)",null,null,null,null,null,null,null,null,null,{"$f":"SUM(IF(ISBLANK(C12),,LOOKUP(C12,'Component Weights'!$B$16:$J$16,'Component Weights'!$B$17:$J$17)),IF(ISBLANK(D12),,LOOKUP(D12,'Component Weights'!$B$16:$J$16,'Component Weights'!$B$17:$J$17)),IF(ISBLANK(E12),,LOOKUP(E12,'Component Weights'!$B$16:$J$16,'Component Weights'!$B$17:$J$17)),IF(ISBLANK(F12),,LOOKUP(F12,'Component Weights'!$B$16:$J$16,'Component Weights'!$B$17:$J$17)),IF(ISBLANK(G12),,LOOKUP(G12,'Component Weights'!$B$16:$J$16,'Component Weights'!$B$17:$J$17)),IF(ISBLANK(B12),,LOOKUP(B12,'Component Weights'!$B$16:$J$16,'Component Weights'!$B$17:$J$17)),IF(ISBLANK(H12),,LOOKUP(H12,'Component Weights'!$B$16:$J$16,'Component Weights'!$B$17:$J$17)),IF(ISBLANK(I12),,LOOKUP(I12,'Component Weights'!$B$16:$J$16,'Component Weights'!$B$17:$J$17)),IF(ISBLANK(J12),,LOOKUP(J12,'Component Weights'!$B$16:$J$16,'Component Weights'!$B$17:$J$17)))","v":0},{"$f":"IF(ISBLANK(C12),\" \",(LOOKUP(C12,'Component Weights'!$B$16:$J$16,'Component Weights'!$B$17:$J$17)*$AA$4))","v":" "},{"$f":"IF(ISBLANK(D12),\" \",(LOOKUP(D12,'Component Weights'!$B$16:$J$16,'Component Weights'!$B$17:$J$17)*$AA$5))","v":" "},{"$f":"IF(ISBLANK(E12),\" \",(LOOKUP(E12,'Component Weights'!$B$16:$J$16,'Component Weights'!$B$17:$J$17)*$AA$6))","v":" "},{"$f":"IF(ISBLANK(F12),\" \",(LOOKUP(F12,'Component Weights'!$B$16:$J$16,'Component Weights'!$B$17:$J$17)*$AA$7))","v":" "},{"$f":"IF(ISBLANK(G12),\" \",(LOOKUP(G12,'Component Weights'!$B$16:$J$16,'Component Weights'!$B$17:$J$17)*$AA$8))","v":" "},{"$f":"IF(ISBLANK(B12),\" \",(LOOKUP(B12,'Component Weights'!$B$16:$J$16,'Component Weights'!$B$17:$J$17)*$AA$9))","v":" "},{"$f":"IF(ISBLANK(H12),\" \",(LOOKUP(H12,'Component Weights'!$B$16:$J$16,'Component Weights'!$B$17:$J$17)*$AA$10))","v":" "},{"$f":"IF(ISBLANK(I12),\" \",(LOOKUP(I12,'Component Weights'!$B$16:$J$16,'Component Weights'!$B$17:$J$17)*$AA$11))","v":" "},{"$f":"IF(ISBLANK(J12),\" \",(LOOKUP(J12,'Component Weights'!$B$16:$J$16,'Component Weights'!$B$17:$J$17)*$AA$12))","v":" "},0,99,null,{"$f":"U12","v":0},null,"Non Hazardous as Waste",0.12,"H","The amount of hazardous materials and components found in the product."]
["(Enter Custom Product Here)",null,null,null,null,null,null,null,null,null,{"$f":"SUM(IF(ISBLANK(C13),,LOOKUP(C13,'Component Weights'!$B$16:$J$16,'Component Weights'!$B$17:$J$17)),IF(ISBLANK(D13),,LOOKUP(D13,'Component Weights'!$B$16:$J$16,'Component Weights'!$B$17:$J$17)),IF(ISBLANK(E13),,LOOKUP(E13,'Component Weights'!$B$16:$J$16,'Component Weights'!$B$17:$J$17)),IF(ISBLANK(F13),,LOOKUP(F13,'Component Weights'!$B$16:$J$16,'Component Weights'!$B$17:$J$17)),IF(ISBLANK(G13),,LOOKUP(G13,'Component Weights'!$B$16:$J$16,'Component Weights'!$B$17:$J$17)),IF(ISBLANK(B13),,LOOKUP(B13,'Component Weights'!$B$16:$J$16,'Component Weights'!$B$17:$J$17)),IF(ISBLANK(H13),,LOOKUP(H13,'Component Weights'!$B$16:$J$16,'Component Weights'!$B$17:$J$17)),IF(ISBLANK(I13),,LOOKUP(I13,'Component Weights'!$B$16:$J$16,'Component Weights'!$B$17:$J$17)),IF(ISBLANK(J13),,LOOKUP(J13,'Component Weights'!$B$16:$J$16,'Component Weights'!$B$17:$J$17)))","v":0},{"$f":"IF(ISBLANK(C13),\" \",(LOOKUP(C13,'Component Weights'!$B$16:$J$16,'Component Weights'!$B$17:$J$17)*$AA$4))","v":" "},{"$f":"IF(ISBLANK(D13),\" \",(LOOKUP(D13,'Component Weights'!$B$16:$J$16,'Component Weights'!$B$17:$J$17)*$AA$5))","v":" "},{"$f":"IF(ISBLANK(E13),\" \",(LOOKUP(E13,'Component Weights'!$B$16:$J$16,'Component Weights'!$B$17:$J$17)*$AA$6))","v":" "},{"$f":"IF(ISBLANK(F13),\" \",(LOOKUP(F13,'Component Weights'!$B$16:$J$16,'Component Weights'!$B$17:$J$17)*$AA$7))","v":" "},{"$f":"IF(ISBLANK(G13),\" \",(LOOKUP(G13,'Component Weights'!$B$16:$J$16,'Component Weights'!$B$17:$J$17)*$AA$8))","v":" "},{"$f":"IF(ISBLANK(B13),\" \",(LOOKUP(B13,'Component Weights'!$B$16:$J$16,'Component Weights'!$B$17:$J$17)*$AA$9))","v":" "},{"$f":"IF(ISBLANK(H13),\" \",(LOOKUP(H13,'Component Weights'!$B$16:$J$16,'Component Weights'!$B$17:$J$17)*$AA$10))","v":" "},{"$f":"IF(ISBLANK(I13),\" \",(LOOKUP(I13,'Component Weights'!$B$16:$J$16,'Component Weights'!$B$17:$J$17)*$AA$11))","v":" "},{"$f":"IF(ISBLANK(J13),\" \",(LOOKUP(J13,'Component Weights'!$B$16:$J$16,'Component Weights'!$B$17:$J$17)*$AA$12))","v":" "},0,99,null,0,null,"Total Weightings Must Equal 100%",{"$f":"SUM(AA4:AA12)","v":1},null,{"$f":"IF(AA13<>100%,\"Keep Working - Weightings must equal 100%\",\" \")","v":" "}]
[null,null,null,null,null,null,null,null,null,null,{"$f":"AVERAGE(K$2:K6)","v":4.5999999999999996},{"$f":"AVERAGE(L$2:L6)","v":{"$error":"#DIV/0!"}},{"$f":"AVERAGE(M$2:M6)","v":{"$error":"#DIV/0!"}},{"$f":"AVERAGE(N$2:N6)","v":6.4000000000000001E-2},{"$f":"AVERAGE(O$2:O6)","v":4.8000000000000001E-2},{"$f":"AVERAGE(P$2:P6)","v":0.01},{"$f":"AVERAGE(Q$2:Q6)","v":{"$error":"#DIV/0!"}},{"$f":"AVERAGE(R$2:R6)","v":{"$error":"#DIV/0!"}},{"$f":"AVERAGE(S$2:S6)","v":0.14400000000000002},{"$f":"AVERAGE(T$2:T6)","v":0.16799999999999998},{"$f":"AVERAGE(U$2:U6)","v":0.434},{"$f":"IF(AND(OR(#REF!=72,#REF!=73,#REF!=74,#REF!=75,#REF!=76),$U14>0),RANK($U14,Y$2:Y$40,0),\" \")","v":{"$error":"#REF!"}}]

{"sheet":"Plumbing Fixtures","index":14,"n_rows":17,"n_cols":29,"rows_kept":17,"cut":false,"hidden":false,"merged":[]}
["Instructions:\nScroll down to see all products.  New products may be added to the end of the list.  Rate the performance of each product as \"N, L, M or H.\" (Hover over the component title for the rating description.)  Use your Backspace button to clear values.  The Sort button (below) will incorporate your priorities as currently stated on the table to the right.  (Scroll to the right to see the table.)\n\n","Available Locally","Incremental Energy Savings","Use of Recycled Content","Low Energy Usage Manufacturing Process","Easily Biodegradable","Made from Natural Materials","Low Emissions Potential","Listed in Other Programs","Non Hazardous as Waste","Total Raw Score","Incremental Energy Savings Weighted Score","Use of Recycled Content Weighted Score","Low Energy Usage Mfg. Process Weighted Score","Easily Biodegradable Weighted Score","Made from Natural Materials Weighted Score","Available Locally Weighted Score","Low Emissions Potential Weighted Score","Listed in Other Programs Weighted Score","Non Hazardous as Waste Weighted Score","Total Weighted Score","Force Ranking",null,"Weighted Score for Force Rank Calculation ",null,"Detailed instructions and options for using this tool are found in the Using the DYO® GBD Kit Decision Matrix Software Section of your DYO® Green Building Decision Kit."]
["Composting Toilet",null,null,null,"M","N","N",null,"H","M",{"$f":"SUM(IF(ISBLANK(C2),,LOOKUP(C2,'Component Weights'!$B$16:$J$16,'Component Weights'!$B$17:$J$17)),IF(ISBLANK(D2),,LOOKUP(D2,'Component Weights'!$B$16:$J$16,'Component Weights'!$B$17:$J$17)),IF(ISBLANK(E2),,LOOKUP(E2,'Component Weights'!$B$16:$J$16,'Component Weights'!$B$17:$J$17)),IF(ISBLANK(F2),,LOOKUP(F2,'Component Weights'!$B$16:$J$16,'Component Weights'!$B$17:$J$17)),IF(ISBLANK(G2),,LOOKUP(G2,'Component Weights'!$B$16:$J$16,'Component Weights'!$B$17:$J$17)),IF(ISBLANK(B2),,LOOKUP(B2,'Component Weights'!$B$16:$J$16,'Component Weights'!$B$17:$J$17)),IF(ISBLANK(H2),,LOOKUP(H2,'Component Weights'!$B$16:$J$16,'Component Weights'!$B$17:$J$17)),IF(ISBLANK(I2),,LOOKUP(I2,'Component Weights'!$B$16:$J$16,'Component Weights'!$B$17:$J$17)),IF(ISBLANK(J2),,LOOKUP(J2,'Component Weights'!$B$16:$J$16,'Component Weights'!$B$17:$J$17)))","v":7},{"$f":"IF(ISBLANK(C2),\" \",(LOOKUP(C2,'Component Weights'!$B$16:$J$16,'Component Weights'!$B$17:$J$17)*$AA$4))","v":" "},{"$f":"IF(ISBLANK(D2),\" \",(LOOKUP(D2,'Component Weights'!$B$16:$J$16,'Component Weights'!$B$17:$J$17)*$AA$5))","v":" "},{"$f":"IF(ISBLANK(E2),\" \",(LOOKUP(E2,'Component Weights'!$B$16:$J$16,'Component Weights'!$B$17:$J$17)*$AA$6))","v":0.16},{"$f":"IF(ISBLANK(F2),\" \",(LOOKUP(F2,'Component Weights'!$B$16:$J$16,'Component Weights'!$B$17:$J$17)*$AA$7))","v":0},{"$f":"IF(ISBLANK(G2),\" \",(LOOKUP(G2,'Component Weights'!$B$16:$J$16,'Component Weights'!$B$17:$J$17)*$AA$8))","v":0},{"$f":"IF(ISBLANK(B2),\" \",(LOOKUP(B2,'Component Weights'!$B$16:$J$16,'Component Weights'!$B$17:$J$17)*$AA$9))","v":" "},{"$f":"IF(ISBLANK(H2),\" \",(LOOKUP(H2,'Component Weights'!$B$16:$J$16,'Component Weights'!$B$17:$J$17)*$AA$10))","v":" "},{"$f":"IF(ISBLANK(I2),\" \",(LOOKUP(I2,'Component Weights'!$B$16:$J$16,'Component Weights'!$B$17:$J$17)*$AA$11))","v":0.24},{"$f":"IF(ISBLANK(J2),\" \",(LOOKUP(J2,'Component Weights'!$B$16:$J$16,'Component Weights'!$B$17:$J$17)*$AA$12))","v":0.24},{"$f":"SUM(L2:T2)","v":0.64},{"$f":"IF($U2>0,RANK($U2,X$2:X$206,0),99)","v":1},null,{"$f":"U2","v":0.64},null,"Component Weights for","Weight"]
["Waterless Urinal",null,null,null,"M","N","N",null,"H","M",{"$f":"SUM(IF(ISBLANK(C3),,LOOKUP(C3,'Component Weights'!$B$16:$J$16,'Component Weights'!$B$17:$J$17)),IF(ISBLANK(D3),,LOOKUP(D3,'Component Weights'!$B$16:$J$16,'Component Weights'!$B$17:$J$17)),IF(ISBLANK(E3),,LOOKUP(E3,'Component Weights'!$B$16:$J$16,'Component Weights'!$B$17:$J$17)),IF(ISBLANK(F3),,LOOKUP(F3,'Component Weights'!$B$16:$J$16,'Component Weights'!$B$17:$J$17)),IF(ISBLANK(G3),,LOOKUP(G3,'Component Weights'!$B$16:$J$16,'Component Weights'!$B$17:$J$17)),IF(ISBLANK(B3),,LOOKUP(B3,'Component Weights'!$B$16:$J$16,'Component Weights'!$B$17:$J$17)),IF(ISBLANK(H3),,LOOKUP(H3,'Component Weights'!$B$16:$J$16,'Component Weights'!$B$17:$J$17)),IF(ISBLANK(I3),,LOOKUP(I3,'Component Weights'!$B$16:$J$16,'Component Weights'!$B$17:$J$17)),IF(ISBLANK(J3),,LOOKUP(J3,'Component Weights'!$B$16:$J$16,'Component Weights'!$B$17:$J$17)))","v":7},{"$f":"IF(ISBLANK(C3),\" \",(LOOKUP(C3,'Component Weights'!$B$16:$J$16,'Component Weights'!$B$17:$J$17)*$AA$4))","v":" "},{"$f":"IF(ISBLANK(D3),\" \",(LOOKUP(D3,'Component Weights'!$B$16:$J$16,'Component Weights'!$B$17:$J$17)*$AA$5))","v":" "},{"$f":"IF(ISBLANK(E3),\" \",(LOOKUP(E3,'Component Weights'!$B$16:$J$16,'Component Weights'!$B$17:$J$17)*$AA$6))","v":0.16},{"$f":"IF(ISBLANK(F3),\" \",(LOOKUP(F3,'Component Weights'!$B$16:$J$16,'Component Weights'!$B$17:$J$17)*$AA$7))","v":0},{"$f":"IF(ISBLANK(G3),\" \",(LOOKUP(G3,'Component Weights'!$B$16:$J$16,'Component Weights'!$B$17:$J$17)*$AA$8))","v":0},{"$f":"IF(ISBLANK(B3),\" \",(LOOKUP(B3,'Component Weights'!$B$16:$J$16,'Component Weights'!$B$17:$J$17)*$AA$9))","v":" "},{"$f":"IF(ISBLANK(H3),\" \",(LOOKUP(H3,'Component Weights'!$B$16:$J$16,'Component Weights'!$B$17:$J$17)*$AA$10))","v":" "},{"$f":"IF(ISBLANK(I3),\" \",(LOOKUP(I3,'Component Weights'!$B$16:$J$16,'Component Weights'!$B$17:$J$17)*$AA$11))","v":0.24},{"$f":"IF(ISBLANK(J3),\" \",(LOOKUP(J3,'Component Weights'!$B$16:$J$16,'Component Weights'!$B$17:$J$17)*$AA$12))","v":0.24},0.64,1,null,0.64,null,"Plumbing Fixtures"]
["Dual Flush Toilet",null,null,null,"L","N","N",null,"H","M",{"$f":"SUM(IF(ISBLANK(C4),,LOOKUP(C4,'Component Weights'!$B$16:$J$16,'Component Weights'!$B$17:$J$17)),IF(ISBLANK(D4),,LOOKUP(D4,'Component Weights'!$B$16:$J$16,'Component Weights'!$B$17:$J$17)),IF(ISBLANK(E4),,LOOKUP(E4,'Component Weights'!$B$16:$J$16,'Component Weights'!$B$17:$J$17)),IF(ISBLANK(F4),,LOOKUP(F4,'Component Weights'!$B$16:$J$16,'Component Weights'!$B$17:$J$17)),IF(ISBLANK(G4),,LOOKUP(G4,'Component Weights'!$B$16:$J$16,'Component Weights'!$B$17:$J$17)),IF(ISBLANK(B4),,LOOKUP(B4,'Component Weights'!$B$16:$J$16,'Component Weights'!$B$17:$J$17)),IF(ISBLANK(H4),,LOOKUP(H4,'Component Weights'!$B$16:$J$16,'Component Weights'!$B$17:$J$17)),IF(ISBLANK(I4),,LOOKUP(I4,'Component Weights'!$B$16:$J$16,'Component Weights'!$B$17:$J$17)),IF(ISBLANK(J4),,LOOKUP(J4,'Component Weights'!$B$16:$J$16,'Component Weights'!$B$17:$J$17)))","v":6},{"$f":"IF(ISBLANK(C4),\" \",(LOOKUP(C4,'Component Weights'!$B$16:$J$16,'Component Weights'!$B$17:$J$17)*$AA$4))","v":" "},{"$f":"IF(ISBLANK(D4),\" \",(LOOKUP(D4,'Component Weights'!$B$16:$J$16,'Component Weights'!$B$17:$J$17)*$AA$5))","v":" "},{"$f":"IF(ISBLANK(E4),\" \",(LOOKUP(E4,'Component Weights'!$B$16:$J$16,'Component Weights'!$B$17:$J$17)*$AA$6))","v":0.08},{"$f":"IF(ISBLANK(F4),\" \",(LOOKUP(F4,'Component Weights'!$B$16:$J$16,'Component Weights'!$B$17:$J$17)*$AA$7))","v":0},{"$f":"IF(ISBLANK(G4),\" \",(LOOKUP(G4,'Component Weights'!$B$16:$J$16,'Component Weights'!$B$17:$J$17)*$AA$8))","v":0},{"$f":"IF(ISBLANK(B4),\" \",(LOOKUP(B4,'Component Weights'!$B$16:$J$16,'Component Weights'!$B$17:$J$17)*$AA$9))","v":" "},{"$f":"IF(ISBLANK(H4),\" \",(LOOKUP(H4,'Component Weights'!$B$16:$J$16,'Component Weights'!$B$17:$J$17)*$AA$10))","v":" "},{"$f":"IF(ISBLANK(I4),\" \",(LOOKUP(I4,'Component Weights'!$B$16:$J$16,'Component Weights'!$B$17:$J$17)*$AA$11))","v":0.24},{"$f":"IF(ISBLANK(J4),\" \",(LOOKUP(J4,'Component Weights'!$B$16:$J$16,'Component Weights'!$B$17:$J$17)*$AA$12))","v":0.24},0.56000000000000005,3,null,0.56000000000000005,null,"Incremental Energy Savings",0.08,"M","The amount of incremental energy, expressed in Btu/Hr, that a product saves or generates for the structure."]
["Low-flow Gravity Toilet",null,null,null,"M","N","N",null,"M","M",{"$f":"SUM(IF(ISBLANK(C5),,LOOKUP(C5,'Component Weights'!$B$16:$J$16,'Component Weights'!$B$17:$J$17)),IF(ISBLANK(D5),,LOOKUP(D5,'Component Weights'!$B$16:$J$16,'Component Weights'!$B$17:$J$17)),IF(ISBLANK(E5),,LOOKUP(E5,'Component Weights'!$B$16:$J$16,'Component Weights'!$B$17:$J$17)),IF(ISBLANK(F5),,LOOKUP(F5,'Component Weights'!$B$16:$J$16,'Component Weights'!$B$17:$J$17)),IF(ISBLANK(G5),,LOOKUP(G5,'Component Weights'!$B$16:$J$16,'Component Weights'!$B$17:$J$17)),IF(ISBLANK(B5),,LOOKUP(B5,'Component Weights'!$B$16:$J$16,'Component Weights'!$B$17:$J$17)),IF(ISBLANK(H5),,LOOKUP(H5,'Component Weights'!$B$16:$J$16,'Component Weights'!$B$17:$J$17)),IF(ISBLANK(I5),,LOOKUP(I5,'Component Weights'!$B$16:$J$16,'Component Weights'!$B$17:$J$17)),IF(ISBLANK(J5),,LOOKUP(J5,'Component Weights'!$B$16:$J$16,'Component Weights'!$B$17:$J$17)))","v":6},{"$f":"IF(ISBLANK(C5),\" \",(LOOKUP(C5,'Component Weights'!$B$16:$J$16,'Component Weights'!$B$17:$J$17)*$AA$4))","v":" "},{"$f":"IF(ISBLANK(D5),\" \",(LOOKUP(D5,'Component Weights'!$B$16:$J$16,'Component Weights'!$B$17:$J$17)*$AA$5))","v":" "},{"$f":"IF(ISBLANK(E5),\" \",(LOOKUP(E5,'Component Weights'!$B$16:$J$16,'Component Weights'!$B$17:$J$17)*$AA$6))","v":0.16},{"$f":"IF(ISBLANK(F5),\" \",(LOOKUP(F5,'Component Weights'!$B$16:$J$16,'Component Weights'!$B$17:$J$17)*$AA$7))","v":0},{"$f":"IF(ISBLANK(G5),\" \",(LOOKUP(G5,'Component Weights'!$B$16:$J$16,'Component Weights'!$B$17:$J$17)*$AA$8))","v":0},{"$f":"IF(ISBLANK(B5),\" \",(LOOKUP(B5,'Component Weights'!$B$16:$J$16,'Component Weights'!$B$17:$J$17)*$AA$9))","v":" "},{"$f":"IF(ISBLANK(H5),\" \",(LOOKUP(H5,'Component Weights'!$B$16:$J$16,'Component Weights'!$B$17:$J$17)*$AA$10))","v":" "},{"$f":"IF(ISBLANK(I5),\" \",(LOOKUP(I5,'Component Weights'!$B$16:$J$16,'Component Weights'!$B$17:$J$17)*$AA$11))","v":0.16},{"$f":"IF(ISBLANK(J5),\" \",(LOOKUP(J5,'Component Weights'!$B$16:$J$16,'Component Weights'!$B$17:$J$17)*$AA$12))","v":0.24},0.56000000000000005,3,null,0.56000000000000005,null,"Use of Recycled Content",0.12,"H","The amount of recycled content, expressed as a percentage, found in a product."]
["Standard Urinal",null,null,null,"M","N","N",null,"M","M",{"$f":"SUM(IF(ISBLANK(C6),,LOOKUP(C6,'Component Weights'!$B$16:$J$16,'Component Weights'!$B$17:$J$17)),IF(ISBLANK(D6),,LOOKUP(D6,'Component Weights'!$B$16:$J$16,'Component Weights'!$B$17:$J$17)),IF(ISBLANK(E6),,LOOKUP(E6,'Component Weights'!$B$16:$J$16,'Component Weights'!$B$17:$J$17)),IF(ISBLANK(F6),,LOOKUP(F6,'Component Weights'!$B$16:$J$16,'Component Weights'!$B$17:$J$17)),IF(ISBLANK(G6),,LOOKUP(G6,'Component Weights'!$B$16:$J$16,'Component Weights'!$B$17:$J$17)),IF(ISBLANK(B6),,LOOKUP(B6,'Component Weights'!$B$16:$J$16,'Component Weights'!$B$17:$J$17)),IF(ISBLANK(H6),,LOOKUP(H6,'Component Weights'!$B$16:$J$16,'Component Weights'!$B$17:$J$17)),IF(ISBLANK(I6),,LOOKUP(I6,'Component Weights'!$B$16:$J$16,'Component Weights'!$B$17:$J$17)),IF(ISBLANK(J6),,LOOKUP(J6,'Component Weights'!$B$16:$J$16,'Component Weights'!$B$17:$J$17)))","v":6},{"$f":"IF(ISBLANK(C6),\" \",(LOOKUP(C6,'Component Weights'!$B$16:$J$16,'Component Weights'!$B$17:$J$17)*$AA$4))","v":" "},{"$f":"IF(ISBLANK(D6),\" \",(LOOKUP(D6,'Component Weights'!$B$16:$J$16,'Component Weights'!$B$17:$J$17)*$AA$5))","v":" "},{"$f":"IF(ISBLANK(E6),\" \",(LOOKUP(E6,'Component Weights'!$B$16:$J$16,'Component Weights'!$B$17:$J$17)*$AA$6))","v":0.16},{"$f":"IF(ISBLANK(F6),\" \",(LOOKUP(F6,'Component Weights'!$B$16:$J$16,'Component Weights'!$B$17:$J$17)*$AA$7))","v":0},{"$f":"IF(ISBLANK(G6),\" \",(LOOKUP(G6,'Component Weights'!$B$16:$J$16,'Component Weights'!$B$17:$J$17)*$AA$8))","v":0},{"$f":"IF(ISBLANK(B6),\" \",(LOOKUP(B6,'Component Weights'!$B$16:$J$16,'Component Weights'!$B$17:$J$17)*$AA$9))","v":" "},{"$f":"IF(ISBLANK(H6),\" \",(LOOKUP(H6,'Component Weights'!$B$16:$J$16,'Component Weights'!$B$17:$J$17)*$AA$10))","v":" "},{"$f":"IF(ISBLANK(I6),\" \",(LOOKUP(I6,'Component Weights'!$B$16:$J$16,'Component Weights'!$B$17:$J$17)*$AA$11))","v":0.16},{"$f":"IF(ISBLANK(J6),\" \",(LOOKUP(J6,'Component Weights'!$B$16:$J$16,'Component Weights'!$B$17:$J$17)*$AA$12))","v":0.24},0.56000000000000005,3,null,0.56000000000000005,null,"Low Energy Usage Manufacturing Process",0.08,"M","The amount of energy used in manufacture of the product."]
["Pressurized Tank Toilet",null,null,null,"L","N","N",null,"M","M",{"$f":"SUM(IF(ISBLANK(C7),,LOOKUP(C7,'Component Weights'!$B$16:$J$16,'Component Weights'!$B$17:$J$17)),IF(ISBLANK(D7),,LOOKUP(D7,'Component Weights'!$B$16:$J$16,'Component Weights'!$B$17:$J$17)),IF(ISBLANK(E7),,LOOKUP(E7,'Component Weights'!$B$16:$J$16,'Component Weights'!$B$17:$J$17)),IF(ISBLANK(F7),,LOOKUP(F7,'Component Weights'!$B$16:$J$16,'Component Weights'!$B$17:$J$17)),IF(ISBLANK(G7),,LOOKUP(G7,'Component Weights'!$B$16:$J$16,'Component Weights'!$B$17:$J$17)),IF(ISBLANK(B7),,LOOKUP(B7,'Component Weights'!$B$16:$J$16,'Component Weights'!$B$17:$J$17)),IF(ISBLANK(H7),,LOOKUP(H7,'Component Weights'!$B$16:$J$16,'Component Weights'!$B$17:$J$17)),IF(ISBLANK(I7),,LOOKUP(I7,'Component Weights'!$B$16:$J$16,'Component Weights'!$B$17:$J$17)),IF(ISBLANK(J7),,LOOKUP(J7,'Component Weights'!$B$16:$J$16,'Component Weights'!$B$17:$J$17)))","v":5},{"$f":"IF(ISBLANK(C7),\" \",(LOOKUP(C7,'Component Weights'!$B$16:$J$16,'Component Weights'!$B$17:$J$17)*$AA$4))","v":" "},{"$f":"IF(ISBLANK(D7),\" \",(LOOKUP(D7,'Component Weights'!$B$16:$J$16,'Component Weights'!$B$17:$J$17)*$AA$5))","v":" "},{"$f":"IF(ISBLANK(E7),\" \",(LOOKUP(E7,'Component Weights'!$B$16:$J$16,'Component Weights'!$B$17:$J$17)*$AA$6))","v":0.08},{"$f":"IF(ISBLANK(F7),\" \",(LOOKUP(F7,'Component Weights'!$B$16:$J$16,'Component Weights'!$B$17:$J$17)*$AA$7))","v":0},{"$f":"IF(ISBLANK(G7),\" \",(LOOKUP(G7,'Component Weights'!$B$16:$J$16,'Component Weights'!$B$17:$J$17)*$AA$8))","v":0},{"$f":"IF(ISBLANK(B7),\" \",(LOOKUP(B7,'Component Weights'!$B$16:$J$16,'Component Weights'!$B$17:$J$17)*$AA$9))","v":" "},{"$f":"IF(ISBLANK(H7),\" \",(LOOKUP(H7,'Component Weights'!$B$16:$J$16,'Component Weights'!$B$17:$J$17)*$AA$10))","v":" "},{"$f":"IF(ISBLANK(I7),\" \",(LOOKUP(I7,'Component Weights'!$B$16:$J$16,'Component Weights'!$B$17:$J$17)*$AA$11))","v":0.16},{"$f":"IF(ISBLANK(J7),\" \",(LOOKUP(J7,'Component Weights'!$B$16:$J$16,'Component Weights'!$B$17:$J$17)*$AA$12))","v":0.24},0.48,6,null,0.48,null,"Easily Biodegradable",0.12,"H","The amount of time it will take the product to degrade once its useful life is over."]
["Heat/Ash Toilet",null,null,null,"L","N","N",null,"M","M",{"$f":"SUM(IF(ISBLANK(C8),,LOOKUP(C8,'Component Weights'!$B$16:$J$16,'Component Weights'!$B$17:$J$17)),IF(ISBLANK(D8),,LOOKUP(D8,'Component Weights'!$B$16:$J$16,'Component Weights'!$B$17:$J$17)),IF(ISBLANK(E8),,LOOKUP(E8,'Component Weights'!$B$16:$J$16,'Component Weights'!$B$17:$J$17)),IF(ISBLANK(F8),,LOOKUP(F8,'Component Weights'!$B$16:$J$16,'Component Weights'!$B$17:$J$17)),IF(ISBLANK(G8),,LOOKUP(G8,'Component Weights'!$B$16:$J$16,'Component Weights'!$B$17:$J$17)),IF(ISBLANK(B8),,LOOKUP(B8,'Component Weights'!$B$16:$J$16,'Component Weights'!$B$17:$J$17)),IF(ISBLANK(H8),,LOOKUP(H8,'Component Weights'!$B$16:$J$16,'Component Weights'!$B$17:$J$17)),IF(ISBLANK(I8),,LOOKUP(I8,'Component Weights'!$B$16:$J$16,'Component Weights'!$B$17:$J$17)),IF(ISBLANK(J8),,LOOKUP(J8,'Component Weights'!$B$16:$J$16,'Component Weights'!$B$17:$J$17)))","v":5},{"$f":"IF(ISBLANK(C8),\" \",(LOOKUP(C8,'Component Weights'!$B$16:$J$16,'Component Weights'!$B$17:$J$17)*$AA$4))","v":" "},{"$f":"IF(ISBLANK(D8),\" \",(LOOKUP(D8,'Component Weights'!$B$16:$J$16,'Component Weights'!$B$17:$J$17)*$AA$5))","v":" "},{"$f":"IF(ISBLANK(E8),\" \",(LOOKUP(E8,'Component Weights'!$B$16:$J$16,'Component Weights'!$B$17:$J$17)*$AA$6))","v":0.08},{"$f":"IF(ISBLANK(F8),\" \",(LOOKUP(F8,'Component Weights'!$B$16:$J$16,'Component Weights'!$B$17:$J$17)*$AA$7))","v":0},{"$f":"IF(ISBLANK(G8),\" \",(LOOKUP(G8,'Component Weights'!$B$16:$J$16,'Component Weights'!$B$17:$J$17)*$AA$8))","v":0},{"$f":"IF(ISBLANK(B8),\" \",(LOOKUP(B8,'Component Weights'!$B$16:$J$16,'Component Weights'!$B$17:$J$17)*$AA$9))","v":" "},{"$f":"IF(ISBLANK(H8),\" \",(LOOKUP(H8,'Component Weights'!$B$16:$J$16,'Component Weights'!$B$17:$J$17)*$AA$10))","v":" "},{"$f":"IF(ISBLANK(I8),\" \",(LOOKUP(I8,'Component Weights'!$B$16:$J$16,'Component Weights'!$B$17:$J$17)*$AA$11))","v":0.16},{"$f":"IF(ISBLANK(J8),\" \",(LOOKUP(J8,'Component Weights'!$B$16:$J$16,'Component Weights'!$B$17:$J$17)*$AA$12))","v":0.24},0.48,6,null,0.48,null,"Made from Natural Materials",0.05,"L","The amount, expressed as a percentage, of natural (not man-made) materials used to make the product."]
["Gravity Tank Toilet",null,null,null,"M","N","N",null,"L","M",{"$f":"SUM(IF(ISBLANK(C9),,LOOKUP(C9,'Component Weights'!$B$16:$J$16,'Component Weights'!$B$17:$J$17)),IF(ISBLANK(D9),,LOOKUP(D9,'Component Weights'!$B$16:$J$16,'Component Weights'!$B$17:$J$17)),IF(ISBLANK(E9),,LOOKUP(E9,'Component Weights'!$B$16:$J$16,'Component Weights'!$B$17:$J$17)),IF(ISBLANK(F9),,LOOKUP(F9,'Component Weights'!$B$16:$J$16,'Component Weights'!$B$17:$J$17)),IF(ISBLANK(G9),,LOOKUP(G9,'Component Weights'!$B$16:$J$16,'Component Weights'!$B$17:$J$17)),IF(ISBLANK(B9),,LOOKUP(B9,'Component Weights'!$B$16:$J$16,'Component Weights'!$B$17:$J$17)),IF(ISBLANK(H9),,LOOKUP(H9,'Component Weights'!$B$16:$J$16,'Component Weights'!$B$17:$J$17)),IF(ISBLANK(I9),,LOOKUP(I9,'Component Weights'!$B$16:$J$16,'Component Weights'!$B$17:$J$17)),IF(ISBLANK(J9),,LOOKUP(J9,'Component Weights'!$B$16:$J$16,'Component Weights'!$B$17:$J$17)))","v":5},{"$f":"IF(ISBLANK(C9),\" \",(LOOKUP(C9,'Component Weights'!$B$16:$J$16,'Component Weights'!$B$17:$J$17)*$AA$4))","v":" "},{"$f":"IF(ISBLANK(D9),\" \",(LOOKUP(D9,'Component Weights'!$B$16:$J$16,'Component Weights'!$B$17:$J$17)*$AA$5))","v":" "},{"$f":"IF(ISBLANK(E9),\" \",(LOOKUP(E9,'Component Weights'!$B$16:$J$16,'Component Weights'!$B$17:$J$17)*$AA$6))","v":0.16},{"$f":"IF(ISBLANK(F9),\" \",(LOOKUP(F9,'Component Weights'!$B$16:$J$16,'Component Weights'!$B$17:$J$17)*$AA$7))","v":0},{"$f":"IF(ISBLANK(G9),\" \",(LOOKUP(G9,'Component Weights'!$B$16:$J$16,'Component Weights'!$B$17:$J$17)*$AA$8))","v":0},{"$f":"IF(ISBLANK(B9),\" \",(LOOKUP(B9,'Component Weights'!$B$16:$J$16,'Component Weights'!$B$17:$J$17)*$AA$9))","v":" "},{"$f":"IF(ISBLANK(H9),\" \",(LOOKUP(H9,'Component Weights'!$B$16:$J$16,'Component Weights'!$B$17:$J$17)*$AA$10))","v":" "},{"$f":"IF(ISBLANK(I9),\" \",(LOOKUP(I9,'Component Weights'!$B$16:$J$16,'Component Weights'!$B$17:$J$17)*$AA$11))","v":0.08},{"$f":"IF(ISBLANK(J9),\" \",(LOOKUP(J9,'Component Weights'!$B$16:$J$16,'Component Weights'!$B$17:$J$17)*$AA$12))","v":0.24},0.48,6,null,0.48,null,"Available Locally",0.23,"H+","The distance in miles that the product must travel to the destination of final use."]
["Bidet",null,null,null,"M","N","N",null,"L","M",{"$f":"SUM(IF(ISBLANK(C10),,LOOKUP(C10,'Component Weights'!$B$16:$J$16,'Component Weights'!$B$17:$J$17)),IF(ISBLANK(D10),,LOOKUP(D10,'Component Weights'!$B$16:$J$16,'Component Weights'!$B$17:$J$17)),IF(ISBLANK(E10),,LOOKUP(E10,'Component Weights'!$B$16:$J$16,'Component Weights'!$B$17:$J$17)),IF(ISBLANK(F10),,LOOKUP(F10,'Component Weights'!$B$16:$J$16,'Component Weights'!$B$17:$J$17)),IF(ISBLANK(G10),,LOOKUP(G10,'Component Weights'!$B$16:$J$16,'Component Weights'!$B$17:$J$17)),IF(ISBLANK(B10),,LOOKUP(B10,'Component Weights'!$B$16:$J$16,'Component Weights'!$B$17:$J$17)),IF(ISBLANK(H10),,LOOKUP(H10,'Component Weights'!$B$16:$J$16,'Component Weights'!$B$17:$J$17)),IF(ISBLANK(I10),,LOOKUP(I10,'Component Weights'!$B$16:$J$16,'Component Weights'!$B$17:$J$17)),IF(ISBLANK(J10),,LOOKUP(J10,'Component Weights'!$B$16:$J$16,'Component Weights'!$B$17:$J$17)))","v":5},{"$f":"IF(ISBLANK(C10),\" \",(LOOKUP(C10,'Component Weights'!$B$16:$J$16,'Component Weights'!$B$17:$J$17)*$AA$4))","v":" "},{"$f":"IF(ISBLANK(D10),\" \",(LOOKUP(D10,'Component Weights'!$B$16:$J$16,'Component Weights'!$B$17:$J$17)*$AA$5))","v":" "},{"$f":"IF(ISBLANK(E10),\" \",(LOOKUP(E10,'Component Weights'!$B$16:$J$16,'Component Weights'!$B$17:$J$17)*$AA$6))","v":0.16},{"$f":"IF(ISBLANK(F10),\" \",(LOOKUP(F10,'Component Weights'!$B$16:$J$16,'Component Weights'!$B$17:$J$17)*$AA$7))","v":0},{"$f":"IF(ISBLANK(G10),\" \",(LOOKUP(G10,'Component Weights'!$B$16:$J$16,'Component Weights'!$B$17:$J$17)*$AA$8))","v":0},{"$f":"IF(ISBLANK(B10),\" \",(LOOKUP(B10,'Component Weights'!$B$16:$J$16,'Component Weights'!$B$17:$J$17)*$AA$9))","v":" "},{"$f":"IF(ISBLANK(H10),\" \",(LOOKUP(H10,'Component Weights'!$B$16:$J$16,'Component Weights'!$B$17:$J$17)*$AA$10))","v":" "},{"$f":"IF(ISBLANK(I10),\" \",(LOOKUP(I10,'Component Weights'!$B$16:$J$16,'Component Weights'!$B$17:$J$17)*$AA$11))","v":0.08},{"$f":"IF(ISBLANK(J10),\" \",(LOOKUP(J10,'Component Weights'!$B$16:$J$16,'Component Weights'!$B$17:$J$17)*$AA$12))","v":0.24},0.48,6,null,0.48,null,"Low Emissions Potential",0.12,"H","The amount of time it will take the product to stop outgassing."]
["(Enter Custom Product Here)",null,null,null,null,null,null,null,null,null,{"$f":"SUM(IF(ISBLANK(C11),,LOOKUP(C11,'Component Weights'!$B$16:$J$16,'Component Weights'!$B$17:$J$17)),IF(ISBLANK(D11),,LOOKUP(D11,'Component Weights'!$B$16:$J$16,'Component Weights'!$B$17:$J$17)),IF(ISBLANK(E11),,LOOKUP(E11,'Component Weights'!$B$16:$J$16,'Component Weights'!$B$17:$J$17)),IF(ISBLANK(F11),,LOOKUP(F11,'Component Weights'!$B$16:$J$16,'Component Weights'!$B$17:$J$17)),IF(ISBLANK(G11),,LOOKUP(G11,'Component Weights'!$B$16:$J$16,'Component Weights'!$B$17:$J$17)),IF(ISBLANK(B11),,LOOKUP(B11,'Component Weights'!$B$16:$J$16,'Component Weights'!$B$17:$J$17)),IF(ISBLANK(H11),,LOOKUP(H11,'Component Weights'!$B$16:$J$16,'Component Weights'!$B$17:$J$17)),IF(ISBLANK(I11),,LOOKUP(I11,'Component Weights'!$B$16:$J$16,'Component Weights'!$B$17:$J$17)),IF(ISBLANK(J11),,LOOKUP(J11,'Component Weights'!$B$16:$J$16,'Component Weights'!$B$17:$J$17)))","v":0},{"$f":"IF(ISBLANK(C11),\" \",(LOOKUP(C11,'Component Weights'!$B$16:$J$16,'Component Weights'!$B$17:$J$17)*$AA$4))","v":" "},{"$f":"IF(ISBLANK(D11),\" \",(LOOKUP(D11,'Component Weights'!$B$16:$J$16,'Component Weights'!$B$17:$J$17)*$AA$5))","v":" "},{"$f":"IF(ISBLANK(E11),\" \",(LOOKUP(E11,'Component Weights'!$B$16:$J$16,'Component Weights'!$B$17:$J$17)*$AA$6))","v":" "},{"$f":"IF(ISBLANK(F11),\" \",(LOOKUP(F11,'Component Weights'!$B$16:$J$16,'Component Weights'!$B$17:$J$17)*$AA$7))","v":" "},{"$f":"IF(ISBLANK(G11),\" \",(LOOKUP(G11,'Component Weights'!$B$16:$J$16,'Component Weights'!$B$17:$J$17)*$AA$8))","v":" "},{"$f":"IF(ISBLANK(B11),\" \",(LOOKUP(B11,'Component Weights'!$B$16:$J$16,'Component Weights'!$B$17:$J$17)*$AA$9))","v":" "},{"$f":"IF(ISBLANK(H11),\" \",(LOOKUP(H11,'Component Weights'!$B$16:$J$16,'Component Weights'!$B$17:$J$17)*$AA$10))","v":" "},{"$f":"IF(ISBLANK(I11),\" \",(LOOKUP(I11,'Component Weights'!$B$16:$J$16,'Component Weights'!$B$17:$J$17)*$AA$11))","v":" "},{"$f":"IF(ISBLANK(J11),\" \",(LOOKUP(J11,'Component Weights'!$B$16:$J$16,'Component Weights'!$B$17:$J$17)*$AA$12))","v":" "},0,99,null,0,null,"Listed in Other Programs (e.g. EnergyStar)",0.08,"M","The level of product recommendation in recognized energy and environmental programs."]
["(Enter Custom Product Here)",null,null,null,null,null,null,null,null,null,{"$f":"SUM(IF(ISBLANK(C12),,LOOKUP(C12,'Component Weights'!$B$16:$J$16,'Component Weights'!$B$17:$J$17)),IF(ISBLANK(D12),,LOOKUP(D12,'Component Weights'!$B$16:$J$16,'Component Weights'!$B$17:$J$17)),IF(ISBLANK(E12),,LOOKUP(E12,'Component Weights'!$B$16:$J$16,'Component Weights'!$B$17:$J$17)),IF(ISBLANK(F12),,LOOKUP(F12,'Component Weights'!$B$16:$J$16,'Component Weights'!$B$17:$J$17)),IF(ISBLANK(G12),,LOOKUP(G12,'Component Weights'!$B$16:$J$16,'Component Weights'!$B$17:$J$17)),IF(ISBLANK(B12),,LOOKUP(B12,'Component Weights'!$B$16:$J$16,'Component Weights'!$B$17:$J$17)),IF(ISBLANK(H12),,LOOKUP(H12,'Component Weights'!$B$16:$J$16,'Component Weights'!$B$17:$J$17)),IF(ISBLANK(I12),,LOOKUP(I12,'Component Weights'!$B$16:$J$16,'Component Weights'!$B$17:$J$17)),IF(ISBLANK(J12),,LOOKUP(J12,'Component Weights'!$B$16:$J$16,'Component Weights'!$B$17:$J$17)))","v":0},{"$f":"IF(ISBLANK(C12),\" \",(LOOKUP(C12,'Component Weights'!$B$16:$J$16,'Component Weights'!$B$17:$J$17)*$AA$4))","v":" "},{"$f":"IF(ISBLANK(D12),\" \",(LOOKUP(D12,'Component Weights'!$B$16:$J$16,'Component Weights'!$B$17:$J$17)*$AA$5))","v":" "},{"$f":"IF(ISBLANK(E12),\" \",(LOOKUP(E12,'Component Weights'!$B$16:$J$16,'Component Weights'!$B$17:$J$17)*$AA$6))","v":" "},{"$f":"IF(ISBLANK(F12),\" \",(LOOKUP(F12,'Component Weights'!$B$16:$J$16,'Component Weights'!$B$17:$J$17)*$AA$7))","v":" "},{"$f":"IF(ISBLANK(G12),\" \",(LOOKUP(G12,'Component Weights'!$B$16:$J$16,'Component Weights'!$B$17:$J$17)*$AA$8))","v":" "},{"$f":"IF(ISBLANK(B12),\" \",(LOOKUP(B12,'Component Weights'!$B$16:$J$16,'Component Weights'!$B$17:$J$17)*$AA$9))","v":" "},{"$f":"IF(ISBLANK(H12),\" \",(LOOKUP(H12,'Component Weights'!$B$16:$J$16,'Component Weights'!$B$17:$J$17)*$AA$10))","v":" "},{"$f":"IF(ISBLANK(I12),\" \",(LOOKUP(I12,'Component Weights'!$B$16:$J$16,'Component Weights'!$B$17:$J$17)*$AA$11))","v":" "},{"$f":"IF(ISBLANK(J12),\" \",(LOOKUP(J12,'Component Weights'!$B$16:$J$16,'Component Weights'!$B$17:$J$17)*$AA$12))","v":" "},0,99,null,{"$f":"U12","v":0},null,"Non Hazardous as Waste",0.12,"H","The amount of hazardous materials and components found in the product."]
["(Enter Custom Product Here)",null,null,null,null,null,null,null,null,null,{"$f":"SUM(IF(ISBLANK(C13),,LOOKUP(C13,'Component Weights'!$B$16:$J$16,'Component Weights'!$B$17:$J$17)),IF(ISBLANK(D13),,LOOKUP(D13,'Component Weights'!$B$16:$J$16,'Component Weights'!$B$17:$J$17)),IF(ISBLANK(E13),,LOOKUP(E13,'Component Weights'!$B$16:$J$16,'Component Weights'!$B$17:$J$17)),IF(ISBLANK(F13),,LOOKUP(F13,'Component Weights'!$B$16:$J$16,'Component Weights'!$B$17:$J$17)),IF(ISBLANK(G13),,LOOKUP(G13,'Component Weights'!$B$16:$J$16,'Component Weights'!$B$17:$J$17)),IF(ISBLANK(B13),,LOOKUP(B13,'Component Weights'!$B$16:$J$16,'Component Weights'!$B$17:$J$17)),IF(ISBLANK(H13),,LOOKUP(H13,'Component Weights'!$B$16:$J$16,'Component Weights'!$B$17:$J$17)),IF(ISBLANK(I13),,LOOKUP(I13,'Component Weights'!$B$16:$J$16,'Component Weights'!$B$17:$J$17)),IF(ISBLANK(J13),,LOOKUP(J13,'Component Weights'!$B$16:$J$16,'Component Weights'!$B$17:$J$17)))","v":0},{"$f":"IF(ISBLANK(C13),\" \",(LOOKUP(C13,'Component Weights'!$B$16:$J$16,'Component Weights'!$B$17:$J$17)*$AA$4))","v":" "},{"$f":"IF(ISBLANK(D13),\" \",(LOOKUP(D13,'Component Weights'!$B$16:$J$16,'Component Weights'!$B$17:$J$17)*$AA$5))","v":" "},{"$f":"IF(ISBLANK(E13),\" \",(LOOKUP(E13,'Component Weights'!$B$16:$J$16,'Component Weights'!$B$17:$J$17)*$AA$6))","v":" "},{"$f":"IF(ISBLANK(F13),\" \",(LOOKUP(F13,'Component Weights'!$B$16:$J$16,'Component Weights'!$B$17:$J$17)*$AA$7))","v":" "},{"$f":"IF(ISBLANK(G13),\" \",(LOOKUP(G13,'Component Weights'!$B$16:$J$16,'Component Weights'!$B$17:$J$17)*$AA$8))","v":" "},{"$f":"IF(ISBLANK(B13),\" \",(LOOKUP(B13,'Component Weights'!$B$16:$J$16,'Component Weights'!$B$17:$J$17)*$AA$9))","v":" "},{"$f":"IF(ISBLANK(H13),\" \",(LOOKUP(H13,'Component Weights'!$B$16:$J$16,'Component Weights'!$B$17:$J$17)*$AA$10))","v":" "},{"$f":"IF(ISBLANK(I13),\" \",(LOOKUP(I13,'Component Weights'!$B$16:$J$16,'Component Weights'!$B$17:$J$17)*$AA$11))","v":" "},{"$f":"IF(ISBLANK(J13),\" \",(LOOKUP(J13,'Component Weights'!$B$16:$J$16,'Component Weights'!$B$17:$J$17)*$AA$12))","v":" "},0,99,null,{"$f":"U13","v":0},null,"Total Weightings Must Equal 100%",{"$f":"SUM(AA4:AA12)","v":1},null,{"$f":"IF(AA13<>100%,\"Keep Working - Weightings must equal 100%\",\" \")","v":" "}]
["(Enter Custom Product Here)",null,null,null,null,null,null,null,null,null,{"$f":"SUM(IF(ISBLANK(C14),,LOOKUP(C14,'Component Weights'!$B$16:$J$16,'Component Weights'!$B$17:$J$17)),IF(ISBLANK(D14),,LOOKUP(D14,'Component Weights'!$B$16:$J$16,'Component Weights'!$B$17:$J$17)),IF(ISBLANK(E14),,LOOKUP(E14,'Component Weights'!$B$16:$J$16,'Component Weights'!$B$17:$J$17)),IF(ISBLANK(F14),,LOOKUP(F14,'Component Weights'!$B$16:$J$16,'Component Weights'!$B$17:$J$17)),IF(ISBLANK(G14),,LOOKUP(G14,'Component Weights'!$B$16:$J$16,'Component Weights'!$B$17:$J$17)),IF(ISBLANK(B14),,LOOKUP(B14,'Component Weights'!$B$16:$J$16,'Component Weights'!$B$17:$J$17)),IF(ISBLANK(H14),,LOOKUP(H14,'Component Weights'!$B$16:$J$16,'Component Weights'!$B$17:$J$17)),IF(ISBLANK(I14),,LOOKUP(I14,'Component Weights'!$B$16:$J$16,'Component Weights'!$B$17:$J$17)),IF(ISBLANK(J14),,LOOKUP(J14,'Component Weights'!$B$16:$J$16,'Component Weights'!$B$17:$J$17)))","v":0},{"$f":"IF(ISBLANK(C14),\" \",(LOOKUP(C14,'Component Weights'!$B$16:$J$16,'Component Weights'!$B$17:$J$17)*$AA$4))","v":" "},{"$f":"IF(ISBLANK(D14),\" \",(LOOKUP(D14,'Component Weights'!$B$16:$J$16,'Component Weights'!$B$17:$J$17)*$AA$5))","v":" "},{"$f":"IF(ISBLANK(E14),\" \",(LOOKUP(E14,'Component Weights'!$B$16:$J$16,'Component Weights'!$B$17:$J$17)*$AA$6))","v":" "},{"$f":"IF(ISBLANK(F14),\" \",(LOOKUP(F14,'Component Weights'!$B$16:$J$16,'Component Weights'!$B$17:$J$17)*$AA$7))","v":" "},{"$f":"IF(ISBLANK(G14),\" \",(LOOKUP(G14,'Component Weights'!$B$16:$J$16,'Component Weights'!$B$17:$J$17)*$AA$8))","v":" "},{"$f":"IF(ISBLANK(B14),\" \",(LOOKUP(B14,'Component Weights'!$B$16:$J$16,'Component Weights'!$B$17:$J$17)*$AA$9))","v":" "},{"$f":"IF(ISBLANK(H14),\" \",(LOOKUP(H14,'Component Weights'!$B$16:$J$16,'Component Weights'!$B$17:$J$17)*$AA$10))","v":" "},{"$f":"IF(ISBLANK(I14),\" \",(LOOKUP(I14,'Component Weights'!$B$16:$J$16,'Component Weights'!$B$17:$J$17)*$AA$11))","v":" "},{"$f":"IF(ISBLANK(J14),\" \",(LOOKUP(J14,'Component Weights'!$B$16:$J$16,'Component Weights'!$B$17:$J$17)*$AA$12))","v":" "},0,99,null,{"$f":"U14","v":0}]
["(Enter Custom Product Here)",null,null,null,null,null,null,null,null,null,{"$f":"SUM(IF(ISBLANK(C15),,LOOKUP(C15,'Component Weights'!$B$16:$J$16,'Component Weights'!$B$17:$J$17)),IF(ISBLANK(D15),,LOOKUP(D15,'Component Weights'!$B$16:$J$16,'Component Weights'!$B$17:$J$17)),IF(ISBLANK(E15),,LOOKUP(E15,'Component Weights'!$B$16:$J$16,'Component Weights'!$B$17:$J$17)),IF(ISBLANK(F15),,LOOKUP(F15,'Component Weights'!$B$16:$J$16,'Component Weights'!$B$17:$J$17)),IF(ISBLANK(G15),,LOOKUP(G15,'Component Weights'!$B$16:$J$16,'Component Weights'!$B$17:$J$17)),IF(ISBLANK(B15),,LOOKUP(B15,'Component Weights'!$B$16:$J$16,'Component Weights'!$B$17:$J$17)),IF(ISBLANK(H15),,LOOKUP(H15,'Component Weights'!$B$16:$J$16,'Component Weights'!$B$17:$J$17)),IF(ISBLANK(I15),,LOOKUP(I15,'Component Weights'!$B$16:$J$16,'Component Weights'!$B$17:$J$17)),IF(ISBLANK(J15),,LOOKUP(J15,'Component Weights'!$B$16:$J$16,'Component Weights'!$B$17:$J$17)))","v":0},{"$f":"IF(ISBLANK(C15),\" \",(LOOKUP(C15,'Component Weights'!$B$16:$J$16,'Component Weights'!$B$17:$J$17)*$AA$4))","v":" "},{"$f":"IF(ISBLANK(D15),\" \",(LOOKUP(D15,'Component Weights'!$B$16:$J$16,'Component Weights'!$B$17:$J$17)*$AA$5))","v":" "},{"$f":"IF(ISBLANK(E15),\" \",(LOOKUP(E15,'Component Weights'!$B$16:$J$16,'Component Weights'!$B$17:$J$17)*$AA$6))","v":" "},{"$f":"IF(ISBLANK(F15),\" \",(LOOKUP(F15,'Component Weights'!$B$16:$J$16,'Component Weights'!$B$17:$J$17)*$AA$7))","v":" "},{"$f":"IF(ISBLANK(G15),\" \",(LOOKUP(G15,'Component Weights'!$B$16:$J$16,'Component Weights'!$B$17:$J$17)*$AA$8))","v":" "},{"$f":"IF(ISBLANK(B15),\" \",(LOOKUP(B15,'Component Weights'!$B$16:$J$16,'Component Weights'!$B$17:$J$17)*$AA$9))","v":" "},{"$f":"IF(ISBLANK(H15),\" \",(LOOKUP(H15,'Component Weights'!$B$16:$J$16,'Component Weights'!$B$17:$J$17)*$AA$10))","v":" "},{"$f":"IF(ISBLANK(I15),\" \",(LOOKUP(I15,'Component Weights'!$B$16:$J$16,'Component Weights'!$B$17:$J$17)*$AA$11))","v":" "},{"$f":"IF(ISBLANK(J15),\" \",(LOOKUP(J15,'Component Weights'!$B$16:$J$16,'Component Weights'!$B$17:$J$17)*$AA$12))","v":" "},0,99,null,{"$f":"U15","v":0}]
["(Enter Custom Product Here)",null,null,null,null,null,null,null,null,null,{"$f":"SUM(IF(ISBLANK(C16),,LOOKUP(C16,'Component Weights'!$B$16:$J$16,'Component Weights'!$B$17:$J$17)),IF(ISBLANK(D16),,LOOKUP(D16,'Component Weights'!$B$16:$J$16,'Component Weights'!$B$17:$J$17)),IF(ISBLANK(E16),,LOOKUP(E16,'Component Weights'!$B$16:$J$16,'Component Weights'!$B$17:$J$17)),IF(ISBLANK(F16),,LOOKUP(F16,'Component Weights'!$B$16:$J$16,'Component Weights'!$B$17:$J$17)),IF(ISBLANK(G16),,LOOKUP(G16,'Component Weights'!$B$16:$J$16,'Component Weights'!$B$17:$J$17)),IF(ISBLANK(B16),,LOOKUP(B16,'Component Weights'!$B$16:$J$16,'Component Weights'!$B$17:$J$17)),IF(ISBLANK(H16),,LOOKUP(H16,'Component Weights'!$B$16:$J$16,'Component Weights'!$B$17:$J$17)),IF(ISBLANK(I16),,LOOKUP(I16,'Component Weights'!$B$16:$J$16,'Component Weights'!$B$17:$J$17)),IF(ISBLANK(J16),,LOOKUP(J16,'Component Weights'!$B$16:$J$16,'Component Weights'!$B$17:$J$17)))","v":0},{"$f":"IF(ISBLANK(C16),\" \",(LOOKUP(C16,'Component Weights'!$B$16:$J$16,'Component Weights'!$B$17:$J$17)*$AA$4))","v":" "},{"$f":"IF(ISBLANK(D16),\" \",(LOOKUP(D16,'Component Weights'!$B$16:$J$16,'Component Weights'!$B$17:$J$17)*$AA$5))","v":" "},{"$f":"IF(ISBLANK(E16),\" \",(LOOKUP(E16,'Component Weights'!$B$16:$J$16,'Component Weights'!$B$17:$J$17)*$AA$6))","v":" "},{"$f":"IF(ISBLANK(F16),\" \",(LOOKUP(F16,'Component Weights'!$B$16:$J$16,'Component Weights'!$B$17:$J$17)*$AA$7))","v":" "},{"$f":"IF(ISBLANK(G16),\" \",(LOOKUP(G16,'Component Weights'!$B$16:$J$16,'Component Weights'!$B$17:$J$17)*$AA$8))","v":" "},{"$f":"IF(ISBLANK(B16),\" \",(LOOKUP(B16,'Component Weights'!$B$16:$J$16,'Component Weights'!$B$17:$J$17)*$AA$9))","v":" "},{"$f":"IF(ISBLANK(H16),\" \",(LOOKUP(H16,'Component Weights'!$B$16:$J$16,'Component Weights'!$B$17:$J$17)*$AA$10))","v":" "},{"$f":"IF(ISBLANK(I16),\" \",(LOOKUP(I16,'Component Weights'!$B$16:$J$16,'Component Weights'!$B$17:$J$17)*$AA$11))","v":" "},{"$f":"IF(ISBLANK(J16),\" \",(LOOKUP(J16,'Component Weights'!$B$16:$J$16,'Component Weights'!$B$17:$J$17)*$AA$12))","v":" "},0,99,null,0]
[null,null,null,null,null,null,null,null,null,null,{"$f":"AVERAGE(K$2:K10)","v":5.7777777777777777},{"$f":"AVERAGE(L$2:L10)","v":{"$error":"#DIV/0!"}},{"$f":"AVERAGE(M$2:M10)","v":{"$error":"#DIV/0!"}},{"$f":"AVERAGE(N$2:N10)","v":0.13333333333333333},{"$f":"AVERAGE(O$2:O10)","v":0},{"$f":"AVERAGE(P$2:P10)","v":0},{"$f":"AVERAGE(Q$2:Q10)","v":{"$error":"#DIV/0!"}},{"$f":"AVERAGE(R$2:R10)","v":{"$error":"#DIV/0!"}},{"$f":"AVERAGE(S$2:S10)","v":0.16888888888888889},{"$f":"AVERAGE(T$2:T10)","v":0.24000000000000002},{"$f":"AVERAGE(U$2:U10)","v":0.54222222222222227},{"$f":"IF(AND(OR(#REF!=72,#REF!=73,#REF!=74,#REF!=75,#REF!=76),$U17>0),RANK($U17,Y$2:Y$34,0),\" \")","v":{"$error":"#REF!"}}]

{"sheet":"Lighting","index":15,"n_rows":16,"n_cols":29,"rows_kept":16,"cut":false,"hidden":false,"merged":[]}
["Instructions:\nScroll down to see all products.  New products may be added to the end of the list.  Rate the performance of each product as \"N, L, M or H.\" (Hover over the component title for the rating description.)  Use your Backspace button to clear values.  The Sort button (below) will incorporate your priorities as currently stated on the table to the right.  (Scroll to the right to see the table.)\n\n","Available Locally","Incremental Energy Savings","Use of Recycled Content","Low Energy Usage Manufacturing Process","Easily Biodegradable","Made from Natural Materials","Low Emissions Potential","Listed in Other Programs","Non Hazardous as Waste","Total Raw Score","Incremental Energy Savings Weighted Score","Use of Recycled Content Weighted Score","Low Energy Usage Mfg. Process Weighted Score","Easily Biodegradable Weighted Score","Made from Natural Materials Weighted Score","Available Locally Weighted Score","Low Emissions Potential Weighted Score","Listed in Other Programs Weighted Score","Non Hazardous as Waste Weighted Score","Total Weighted Score","Force Ranking",null,"Weighted Score for Force Rank Calculation ",null,"Detailed instructions and options for using this tool are found in the Using the DYO® GBD Kit Decision Matrix Software Section of your DYO® Green Building Decision Kit."]
["LED (Light Emitting Diode)",null,"H","N","L","N","N","H","H","H",{"$f":"SUM(IF(ISBLANK(C2),,LOOKUP(C2,'Component Weights'!$B$16:$J$16,'Component Weights'!$B$17:$J$17)),IF(ISBLANK(D2),,LOOKUP(D2,'Component Weights'!$B$16:$J$16,'Component Weights'!$B$17:$J$17)),IF(ISBLANK(E2),,LOOKUP(E2,'Component Weights'!$B$16:$J$16,'Component Weights'!$B$17:$J$17)),IF(ISBLANK(F2),,LOOKUP(F2,'Component Weights'!$B$16:$J$16,'Component Weights'!$B$17:$J$17)),IF(ISBLANK(G2),,LOOKUP(G2,'Component Weights'!$B$16:$J$16,'Component Weights'!$B$17:$J$17)),IF(ISBLANK(B2),,LOOKUP(B2,'Component Weights'!$B$16:$J$16,'Component Weights'!$B$17:$J$17)),IF(ISBLANK(H2),,LOOKUP(H2,'Component Weights'!$B$16:$J$16,'Component Weights'!$B$17:$J$17)),IF(ISBLANK(I2),,LOOKUP(I2,'Component Weights'!$B$16:$J$16,'Component Weights'!$B$17:$J$17)),IF(ISBLANK(J2),,LOOKUP(J2,'Component Weights'!$B$16:$J$16,'Component Weights'!$B$17:$J$17)))","v":13},{"$f":"IF(ISBLANK(C2),\" \",(LOOKUP(C2,'Component Weights'!$B$16:$J$16,'Component Weights'!$B$17:$J$17)*$AA$4))","v":0.24},{"$f":"IF(ISBLANK(D2),\" \",(LOOKUP(D2,'Component Weights'!$B$16:$J$16,'Component Weights'!$B$17:$J$17)*$AA$5))","v":0},{"$f":"IF(ISBLANK(E2),\" \",(LOOKUP(E2,'Component Weights'!$B$16:$J$16,'Component Weights'!$B$17:$J$17)*$AA$6))","v":0.08},{"$f":"IF(ISBLANK(F2),\" \",(LOOKUP(F2,'Component Weights'!$B$16:$J$16,'Component Weights'!$B$17:$J$17)*$AA$7))","v":0},{"$f":"IF(ISBLANK(G2),\" \",(LOOKUP(G2,'Component Weights'!$B$16:$J$16,'Component Weights'!$B$17:$J$17)*$AA$8))","v":0},{"$f":"IF(ISBLANK(B2),\" \",(LOOKUP(B2,'Component Weights'!$B$16:$J$16,'Component Weights'!$B$17:$J$17)*$AA$9))","v":" "},{"$f":"IF(ISBLANK(H2),\" \",(LOOKUP(H2,'Component Weights'!$B$16:$J$16,'Component Weights'!$B$17:$J$17)*$AA$10))","v":0.36},{"$f":"IF(ISBLANK(I2),\" \",(LOOKUP(I2,'Component Weights'!$B$16:$J$16,'Component Weights'!$B$17:$J$17)*$AA$11))","v":0.24},{"$f":"IF(ISBLANK(J2),\" \",(LOOKUP(J2,'Component Weights'!$B$16:$J$16,'Component Weights'!$B$17:$J$17)*$AA$12))","v":0.36},{"$f":"SUM(L2:T2)","v":1.2799999999999998},{"$f":"IF($U2>0,RANK($U2,X$2:X$206,0),99)","v":1},null,{"$f":"U2","v":1.2799999999999998},null,"Component Weights for","Weight"]
["Compact Fluorescent",null,"H","N","L","N","N","M","H","M",{"$f":"SUM(IF(ISBLANK(C3),,LOOKUP(C3,'Component Weights'!$B$16:$J$16,'Component Weights'!$B$17:$J$17)),IF(ISBLANK(D3),,LOOKUP(D3,'Component Weights'!$B$16:$J$16,'Component Weights'!$B$17:$J$17)),IF(ISBLANK(E3),,LOOKUP(E3,'Component Weights'!$B$16:$J$16,'Component Weights'!$B$17:$J$17)),IF(ISBLANK(F3),,LOOKUP(F3,'Component Weights'!$B$16:$J$16,'Component Weights'!$B$17:$J$17)),IF(ISBLANK(G3),,LOOKUP(G3,'Component Weights'!$B$16:$J$16,'Component Weights'!$B$17:$J$17)),IF(ISBLANK(B3),,LOOKUP(B3,'Component Weights'!$B$16:$J$16,'Component Weights'!$B$17:$J$17)),IF(ISBLANK(H3),,LOOKUP(H3,'Component Weights'!$B$16:$J$16,'Component Weights'!$B$17:$J$17)),IF(ISBLANK(I3),,LOOKUP(I3,'Component Weights'!$B$16:$J$16,'Component Weights'!$B$17:$J$17)),IF(ISBLANK(J3),,LOOKUP(J3,'Component Weights'!$B$16:$J$16,'Component Weights'!$B$17:$J$17)))","v":11},{"$f":"IF(ISBLANK(C3),\" \",(LOOKUP(C3,'Component Weights'!$B$16:$J$16,'Component Weights'!$B$17:$J$17)*$AA$4))","v":0.24},{"$f":"IF(ISBLANK(D3),\" \",(LOOKUP(D3,'Component Weights'!$B$16:$J$16,'Component Weights'!$B$17:$J$17)*$AA$5))","v":0},{"$f":"IF(ISBLANK(E3),\" \",(LOOKUP(E3,'Component Weights'!$B$16:$J$16,'Component Weights'!$B$17:$J$17)*$AA$6))","v":0.08},{"$f":"IF(ISBLANK(F3),\" \",(LOOKUP(F3,'Component Weights'!$B$16:$J$16,'Component Weights'!$B$17:$J$17)*$AA$7))","v":0},{"$f":"IF(ISBLANK(G3),\" \",(LOOKUP(G3,'Component Weights'!$B$16:$J$16,'Component Weights'!$B$17:$J$17)*$AA$8))","v":0},{"$f":"IF(ISBLANK(B3),\" \",(LOOKUP(B3,'Component Weights'!$B$16:$J$16,'Component Weights'!$B$17:$J$17)*$AA$9))","v":" "},{"$f":"IF(ISBLANK(H3),\" \",(LOOKUP(H3,'Component Weights'!$B$16:$J$16,'Component Weights'!$B$17:$J$17)*$AA$10))","v":0.24},{"$f":"IF(ISBLANK(I3),\" \",(LOOKUP(I3,'Component Weights'!$B$16:$J$16,'Component Weights'!$B$17:$J$17)*$AA$11))","v":0.24},{"$f":"IF(ISBLANK(J3),\" \",(LOOKUP(J3,'Component Weights'!$B$16:$J$16,'Component Weights'!$B$17:$J$17)*$AA$12))","v":0.24},1.04,2,null,1.04,null,"Lighting"]
["Metal Halides (exterior)",null,"M","N","L","N","N","H","M","M",{"$f":"SUM(IF(ISBLANK(C4),,LOOKUP(C4,'Component Weights'!$B$16:$J$16,'Component Weights'!$B$17:$J$17)),IF(ISBLANK(D4),,LOOKUP(D4,'Component Weights'!$B$16:$J$16,'Component Weights'!$B$17:$J$17)),IF(ISBLANK(E4),,LOOKUP(E4,'Component Weights'!$B$16:$J$16,'Component Weights'!$B$17:$J$17)),IF(ISBLANK(F4),,LOOKUP(F4,'Component Weights'!$B$16:$J$16,'Component Weights'!$B$17:$J$17)),IF(ISBLANK(G4),,LOOKUP(G4,'Component Weights'!$B$16:$J$16,'Component Weights'!$B$17:$J$17)),IF(ISBLANK(B4),,LOOKUP(B4,'Component Weights'!$B$16:$J$16,'Component Weights'!$B$17:$J$17)),IF(ISBLANK(H4),,LOOKUP(H4,'Component Weights'!$B$16:$J$16,'Component Weights'!$B$17:$J$17)),IF(ISBLANK(I4),,LOOKUP(I4,'Component Weights'!$B$16:$J$16,'Component Weights'!$B$17:$J$17)),IF(ISBLANK(J4),,LOOKUP(J4,'Component Weights'!$B$16:$J$16,'Component Weights'!$B$17:$J$17)))","v":10},{"$f":"IF(ISBLANK(C4),\" \",(LOOKUP(C4,'Component Weights'!$B$16:$J$16,'Component Weights'!$B$17:$J$17)*$AA$4))","v":0.16},{"$f":"IF(ISBLANK(D4),\" \",(LOOKUP(D4,'Component Weights'!$B$16:$J$16,'Component Weights'!$B$17:$J$17)*$AA$5))","v":0},{"$f":"IF(ISBLANK(E4),\" \",(LOOKUP(E4,'Component Weights'!$B$16:$J$16,'Component Weights'!$B$17:$J$17)*$AA$6))","v":0.08},{"$f":"IF(ISBLANK(F4),\" \",(LOOKUP(F4,'Component Weights'!$B$16:$J$16,'Component Weights'!$B$17:$J$17)*$AA$7))","v":0},{"$f":"IF(ISBLANK(G4),\" \",(LOOKUP(G4,'Component Weights'!$B$16:$J$16,'Component Weights'!$B$17:$J$17)*$AA$8))","v":0},{"$f":"IF(ISBLANK(B4),\" \",(LOOKUP(B4,'Component Weights'!$B$16:$J$16,'Component Weights'!$B$17:$J$17)*$AA$9))","v":" "},{"$f":"IF(ISBLANK(H4),\" \",(LOOKUP(H4,'Component Weights'!$B$16:$J$16,'Component Weights'!$B$17:$J$17)*$AA$10))","v":0.36},{"$f":"IF(ISBLANK(I4),\" \",(LOOKUP(I4,'Component Weights'!$B$16:$J$16,'Component Weights'!$B$17:$J$17)*$AA$11))","v":0.16},{"$f":"IF(ISBLANK(J4),\" \",(LOOKUP(J4,'Component Weights'!$B$16:$J$16,'Component Weights'!$B$17:$J$17)*$AA$12))","v":0.24},1,3,null,1,null,"Incremental Energy Savings",0.08,"M","The amount of incremental energy, expressed in Btu/Hr, that a product saves or generates for the structure."]
["Standard Fluorescent",null,"H","N","L","N","N","M","M","M",{"$f":"SUM(IF(ISBLANK(C5),,LOOKUP(C5,'Component Weights'!$B$16:$J$16,'Component Weights'!$B$17:$J$17)),IF(ISBLANK(D5),,LOOKUP(D5,'Component Weights'!$B$16:$J$16,'Component Weights'!$B$17:$J$17)),IF(ISBLANK(E5),,LOOKUP(E5,'Component Weights'!$B$16:$J$16,'Component Weights'!$B$17:$J$17)),IF(ISBLANK(F5),,LOOKUP(F5,'Component Weights'!$B$16:$J$16,'Component Weights'!$B$17:$J$17)),IF(ISBLANK(G5),,LOOKUP(G5,'Component Weights'!$B$16:$J$16,'Component Weights'!$B$17:$J$17)),IF(ISBLANK(B5),,LOOKUP(B5,'Component Weights'!$B$16:$J$16,'Component Weights'!$B$17:$J$17)),IF(ISBLANK(H5),,LOOKUP(H5,'Component Weights'!$B$16:$J$16,'Component Weights'!$B$17:$J$17)),IF(ISBLANK(I5),,LOOKUP(I5,'Component Weights'!$B$16:$J$16,'Component Weights'!$B$17:$J$17)),IF(ISBLANK(J5),,LOOKUP(J5,'Component Weights'!$B$16:$J$16,'Component Weights'!$B$17:$J$17)))","v":10},{"$f":"IF(ISBLANK(C5),\" \",(LOOKUP(C5,'Component Weights'!$B$16:$J$16,'Component Weights'!$B$17:$J$17)*$AA$4))","v":0.24},{"$f":"IF(ISBLANK(D5),\" \",(LOOKUP(D5,'Component Weights'!$B$16:$J$16,'Component Weights'!$B$17:$J$17)*$AA$5))","v":0},{"$f":"IF(ISBLANK(E5),\" \",(LOOKUP(E5,'Component Weights'!$B$16:$J$16,'Component Weights'!$B$17:$J$17)*$AA$6))","v":0.08},{"$f":"IF(ISBLANK(F5),\" \",(LOOKUP(F5,'Component Weights'!$B$16:$J$16,'Component Weights'!$B$17:$J$17)*$AA$7))","v":0},{"$f":"IF(ISBLANK(G5),\" \",(LOOKUP(G5,'Component Weights'!$B$16:$J$16,'Component Weights'!$B$17:$J$17)*$AA$8))","v":0},{"$f":"IF(ISBLANK(B5),\" \",(LOOKUP(B5,'Component Weights'!$B$16:$J$16,'Component Weights'!$B$17:$J$17)*$AA$9))","v":" "},{"$f":"IF(ISBLANK(H5),\" \",(LOOKUP(H5,'Component Weights'!$B$16:$J$16,'Component Weights'!$B$17:$J$17)*$AA$10))","v":0.24},{"$f":"IF(ISBLANK(I5),\" \",(LOOKUP(I5,'Component Weights'!$B$16:$J$16,'Component Weights'!$B$17:$J$17)*$AA$11))","v":0.16},{"$f":"IF(ISBLANK(J5),\" \",(LOOKUP(J5,'Component Weights'!$B$16:$J$16,'Component Weights'!$B$17:$J$17)*$AA$12))","v":0.24},0.96000000000000008,4,null,0.96000000000000008,null,"Use of Recycled Content",0.12,"H","The amount of recycled content, expressed as a percentage, found in a product."]
["Low Pressure Sodium (exterior)",null,"H","N","L","N","N","M","M","M",{"$f":"SUM(IF(ISBLANK(C6),,LOOKUP(C6,'Component Weights'!$B$16:$J$16,'Component Weights'!$B$17:$J$17)),IF(ISBLANK(D6),,LOOKUP(D6,'Component Weights'!$B$16:$J$16,'Component Weights'!$B$17:$J$17)),IF(ISBLANK(E6),,LOOKUP(E6,'Component Weights'!$B$16:$J$16,'Component Weights'!$B$17:$J$17)),IF(ISBLANK(F6),,LOOKUP(F6,'Component Weights'!$B$16:$J$16,'Component Weights'!$B$17:$J$17)),IF(ISBLANK(G6),,LOOKUP(G6,'Component Weights'!$B$16:$J$16,'Component Weights'!$B$17:$J$17)),IF(ISBLANK(B6),,LOOKUP(B6,'Component Weights'!$B$16:$J$16,'Component Weights'!$B$17:$J$17)),IF(ISBLANK(H6),,LOOKUP(H6,'Component Weights'!$B$16:$J$16,'Component Weights'!$B$17:$J$17)),IF(ISBLANK(I6),,LOOKUP(I6,'Component Weights'!$B$16:$J$16,'Component Weights'!$B$17:$J$17)),IF(ISBLANK(J6),,LOOKUP(J6,'Component Weights'!$B$16:$J$16,'Component Weights'!$B$17:$J$17)))","v":10},{"$f":"IF(ISBLANK(C6),\" \",(LOOKUP(C6,'Component Weights'!$B$16:$J$16,'Component Weights'!$B$17:$J$17)*$AA$4))","v":0.24},{"$f":"IF(ISBLANK(D6),\" \",(LOOKUP(D6,'Component Weights'!$B$16:$J$16,'Component Weights'!$B$17:$J$17)*$AA$5))","v":0},{"$f":"IF(ISBLANK(E6),\" \",(LOOKUP(E6,'Component Weights'!$B$16:$J$16,'Component Weights'!$B$17:$J$17)*$AA$6))","v":0.08},{"$f":"IF(ISBLANK(F6),\" \",(LOOKUP(F6,'Component Weights'!$B$16:$J$16,'Component Weights'!$B$17:$J$17)*$AA$7))","v":0},{"$f":"IF(ISBLANK(G6),\" \",(LOOKUP(G6,'Component Weights'!$B$16:$J$16,'Component Weights'!$B$17:$J$17)*$AA$8))","v":0},{"$f":"IF(ISBLANK(B6),\" \",(LOOKUP(B6,'Component Weights'!$B$16:$J$16,'Component Weights'!$B$17:$J$17)*$AA$9))","v":" "},{"$f":"IF(ISBLANK(H6),\" \",(LOOKUP(H6,'Component Weights'!$B$16:$J$16,'Component Weights'!$B$17:$J$17)*$AA$10))","v":0.24},{"$f":"IF(ISBLANK(I6),\" \",(LOOKUP(I6,'Component Weights'!$B$16:$J$16,'Component Weights'!$B$17:$J$17)*$AA$11))","v":0.16},{"$f":"IF(ISBLANK(J6),\" \",(LOOKUP(J6,'Component Weights'!$B$16:$J$16,'Component Weights'!$B$17:$J$17)*$AA$12))","v":0.24},0.96000000000000008,4,null,0.96000000000000008,null,"Low Energy Usage Manufacturing Process",0.08,"M","The amount of energy used in manufacture of the product."]
["Halogen",null,"L","N","L","N","N","H","L","H",{"$f":"SUM(IF(ISBLANK(C7),,LOOKUP(C7,'Component Weights'!$B$16:$J$16,'Component Weights'!$B$17:$J$17)),IF(ISBLANK(D7),,LOOKUP(D7,'Component Weights'!$B$16:$J$16,'Component Weights'!$B$17:$J$17)),IF(ISBLANK(E7),,LOOKUP(E7,'Component Weights'!$B$16:$J$16,'Component Weights'!$B$17:$J$17)),IF(ISBLANK(F7),,LOOKUP(F7,'Component Weights'!$B$16:$J$16,'Component Weights'!$B$17:$J$17)),IF(ISBLANK(G7),,LOOKUP(G7,'Component Weights'!$B$16:$J$16,'Component Weights'!$B$17:$J$17)),IF(ISBLANK(B7),,LOOKUP(B7,'Component Weights'!$B$16:$J$16,'Component Weights'!$B$17:$J$17)),IF(ISBLANK(H7),,LOOKUP(H7,'Component Weights'!$B$16:$J$16,'Component Weights'!$B$17:$J$17)),IF(ISBLANK(I7),,LOOKUP(I7,'Component Weights'!$B$16:$J$16,'Component Weights'!$B$17:$J$17)),IF(ISBLANK(J7),,LOOKUP(J7,'Component Weights'!$B$16:$J$16,'Component Weights'!$B$17:$J$17)))","v":9},{"$f":"IF(ISBLANK(C7),\" \",(LOOKUP(C7,'Component Weights'!$B$16:$J$16,'Component Weights'!$B$17:$J$17)*$AA$4))","v":0.08},{"$f":"IF(ISBLANK(D7),\" \",(LOOKUP(D7,'Component Weights'!$B$16:$J$16,'Component Weights'!$B$17:$J$17)*$AA$5))","v":0},{"$f":"IF(ISBLANK(E7),\" \",(LOOKUP(E7,'Component Weights'!$B$16:$J$16,'Component Weights'!$B$17:$J$17)*$AA$6))","v":0.08},{"$f":"IF(ISBLANK(F7),\" \",(LOOKUP(F7,'Component Weights'!$B$16:$J$16,'Component Weights'!$B$17:$J$17)*$AA$7))","v":0},{"$f":"IF(ISBLANK(G7),\" \",(LOOKUP(G7,'Component Weights'!$B$16:$J$16,'Component Weights'!$B$17:$J$17)*$AA$8))","v":0},{"$f":"IF(ISBLANK(B7),\" \",(LOOKUP(B7,'Component Weights'!$B$16:$J$16,'Component Weights'!$B$17:$J$17)*$AA$9))","v":" "},{"$f":"IF(ISBLANK(H7),\" \",(LOOKUP(H7,'Component Weights'!$B$16:$J$16,'Component Weights'!$B$17:$J$17)*$AA$10))","v":0.36},{"$f":"IF(ISBLANK(I7),\" \",(LOOKUP(I7,'Component Weights'!$B$16:$J$16,'Component Weights'!$B$17:$J$17)*$AA$11))","v":0.08},{"$f":"IF(ISBLANK(J7),\" \",(LOOKUP(J7,'Component Weights'!$B$16:$J$16,'Component Weights'!$B$17:$J$17)*$AA$12))","v":0.36},0.96,6,null,0.96,null,"Easily Biodegradable",0.12,"H","The amount of time it will take the product to degrade once its useful life is over."]
["Incandescent",null,"L","N","L","N","N","H","N","H",{"$f":"SUM(IF(ISBLANK(C8),,LOOKUP(C8,'Component Weights'!$B$16:$J$16,'Component Weights'!$B$17:$J$17)),IF(ISBLANK(D8),,LOOKUP(D8,'Component Weights'!$B$16:$J$16,'Component Weights'!$B$17:$J$17)),IF(ISBLANK(E8),,LOOKUP(E8,'Component Weights'!$B$16:$J$16,'Component Weights'!$B$17:$J$17)),IF(ISBLANK(F8),,LOOKUP(F8,'Component Weights'!$B$16:$J$16,'Component Weights'!$B$17:$J$17)),IF(ISBLANK(G8),,LOOKUP(G8,'Component Weights'!$B$16:$J$16,'Component Weights'!$B$17:$J$17)),IF(ISBLANK(B8),,LOOKUP(B8,'Component Weights'!$B$16:$J$16,'Component Weights'!$B$17:$J$17)),IF(ISBLANK(H8),,LOOKUP(H8,'Component Weights'!$B$16:$J$16,'Component Weights'!$B$17:$J$17)),IF(ISBLANK(I8),,LOOKUP(I8,'Component Weights'!$B$16:$J$16,'Component Weights'!$B$17:$J$17)),IF(ISBLANK(J8),,LOOKUP(J8,'Component Weights'!$B$16:$J$16,'Component Weights'!$B$17:$J$17)))","v":8},{"$f":"IF(ISBLANK(C8),\" \",(LOOKUP(C8,'Component Weights'!$B$16:$J$16,'Component Weights'!$B$17:$J$17)*$AA$4))","v":0.08},{"$f":"IF(ISBLANK(D8),\" \",(LOOKUP(D8,'Component Weights'!$B$16:$J$16,'Component Weights'!$B$17:$J$17)*$AA$5))","v":0},{"$f":"IF(ISBLANK(E8),\" \",(LOOKUP(E8,'Component Weights'!$B$16:$J$16,'Component Weights'!$B$17:$J$17)*$AA$6))","v":0.08},{"$f":"IF(ISBLANK(F8),\" \",(LOOKUP(F8,'Component Weights'!$B$16:$J$16,'Component Weights'!$B$17:$J$17)*$AA$7))","v":0},{"$f":"IF(ISBLANK(G8),\" \",(LOOKUP(G8,'Component Weights'!$B$16:$J$16,'Component Weights'!$B$17:$J$17)*$AA$8))","v":0},{"$f":"IF(ISBLANK(B8),\" \",(LOOKUP(B8,'Component Weights'!$B$16:$J$16,'Component Weights'!$B$17:$J$17)*$AA$9))","v":" "},{"$f":"IF(ISBLANK(H8),\" \",(LOOKUP(H8,'Component Weights'!$B$16:$J$16,'Component Weights'!$B$17:$J$17)*$AA$10))","v":0.36},{"$f":"IF(ISBLANK(I8),\" \",(LOOKUP(I8,'Component Weights'!$B$16:$J$16,'Component Weights'!$B$17:$J$17)*$AA$11))","v":0},{"$f":"IF(ISBLANK(J8),\" \",(LOOKUP(J8,'Component Weights'!$B$16:$J$16,'Component Weights'!$B$17:$J$17)*$AA$12))","v":0.36},0.88,7,null,0.88,null,"Made from Natural Materials",0.05,"L","The amount, expressed as a percentage, of natural (not man-made) materials used to make the product."]
["High Pressure Sodium (exterior)",null,"M","N","L","N","N","M","L","M",{"$f":"SUM(IF(ISBLANK(C9),,LOOKUP(C9,'Component Weights'!$B$16:$J$16,'Component Weights'!$B$17:$J$17)),IF(ISBLANK(D9),,LOOKUP(D9,'Component Weights'!$B$16:$J$16,'Component Weights'!$B$17:$J$17)),IF(ISBLANK(E9),,LOOKUP(E9,'Component Weights'!$B$16:$J$16,'Component Weights'!$B$17:$J$17)),IF(ISBLANK(F9),,LOOKUP(F9,'Component Weights'!$B$16:$J$16,'Component Weights'!$B$17:$J$17)),IF(ISBLANK(G9),,LOOKUP(G9,'Component Weights'!$B$16:$J$16,'Component Weights'!$B$17:$J$17)),IF(ISBLANK(B9),,LOOKUP(B9,'Component Weights'!$B$16:$J$16,'Component Weights'!$B$17:$J$17)),IF(ISBLANK(H9),,LOOKUP(H9,'Component Weights'!$B$16:$J$16,'Component Weights'!$B$17:$J$17)),IF(ISBLANK(I9),,LOOKUP(I9,'Component Weights'!$B$16:$J$16,'Component Weights'!$B$17:$J$17)),IF(ISBLANK(J9),,LOOKUP(J9,'Component Weights'!$B$16:$J$16,'Component Weights'!$B$17:$J$17)))","v":8},{"$f":"IF(ISBLANK(C9),\" \",(LOOKUP(C9,'Component Weights'!$B$16:$J$16,'Component Weights'!$B$17:$J$17)*$AA$4))","v":0.16},{"$f":"IF(ISBLANK(D9),\" \",(LOOKUP(D9,'Component Weights'!$B$16:$J$16,'Component Weights'!$B$17:$J$17)*$AA$5))","v":0},{"$f":"IF(ISBLANK(E9),\" \",(LOOKUP(E9,'Component Weights'!$B$16:$J$16,'Component Weights'!$B$17:$J$17)*$AA$6))","v":0.08},{"$f":"IF(ISBLANK(F9),\" \",(LOOKUP(F9,'Component Weights'!$B$16:$J$16,'Component Weights'!$B$17:$J$17)*$AA$7))","v":0},{"$f":"IF(ISBLANK(G9),\" \",(LOOKUP(G9,'Component Weights'!$B$16:$J$16,'Component Weights'!$B$17:$J$17)*$AA$8))","v":0},{"$f":"IF(ISBLANK(B9),\" \",(LOOKUP(B9,'Component Weights'!$B$16:$J$16,'Component Weights'!$B$17:$J$17)*$AA$9))","v":" "},{"$f":"IF(ISBLANK(H9),\" \",(LOOKUP(H9,'Component Weights'!$B$16:$J$16,'Component Weights'!$B$17:$J$17)*$AA$10))","v":0.24},{"$f":"IF(ISBLANK(I9),\" \",(LOOKUP(I9,'Component Weights'!$B$16:$J$16,'Component Weights'!$B$17:$J$17)*$AA$11))","v":0.08},{"$f":"IF(ISBLANK(J9),\" \",(LOOKUP(J9,'Component Weights'!$B$16:$J$16,'Component Weights'!$B$17:$J$17)*$AA$12))","v":0.24},0.79999999999999993,8,null,0.79999999999999993,null,"Available Locally",0.23,"H+","The distance in miles that the product must travel to the destination of final use."]
["(Enter Custom Product Here)",null,null,null,null,null,null,null,null,null,{"$f":"SUM(IF(ISBLANK(C10),,LOOKUP(C10,'Component Weights'!$B$16:$J$16,'Component Weights'!$B$17:$J$17)),IF(ISBLANK(D10),,LOOKUP(D10,'Component Weights'!$B$16:$J$16,'Component Weights'!$B$17:$J$17)),IF(ISBLANK(E10),,LOOKUP(E10,'Component Weights'!$B$16:$J$16,'Component Weights'!$B$17:$J$17)),IF(ISBLANK(F10),,LOOKUP(F10,'Component Weights'!$B$16:$J$16,'Component Weights'!$B$17:$J$17)),IF(ISBLANK(G10),,LOOKUP(G10,'Component Weights'!$B$16:$J$16,'Component Weights'!$B$17:$J$17)),IF(ISBLANK(B10),,LOOKUP(B10,'Component Weights'!$B$16:$J$16,'Component Weights'!$B$17:$J$17)),IF(ISBLANK(H10),,LOOKUP(H10,'Component Weights'!$B$16:$J$16,'Component Weights'!$B$17:$J$17)),IF(ISBLANK(I10),,LOOKUP(I10,'Component Weights'!$B$16:$J$16,'Component Weights'!$B$17:$J$17)),IF(ISBLANK(J10),,LOOKUP(J10,'Component Weights'!$B$16:$J$16,'Component Weights'!$B$17:$J$17)))","v":0},{"$f":"IF(ISBLANK(C10),\" \",(LOOKUP(C10,'Component Weights'!$B$16:$J$16,'Component Weights'!$B$17:$J$17)*$AA$4))","v":" "},{"$f":"IF(ISBLANK(D10),\" \",(LOOKUP(D10,'Component Weights'!$B$16:$J$16,'Component Weights'!$B$17:$J$17)*$AA$5))","v":" "},{"$f":"IF(ISBLANK(E10),\" \",(LOOKUP(E10,'Component Weights'!$B$16:$J$16,'Component Weights'!$B$17:$J$17)*$AA$6))","v":" "},{"$f":"IF(ISBLANK(F10),\" \",(LOOKUP(F10,'Component Weights'!$B$16:$J$16,'Component Weights'!$B$17:$J$17)*$AA$7))","v":" "},{"$f":"IF(ISBLANK(G10),\" \",(LOOKUP(G10,'Component Weights'!$B$16:$J$16,'Component Weights'!$B$17:$J$17)*$AA$8))","v":" "},{"$f":"IF(ISBLANK(B10),\" \",(LOOKUP(B10,'Component Weights'!$B$16:$J$16,'Component Weights'!$B$17:$J$17)*$AA$9))","v":" "},{"$f":"IF(ISBLANK(H10),\" \",(LOOKUP(H10,'Component Weights'!$B$16:$J$16,'Component Weights'!$B$17:$J$17)*$AA$10))","v":" "},{"$f":"IF(ISBLANK(I10),\" \",(LOOKUP(I10,'Component Weights'!$B$16:$J$16,'Component Weights'!$B$17:$J$17)*$AA$11))","v":" "},{"$f":"IF(ISBLANK(J10),\" \",(LOOKUP(J10,'Component Weights'!$B$16:$J$16,'Component Weights'!$B$17:$J$17)*$AA$12))","v":" "},0,99,null,0,null,"Low Emissions Potential",0.12,"H","The amount of time it will take the product to stop outgassing."]
["(Enter Custom Product Here)",null,null,null,null,null,null,null,null,null,{"$f":"SUM(IF(ISBLANK(C11),,LOOKUP(C11,'Component Weights'!$B$16:$J$16,'Component Weights'!$B$17:$J$17)),IF(ISBLANK(D11),,LOOKUP(D11,'Component Weights'!$B$16:$J$16,'Component Weights'!$B$17:$J$17)),IF(ISBLANK(E11),,LOOKUP(E11,'Component Weights'!$B$16:$J$16,'Component Weights'!$B$17:$J$17)),IF(ISBLANK(F11),,LOOKUP(F11,'Component Weights'!$B$16:$J$16,'Component Weights'!$B$17:$J$17)),IF(ISBLANK(G11),,LOOKUP(G11,'Component Weights'!$B$16:$J$16,'Component Weights'!$B$17:$J$17)),IF(ISBLANK(B11),,LOOKUP(B11,'Component Weights'!$B$16:$J$16,'Component Weights'!$B$17:$J$17)),IF(ISBLANK(H11),,LOOKUP(H11,'Component Weights'!$B$16:$J$16,'Component Weights'!$B$17:$J$17)),IF(ISBLANK(I11),,LOOKUP(I11,'Component Weights'!$B$16:$J$16,'Component Weights'!$B$17:$J$17)),IF(ISBLANK(J11),,LOOKUP(J11,'Component Weights'!$B$16:$J$16,'Component Weights'!$B$17:$J$17)))","v":0},{"$f":"IF(ISBLANK(C11),\" \",(LOOKUP(C11,'Component Weights'!$B$16:$J$16,'Component Weights'!$B$17:$J$17)*$AA$4))","v":" "},{"$f":"IF(ISBLANK(D11),\" \",(LOOKUP(D11,'Component Weights'!$B$16:$J$16,'Component Weights'!$B$17:$J$17)*$AA$5))","v":" "},{"$f":"IF(ISBLANK(E11),\" \",(LOOKUP(E11,'Component Weights'!$B$16:$J$16,'Component Weights'!$B$17:$J$17)*$AA$6))","v":" "},{"$f":"IF(ISBLANK(F11),\" \",(LOOKUP(F11,'Component Weights'!$B$16:$J$16,'Component Weights'!$B$17:$J$17)*$AA$7))","v":" "},{"$f":"IF(ISBLANK(G11),\" \",(LOOKUP(G11,'Component Weights'!$B$16:$J$16,'Component Weights'!$B$17:$J$17)*$AA$8))","v":" "},{"$f":"IF(ISBLANK(B11),\" \",(LOOKUP(B11,'Component Weights'!$B$16:$J$16,'Component Weights'!$B$17:$J$17)*$AA$9))","v":" "},{"$f":"IF(ISBLANK(H11),\" \",(LOOKUP(H11,'Component Weights'!$B$16:$J$16,'Component Weights'!$B$17:$J$17)*$AA$10))","v":" "},{"$f":"IF(ISBLANK(I11),\" \",(LOOKUP(I11,'Component Weights'!$B$16:$J$16,'Component Weights'!$B$17:$J$17)*$AA$11))","v":" "},{"$f":"IF(ISBLANK(J11),\" \",(LOOKUP(J11,'Component Weights'!$B$16:$J$16,'Component Weights'!$B$17:$J$17)*$AA$12))","v":" "},0,99,null,{"$f":"U11","v":0},null,"Listed in Other Programs (e.g. EnergyStar)",0.08,"M","The level of product recommendation in recognized energy and environmental programs."]
["(Enter Custom Product Here)",null,null,null,null,null,null,null,null,null,{"$f":"SUM(IF(ISBLANK(C12),,LOOKUP(C12,'Component Weights'!$B$16:$J$16,'Component Weights'!$B$17:$J$17)),IF(ISBLANK(D12),,LOOKUP(D12,'Component Weights'!$B$16:$J$16,'Component Weights'!$B$17:$J$17)),IF(ISBLANK(E12),,LOOKUP(E12,'Component Weights'!$B$16:$J$16,'Component Weights'!$B$17:$J$17)),IF(ISBLANK(F12),,LOOKUP(F12,'Component Weights'!$B$16:$J$16,'Component Weights'!$B$17:$J$17)),IF(ISBLANK(G12),,LOOKUP(G12,'Component Weights'!$B$16:$J$16,'Component Weights'!$B$17:$J$17)),IF(ISBLANK(B12),,LOOKUP(B12,'Component Weights'!$B$16:$J$16,'Component Weights'!$B$17:$J$17)),IF(ISBLANK(H12),,LOOKUP(H12,'Component Weights'!$B$16:$J$16,'Component Weights'!$B$17:$J$17)),IF(ISBLANK(I12),,LOOKUP(I12,'Component Weights'!$B$16:$J$16,'Component Weights'!$B$17:$J$17)),IF(ISBLANK(J12),,LOOKUP(J12,'Component Weights'!$B$16:$J$16,'Component Weights'!$B$17:$J$17)))","v":0},{"$f":"IF(ISBLANK(C12),\" \",(LOOKUP(C12,'Component Weights'!$B$16:$J$16,'Component Weights'!$B$17:$J$17)*$AA$4))","v":" "},{"$f":"IF(ISBLANK(D12),\" \",(LOOKUP(D12,'Component Weights'!$B$16:$J$16,'Component Weights'!$B$17:$J$17)*$AA$5))","v":" "},{"$f":"IF(ISBLANK(E12),\" \",(LOOKUP(E12,'Component Weights'!$B$16:$J$16,'Component Weights'!$B$17:$J$17)*$AA$6))","v":" "},{"$f":"IF(ISBLANK(F12),\" \",(LOOKUP(F12,'Component Weights'!$B$16:$J$16,'Component Weights'!$B$17:$J$17)*$AA$7))","v":" "},{"$f":"IF(ISBLANK(G12),\" \",(LOOKUP(G12,'Component Weights'!$B$16:$J$16,'Component Weights'!$B$17:$J$17)*$AA$8))","v":" "},{"$f":"IF(ISBLANK(B12),\" \",(LOOKUP(B12,'Component Weights'!$B$16:$J$16,'Component Weights'!$B$17:$J$17)*$AA$9))","v":" "},{"$f":"IF(ISBLANK(H12),\" \",(LOOKUP(H12,'Component Weights'!$B$16:$J$16,'Component Weights'!$B$17:$J$17)*$AA$10))","v":" "},{"$f":"IF(ISBLANK(I12),\" \",(LOOKUP(I12,'Component Weights'!$B$16:$J$16,'Component Weights'!$B$17:$J$17)*$AA$11))","v":" "},{"$f":"IF(ISBLANK(J12),\" \",(LOOKUP(J12,'Component Weights'!$B$16:$J$16,'Component Weights'!$B$17:$J$17)*$AA$12))","v":" "},0,99,null,{"$f":"U12","v":0},null,"Non Hazardous as Waste",0.12,"H","The amount of hazardous materials and components found in the product."]
["(Enter Custom Product Here)",null,null,null,null,null,null,null,null,null,{"$f":"SUM(IF(ISBLANK(C13),,LOOKUP(C13,'Component Weights'!$B$16:$J$16,'Component Weights'!$B$17:$J$17)),IF(ISBLANK(D13),,LOOKUP(D13,'Component Weights'!$B$16:$J$16,'Component Weights'!$B$17:$J$17)),IF(ISBLANK(E13),,LOOKUP(E13,'Component Weights'!$B$16:$J$16,'Component Weights'!$B$17:$J$17)),IF(ISBLANK(F13),,LOOKUP(F13,'Component Weights'!$B$16:$J$16,'Component Weights'!$B$17:$J$17)),IF(ISBLANK(G13),,LOOKUP(G13,'Component Weights'!$B$16:$J$16,'Component Weights'!$B$17:$J$17)),IF(ISBLANK(B13),,LOOKUP(B13,'Component Weights'!$B$16:$J$16,'Component Weights'!$B$17:$J$17)),IF(ISBLANK(H13),,LOOKUP(H13,'Component Weights'!$B$16:$J$16,'Component Weights'!$B$17:$J$17)),IF(ISBLANK(I13),,LOOKUP(I13,'Component Weights'!$B$16:$J$16,'Component Weights'!$B$17:$J$17)),IF(ISBLANK(J13),,LOOKUP(J13,'Component Weights'!$B$16:$J$16,'Component Weights'!$B$17:$J$17)))","v":0},{"$f":"IF(ISBLANK(C13),\" \",(LOOKUP(C13,'Component Weights'!$B$16:$J$16,'Component Weights'!$B$17:$J$17)*$AA$4))","v":" "},{"$f":"IF(ISBLANK(D13),\" \",(LOOKUP(D13,'Component Weights'!$B$16:$J$16,'Component Weights'!$B$17:$J$17)*$AA$5))","v":" "},{"$f":"IF(ISBLANK(E13),\" \",(LOOKUP(E13,'Component Weights'!$B$16:$J$16,'Component Weights'!$B$17:$J$17)*$AA$6))","v":" "},{"$f":"IF(ISBLANK(F13),\" \",(LOOKUP(F13,'Component Weights'!$B$16:$J$16,'Component Weights'!$B$17:$J$17)*$AA$7))","v":" "},{"$f":"IF(ISBLANK(G13),\" \",(LOOKUP(G13,'Component Weights'!$B$16:$J$16,'Component Weights'!$B$17:$J$17)*$AA$8))","v":" "},{"$f":"IF(ISBLANK(B13),\" \",(LOOKUP(B13,'Component Weights'!$B$16:$J$16,'Component Weights'!$B$17:$J$17)*$AA$9))","v":" "},{"$f":"IF(ISBLANK(H13),\" \",(LOOKUP(H13,'Component Weights'!$B$16:$J$16,'Component Weights'!$B$17:$J$17)*$AA$10))","v":" "},{"$f":"IF(ISBLANK(I13),\" \",(LOOKUP(I13,'Component Weights'!$B$16:$J$16,'Component Weights'!$B$17:$J$17)*$AA$11))","v":" "},{"$f":"IF(ISBLANK(J13),\" \",(LOOKUP(J13,'Component Weights'!$B$16:$J$16,'Component Weights'!$B$17:$J$17)*$AA$12))","v":" "},0,99,null,{"$f":"U13","v":0},null,"Total Weightings Must Equal 100%",{"$f":"SUM(AA4:AA12)","v":1},null,{"$f":"IF(AA13<>100%,\"Keep Working - Weightings must equal 100%\",\" \")","v":" "}]
["(Enter Custom Product Here)",null,null,null,null,null,null,null,null,null,{"$f":"SUM(IF(ISBLANK(C14),,LOOKUP(C14,'Component Weights'!$B$16:$J$16,'Component Weights'!$B$17:$J$17)),IF(ISBLANK(D14),,LOOKUP(D14,'Component Weights'!$B$16:$J$16,'Component Weights'!$B$17:$J$17)),IF(ISBLANK(E14),,LOOKUP(E14,'Component Weights'!$B$16:$J$16,'Component Weights'!$B$17:$J$17)),IF(ISBLANK(F14),,LOOKUP(F14,'Component Weights'!$B$16:$J$16,'Component Weights'!$B$17:$J$17)),IF(ISBLANK(G14),,LOOKUP(G14,'Component Weights'!$B$16:$J$16,'Component Weights'!$B$17:$J$17)),IF(ISBLANK(B14),,LOOKUP(B14,'Component Weights'!$B$16:$J$16,'Component Weights'!$B$17:$J$17)),IF(ISBLANK(H14),,LOOKUP(H14,'Component Weights'!$B$16:$J$16,'Component Weights'!$B$17:$J$17)),IF(ISBLANK(I14),,LOOKUP(I14,'Component Weights'!$B$16:$J$16,'Component Weights'!$B$17:$J$17)),IF(ISBLANK(J14),,LOOKUP(J14,'Component Weights'!$B$16:$J$16,'Component Weights'!$B$17:$J$17)))","v":0},{"$f":"IF(ISBLANK(C14),\" \",(LOOKUP(C14,'Component Weights'!$B$16:$J$16,'Component Weights'!$B$17:$J$17)*$AA$4))","v":" "},{"$f":"IF(ISBLANK(D14),\" \",(LOOKUP(D14,'Component Weights'!$B$16:$J$16,'Component Weights'!$B$17:$J$17)*$AA$5))","v":" "},{"$f":"IF(ISBLANK(E14),\" \",(LOOKUP(E14,'Component Weights'!$B$16:$J$16,'Component Weights'!$B$17:$J$17)*$AA$6))","v":" "},{"$f":"IF(ISBLANK(F14),\" \",(LOOKUP(F14,'Component Weights'!$B$16:$J$16,'Component Weights'!$B$17:$J$17)*$AA$7))","v":" "},{"$f":"IF(ISBLANK(G14),\" \",(LOOKUP(G14,'Component Weights'!$B$16:$J$16,'Component Weights'!$B$17:$J$17)*$AA$8))","v":" "},{"$f":"IF(ISBLANK(B14),\" \",(LOOKUP(B14,'Component Weights'!$B$16:$J$16,'Component Weights'!$B$17:$J$17)*$AA$9))","v":" "},{"$f":"IF(ISBLANK(H14),\" \",(LOOKUP(H14,'Component Weights'!$B$16:$J$16,'Component Weights'!$B$17:$J$17)*$AA$10))","v":" "},{"$f":"IF(ISBLANK(I14),\" \",(LOOKUP(I14,'Component Weights'!$B$16:$J$16,'Component Weights'!$B$17:$J$17)*$AA$11))","v":" "},{"$f":"IF(ISBLANK(J14),\" \",(LOOKUP(J14,'Component Weights'!$B$16:$J$16,'Component Weights'!$B$17:$J$17)*$AA$12))","v":" "},0,99,null,{"$f":"U14","v":0}]
["(Enter Custom Product Here)",null,null,null,null,null,null,null,null,null,{"$f":"SUM(IF(ISBLANK(C15),,LOOKUP(C15,'Component Weights'!$B$16:$J$16,'Component Weights'!$B$17:$J$17)),IF(ISBLANK(D15),,LOOKUP(D15,'Component Weights'!$B$16:$J$16,'Component Weights'!$B$17:$J$17)),IF(ISBLANK(E15),,LOOKUP(E15,'Component Weights'!$B$16:$J$16,'Component Weights'!$B$17:$J$17)),IF(ISBLANK(F15),,LOOKUP(F15,'Component Weights'!$B$16:$J$16,'Component Weights'!$B$17:$J$17)),IF(ISBLANK(G15),,LOOKUP(G15,'Component Weights'!$B$16:$J$16,'Component Weights'!$B$17:$J$17)),IF(ISBLANK(B15),,LOOKUP(B15,'Component Weights'!$B$16:$J$16,'Component Weights'!$B$17:$J$17)),IF(ISBLANK(H15),,LOOKUP(H15,'Component Weights'!$B$16:$J$16,'Component Weights'!$B$17:$J$17)),IF(ISBLANK(I15),,LOOKUP(I15,'Component Weights'!$B$16:$J$16,'Component Weights'!$B$17:$J$17)),IF(ISBLANK(J15),,LOOKUP(J15,'Component Weights'!$B$16:$J$16,'Component Weights'!$B$17:$J$17)))","v":0},{"$f":"IF(ISBLANK(C15),\" \",(LOOKUP(C15,'Component Weights'!$B$16:$J$16,'Component Weights'!$B$17:$J$17)*$AA$4))","v":" "},{"$f":"IF(ISBLANK(D15),\" \",(LOOKUP(D15,'Component Weights'!$B$16:$J$16,'Component Weights'!$B$17:$J$17)*$AA$5))","v":" "},{"$f":"IF(ISBLANK(E15),\" \",(LOOKUP(E15,'Component Weights'!$B$16:$J$16,'Component Weights'!$B$17:$J$17)*$AA$6))","v":" "},{"$f":"IF(ISBLANK(F15),\" \",(LOOKUP(F15,'Component Weights'!$B$16:$J$16,'Component Weights'!$B$17:$J$17)*$AA$7))","v":" "},{"$f":"IF(ISBLANK(G15),\" \",(LOOKUP(G15,'Component Weights'!$B$16:$J$16,'Component Weights'!$B$17:$J$17)*$AA$8))","v":" "},{"$f":"IF(ISBLANK(B15),\" \",(LOOKUP(B15,'Component Weights'!$B$16:$J$16,'Component Weights'!$B$17:$J$17)*$AA$9))","v":" "},{"$f":"IF(ISBLANK(H15),\" \",(LOOKUP(H15,'Component Weights'!$B$16:$J$16,'Component Weights'!$B$17:$J$17)*$AA$10))","v":" "},{"$f":"IF(ISBLANK(I15),\" \",(LOOKUP(I15,'Component Weights'!$B$16:$J$16,'Component Weights'!$B$17:$J$17)*$AA$11))","v":" "},{"$f":"IF(ISBLANK(J15),\" \",(LOOKUP(J15,'Component Weights'!$B$16:$J$16,'Component Weights'!$B$17:$J$17)*$AA$12))","v":" "},0,99,null,0]
[null,null,null,null,null,null,null,null,null,null,{"$f":"AVERAGE(K$2:K9)","v":9.875},{"$f":"AVERAGE(L$2:L9)","v":0.18000000000000002},{"$f":"AVERAGE(M$2:M9)","v":0},{"$f":"AVERAGE(N$2:N9)","v":0.08},{"$f":"AVERAGE(O$2:O9)","v":0},{"$f":"AVERAGE(P$2:P9)","v":0},{"$f":"AVERAGE(Q$2:Q9)","v":{"$error":"#DIV/0!"}},{"$f":"AVERAGE(R$2:R9)","v":0.29999999999999993},{"$f":"AVERAGE(S$2:S9)","v":0.14000000000000001},{"$f":"AVERAGE(T$2:T9)","v":0.28500000000000003},{"$f":"AVERAGE(U$2:U9)","v":0.98499999999999999},{"$f":"IF(AND(OR(#REF!=72,#REF!=73,#REF!=74,#REF!=75,#REF!=76),$U16>0),RANK($U16,Y$3:Y$42,0),\" \")","v":{"$error":"#REF!"}}]

{"sheet":"Interior Paints & Stains","index":16,"n_rows":13,"n_cols":29,"rows_kept":13,"cut":false,"hidden":false,"merged":[]}
["Instructions:\nScroll down to see all products.  New products may be added to the end of the list.  Rate the performance of each product as \"N, L, M or H.\" (Hover over the component title for the rating description.)  Use your Backspace button to clear values.  The Sort button (below) will incorporate your priorities as currently stated on the table to the right.  (Scroll to the right to see the table.)\n\n","Available Locally","Incremental Energy Savings","Use of Recycled Content","Low Energy Usage Manufacturing Process","Easily Biodegradable","Made from Natural Materials","Low Emissions Potential","Listed in Other Programs","Non Hazardous as Waste","Total Raw Score","Incremental Energy Savings Weighted Score","Use of Recycled Content Weighted Score","Low Energy Usage Mfg. Process Weighted Score","Easily Biodegradable Weighted Score","Made from Natural Materials Weighted Score","Available Locally Weighted Score","Low Emissions Potential Weighted Score","Listed in Other Programs Weighted Score","Non Hazardous as Waste Weighted Score","Total Weighted Score","Force Ranking",null,"Weighted Score for Force Rank Calculation ",null,"Detailed instructions and options for using this tool are found in the Using the DYO® GBD Kit Decision Matrix Software Section of your DYO® Green Building Decision Kit."]
["Water Based",null,null,"L","H","M","M","H","H","H",{"$f":"SUM(IF(ISBLANK(C2),,LOOKUP(C2,'Component Weights'!$B$16:$J$16,'Component Weights'!$B$17:$J$17)),IF(ISBLANK(D2),,LOOKUP(D2,'Component Weights'!$B$16:$J$16,'Component Weights'!$B$17:$J$17)),IF(ISBLANK(E2),,LOOKUP(E2,'Component Weights'!$B$16:$J$16,'Component Weights'!$B$17:$J$17)),IF(ISBLANK(F2),,LOOKUP(F2,'Component Weights'!$B$16:$J$16,'Component Weights'!$B$17:$J$17)),IF(ISBLANK(G2),,LOOKUP(G2,'Component Weights'!$B$16:$J$16,'Component Weights'!$B$17:$J$17)),IF(ISBLANK(B2),,LOOKUP(B2,'Component Weights'!$B$16:$J$16,'Component Weights'!$B$17:$J$17)),IF(ISBLANK(H2),,LOOKUP(H2,'Component Weights'!$B$16:$J$16,'Component Weights'!$B$17:$J$17)),IF(ISBLANK(I2),,LOOKUP(I2,'Component Weights'!$B$16:$J$16,'Component Weights'!$B$17:$J$17)),IF(ISBLANK(J2),,LOOKUP(J2,'Component Weights'!$B$16:$J$16,'Component Weights'!$B$17:$J$17)))","v":17},{"$f":"IF(ISBLANK(C2),\" \",(LOOKUP(C2,'Component Weights'!$B$16:$J$16,'Component Weights'!$B$17:$J$17)*$AA$4))","v":" "},{"$f":"IF(ISBLANK(D2),\" \",(LOOKUP(D2,'Component Weights'!$B$16:$J$16,'Component Weights'!$B$17:$J$17)*$AA$5))","v":0.12},{"$f":"IF(ISBLANK(E2),\" \",(LOOKUP(E2,'Component Weights'!$B$16:$J$16,'Component Weights'!$B$17:$J$17)*$AA$6))","v":0.24},{"$f":"IF(ISBLANK(F2),\" \",(LOOKUP(F2,'Component Weights'!$B$16:$J$16,'Component Weights'!$B$17:$J$17)*$AA$7))","v":0.24},{"$f":"IF(ISBLANK(G2),\" \",(LOOKUP(G2,'Component Weights'!$B$16:$J$16,'Component Weights'!$B$17:$J$17)*$AA$8))","v":0.1},{"$f":"IF(ISBLANK(B2),\" \",(LOOKUP(B2,'Component Weights'!$B$16:$J$16,'Component Weights'!$B$17:$J$17)*$AA$9))","v":" "},{"$f":"IF(ISBLANK(H2),\" \",(LOOKUP(H2,'Component Weights'!$B$16:$J$16,'Component Weights'!$B$17:$J$17)*$AA$10))","v":0.36},{"$f":"IF(ISBLANK(I2),\" \",(LOOKUP(I2,'Component Weights'!$B$16:$J$16,'Component Weights'!$B$17:$J$17)*$AA$11))","v":0.24},{"$f":"IF(ISBLANK(J2),\" \",(LOOKUP(J2,'Component Weights'!$B$16:$J$16,'Component Weights'!$B$17:$J$17)*$AA$12))","v":0.36},{"$f":"SUM(L2:T2)","v":1.6600000000000001},{"$f":"IF($U2>0,RANK($U2,X$2:X$206,0),99)","v":1},null,{"$f":"U2","v":1.6600000000000001},null,"Component Weights for","Weight"]
["Low VOC",null,null,"L","M","L","M","H","H","M",{"$f":"SUM(IF(ISBLANK(C3),,LOOKUP(C3,'Component Weights'!$B$16:$J$16,'Component Weights'!$B$17:$J$17)),IF(ISBLANK(D3),,LOOKUP(D3,'Component Weights'!$B$16:$J$16,'Component Weights'!$B$17:$J$17)),IF(ISBLANK(E3),,LOOKUP(E3,'Component Weights'!$B$16:$J$16,'Component Weights'!$B$17:$J$17)),IF(ISBLANK(F3),,LOOKUP(F3,'Component Weights'!$B$16:$J$16,'Component Weights'!$B$17:$J$17)),IF(ISBLANK(G3),,LOOKUP(G3,'Component Weights'!$B$16:$J$16,'Component Weights'!$B$17:$J$17)),IF(ISBLANK(B3),,LOOKUP(B3,'Component Weights'!$B$16:$J$16,'Component Weights'!$B$17:$J$17)),IF(ISBLANK(H3),,LOOKUP(H3,'Component Weights'!$B$16:$J$16,'Component Weights'!$B$17:$J$17)),IF(ISBLANK(I3),,LOOKUP(I3,'Component Weights'!$B$16:$J$16,'Component Weights'!$B$17:$J$17)),IF(ISBLANK(J3),,LOOKUP(J3,'Component Weights'!$B$16:$J$16,'Component Weights'!$B$17:$J$17)))","v":14},{"$f":"IF(ISBLANK(C3),\" \",(LOOKUP(C3,'Component Weights'!$B$16:$J$16,'Component Weights'!$B$17:$J$17)*$AA$4))","v":" "},{"$f":"IF(ISBLANK(D3),\" \",(LOOKUP(D3,'Component Weights'!$B$16:$J$16,'Component Weights'!$B$17:$J$17)*$AA$5))","v":0.12},{"$f":"IF(ISBLANK(E3),\" \",(LOOKUP(E3,'Component Weights'!$B$16:$J$16,'Component Weights'!$B$17:$J$17)*$AA$6))","v":0.16},{"$f":"IF(ISBLANK(F3),\" \",(LOOKUP(F3,'Component Weights'!$B$16:$J$16,'Component Weights'!$B$17:$J$17)*$AA$7))","v":0.12},{"$f":"IF(ISBLANK(G3),\" \",(LOOKUP(G3,'Component Weights'!$B$16:$J$16,'Component Weights'!$B$17:$J$17)*$AA$8))","v":0.1},{"$f":"IF(ISBLANK(B3),\" \",(LOOKUP(B3,'Component Weights'!$B$16:$J$16,'Component Weights'!$B$17:$J$17)*$AA$9))","v":" "},{"$f":"IF(ISBLANK(H3),\" \",(LOOKUP(H3,'Component Weights'!$B$16:$J$16,'Component Weights'!$B$17:$J$17)*$AA$10))","v":0.36},{"$f":"IF(ISBLANK(I3),\" \",(LOOKUP(I3,'Component Weights'!$B$16:$J$16,'Component Weights'!$B$17:$J$17)*$AA$11))","v":0.24},{"$f":"IF(ISBLANK(J3),\" \",(LOOKUP(J3,'Component Weights'!$B$16:$J$16,'Component Weights'!$B$17:$J$17)*$AA$12))","v":0.24},1.34,2,null,1.34,null,"Interior Paints & Stains"]
["No VOC",null,null,"L","M","L","M","H","H","M",{"$f":"SUM(IF(ISBLANK(C4),,LOOKUP(C4,'Component Weights'!$B$16:$J$16,'Component Weights'!$B$17:$J$17)),IF(ISBLANK(D4),,LOOKUP(D4,'Component Weights'!$B$16:$J$16,'Component Weights'!$B$17:$J$17)),IF(ISBLANK(E4),,LOOKUP(E4,'Component Weights'!$B$16:$J$16,'Component Weights'!$B$17:$J$17)),IF(ISBLANK(F4),,LOOKUP(F4,'Component Weights'!$B$16:$J$16,'Component Weights'!$B$17:$J$17)),IF(ISBLANK(G4),,LOOKUP(G4,'Component Weights'!$B$16:$J$16,'Component Weights'!$B$17:$J$17)),IF(ISBLANK(B4),,LOOKUP(B4,'Component Weights'!$B$16:$J$16,'Component Weights'!$B$17:$J$17)),IF(ISBLANK(H4),,LOOKUP(H4,'Component Weights'!$B$16:$J$16,'Component Weights'!$B$17:$J$17)),IF(ISBLANK(I4),,LOOKUP(I4,'Component Weights'!$B$16:$J$16,'Component Weights'!$B$17:$J$17)),IF(ISBLANK(J4),,LOOKUP(J4,'Component Weights'!$B$16:$J$16,'Component Weights'!$B$17:$J$17)))","v":14},{"$f":"IF(ISBLANK(C4),\" \",(LOOKUP(C4,'Component Weights'!$B$16:$J$16,'Component Weights'!$B$17:$J$17)*$AA$4))","v":" "},{"$f":"IF(ISBLANK(D4),\" \",(LOOKUP(D4,'Component Weights'!$B$16:$J$16,'Component Weights'!$B$17:$J$17)*$AA$5))","v":0.12},{"$f":"IF(ISBLANK(E4),\" \",(LOOKUP(E4,'Component Weights'!$B$16:$J$16,'Component Weights'!$B$17:$J$17)*$AA$6))","v":0.16},{"$f":"IF(ISBLANK(F4),\" \",(LOOKUP(F4,'Component Weights'!$B$16:$J$16,'Component Weights'!$B$17:$J$17)*$AA$7))","v":0.12},{"$f":"IF(ISBLANK(G4),\" \",(LOOKUP(G4,'Component Weights'!$B$16:$J$16,'Component Weights'!$B$17:$J$17)*$AA$8))","v":0.1},{"$f":"IF(ISBLANK(B4),\" \",(LOOKUP(B4,'Component Weights'!$B$16:$J$16,'Component Weights'!$B$17:$J$17)*$AA$9))","v":" "},{"$f":"IF(ISBLANK(H4),\" \",(LOOKUP(H4,'Component Weights'!$B$16:$J$16,'Component Weights'!$B$17:$J$17)*$AA$10))","v":0.36},{"$f":"IF(ISBLANK(I4),\" \",(LOOKUP(I4,'Component Weights'!$B$16:$J$16,'Component Weights'!$B$17:$J$17)*$AA$11))","v":0.24},{"$f":"IF(ISBLANK(J4),\" \",(LOOKUP(J4,'Component Weights'!$B$16:$J$16,'Component Weights'!$B$17:$J$17)*$AA$12))","v":0.24},1.34,2,null,1.34,null,"Incremental Energy Savings",0.08,"M","The amount of incremental energy, expressed in Btu/Hr, that a product saves or generates for the structure."]
["Oil Based",null,null,"L","M","L","M","M","L","M",{"$f":"SUM(IF(ISBLANK(C5),,LOOKUP(C5,'Component Weights'!$B$16:$J$16,'Component Weights'!$B$17:$J$17)),IF(ISBLANK(D5),,LOOKUP(D5,'Component Weights'!$B$16:$J$16,'Component Weights'!$B$17:$J$17)),IF(ISBLANK(E5),,LOOKUP(E5,'Component Weights'!$B$16:$J$16,'Component Weights'!$B$17:$J$17)),IF(ISBLANK(F5),,LOOKUP(F5,'Component Weights'!$B$16:$J$16,'Component Weights'!$B$17:$J$17)),IF(ISBLANK(G5),,LOOKUP(G5,'Component Weights'!$B$16:$J$16,'Component Weights'!$B$17:$J$17)),IF(ISBLANK(B5),,LOOKUP(B5,'Component Weights'!$B$16:$J$16,'Component Weights'!$B$17:$J$17)),IF(ISBLANK(H5),,LOOKUP(H5,'Component Weights'!$B$16:$J$16,'Component Weights'!$B$17:$J$17)),IF(ISBLANK(I5),,LOOKUP(I5,'Component Weights'!$B$16:$J$16,'Component Weights'!$B$17:$J$17)),IF(ISBLANK(J5),,LOOKUP(J5,'Component Weights'!$B$16:$J$16,'Component Weights'!$B$17:$J$17)))","v":11},{"$f":"IF(ISBLANK(C5),\" \",(LOOKUP(C5,'Component Weights'!$B$16:$J$16,'Component Weights'!$B$17:$J$17)*$AA$4))","v":" "},{"$f":"IF(ISBLANK(D5),\" \",(LOOKUP(D5,'Component Weights'!$B$16:$J$16,'Component Weights'!$B$17:$J$17)*$AA$5))","v":0.12},{"$f":"IF(ISBLANK(E5),\" \",(LOOKUP(E5,'Component Weights'!$B$16:$J$16,'Component Weights'!$B$17:$J$17)*$AA$6))","v":0.16},{"$f":"IF(ISBLANK(F5),\" \",(LOOKUP(F5,'Component Weights'!$B$16:$J$16,'Component Weights'!$B$17:$J$17)*$AA$7))","v":0.12},{"$f":"IF(ISBLANK(G5),\" \",(LOOKUP(G5,'Component Weights'!$B$16:$J$16,'Component Weights'!$B$17:$J$17)*$AA$8))","v":0.1},{"$f":"IF(ISBLANK(B5),\" \",(LOOKUP(B5,'Component Weights'!$B$16:$J$16,'Component Weights'!$B$17:$J$17)*$AA$9))","v":" "},{"$f":"IF(ISBLANK(H5),\" \",(LOOKUP(H5,'Component Weights'!$B$16:$J$16,'Component Weights'!$B$17:$J$17)*$AA$10))","v":0.24},{"$f":"IF(ISBLANK(I5),\" \",(LOOKUP(I5,'Component Weights'!$B$16:$J$16,'Component Weights'!$B$17:$J$17)*$AA$11))","v":0.08},{"$f":"IF(ISBLANK(J5),\" \",(LOOKUP(J5,'Component Weights'!$B$16:$J$16,'Component Weights'!$B$17:$J$17)*$AA$12))","v":0.24},1.06,4,null,1.06,null,"Use of Recycled Content",0.12,"H","The amount of recycled content, expressed as a percentage, found in a product."]
["(Enter Custom Product Here)",null,null,null,null,null,null,null,null,null,{"$f":"SUM(IF(ISBLANK(C6),,LOOKUP(C6,'Component Weights'!$B$16:$J$16,'Component Weights'!$B$17:$J$17)),IF(ISBLANK(D6),,LOOKUP(D6,'Component Weights'!$B$16:$J$16,'Component Weights'!$B$17:$J$17)),IF(ISBLANK(E6),,LOOKUP(E6,'Component Weights'!$B$16:$J$16,'Component Weights'!$B$17:$J$17)),IF(ISBLANK(F6),,LOOKUP(F6,'Component Weights'!$B$16:$J$16,'Component Weights'!$B$17:$J$17)),IF(ISBLANK(G6),,LOOKUP(G6,'Component Weights'!$B$16:$J$16,'Component Weights'!$B$17:$J$17)),IF(ISBLANK(B6),,LOOKUP(B6,'Component Weights'!$B$16:$J$16,'Component Weights'!$B$17:$J$17)),IF(ISBLANK(H6),,LOOKUP(H6,'Component Weights'!$B$16:$J$16,'Component Weights'!$B$17:$J$17)),IF(ISBLANK(I6),,LOOKUP(I6,'Component Weights'!$B$16:$J$16,'Component Weights'!$B$17:$J$17)),IF(ISBLANK(J6),,LOOKUP(J6,'Component Weights'!$B$16:$J$16,'Component Weights'!$B$17:$J$17)))","v":0},{"$f":"IF(ISBLANK(C6),\" \",(LOOKUP(C6,'Component Weights'!$B$16:$J$16,'Component Weights'!$B$17:$J$17)*$AA$4))","v":" "},{"$f":"IF(ISBLANK(D6),\" \",(LOOKUP(D6,'Component Weights'!$B$16:$J$16,'Component Weights'!$B$17:$J$17)*$AA$5))","v":" "},{"$f":"IF(ISBLANK(E6),\" \",(LOOKUP(E6,'Component Weights'!$B$16:$J$16,'Component Weights'!$B$17:$J$17)*$AA$6))","v":" "},{"$f":"IF(ISBLANK(F6),\" \",(LOOKUP(F6,'Component Weights'!$B$16:$J$16,'Component Weights'!$B$17:$J$17)*$AA$7))","v":" "},{"$f":"IF(ISBLANK(G6),\" \",(LOOKUP(G6,'Component Weights'!$B$16:$J$16,'Component Weights'!$B$17:$J$17)*$AA$8))","v":" "},{"$f":"IF(ISBLANK(B6),\" \",(LOOKUP(B6,'Component Weights'!$B$16:$J$16,'Component Weights'!$B$17:$J$17)*$AA$9))","v":" "},{"$f":"IF(ISBLANK(H6),\" \",(LOOKUP(H6,'Component Weights'!$B$16:$J$16,'Component Weights'!$B$17:$J$17)*$AA$10))","v":" "},{"$f":"IF(ISBLANK(I6),\" \",(LOOKUP(I6,'Component Weights'!$B$16:$J$16,'Component Weights'!$B$17:$J$17)*$AA$11))","v":" "},{"$f":"IF(ISBLANK(J6),\" \",(LOOKUP(J6,'Component Weights'!$B$16:$J$16,'Component Weights'!$B$17:$J$17)*$AA$12))","v":" "},0,99,null,0,null,"Low Energy Usage Manufacturing Process",0.08,"M","The amount of energy used in manufacture of the product."]
["(Enter Custom Product Here)",null,null,null,null,null,null,null,null,null,{"$f":"SUM(IF(ISBLANK(C7),,LOOKUP(C7,'Component Weights'!$B$16:$J$16,'Component Weights'!$B$17:$J$17)),IF(ISBLANK(D7),,LOOKUP(D7,'Component Weights'!$B$16:$J$16,'Component Weights'!$B$17:$J$17)),IF(ISBLANK(E7),,LOOKUP(E7,'Component Weights'!$B$16:$J$16,'Component Weights'!$B$17:$J$17)),IF(ISBLANK(F7),,LOOKUP(F7,'Component Weights'!$B$16:$J$16,'Component Weights'!$B$17:$J$17)),IF(ISBLANK(G7),,LOOKUP(G7,'Component Weights'!$B$16:$J$16,'Component Weights'!$B$17:$J$17)),IF(ISBLANK(B7),,LOOKUP(B7,'Component Weights'!$B$16:$J$16,'Component Weights'!$B$17:$J$17)),IF(ISBLANK(H7),,LOOKUP(H7,'Component Weights'!$B$16:$J$16,'Component Weights'!$B$17:$J$17)),IF(ISBLANK(I7),,LOOKUP(I7,'Component Weights'!$B$16:$J$16,'Component Weights'!$B$17:$J$17)),IF(ISBLANK(J7),,LOOKUP(J7,'Component Weights'!$B$16:$J$16,'Component Weights'!$B$17:$J$17)))","v":0},{"$f":"IF(ISBLANK(C7),\" \",(LOOKUP(C7,'Component Weights'!$B$16:$J$16,'Component Weights'!$B$17:$J$17)*$AA$4))","v":" "},{"$f":"IF(ISBLANK(D7),\" \",(LOOKUP(D7,'Component Weights'!$B$16:$J$16,'Component Weights'!$B$17:$J$17)*$AA$5))","v":" "},{"$f":"IF(ISBLANK(E7),\" \",(LOOKUP(E7,'Component Weights'!$B$16:$J$16,'Component Weights'!$B$17:$J$17)*$AA$6))","v":" "},{"$f":"IF(ISBLANK(F7),\" \",(LOOKUP(F7,'Component Weights'!$B$16:$J$16,'Component Weights'!$B$17:$J$17)*$AA$7))","v":" "},{"$f":"IF(ISBLANK(G7),\" \",(LOOKUP(G7,'Component Weights'!$B$16:$J$16,'Component Weights'!$B$17:$J$17)*$AA$8))","v":" "},{"$f":"IF(ISBLANK(B7),\" \",(LOOKUP(B7,'Component Weights'!$B$16:$J$16,'Component Weights'!$B$17:$J$17)*$AA$9))","v":" "},{"$f":"IF(ISBLANK(H7),\" \",(LOOKUP(H7,'Component Weights'!$B$16:$J$16,'Component Weights'!$B$17:$J$17)*$AA$10))","v":" "},{"$f":"IF(ISBLANK(I7),\" \",(LOOKUP(I7,'Component Weights'!$B$16:$J$16,'Component Weights'!$B$17:$J$17)*$AA$11))","v":" "},{"$f":"IF(ISBLANK(J7),\" \",(LOOKUP(J7,'Component Weights'!$B$16:$J$16,'Component Weights'!$B$17:$J$17)*$AA$12))","v":" "},0,99,null,{"$f":"U7","v":0},null,"Easily Biodegradable",0.12,"H","The amount of time it will take the product to degrade once its useful life is over."]
["(Enter Custom Product Here)",null,null,null,null,null,null,null,null,null,{"$f":"SUM(IF(ISBLANK(C8),,LOOKUP(C8,'Component Weights'!$B$16:$J$16,'Component Weights'!$B$17:$J$17)),IF(ISBLANK(D8),,LOOKUP(D8,'Component Weights'!$B$16:$J$16,'Component Weights'!$B$17:$J$17)),IF(ISBLANK(E8),,LOOKUP(E8,'Component Weights'!$B$16:$J$16,'Component Weights'!$B$17:$J$17)),IF(ISBLANK(F8),,LOOKUP(F8,'Component Weights'!$B$16:$J$16,'Component Weights'!$B$17:$J$17)),IF(ISBLANK(G8),,LOOKUP(G8,'Component Weights'!$B$16:$J$16,'Component Weights'!$B$17:$J$17)),IF(ISBLANK(B8),,LOOKUP(B8,'Component Weights'!$B$16:$J$16,'Component Weights'!$B$17:$J$17)),IF(ISBLANK(H8),,LOOKUP(H8,'Component Weights'!$B$16:$J$16,'Component Weights'!$B$17:$J$17)),IF(ISBLANK(I8),,LOOKUP(I8,'Component Weights'!$B$16:$J$16,'Component Weights'!$B$17:$J$17)),IF(ISBLANK(J8),,LOOKUP(J8,'Component Weights'!$B$16:$J$16,'Component Weights'!$B$17:$J$17)))","v":0},{"$f":"IF(ISBLANK(C8),\" \",(LOOKUP(C8,'Component Weights'!$B$16:$J$16,'Component Weights'!$B$17:$J$17)*$AA$4))","v":" "},{"$f":"IF(ISBLANK(D8),\" \",(LOOKUP(D8,'Component Weights'!$B$16:$J$16,'Component Weights'!$B$17:$J$17)*$AA$5))","v":" "},{"$f":"IF(ISBLANK(E8),\" \",(LOOKUP(E8,'Component Weights'!$B$16:$J$16,'Component Weights'!$B$17:$J$17)*$AA$6))","v":" "},{"$f":"IF(ISBLANK(F8),\" \",(LOOKUP(F8,'Component Weights'!$B$16:$J$16,'Component Weights'!$B$17:$J$17)*$AA$7))","v":" "},{"$f":"IF(ISBLANK(G8),\" \",(LOOKUP(G8,'Component Weights'!$B$16:$J$16,'Component Weights'!$B$17:$J$17)*$AA$8))","v":" "},{"$f":"IF(ISBLANK(B8),\" \",(LOOKUP(B8,'Component Weights'!$B$16:$J$16,'Component Weights'!$B$17:$J$17)*$AA$9))","v":" "},{"$f":"IF(ISBLANK(H8),\" \",(LOOKUP(H8,'Component Weights'!$B$16:$J$16,'Component Weights'!$B$17:$J$17)*$AA$10))","v":" "},{"$f":"IF(ISBLANK(I8),\" \",(LOOKUP(I8,'Component Weights'!$B$16:$J$16,'Component Weights'!$B$17:$J$17)*$AA$11))","v":" "},{"$f":"IF(ISBLANK(J8),\" \",(LOOKUP(J8,'Component Weights'!$B$16:$J$16,'Component Weights'!$B$17:$J$17)*$AA$12))","v":" "},0,99,null,{"$f":"U8","v":0},null,"Made from Natural Materials",0.05,"L","The amount, expressed as a percentage, of natural (not man-made) materials used to make the product."]
["(Enter Custom Product Here)",null,null,null,null,null,null,null,null,null,{"$f":"SUM(IF(ISBLANK(C9),,LOOKUP(C9,'Component Weights'!$B$16:$J$16,'Component Weights'!$B$17:$J$17)),IF(ISBLANK(D9),,LOOKUP(D9,'Component Weights'!$B$16:$J$16,'Component Weights'!$B$17:$J$17)),IF(ISBLANK(E9),,LOOKUP(E9,'Component Weights'!$B$16:$J$16,'Component Weights'!$B$17:$J$17)),IF(ISBLANK(F9),,LOOKUP(F9,'Component Weights'!$B$16:$J$16,'Component Weights'!$B$17:$J$17)),IF(ISBLANK(G9),,LOOKUP(G9,'Component Weights'!$B$16:$J$16,'Component Weights'!$B$17:$J$17)),IF(ISBLANK(B9),,LOOKUP(B9,'Component Weights'!$B$16:$J$16,'Component Weights'!$B$17:$J$17)),IF(ISBLANK(H9),,LOOKUP(H9,'Component Weights'!$B$16:$J$16,'Component Weights'!$B$17:$J$17)),IF(ISBLANK(I9),,LOOKUP(I9,'Component Weights'!$B$16:$J$16,'Component Weights'!$B$17:$J$17)),IF(ISBLANK(J9),,LOOKUP(J9,'Component Weights'!$B$16:$J$16,'Component Weights'!$B$17:$J$17)))","v":0},{"$f":"IF(ISBLANK(C9),\" \",(LOOKUP(C9,'Component Weights'!$B$16:$J$16,'Component Weights'!$B$17:$J$17)*$AA$4))","v":" "},{"$f":"IF(ISBLANK(D9),\" \",(LOOKUP(D9,'Component Weights'!$B$16:$J$16,'Component Weights'!$B$17:$J$17)*$AA$5))","v":" "},{"$f":"IF(ISBLANK(E9),\" \",(LOOKUP(E9,'Component Weights'!$B$16:$J$16,'Component Weights'!$B$17:$J$17)*$AA$6))","v":" "},{"$f":"IF(ISBLANK(F9),\" \",(LOOKUP(F9,'Component Weights'!$B$16:$J$16,'Component Weights'!$B$17:$J$17)*$AA$7))","v":" "},{"$f":"IF(ISBLANK(G9),\" \",(LOOKUP(G9,'Component Weights'!$B$16:$J$16,'Component Weights'!$B$17:$J$17)*$AA$8))","v":" "},{"$f":"IF(ISBLANK(B9),\" \",(LOOKUP(B9,'Component Weights'!$B$16:$J$16,'Component Weights'!$B$17:$J$17)*$AA$9))","v":" "},{"$f":"IF(ISBLANK(H9),\" \",(LOOKUP(H9,'Component Weights'!$B$16:$J$16,'Component Weights'!$B$17:$J$17)*$AA$10))","v":" "},{"$f":"IF(ISBLANK(I9),\" \",(LOOKUP(I9,'Component Weights'!$B$16:$J$16,'Component Weights'!$B$17:$J$17)*$AA$11))","v":" "},{"$f":"IF(ISBLANK(J9),\" \",(LOOKUP(J9,'Component Weights'!$B$16:$J$16,'Component Weights'!$B$17:$J$17)*$AA$12))","v":" "},0,99,null,{"$f":"U9","v":0},null,"Available Locally",0.23,"H+","The distance in miles that the product must travel to the destination of final use."]
["(Enter Custom Product Here)",null,null,null,null,null,null,null,null,null,{"$f":"SUM(IF(ISBLANK(C10),,LOOKUP(C10,'Component Weights'!$B$16:$J$16,'Component Weights'!$B$17:$J$17)),IF(ISBLANK(D10),,LOOKUP(D10,'Component Weights'!$B$16:$J$16,'Component Weights'!$B$17:$J$17)),IF(ISBLANK(E10),,LOOKUP(E10,'Component Weights'!$B$16:$J$16,'Component Weights'!$B$17:$J$17)),IF(ISBLANK(F10),,LOOKUP(F10,'Component Weights'!$B$16:$J$16,'Component Weights'!$B$17:$J$17)),IF(ISBLANK(G10),,LOOKUP(G10,'Component Weights'!$B$16:$J$16,'Component Weights'!$B$17:$J$17)),IF(ISBLANK(B10),,LOOKUP(B10,'Component Weights'!$B$16:$J$16,'Component Weights'!$B$17:$J$17)),IF(ISBLANK(H10),,LOOKUP(H10,'Component Weights'!$B$16:$J$16,'Component Weights'!$B$17:$J$17)),IF(ISBLANK(I10),,LOOKUP(I10,'Component Weights'!$B$16:$J$16,'Component Weights'!$B$17:$J$17)),IF(ISBLANK(J10),,LOOKUP(J10,'Component Weights'!$B$16:$J$16,'Component Weights'!$B$17:$J$17)))","v":0},{"$f":"IF(ISBLANK(C10),\" \",(LOOKUP(C10,'Component Weights'!$B$16:$J$16,'Component Weights'!$B$17:$J$17)*$AA$4))","v":" "},{"$f":"IF(ISBLANK(D10),\" \",(LOOKUP(D10,'Component Weights'!$B$16:$J$16,'Component Weights'!$B$17:$J$17)*$AA$5))","v":" "},{"$f":"IF(ISBLANK(E10),\" \",(LOOKUP(E10,'Component Weights'!$B$16:$J$16,'Component Weights'!$B$17:$J$17)*$AA$6))","v":" "},{"$f":"IF(ISBLANK(F10),\" \",(LOOKUP(F10,'Component Weights'!$B$16:$J$16,'Component Weights'!$B$17:$J$17)*$AA$7))","v":" "},{"$f":"IF(ISBLANK(G10),\" \",(LOOKUP(G10,'Component Weights'!$B$16:$J$16,'Component Weights'!$B$17:$J$17)*$AA$8))","v":" "},{"$f":"IF(ISBLANK(B10),\" \",(LOOKUP(B10,'Component Weights'!$B$16:$J$16,'Component Weights'!$B$17:$J$17)*$AA$9))","v":" "},{"$f":"IF(ISBLANK(H10),\" \",(LOOKUP(H10,'Component Weights'!$B$16:$J$16,'Component Weights'!$B$17:$J$17)*$AA$10))","v":" "},{"$f":"IF(ISBLANK(I10),\" \",(LOOKUP(I10,'Component Weights'!$B$16:$J$16,'Component Weights'!$B$17:$J$17)*$AA$11))","v":" "},{"$f":"IF(ISBLANK(J10),\" \",(LOOKUP(J10,'Component Weights'!$B$16:$J$16,'Component Weights'!$B$17:$J$17)*$AA$12))","v":" "},0,99,null,{"$f":"U10","v":0},null,"Low Emissions Potential",0.12,"H","The amount of time it will take the product to stop outgassing."]
["(Enter Custom Product Here)",null,null,null,null,null,null,null,null,null,{"$f":"SUM(IF(ISBLANK(C11),,LOOKUP(C11,'Component Weights'!$B$16:$J$16,'Component Weights'!$B$17:$J$17)),IF(ISBLANK(D11),,LOOKUP(D11,'Component Weights'!$B$16:$J$16,'Component Weights'!$B$17:$J$17)),IF(ISBLANK(E11),,LOOKUP(E11,'Component Weights'!$B$16:$J$16,'Component Weights'!$B$17:$J$17)),IF(ISBLANK(F11),,LOOKUP(F11,'Component Weights'!$B$16:$J$16,'Component Weights'!$B$17:$J$17)),IF(ISBLANK(G11),,LOOKUP(G11,'Component Weights'!$B$16:$J$16,'Component Weights'!$B$17:$J$17)),IF(ISBLANK(B11),,LOOKUP(B11,'Component Weights'!$B$16:$J$16,'Component Weights'!$B$17:$J$17)),IF(ISBLANK(H11),,LOOKUP(H11,'Component Weights'!$B$16:$J$16,'Component Weights'!$B$17:$J$17)),IF(ISBLANK(I11),,LOOKUP(I11,'Component Weights'!$B$16:$J$16,'Component Weights'!$B$17:$J$17)),IF(ISBLANK(J11),,LOOKUP(J11,'Component Weights'!$B$16:$J$16,'Component Weights'!$B$17:$J$17)))","v":0},{"$f":"IF(ISBLANK(C11),\" \",(LOOKUP(C11,'Component Weights'!$B$16:$J$16,'Component Weights'!$B$17:$J$17)*$AA$4))","v":" "},{"$f":"IF(ISBLANK(D11),\" \",(LOOKUP(D11,'Component Weights'!$B$16:$J$16,'Component Weights'!$B$17:$J$17)*$AA$5))","v":" "},{"$f":"IF(ISBLANK(E11),\" \",(LOOKUP(E11,'Component Weights'!$B$16:$J$16,'Component Weights'!$B$17:$J$17)*$AA$6))","v":" "},{"$f":"IF(ISBLANK(F11),\" \",(LOOKUP(F11,'Component Weights'!$B$16:$J$16,'Component Weights'!$B$17:$J$17)*$AA$7))","v":" "},{"$f":"IF(ISBLANK(G11),\" \",(LOOKUP(G11,'Component Weights'!$B$16:$J$16,'Component Weights'!$B$17:$J$17)*$AA$8))","v":" "},{"$f":"IF(ISBLANK(B11),\" \",(LOOKUP(B11,'Component Weights'!$B$16:$J$16,'Component Weights'!$B$17:$J$17)*$AA$9))","v":" "},{"$f":"IF(ISBLANK(H11),\" \",(LOOKUP(H11,'Component Weights'!$B$16:$J$16,'Component Weights'!$B$17:$J$17)*$AA$10))","v":" "},{"$f":"IF(ISBLANK(I11),\" \",(LOOKUP(I11,'Component Weights'!$B$16:$J$16,'Component Weights'!$B$17:$J$17)*$AA$11))","v":" "},{"$f":"IF(ISBLANK(J11),\" \",(LOOKUP(J11,'Component Weights'!$B$16:$J$16,'Component Weights'!$B$17:$J$17)*$AA$12))","v":" "},0,99,null,0,null,"Listed in Other Programs (e.g. EnergyStar)",0.08,"M","The level of product recommendation in recognized energy and environmental programs."]
[null,null,null,null,null,null,null,null,null,null,{"$f":"AVERAGE(K$2:K5)","v":14},{"$f":"AVERAGE(L$2:L5)","v":{"$error":"#DIV/0!"}},{"$f":"AVERAGE(M$2:M5)","v":0.12},{"$f":"AVERAGE(N$2:N5)","v":0.18000000000000002},{"$f":"AVERAGE(O$2:O5)","v":0.15},{"$f":"AVERAGE(P$2:P5)","v":0.1},{"$f":"AVERAGE(Q$2:Q5)","v":{"$error":"#DIV/0!"}},{"$f":"AVERAGE(R$2:R5)","v":0.33},{"$f":"AVERAGE(S$2:S5)","v":0.19999999999999998},{"$f":"AVERAGE(T$2:T5)","v":0.27},{"$f":"AVERAGE(U$2:U5)","v":1.35},{"$f":"IF(AND(OR(#REF!=72,#REF!=73,#REF!=74,#REF!=75,#REF!=76),$U12>0),RANK($U12,Y$2:Y$34,0),\" \")","v":{"$error":"#REF!"}},null,null,null,"Non Hazardous as Waste",0.12,"H","The amount of hazardous materials and components found in the product."]
[null,null,null,null,null,null,null,null,null,null,null,null,null,null,null,null,null,null,null,null,null,null,null,null,null,"Total Weightings Must Equal 100%",{"$f":"SUM(AA4:AA12)","v":1},null,{"$f":"IF(AA13<>100%,\"Keep Working - Weightings must equal 100%\",\" \")","v":" "}]

{"sheet":"Wood Finishes","index":17,"n_rows":14,"n_cols":29,"rows_kept":14,"cut":false,"hidden":false,"merged":[]}
["Instructions:\nScroll down to see all products.  New products may be added to the end of the list.  Rate the performance of each product as \"N, L, M or H.\" (Hover over the component title for the rating description.)  Use your Backspace button to clear values.  The Sort button (below) will incorporate your priorities as currently stated on the table to the right.  (Scroll to the right to see the table.)\n\n","Available Locally","Incremental Energy Savings","Use of Recycled Content","Low Energy Usage Manufacturing Process","Easily Biodegradable","Made from Natural Materials","Low Emissions Potential","Listed in Other Programs","Non Hazardous as Waste","Total Raw Score","Incremental Energy Savings Weighted Score","Use of Recycled Content Weighted Score","Low Energy Usage Mfg. Process Weighted Score","Easily Biodegradable Weighted Score","Made from Natural Materials Weighted Score","Available Locally Weighted Score","Low Emissions Potential Weighted Score","Listed in Other Programs Weighted Score","Non Hazardous as Waste Weighted Score","Total Weighted Score","Force Ranking",null,"Weighted Score for Force Rank Calculation ",null,"Detailed instructions and options for using this tool are found in the Using the DYO® GBD Kit Decision Matrix Software Section of your DYO® Green Building Decision Kit."]
["Natural Oils",null,null,"H","H","H","H","H","H","M",{"$f":"SUM(IF(ISBLANK(C2),,LOOKUP(C2,'Component Weights'!$B$16:$J$16,'Component Weights'!$B$17:$J$17)),IF(ISBLANK(D2),,LOOKUP(D2,'Component Weights'!$B$16:$J$16,'Component Weights'!$B$17:$J$17)),IF(ISBLANK(E2),,LOOKUP(E2,'Component Weights'!$B$16:$J$16,'Component Weights'!$B$17:$J$17)),IF(ISBLANK(F2),,LOOKUP(F2,'Component Weights'!$B$16:$J$16,'Component Weights'!$B$17:$J$17)),IF(ISBLANK(G2),,LOOKUP(G2,'Component Weights'!$B$16:$J$16,'Component Weights'!$B$17:$J$17)),IF(ISBLANK(B2),,LOOKUP(B2,'Component Weights'!$B$16:$J$16,'Component Weights'!$B$17:$J$17)),IF(ISBLANK(H2),,LOOKUP(H2,'Component Weights'!$B$16:$J$16,'Component Weights'!$B$17:$J$17)),IF(ISBLANK(I2),,LOOKUP(I2,'Component Weights'!$B$16:$J$16,'Component Weights'!$B$17:$J$17)),IF(ISBLANK(J2),,LOOKUP(J2,'Component Weights'!$B$16:$J$16,'Component Weights'!$B$17:$J$17)))","v":20},{"$f":"IF(ISBLANK(C2),\" \",(LOOKUP(C2,'Component Weights'!$B$16:$J$16,'Component Weights'!$B$17:$J$17)*$AA$4))","v":" "},{"$f":"IF(ISBLANK(D2),\" \",(LOOKUP(D2,'Component Weights'!$B$16:$J$16,'Component Weights'!$B$17:$J$17)*$AA$5))","v":0.36},{"$f":"IF(ISBLANK(E2),\" \",(LOOKUP(E2,'Component Weights'!$B$16:$J$16,'Component Weights'!$B$17:$J$17)*$AA$6))","v":0.24},{"$f":"IF(ISBLANK(F2),\" \",(LOOKUP(F2,'Component Weights'!$B$16:$J$16,'Component Weights'!$B$17:$J$17)*$AA$7))","v":0.36},{"$f":"IF(ISBLANK(G2),\" \",(LOOKUP(G2,'Component Weights'!$B$16:$J$16,'Component Weights'!$B$17:$J$17)*$AA$8))","v":0.15000000000000002},{"$f":"IF(ISBLANK(B2),\" \",(LOOKUP(B2,'Component Weights'!$B$16:$J$16,'Component Weights'!$B$17:$J$17)*$AA$9))","v":" "},{"$f":"IF(ISBLANK(H2),\" \",(LOOKUP(H2,'Component Weights'!$B$16:$J$16,'Component Weights'!$B$17:$J$17)*$AA$10))","v":0.36},{"$f":"IF(ISBLANK(I2),\" \",(LOOKUP(I2,'Component Weights'!$B$16:$J$16,'Component Weights'!$B$17:$J$17)*$AA$11))","v":0.24},{"$f":"IF(ISBLANK(J2),\" \",(LOOKUP(J2,'Component Weights'!$B$16:$J$16,'Component Weights'!$B$17:$J$17)*$AA$12))","v":0.24},{"$f":"SUM(L2:T2)","v":1.9499999999999997},{"$f":"IF($U2>0,RANK($U2,X$2:X$206,0),99)","v":1},null,{"$f":"U2","v":1.9499999999999997},null,"Component Weights for","Weight"]
["Water Based",null,null,"L","M","H","H","H","H","H",{"$f":"SUM(IF(ISBLANK(C3),,LOOKUP(C3,'Component Weights'!$B$16:$J$16,'Component Weights'!$B$17:$J$17)),IF(ISBLANK(D3),,LOOKUP(D3,'Component Weights'!$B$16:$J$16,'Component Weights'!$B$17:$J$17)),IF(ISBLANK(E3),,LOOKUP(E3,'Component Weights'!$B$16:$J$16,'Component Weights'!$B$17:$J$17)),IF(ISBLANK(F3),,LOOKUP(F3,'Component Weights'!$B$16:$J$16,'Component Weights'!$B$17:$J$17)),IF(ISBLANK(G3),,LOOKUP(G3,'Component Weights'!$B$16:$J$16,'Component Weights'!$B$17:$J$17)),IF(ISBLANK(B3),,LOOKUP(B3,'Component Weights'!$B$16:$J$16,'Component Weights'!$B$17:$J$17)),IF(ISBLANK(H3),,LOOKUP(H3,'Component Weights'!$B$16:$J$16,'Component Weights'!$B$17:$J$17)),IF(ISBLANK(I3),,LOOKUP(I3,'Component Weights'!$B$16:$J$16,'Component Weights'!$B$17:$J$17)),IF(ISBLANK(J3),,LOOKUP(J3,'Component Weights'!$B$16:$J$16,'Component Weights'!$B$17:$J$17)))","v":18},{"$f":"IF(ISBLANK(C3),\" \",(LOOKUP(C3,'Component Weights'!$B$16:$J$16,'Component Weights'!$B$17:$J$17)*$AA$4))","v":" "},{"$f":"IF(ISBLANK(D3),\" \",(LOOKUP(D3,'Component Weights'!$B$16:$J$16,'Component Weights'!$B$17:$J$17)*$AA$5))","v":0.12},{"$f":"IF(ISBLANK(E3),\" \",(LOOKUP(E3,'Component Weights'!$B$16:$J$16,'Component Weights'!$B$17:$J$17)*$AA$6))","v":0.16},{"$f":"IF(ISBLANK(F3),\" \",(LOOKUP(F3,'Component Weights'!$B$16:$J$16,'Component Weights'!$B$17:$J$17)*$AA$7))","v":0.36},{"$f":"IF(ISBLANK(G3),\" \",(LOOKUP(G3,'Component Weights'!$B$16:$J$16,'Component Weights'!$B$17:$J$17)*$AA$8))","v":0.15000000000000002},{"$f":"IF(ISBLANK(B3),\" \",(LOOKUP(B3,'Component Weights'!$B$16:$J$16,'Component Weights'!$B$17:$J$17)*$AA$9))","v":" "},{"$f":"IF(ISBLANK(H3),\" \",(LOOKUP(H3,'Component Weights'!$B$16:$J$16,'Component Weights'!$B$17:$J$17)*$AA$10))","v":0.36},{"$f":"IF(ISBLANK(I3),\" \",(LOOKUP(I3,'Component Weights'!$B$16:$J$16,'Component Weights'!$B$17:$J$17)*$AA$11))","v":0.24},{"$f":"IF(ISBLANK(J3),\" \",(LOOKUP(J3,'Component Weights'!$B$16:$J$16,'Component Weights'!$B$17:$J$17)*$AA$12))","v":0.36},1.75,2,null,1.75,null,"Wood Finishes"]
["Low VOC",null,null,"L","M","M","M","H","H","M",{"$f":"SUM(IF(ISBLANK(C4),,LOOKUP(C4,'Component Weights'!$B$16:$J$16,'Component Weights'!$B$17:$J$17)),IF(ISBLANK(D4),,LOOKUP(D4,'Component Weights'!$B$16:$J$16,'Component Weights'!$B$17:$J$17)),IF(ISBLANK(E4),,LOOKUP(E4,'Component Weights'!$B$16:$J$16,'Component Weights'!$B$17:$J$17)),IF(ISBLANK(F4),,LOOKUP(F4,'Component Weights'!$B$16:$J$16,'Component Weights'!$B$17:$J$17)),IF(ISBLANK(G4),,LOOKUP(G4,'Component Weights'!$B$16:$J$16,'Component Weights'!$B$17:$J$17)),IF(ISBLANK(B4),,LOOKUP(B4,'Component Weights'!$B$16:$J$16,'Component Weights'!$B$17:$J$17)),IF(ISBLANK(H4),,LOOKUP(H4,'Component Weights'!$B$16:$J$16,'Component Weights'!$B$17:$J$17)),IF(ISBLANK(I4),,LOOKUP(I4,'Component Weights'!$B$16:$J$16,'Component Weights'!$B$17:$J$17)),IF(ISBLANK(J4),,LOOKUP(J4,'Component Weights'!$B$16:$J$16,'Component Weights'!$B$17:$J$17)))","v":15},{"$f":"IF(ISBLANK(C4),\" \",(LOOKUP(C4,'Component Weights'!$B$16:$J$16,'Component Weights'!$B$17:$J$17)*$AA$4))","v":" "},{"$f":"IF(ISBLANK(D4),\" \",(LOOKUP(D4,'Component Weights'!$B$16:$J$16,'Component Weights'!$B$17:$J$17)*$AA$5))","v":0.12},{"$f":"IF(ISBLANK(E4),\" \",(LOOKUP(E4,'Component Weights'!$B$16:$J$16,'Component Weights'!$B$17:$J$17)*$AA$6))","v":0.16},{"$f":"IF(ISBLANK(F4),\" \",(LOOKUP(F4,'Component Weights'!$B$16:$J$16,'Component Weights'!$B$17:$J$17)*$AA$7))","v":0.24},{"$f":"IF(ISBLANK(G4),\" \",(LOOKUP(G4,'Component Weights'!$B$16:$J$16,'Component Weights'!$B$17:$J$17)*$AA$8))","v":0.1},{"$f":"IF(ISBLANK(B4),\" \",(LOOKUP(B4,'Component Weights'!$B$16:$J$16,'Component Weights'!$B$17:$J$17)*$AA$9))","v":" "},{"$f":"IF(ISBLANK(H4),\" \",(LOOKUP(H4,'Component Weights'!$B$16:$J$16,'Component Weights'!$B$17:$J$17)*$AA$10))","v":0.36},{"$f":"IF(ISBLANK(I4),\" \",(LOOKUP(I4,'Component Weights'!$B$16:$J$16,'Component Weights'!$B$17:$J$17)*$AA$11))","v":0.24},{"$f":"IF(ISBLANK(J4),\" \",(LOOKUP(J4,'Component Weights'!$B$16:$J$16,'Component Weights'!$B$17:$J$17)*$AA$12))","v":0.24},1.46,3,null,1.46,null,"Incremental Energy Savings",0.08,"M","The amount of incremental energy, expressed in Btu/Hr, that a product saves or generates for the structure."]
["No VOC",null,null,"L","M","M","M","H","H","M",{"$f":"SUM(IF(ISBLANK(C5),,LOOKUP(C5,'Component Weights'!$B$16:$J$16,'Component Weights'!$B$17:$J$17)),IF(ISBLANK(D5),,LOOKUP(D5,'Component Weights'!$B$16:$J$16,'Component Weights'!$B$17:$J$17)),IF(ISBLANK(E5),,LOOKUP(E5,'Component Weights'!$B$16:$J$16,'Component Weights'!$B$17:$J$17)),IF(ISBLANK(F5),,LOOKUP(F5,'Component Weights'!$B$16:$J$16,'Component Weights'!$B$17:$J$17)),IF(ISBLANK(G5),,LOOKUP(G5,'Component Weights'!$B$16:$J$16,'Component Weights'!$B$17:$J$17)),IF(ISBLANK(B5),,LOOKUP(B5,'Component Weights'!$B$16:$J$16,'Component Weights'!$B$17:$J$17)),IF(ISBLANK(H5),,LOOKUP(H5,'Component Weights'!$B$16:$J$16,'Component Weights'!$B$17:$J$17)),IF(ISBLANK(I5),,LOOKUP(I5,'Component Weights'!$B$16:$J$16,'Component Weights'!$B$17:$J$17)),IF(ISBLANK(J5),,LOOKUP(J5,'Component Weights'!$B$16:$J$16,'Component Weights'!$B$17:$J$17)))","v":15},{"$f":"IF(ISBLANK(C5),\" \",(LOOKUP(C5,'Component Weights'!$B$16:$J$16,'Component Weights'!$B$17:$J$17)*$AA$4))","v":" "},{"$f":"IF(ISBLANK(D5),\" \",(LOOKUP(D5,'Component Weights'!$B$16:$J$16,'Component Weights'!$B$17:$J$17)*$AA$5))","v":0.12},{"$f":"IF(ISBLANK(E5),\" \",(LOOKUP(E5,'Component Weights'!$B$16:$J$16,'Component Weights'!$B$17:$J$17)*$AA$6))","v":0.16},{"$f":"IF(ISBLANK(F5),\" \",(LOOKUP(F5,'Component Weights'!$B$16:$J$16,'Component Weights'!$B$17:$J$17)*$AA$7))","v":0.24},{"$f":"IF(ISBLANK(G5),\" \",(LOOKUP(G5,'Component Weights'!$B$16:$J$16,'Component Weights'!$B$17:$J$17)*$AA$8))","v":0.1},{"$f":"IF(ISBLANK(B5),\" \",(LOOKUP(B5,'Component Weights'!$B$16:$J$16,'Component Weights'!$B$17:$J$17)*$AA$9))","v":" "},{"$f":"IF(ISBLANK(H5),\" \",(LOOKUP(H5,'Component Weights'!$B$16:$J$16,'Component Weights'!$B$17:$J$17)*$AA$10))","v":0.36},{"$f":"IF(ISBLANK(I5),\" \",(LOOKUP(I5,'Component Weights'!$B$16:$J$16,'Component Weights'!$B$17:$J$17)*$AA$11))","v":0.24},{"$f":"IF(ISBLANK(J5),\" \",(LOOKUP(J5,'Component Weights'!$B$16:$J$16,'Component Weights'!$B$17:$J$17)*$AA$12))","v":0.24},1.46,3,null,1.46,null,"Use of Recycled Content",0.12,"H","The amount of recycled content, expressed as a percentage, found in a product."]
["Alcohol Based",null,null,"L","L","L","L","L","L","M",{"$f":"SUM(IF(ISBLANK(C6),,LOOKUP(C6,'Component Weights'!$B$16:$J$16,'Component Weights'!$B$17:$J$17)),IF(ISBLANK(D6),,LOOKUP(D6,'Component Weights'!$B$16:$J$16,'Component Weights'!$B$17:$J$17)),IF(ISBLANK(E6),,LOOKUP(E6,'Component Weights'!$B$16:$J$16,'Component Weights'!$B$17:$J$17)),IF(ISBLANK(F6),,LOOKUP(F6,'Component Weights'!$B$16:$J$16,'Component Weights'!$B$17:$J$17)),IF(ISBLANK(G6),,LOOKUP(G6,'Component Weights'!$B$16:$J$16,'Component Weights'!$B$17:$J$17)),IF(ISBLANK(B6),,LOOKUP(B6,'Component Weights'!$B$16:$J$16,'Component Weights'!$B$17:$J$17)),IF(ISBLANK(H6),,LOOKUP(H6,'Component Weights'!$B$16:$J$16,'Component Weights'!$B$17:$J$17)),IF(ISBLANK(I6),,LOOKUP(I6,'Component Weights'!$B$16:$J$16,'Component Weights'!$B$17:$J$17)),IF(ISBLANK(J6),,LOOKUP(J6,'Component Weights'!$B$16:$J$16,'Component Weights'!$B$17:$J$17)))","v":8},{"$f":"IF(ISBLANK(C6),\" \",(LOOKUP(C6,'Component Weights'!$B$16:$J$16,'Component Weights'!$B$17:$J$17)*$AA$4))","v":" "},{"$f":"IF(ISBLANK(D6),\" \",(LOOKUP(D6,'Component Weights'!$B$16:$J$16,'Component Weights'!$B$17:$J$17)*$AA$5))","v":0.12},{"$f":"IF(ISBLANK(E6),\" \",(LOOKUP(E6,'Component Weights'!$B$16:$J$16,'Component Weights'!$B$17:$J$17)*$AA$6))","v":0.08},{"$f":"IF(ISBLANK(F6),\" \",(LOOKUP(F6,'Component Weights'!$B$16:$J$16,'Component Weights'!$B$17:$J$17)*$AA$7))","v":0.12},{"$f":"IF(ISBLANK(G6),\" \",(LOOKUP(G6,'Component Weights'!$B$16:$J$16,'Component Weights'!$B$17:$J$17)*$AA$8))","v":0.05},{"$f":"IF(ISBLANK(B6),\" \",(LOOKUP(B6,'Component Weights'!$B$16:$J$16,'Component Weights'!$B$17:$J$17)*$AA$9))","v":" "},{"$f":"IF(ISBLANK(H6),\" \",(LOOKUP(H6,'Component Weights'!$B$16:$J$16,'Component Weights'!$B$17:$J$17)*$AA$10))","v":0.12},{"$f":"IF(ISBLANK(I6),\" \",(LOOKUP(I6,'Component Weights'!$B$16:$J$16,'Component Weights'!$B$17:$J$17)*$AA$11))","v":0.08},{"$f":"IF(ISBLANK(J6),\" \",(LOOKUP(J6,'Component Weights'!$B$16:$J$16,'Component Weights'!$B$17:$J$17)*$AA$12))","v":0.24},0.80999999999999994,5,null,0.80999999999999994,null,"Low Energy Usage Manufacturing Process",0.08,"M","The amount of energy used in manufacture of the product."]
["Polyurethane Based",null,null,"N","L","L","N","N","N","L",{"$f":"SUM(IF(ISBLANK(C7),,LOOKUP(C7,'Component Weights'!$B$16:$J$16,'Component Weights'!$B$17:$J$17)),IF(ISBLANK(D7),,LOOKUP(D7,'Component Weights'!$B$16:$J$16,'Component Weights'!$B$17:$J$17)),IF(ISBLANK(E7),,LOOKUP(E7,'Component Weights'!$B$16:$J$16,'Component Weights'!$B$17:$J$17)),IF(ISBLANK(F7),,LOOKUP(F7,'Component Weights'!$B$16:$J$16,'Component Weights'!$B$17:$J$17)),IF(ISBLANK(G7),,LOOKUP(G7,'Component Weights'!$B$16:$J$16,'Component Weights'!$B$17:$J$17)),IF(ISBLANK(B7),,LOOKUP(B7,'Component Weights'!$B$16:$J$16,'Component Weights'!$B$17:$J$17)),IF(ISBLANK(H7),,LOOKUP(H7,'Component Weights'!$B$16:$J$16,'Component Weights'!$B$17:$J$17)),IF(ISBLANK(I7),,LOOKUP(I7,'Component Weights'!$B$16:$J$16,'Component Weights'!$B$17:$J$17)),IF(ISBLANK(J7),,LOOKUP(J7,'Component Weights'!$B$16:$J$16,'Component Weights'!$B$17:$J$17)))","v":3},{"$f":"IF(ISBLANK(C7),\" \",(LOOKUP(C7,'Component Weights'!$B$16:$J$16,'Component Weights'!$B$17:$J$17)*$AA$4))","v":" "},{"$f":"IF(ISBLANK(D7),\" \",(LOOKUP(D7,'Component Weights'!$B$16:$J$16,'Component Weights'!$B$17:$J$17)*$AA$5))","v":0},{"$f":"IF(ISBLANK(E7),\" \",(LOOKUP(E7,'Component Weights'!$B$16:$J$16,'Component Weights'!$B$17:$J$17)*$AA$6))","v":0.08},{"$f":"IF(ISBLANK(F7),\" \",(LOOKUP(F7,'Component Weights'!$B$16:$J$16,'Component Weights'!$B$17:$J$17)*$AA$7))","v":0.12},{"$f":"IF(ISBLANK(G7),\" \",(LOOKUP(G7,'Component Weights'!$B$16:$J$16,'Component Weights'!$B$17:$J$17)*$AA$8))","v":0},{"$f":"IF(ISBLANK(B7),\" \",(LOOKUP(B7,'Component Weights'!$B$16:$J$16,'Component Weights'!$B$17:$J$17)*$AA$9))","v":" "},{"$f":"IF(ISBLANK(H7),\" \",(LOOKUP(H7,'Component Weights'!$B$16:$J$16,'Component Weights'!$B$17:$J$17)*$AA$10))","v":0},{"$f":"IF(ISBLANK(I7),\" \",(LOOKUP(I7,'Component Weights'!$B$16:$J$16,'Component Weights'!$B$17:$J$17)*$AA$11))","v":0},{"$f":"IF(ISBLANK(J7),\" \",(LOOKUP(J7,'Component Weights'!$B$16:$J$16,'Component Weights'!$B$17:$J$17)*$AA$12))","v":0.12},0.32,6,null,0.32,null,"Easily Biodegradable",0.12,"H","The amount of time it will take the product to degrade once its useful life is over."]
["(Enter Custom Product Here)",null,null,null,null,null,null,null,null,null,{"$f":"SUM(IF(ISBLANK(C8),,LOOKUP(C8,'Component Weights'!$B$16:$J$16,'Component Weights'!$B$17:$J$17)),IF(ISBLANK(D8),,LOOKUP(D8,'Component Weights'!$B$16:$J$16,'Component Weights'!$B$17:$J$17)),IF(ISBLANK(E8),,LOOKUP(E8,'Component Weights'!$B$16:$J$16,'Component Weights'!$B$17:$J$17)),IF(ISBLANK(F8),,LOOKUP(F8,'Component Weights'!$B$16:$J$16,'Component Weights'!$B$17:$J$17)),IF(ISBLANK(G8),,LOOKUP(G8,'Component Weights'!$B$16:$J$16,'Component Weights'!$B$17:$J$17)),IF(ISBLANK(B8),,LOOKUP(B8,'Component Weights'!$B$16:$J$16,'Component Weights'!$B$17:$J$17)),IF(ISBLANK(H8),,LOOKUP(H8,'Component Weights'!$B$16:$J$16,'Component Weights'!$B$17:$J$17)),IF(ISBLANK(I8),,LOOKUP(I8,'Component Weights'!$B$16:$J$16,'Component Weights'!$B$17:$J$17)),IF(ISBLANK(J8),,LOOKUP(J8,'Component Weights'!$B$16:$J$16,'Component Weights'!$B$17:$J$17)))","v":0},{"$f":"IF(ISBLANK(C8),\" \",(LOOKUP(C8,'Component Weights'!$B$16:$J$16,'Component Weights'!$B$17:$J$17)*$AA$4))","v":" "},{"$f":"IF(ISBLANK(D8),\" \",(LOOKUP(D8,'Component Weights'!$B$16:$J$16,'Component Weights'!$B$17:$J$17)*$AA$5))","v":" "},{"$f":"IF(ISBLANK(E8),\" \",(LOOKUP(E8,'Component Weights'!$B$16:$J$16,'Component Weights'!$B$17:$J$17)*$AA$6))","v":" "},{"$f":"IF(ISBLANK(F8),\" \",(LOOKUP(F8,'Component Weights'!$B$16:$J$16,'Component Weights'!$B$17:$J$17)*$AA$7))","v":" "},{"$f":"IF(ISBLANK(G8),\" \",(LOOKUP(G8,'Component Weights'!$B$16:$J$16,'Component Weights'!$B$17:$J$17)*$AA$8))","v":" "},{"$f":"IF(ISBLANK(B8),\" \",(LOOKUP(B8,'Component Weights'!$B$16:$J$16,'Component Weights'!$B$17:$J$17)*$AA$9))","v":" "},{"$f":"IF(ISBLANK(H8),\" \",(LOOKUP(H8,'Component Weights'!$B$16:$J$16,'Component Weights'!$B$17:$J$17)*$AA$10))","v":" "},{"$f":"IF(ISBLANK(I8),\" \",(LOOKUP(I8,'Component Weights'!$B$16:$J$16,'Component Weights'!$B$17:$J$17)*$AA$11))","v":" "},{"$f":"IF(ISBLANK(J8),\" \",(LOOKUP(J8,'Component Weights'!$B$16:$J$16,'Component Weights'!$B$17:$J$17)*$AA$12))","v":" "},0,99,null,0,null,"Made from Natural Materials",0.05,"L","The amount, expressed as a percentage, of natural (not man-made) materials used to make the product."]
["(Enter Custom Product Here)",null,null,null,null,null,null,null,null,null,{"$f":"SUM(IF(ISBLANK(C9),,LOOKUP(C9,'Component Weights'!$B$16:$J$16,'Component Weights'!$B$17:$J$17)),IF(ISBLANK(D9),,LOOKUP(D9,'Component Weights'!$B$16:$J$16,'Component Weights'!$B$17:$J$17)),IF(ISBLANK(E9),,LOOKUP(E9,'Component Weights'!$B$16:$J$16,'Component Weights'!$B$17:$J$17)),IF(ISBLANK(F9),,LOOKUP(F9,'Component Weights'!$B$16:$J$16,'Component Weights'!$B$17:$J$17)),IF(ISBLANK(G9),,LOOKUP(G9,'Component Weights'!$B$16:$J$16,'Component Weights'!$B$17:$J$17)),IF(ISBLANK(B9),,LOOKUP(B9,'Component Weights'!$B$16:$J$16,'Component Weights'!$B$17:$J$17)),IF(ISBLANK(H9),,LOOKUP(H9,'Component Weights'!$B$16:$J$16,'Component Weights'!$B$17:$J$17)),IF(ISBLANK(I9),,LOOKUP(I9,'Component Weights'!$B$16:$J$16,'Component Weights'!$B$17:$J$17)),IF(ISBLANK(J9),,LOOKUP(J9,'Component Weights'!$B$16:$J$16,'Component Weights'!$B$17:$J$17)))","v":0},{"$f":"IF(ISBLANK(C9),\" \",(LOOKUP(C9,'Component Weights'!$B$16:$J$16,'Component Weights'!$B$17:$J$17)*$AA$4))","v":" "},{"$f":"IF(ISBLANK(D9),\" \",(LOOKUP(D9,'Component Weights'!$B$16:$J$16,'Component Weights'!$B$17:$J$17)*$AA$5))","v":" "},{"$f":"IF(ISBLANK(E9),\" \",(LOOKUP(E9,'Component Weights'!$B$16:$J$16,'Component Weights'!$B$17:$J$17)*$AA$6))","v":" "},{"$f":"IF(ISBLANK(F9),\" \",(LOOKUP(F9,'Component Weights'!$B$16:$J$16,'Component Weights'!$B$17:$J$17)*$AA$7))","v":" "},{"$f":"IF(ISBLANK(G9),\" \",(LOOKUP(G9,'Component Weights'!$B$16:$J$16,'Component Weights'!$B$17:$J$17)*$AA$8))","v":" "},{"$f":"IF(ISBLANK(B9),\" \",(LOOKUP(B9,'Component Weights'!$B$16:$J$16,'Component Weights'!$B$17:$J$17)*$AA$9))","v":" "},{"$f":"IF(ISBLANK(H9),\" \",(LOOKUP(H9,'Component Weights'!$B$16:$J$16,'Component Weights'!$B$17:$J$17)*$AA$10))","v":" "},{"$f":"IF(ISBLANK(I9),\" \",(LOOKUP(I9,'Component Weights'!$B$16:$J$16,'Component Weights'!$B$17:$J$17)*$AA$11))","v":" "},{"$f":"IF(ISBLANK(J9),\" \",(LOOKUP(J9,'Component Weights'!$B$16:$J$16,'Component Weights'!$B$17:$J$17)*$AA$12))","v":" "},0,99,null,{"$f":"U9","v":0},null,"Available Locally",0.23,"H+","The distance in miles that the product must travel to the destination of final use."]
["(Enter Custom Product Here)",null,null,null,null,null,null,null,null,null,{"$f":"SUM(IF(ISBLANK(C10),,LOOKUP(C10,'Component Weights'!$B$16:$J$16,'Component Weights'!$B$17:$J$17)),IF(ISBLANK(D10),,LOOKUP(D10,'Component Weights'!$B$16:$J$16,'Component Weights'!$B$17:$J$17)),IF(ISBLANK(E10),,LOOKUP(E10,'Component Weights'!$B$16:$J$16,'Component Weights'!$B$17:$J$17)),IF(ISBLANK(F10),,LOOKUP(F10,'Component Weights'!$B$16:$J$16,'Component Weights'!$B$17:$J$17)),IF(ISBLANK(G10),,LOOKUP(G10,'Component Weights'!$B$16:$J$16,'Component Weights'!$B$17:$J$17)),IF(ISBLANK(B10),,LOOKUP(B10,'Component Weights'!$B$16:$J$16,'Component Weights'!$B$17:$J$17)),IF(ISBLANK(H10),,LOOKUP(H10,'Component Weights'!$B$16:$J$16,'Component Weights'!$B$17:$J$17)),IF(ISBLANK(I10),,LOOKUP(I10,'Component Weights'!$B$16:$J$16,'Component Weights'!$B$17:$J$17)),IF(ISBLANK(J10),,LOOKUP(J10,'Component Weights'!$B$16:$J$16,'Component Weights'!$B$17:$J$17)))","v":0},{"$f":"IF(ISBLANK(C10),\" \",(LOOKUP(C10,'Component Weights'!$B$16:$J$16,'Component Weights'!$B$17:$J$17)*$AA$4))","v":" "},{"$f":"IF(ISBLANK(D10),\" \",(LOOKUP(D10,'Component Weights'!$B$16:$J$16,'Component Weights'!$B$17:$J$17)*$AA$5))","v":" "},{"$f":"IF(ISBLANK(E10),\" \",(LOOKUP(E10,'Component Weights'!$B$16:$J$16,'Component Weights'!$B$17:$J$17)*$AA$6))","v":" "},{"$f":"IF(ISBLANK(F10),\" \",(LOOKUP(F10,'Component Weights'!$B$16:$J$16,'Component Weights'!$B$17:$J$17)*$AA$7))","v":" "},{"$f":"IF(ISBLANK(G10),\" \",(LOOKUP(G10,'Component Weights'!$B$16:$J$16,'Component Weights'!$B$17:$J$17)*$AA$8))","v":" "},{"$f":"IF(ISBLANK(B10),\" \",(LOOKUP(B10,'Component Weights'!$B$16:$J$16,'Component Weights'!$B$17:$J$17)*$AA$9))","v":" "},{"$f":"IF(ISBLANK(H10),\" \",(LOOKUP(H10,'Component Weights'!$B$16:$J$16,'Component Weights'!$B$17:$J$17)*$AA$10))","v":" "},{"$f":"IF(ISBLANK(I10),\" \",(LOOKUP(I10,'Component Weights'!$B$16:$J$16,'Component Weights'!$B$17:$J$17)*$AA$11))","v":" "},{"$f":"IF(ISBLANK(J10),\" \",(LOOKUP(J10,'Component Weights'!$B$16:$J$16,'Component Weights'!$B$17:$J$17)*$AA$12))","v":" "},0,99,null,{"$f":"U10","v":0},null,"Low Emissions Potential",0.12,"H","The amount of time it will take the product to stop outgassing."]
["(Enter Custom Product Here)",null,null,null,null,null,null,null,null,null,{"$f":"SUM(IF(ISBLANK(C11),,LOOKUP(C11,'Component Weights'!$B$16:$J$16,'Component Weights'!$B$17:$J$17)),IF(ISBLANK(D11),,LOOKUP(D11,'Component Weights'!$B$16:$J$16,'Component Weights'!$B$17:$J$17)),IF(ISBLANK(E11),,LOOKUP(E11,'Component Weights'!$B$16:$J$16,'Component Weights'!$B$17:$J$17)),IF(ISBLANK(F11),,LOOKUP(F11,'Component Weights'!$B$16:$J$16,'Component Weights'!$B$17:$J$17)),IF(ISBLANK(G11),,LOOKUP(G11,'Component Weights'!$B$16:$J$16,'Component Weights'!$B$17:$J$17)),IF(ISBLANK(B11),,LOOKUP(B11,'Component Weights'!$B$16:$J$16,'Component Weights'!$B$17:$J$17)),IF(ISBLANK(H11),,LOOKUP(H11,'Component Weights'!$B$16:$J$16,'Component Weights'!$B$17:$J$17)),IF(ISBLANK(I11),,LOOKUP(I11,'Component Weights'!$B$16:$J$16,'Component Weights'!$B$17:$J$17)),IF(ISBLANK(J11),,LOOKUP(J11,'Component Weights'!$B$16:$J$16,'Component Weights'!$B$17:$J$17)))","v":0},{"$f":"IF(ISBLANK(C11),\" \",(LOOKUP(C11,'Component Weights'!$B$16:$J$16,'Component Weights'!$B$17:$J$17)*$AA$4))","v":" "},{"$f":"IF(ISBLANK(D11),\" \",(LOOKUP(D11,'Component Weights'!$B$16:$J$16,'Component Weights'!$B$17:$J$17)*$AA$5))","v":" "},{"$f":"IF(ISBLANK(E11),\" \",(LOOKUP(E11,'Component Weights'!$B$16:$J$16,'Component Weights'!$B$17:$J$17)*$AA$6))","v":" "},{"$f":"IF(ISBLANK(F11),\" \",(LOOKUP(F11,'Component Weights'!$B$16:$J$16,'Component Weights'!$B$17:$J$17)*$AA$7))","v":" "},{"$f":"IF(ISBLANK(G11),\" \",(LOOKUP(G11,'Component Weights'!$B$16:$J$16,'Component Weights'!$B$17:$J$17)*$AA$8))","v":" "},{"$f":"IF(ISBLANK(B11),\" \",(LOOKUP(B11,'Component Weights'!$B$16:$J$16,'Component Weights'!$B$17:$J$17)*$AA$9))","v":" "},{"$f":"IF(ISBLANK(H11),\" \",(LOOKUP(H11,'Component Weights'!$B$16:$J$16,'Component Weights'!$B$17:$J$17)*$AA$10))","v":" "},{"$f":"IF(ISBLANK(I11),\" \",(LOOKUP(I11,'Component Weights'!$B$16:$J$16,'Component Weights'!$B$17:$J$17)*$AA$11))","v":" "},{"$f":"IF(ISBLANK(J11),\" \",(LOOKUP(J11,'Component Weights'!$B$16:$J$16,'Component Weights'!$B$17:$J$17)*$AA$12))","v":" "},0,99,null,{"$f":"U11","v":0},null,"Listed in Other Programs (e.g. EnergyStar)",0.08,"M","The level of product recommendation in recognized energy and environmental programs."]
["(Enter Custom Product Here)",null,null,null,null,null,null,null,null,null,{"$f":"SUM(IF(ISBLANK(C12),,LOOKUP(C12,'Component Weights'!$B$16:$J$16,'Component Weights'!$B$17:$J$17)),IF(ISBLANK(D12),,LOOKUP(D12,'Component Weights'!$B$16:$J$16,'Component Weights'!$B$17:$J$17)),IF(ISBLANK(E12),,LOOKUP(E12,'Component Weights'!$B$16:$J$16,'Component Weights'!$B$17:$J$17)),IF(ISBLANK(F12),,LOOKUP(F12,'Component Weights'!$B$16:$J$16,'Component Weights'!$B$17:$J$17)),IF(ISBLANK(G12),,LOOKUP(G12,'Component Weights'!$B$16:$J$16,'Component Weights'!$B$17:$J$17)),IF(ISBLANK(B12),,LOOKUP(B12,'Component Weights'!$B$16:$J$16,'Component Weights'!$B$17:$J$17)),IF(ISBLANK(H12),,LOOKUP(H12,'Component Weights'!$B$16:$J$16,'Component Weights'!$B$17:$J$17)),IF(ISBLANK(I12),,LOOKUP(I12,'Component Weights'!$B$16:$J$16,'Component Weights'!$B$17:$J$17)),IF(ISBLANK(J12),,LOOKUP(J12,'Component Weights'!$B$16:$J$16,'Component Weights'!$B$17:$J$17)))","v":0},{"$f":"IF(ISBLANK(C12),\" \",(LOOKUP(C12,'Component Weights'!$B$16:$J$16,'Component Weights'!$B$17:$J$17)*$AA$4))","v":" "},{"$f":"IF(ISBLANK(D12),\" \",(LOOKUP(D12,'Component Weights'!$B$16:$J$16,'Component Weights'!$B$17:$J$17)*$AA$5))","v":" "},{"$f":"IF(ISBLANK(E12),\" \",(LOOKUP(E12,'Component Weights'!$B$16:$J$16,'Component Weights'!$B$17:$J$17)*$AA$6))","v":" "},{"$f":"IF(ISBLANK(F12),\" \",(LOOKUP(F12,'Component Weights'!$B$16:$J$16,'Component Weights'!$B$17:$J$17)*$AA$7))","v":" "},{"$f":"IF(ISBLANK(G12),\" \",(LOOKUP(G12,'Component Weights'!$B$16:$J$16,'Component Weights'!$B$17:$J$17)*$AA$8))","v":" "},{"$f":"IF(ISBLANK(B12),\" \",(LOOKUP(B12,'Component Weights'!$B$16:$J$16,'Component Weights'!$B$17:$J$17)*$AA$9))","v":" "},{"$f":"IF(ISBLANK(H12),\" \",(LOOKUP(H12,'Component Weights'!$B$16:$J$16,'Component Weights'!$B$17:$J$17)*$AA$10))","v":" "},{"$f":"IF(ISBLANK(I12),\" \",(LOOKUP(I12,'Component Weights'!$B$16:$J$16,'Component Weights'!$B$17:$J$17)*$AA$11))","v":" "},{"$f":"IF(ISBLANK(J12),\" \",(LOOKUP(J12,'Component Weights'!$B$16:$J$16,'Component Weights'!$B$17:$J$17)*$AA$12))","v":" "},0,99,null,{"$f":"U12","v":0},null,"Non Hazardous as Waste",0.12,"H","The amount of hazardous materials and components found in the product."]
["(Enter Custom Product Here)",null,null,null,null,null,null,null,null,null,{"$f":"SUM(IF(ISBLANK(C13),,LOOKUP(C13,'Component Weights'!$B$16:$J$16,'Component Weights'!$B$17:$J$17)),IF(ISBLANK(D13),,LOOKUP(D13,'Component Weights'!$B$16:$J$16,'Component Weights'!$B$17:$J$17)),IF(ISBLANK(E13),,LOOKUP(E13,'Component Weights'!$B$16:$J$16,'Component Weights'!$B$17:$J$17)),IF(ISBLANK(F13),,LOOKUP(F13,'Component Weights'!$B$16:$J$16,'Component Weights'!$B$17:$J$17)),IF(ISBLANK(G13),,LOOKUP(G13,'Component Weights'!$B$16:$J$16,'Component Weights'!$B$17:$J$17)),IF(ISBLANK(B13),,LOOKUP(B13,'Component Weights'!$B$16:$J$16,'Component Weights'!$B$17:$J$17)),IF(ISBLANK(H13),,LOOKUP(H13,'Component Weights'!$B$16:$J$16,'Component Weights'!$B$17:$J$17)),IF(ISBLANK(I13),,LOOKUP(I13,'Component Weights'!$B$16:$J$16,'Component Weights'!$B$17:$J$17)),IF(ISBLANK(J13),,LOOKUP(J13,'Component Weights'!$B$16:$J$16,'Component Weights'!$B$17:$J$17)))","v":0},{"$f":"IF(ISBLANK(C13),\" \",(LOOKUP(C13,'Component Weights'!$B$16:$J$16,'Component Weights'!$B$17:$J$17)*$AA$4))","v":" "},{"$f":"IF(ISBLANK(D13),\" \",(LOOKUP(D13,'Component Weights'!$B$16:$J$16,'Component Weights'!$B$17:$J$17)*$AA$5))","v":" "},{"$f":"IF(ISBLANK(E13),\" \",(LOOKUP(E13,'Component Weights'!$B$16:$J$16,'Component Weights'!$B$17:$J$17)*$AA$6))","v":" "},{"$f":"IF(ISBLANK(F13),\" \",(LOOKUP(F13,'Component Weights'!$B$16:$J$16,'Component Weights'!$B$17:$J$17)*$AA$7))","v":" "},{"$f":"IF(ISBLANK(G13),\" \",(LOOKUP(G13,'Component Weights'!$B$16:$J$16,'Component Weights'!$B$17:$J$17)*$AA$8))","v":" "},{"$f":"IF(ISBLANK(B13),\" \",(LOOKUP(B13,'Component Weights'!$B$16:$J$16,'Component Weights'!$B$17:$J$17)*$AA$9))","v":" "},{"$f":"IF(ISBLANK(H13),\" \",(LOOKUP(H13,'Component Weights'!$B$16:$J$16,'Component Weights'!$B$17:$J$17)*$AA$10))","v":" "},{"$f":"IF(ISBLANK(I13),\" \",(LOOKUP(I13,'Component Weights'!$B$16:$J$16,'Component Weights'!$B$17:$J$17)*$AA$11))","v":" "},{"$f":"IF(ISBLANK(J13),\" \",(LOOKUP(J13,'Component Weights'!$B$16:$J$16,'Component Weights'!$B$17:$J$17)*$AA$12))","v":" "},0,99,null,0,null,"Total Weightings Must Equal 100%",{"$f":"SUM(AA4:AA12)","v":1},null,{"$f":"IF(AA13<>100%,\"Keep Working - Weightings must equal 100%\",\" \")","v":" "}]
[null,null,null,null,null,null,null,null,null,null,{"$f":"AVERAGE(K$2:K7)","v":13.166666666666666},{"$f":"AVERAGE(L$2:L7)","v":{"$error":"#DIV/0!"}},{"$f":"AVERAGE(M$2:M7)","v":0.13999999999999999},{"$f":"AVERAGE(N$2:N7)","v":0.14666666666666667},{"$f":"AVERAGE(O$2:O7)","v":0.24},{"$f":"AVERAGE(P$2:P7)","v":9.1666666666666674E-2},{"$f":"AVERAGE(Q$2:Q7)","v":{"$error":"#DIV/0!"}},{"$f":"AVERAGE(R$2:R7)","v":0.26},{"$f":"AVERAGE(S$2:S7)","v":0.17333333333333334},{"$f":"AVERAGE(T$2:T7)","v":0.24},{"$f":"AVERAGE(U$2:U7)","v":1.2916666666666667},{"$f":"IF(AND(OR(#REF!=72,#REF!=73,#REF!=74,#REF!=75,#REF!=76),$U14>0),RANK($U14,Y$2:Y$36,0),\" \")","v":{"$error":"#REF!"}}]

{"sheet":"Flooring","index":18,"n_rows":29,"n_cols":29,"rows_kept":29,"cut":false,"hidden":false,"merged":[]}
["Instructions:\nScroll down to see all products.  New products may be added to the end of the list.  Rate the performance of each product as \"N, L, M or H.\" (Hover over the component title for the rating description.)  Use your Backspace button to clear values.  The Sort button (below) will incorporate your priorities as currently stated on the table to the right.  (Scroll to the right to see the table.)\n\n","Available Locally","Incremental Energy Savings","Use of Recycled Content","Low Energy Usage Manufacturing Process","Easily Biodegradable","Made from Natural Materials","Low Emissions Potential","Listed in Other Programs","Non Hazardous as Waste","Total Raw Score","Incremental Energy Savings Weighted Score","Use of Recycled Content Weighted Score","Low Energy Usage Mfg. Process Weighted Score","Easily Biodegradable Weighted Score","Made from Natural Materials Weighted Score","Available Locally Weighted Score","Low Emissions Potential Weighted Score","Listed in Other Programs Weighted Score","Non Hazardous as Waste Weighted Score","Total Weighted Score","Force Ranking",null,"Weighted Score for Force Rank Calculation ",null,"Detailed instructions and options for using this tool are found in the Using the DYO® GBD Kit Decision Matrix Software Section of your DYO® Green Building Decision Kit."]
["Wool/Cotton Carpeting",null,null,"M","H","H","H","H","H","H",{"$f":"SUM(IF(ISBLANK(C2),,LOOKUP(C2,'Component Weights'!$B$16:$J$16,'Component Weights'!$B$17:$J$17)),IF(ISBLANK(D2),,LOOKUP(D2,'Component Weights'!$B$16:$J$16,'Component Weights'!$B$17:$J$17)),IF(ISBLANK(E2),,LOOKUP(E2,'Component Weights'!$B$16:$J$16,'Component Weights'!$B$17:$J$17)),IF(ISBLANK(F2),,LOOKUP(F2,'Component Weights'!$B$16:$J$16,'Component Weights'!$B$17:$J$17)),IF(ISBLANK(G2),,LOOKUP(G2,'Component Weights'!$B$16:$J$16,'Component Weights'!$B$17:$J$17)),IF(ISBLANK(B2),,LOOKUP(B2,'Component Weights'!$B$16:$J$16,'Component Weights'!$B$17:$J$17)),IF(ISBLANK(H2),,LOOKUP(H2,'Component Weights'!$B$16:$J$16,'Component Weights'!$B$17:$J$17)),IF(ISBLANK(I2),,LOOKUP(I2,'Component Weights'!$B$16:$J$16,'Component Weights'!$B$17:$J$17)),IF(ISBLANK(J2),,LOOKUP(J2,'Component Weights'!$B$16:$J$16,'Component Weights'!$B$17:$J$17)))","v":20},{"$f":"IF(ISBLANK(C2),\" \",(LOOKUP(C2,'Component Weights'!$B$16:$J$16,'Component Weights'!$B$17:$J$17)*$AA$4))","v":" "},{"$f":"IF(ISBLANK(D2),\" \",(LOOKUP(D2,'Component Weights'!$B$16:$J$16,'Component Weights'!$B$17:$J$17)*$AA$5))","v":0.24},{"$f":"IF(ISBLANK(E2),\" \",(LOOKUP(E2,'Component Weights'!$B$16:$J$16,'Component Weights'!$B$17:$J$17)*$AA$6))","v":0.24},{"$f":"IF(ISBLANK(F2),\" \",(LOOKUP(F2,'Component Weights'!$B$16:$J$16,'Component Weights'!$B$17:$J$17)*$AA$7))","v":0.36},{"$f":"IF(ISBLANK(G2),\" \",(LOOKUP(G2,'Component Weights'!$B$16:$J$16,'Component Weights'!$B$17:$J$17)*$AA$8))","v":0.15000000000000002},{"$f":"IF(ISBLANK(B2),\" \",(LOOKUP(B2,'Component Weights'!$B$16:$J$16,'Component Weights'!$B$17:$J$17)*$AA$9))","v":" "},{"$f":"IF(ISBLANK(H2),\" \",(LOOKUP(H2,'Component Weights'!$B$16:$J$16,'Component Weights'!$B$17:$J$17)*$AA$10))","v":0.36},{"$f":"IF(ISBLANK(I2),\" \",(LOOKUP(I2,'Component Weights'!$B$16:$J$16,'Component Weights'!$B$17:$J$17)*$AA$11))","v":0.24},{"$f":"IF(ISBLANK(J2),\" \",(LOOKUP(J2,'Component Weights'!$B$16:$J$16,'Component Weights'!$B$17:$J$17)*$AA$12))","v":0.36},{"$f":"SUM(L2:T2)","v":1.9500000000000002},{"$f":"IF($U2>0,RANK($U2,X$2:X$206,0),99)","v":1},null,{"$f":"U2","v":1.9500000000000002},null,"Component Weights for","Weight"]
["Wool/Cotton Area Rugs",null,null,"M","H","H","H","H","H","H",{"$f":"SUM(IF(ISBLANK(C3),,LOOKUP(C3,'Component Weights'!$B$16:$J$16,'Component Weights'!$B$17:$J$17)),IF(ISBLANK(D3),,LOOKUP(D3,'Component Weights'!$B$16:$J$16,'Component Weights'!$B$17:$J$17)),IF(ISBLANK(E3),,LOOKUP(E3,'Component Weights'!$B$16:$J$16,'Component Weights'!$B$17:$J$17)),IF(ISBLANK(F3),,LOOKUP(F3,'Component Weights'!$B$16:$J$16,'Component Weights'!$B$17:$J$17)),IF(ISBLANK(G3),,LOOKUP(G3,'Component Weights'!$B$16:$J$16,'Component Weights'!$B$17:$J$17)),IF(ISBLANK(B3),,LOOKUP(B3,'Component Weights'!$B$16:$J$16,'Component Weights'!$B$17:$J$17)),IF(ISBLANK(H3),,LOOKUP(H3,'Component Weights'!$B$16:$J$16,'Component Weights'!$B$17:$J$17)),IF(ISBLANK(I3),,LOOKUP(I3,'Component Weights'!$B$16:$J$16,'Component Weights'!$B$17:$J$17)),IF(ISBLANK(J3),,LOOKUP(J3,'Component Weights'!$B$16:$J$16,'Component Weights'!$B$17:$J$17)))","v":20},{"$f":"IF(ISBLANK(C3),\" \",(LOOKUP(C3,'Component Weights'!$B$16:$J$16,'Component Weights'!$B$17:$J$17)*$AA$4))","v":" "},{"$f":"IF(ISBLANK(D3),\" \",(LOOKUP(D3,'Component Weights'!$B$16:$J$16,'Component Weights'!$B$17:$J$17)*$AA$5))","v":0.24},{"$f":"IF(ISBLANK(E3),\" \",(LOOKUP(E3,'Component Weights'!$B$16:$J$16,'Component Weights'!$B$17:$J$17)*$AA$6))","v":0.24},{"$f":"IF(ISBLANK(F3),\" \",(LOOKUP(F3,'Component Weights'!$B$16:$J$16,'Component Weights'!$B$17:$J$17)*$AA$7))","v":0.36},{"$f":"IF(ISBLANK(G3),\" \",(LOOKUP(G3,'Component Weights'!$B$16:$J$16,'Component Weights'!$B$17:$J$17)*$AA$8))","v":0.15000000000000002},{"$f":"IF(ISBLANK(B3),\" \",(LOOKUP(B3,'Component Weights'!$B$16:$J$16,'Component Weights'!$B$17:$J$17)*$AA$9))","v":" "},{"$f":"IF(ISBLANK(H3),\" \",(LOOKUP(H3,'Component Weights'!$B$16:$J$16,'Component Weights'!$B$17:$J$17)*$AA$10))","v":0.36},{"$f":"IF(ISBLANK(I3),\" \",(LOOKUP(I3,'Component Weights'!$B$16:$J$16,'Component Weights'!$B$17:$J$17)*$AA$11))","v":0.24},{"$f":"IF(ISBLANK(J3),\" \",(LOOKUP(J3,'Component Weights'!$B$16:$J$16,'Component Weights'!$B$17:$J$17)*$AA$12))","v":0.36},1.9500000000000002,1,null,1.9500000000000002,null,"Flooring"]
["Recycled/Reclaimed Wood Flooring",null,null,"H","H","M","H","M","H","H",{"$f":"SUM(IF(ISBLANK(C4),,LOOKUP(C4,'Component Weights'!$B$16:$J$16,'Component Weights'!$B$17:$J$17)),IF(ISBLANK(D4),,LOOKUP(D4,'Component Weights'!$B$16:$J$16,'Component Weights'!$B$17:$J$17)),IF(ISBLANK(E4),,LOOKUP(E4,'Component Weights'!$B$16:$J$16,'Component Weights'!$B$17:$J$17)),IF(ISBLANK(F4),,LOOKUP(F4,'Component Weights'!$B$16:$J$16,'Component Weights'!$B$17:$J$17)),IF(ISBLANK(G4),,LOOKUP(G4,'Component Weights'!$B$16:$J$16,'Component Weights'!$B$17:$J$17)),IF(ISBLANK(B4),,LOOKUP(B4,'Component Weights'!$B$16:$J$16,'Component Weights'!$B$17:$J$17)),IF(ISBLANK(H4),,LOOKUP(H4,'Component Weights'!$B$16:$J$16,'Component Weights'!$B$17:$J$17)),IF(ISBLANK(I4),,LOOKUP(I4,'Component Weights'!$B$16:$J$16,'Component Weights'!$B$17:$J$17)),IF(ISBLANK(J4),,LOOKUP(J4,'Component Weights'!$B$16:$J$16,'Component Weights'!$B$17:$J$17)))","v":19},{"$f":"IF(ISBLANK(C4),\" \",(LOOKUP(C4,'Component Weights'!$B$16:$J$16,'Component Weights'!$B$17:$J$17)*$AA$4))","v":" "},{"$f":"IF(ISBLANK(D4),\" \",(LOOKUP(D4,'Component Weights'!$B$16:$J$16,'Component Weights'!$B$17:$J$17)*$AA$5))","v":0.36},{"$f":"IF(ISBLANK(E4),\" \",(LOOKUP(E4,'Component Weights'!$B$16:$J$16,'Component Weights'!$B$17:$J$17)*$AA$6))","v":0.24},{"$f":"IF(ISBLANK(F4),\" \",(LOOKUP(F4,'Component Weights'!$B$16:$J$16,'Component Weights'!$B$17:$J$17)*$AA$7))","v":0.24},{"$f":"IF(ISBLANK(G4),\" \",(LOOKUP(G4,'Component Weights'!$B$16:$J$16,'Component Weights'!$B$17:$J$17)*$AA$8))","v":0.15000000000000002},{"$f":"IF(ISBLANK(B4),\" \",(LOOKUP(B4,'Component Weights'!$B$16:$J$16,'Component Weights'!$B$17:$J$17)*$AA$9))","v":" "},{"$f":"IF(ISBLANK(H4),\" \",(LOOKUP(H4,'Component Weights'!$B$16:$J$16,'Component Weights'!$B$17:$J$17)*$AA$10))","v":0.24},{"$f":"IF(ISBLANK(I4),\" \",(LOOKUP(I4,'Component Weights'!$B$16:$J$16,'Component Weights'!$B$17:$J$17)*$AA$11))","v":0.24},{"$f":"IF(ISBLANK(J4),\" \",(LOOKUP(J4,'Component Weights'!$B$16:$J$16,'Component Weights'!$B$17:$J$17)*$AA$12))","v":0.36},1.83,3,null,1.83,null,"Incremental Energy Savings",0.08,"M","The amount of incremental energy, expressed in Btu/Hr, that a product saves or generates for the structure."]
["Bamboo Flooring",null,null,"L","H","H","H","H","H","H",{"$f":"SUM(IF(ISBLANK(C5),,LOOKUP(C5,'Component Weights'!$B$16:$J$16,'Component Weights'!$B$17:$J$17)),IF(ISBLANK(D5),,LOOKUP(D5,'Component Weights'!$B$16:$J$16,'Component Weights'!$B$17:$J$17)),IF(ISBLANK(E5),,LOOKUP(E5,'Component Weights'!$B$16:$J$16,'Component Weights'!$B$17:$J$17)),IF(ISBLANK(F5),,LOOKUP(F5,'Component Weights'!$B$16:$J$16,'Component Weights'!$B$17:$J$17)),IF(ISBLANK(G5),,LOOKUP(G5,'Component Weights'!$B$16:$J$16,'Component Weights'!$B$17:$J$17)),IF(ISBLANK(B5),,LOOKUP(B5,'Component Weights'!$B$16:$J$16,'Component Weights'!$B$17:$J$17)),IF(ISBLANK(H5),,LOOKUP(H5,'Component Weights'!$B$16:$J$16,'Component Weights'!$B$17:$J$17)),IF(ISBLANK(I5),,LOOKUP(I5,'Component Weights'!$B$16:$J$16,'Component Weights'!$B$17:$J$17)),IF(ISBLANK(J5),,LOOKUP(J5,'Component Weights'!$B$16:$J$16,'Component Weights'!$B$17:$J$17)))","v":19},{"$f":"IF(ISBLANK(C5),\" \",(LOOKUP(C5,'Component Weights'!$B$16:$J$16,'Component Weights'!$B$17:$J$17)*$AA$4))","v":" "},{"$f":"IF(ISBLANK(D5),\" \",(LOOKUP(D5,'Component Weights'!$B$16:$J$16,'Component Weights'!$B$17:$J$17)*$AA$5))","v":0.12},{"$f":"IF(ISBLANK(E5),\" \",(LOOKUP(E5,'Component Weights'!$B$16:$J$16,'Component Weights'!$B$17:$J$17)*$AA$6))","v":0.24},{"$f":"IF(ISBLANK(F5),\" \",(LOOKUP(F5,'Component Weights'!$B$16:$J$16,'Component Weights'!$B$17:$J$17)*$AA$7))","v":0.36},{"$f":"IF(ISBLANK(G5),\" \",(LOOKUP(G5,'Component Weights'!$B$16:$J$16,'Component Weights'!$B$17:$J$17)*$AA$8))","v":0.15000000000000002},{"$f":"IF(ISBLANK(B5),\" \",(LOOKUP(B5,'Component Weights'!$B$16:$J$16,'Component Weights'!$B$17:$J$17)*$AA$9))","v":" "},{"$f":"IF(ISBLANK(H5),\" \",(LOOKUP(H5,'Component Weights'!$B$16:$J$16,'Component Weights'!$B$17:$J$17)*$AA$10))","v":0.36},{"$f":"IF(ISBLANK(I5),\" \",(LOOKUP(I5,'Component Weights'!$B$16:$J$16,'Component Weights'!$B$17:$J$17)*$AA$11))","v":0.24},{"$f":"IF(ISBLANK(J5),\" \",(LOOKUP(J5,'Component Weights'!$B$16:$J$16,'Component Weights'!$B$17:$J$17)*$AA$12))","v":0.36},1.83,3,null,1.83,null,"Use of Recycled Content",0.12,"H","The amount of recycled content, expressed as a percentage, found in a product."]
["Natural Linoleum",null,null,"M","H","M","M","H","H","H",{"$f":"SUM(IF(ISBLANK(C6),,LOOKUP(C6,'Component Weights'!$B$16:$J$16,'Component Weights'!$B$17:$J$17)),IF(ISBLANK(D6),,LOOKUP(D6,'Component Weights'!$B$16:$J$16,'Component Weights'!$B$17:$J$17)),IF(ISBLANK(E6),,LOOKUP(E6,'Component Weights'!$B$16:$J$16,'Component Weights'!$B$17:$J$17)),IF(ISBLANK(F6),,LOOKUP(F6,'Component Weights'!$B$16:$J$16,'Component Weights'!$B$17:$J$17)),IF(ISBLANK(G6),,LOOKUP(G6,'Component Weights'!$B$16:$J$16,'Component Weights'!$B$17:$J$17)),IF(ISBLANK(B6),,LOOKUP(B6,'Component Weights'!$B$16:$J$16,'Component Weights'!$B$17:$J$17)),IF(ISBLANK(H6),,LOOKUP(H6,'Component Weights'!$B$16:$J$16,'Component Weights'!$B$17:$J$17)),IF(ISBLANK(I6),,LOOKUP(I6,'Component Weights'!$B$16:$J$16,'Component Weights'!$B$17:$J$17)),IF(ISBLANK(J6),,LOOKUP(J6,'Component Weights'!$B$16:$J$16,'Component Weights'!$B$17:$J$17)))","v":18},{"$f":"IF(ISBLANK(C6),\" \",(LOOKUP(C6,'Component Weights'!$B$16:$J$16,'Component Weights'!$B$17:$J$17)*$AA$4))","v":" "},{"$f":"IF(ISBLANK(D6),\" \",(LOOKUP(D6,'Component Weights'!$B$16:$J$16,'Component Weights'!$B$17:$J$17)*$AA$5))","v":0.24},{"$f":"IF(ISBLANK(E6),\" \",(LOOKUP(E6,'Component Weights'!$B$16:$J$16,'Component Weights'!$B$17:$J$17)*$AA$6))","v":0.24},{"$f":"IF(ISBLANK(F6),\" \",(LOOKUP(F6,'Component Weights'!$B$16:$J$16,'Component Weights'!$B$17:$J$17)*$AA$7))","v":0.24},{"$f":"IF(ISBLANK(G6),\" \",(LOOKUP(G6,'Component Weights'!$B$16:$J$16,'Component Weights'!$B$17:$J$17)*$AA$8))","v":0.1},{"$f":"IF(ISBLANK(B6),\" \",(LOOKUP(B6,'Component Weights'!$B$16:$J$16,'Component Weights'!$B$17:$J$17)*$AA$9))","v":" "},{"$f":"IF(ISBLANK(H6),\" \",(LOOKUP(H6,'Component Weights'!$B$16:$J$16,'Component Weights'!$B$17:$J$17)*$AA$10))","v":0.36},{"$f":"IF(ISBLANK(I6),\" \",(LOOKUP(I6,'Component Weights'!$B$16:$J$16,'Component Weights'!$B$17:$J$17)*$AA$11))","v":0.24},{"$f":"IF(ISBLANK(J6),\" \",(LOOKUP(J6,'Component Weights'!$B$16:$J$16,'Component Weights'!$B$17:$J$17)*$AA$12))","v":0.36},1.7799999999999998,5,null,1.7799999999999998,null,"Low Energy Usage Manufacturing Process",0.08,"M","The amount of energy used in manufacture of the product."]
["FSC Certified Wood Flooring",null,null,"M","H","M","H","M","H","H",{"$f":"SUM(IF(ISBLANK(C7),,LOOKUP(C7,'Component Weights'!$B$16:$J$16,'Component Weights'!$B$17:$J$17)),IF(ISBLANK(D7),,LOOKUP(D7,'Component Weights'!$B$16:$J$16,'Component Weights'!$B$17:$J$17)),IF(ISBLANK(E7),,LOOKUP(E7,'Component Weights'!$B$16:$J$16,'Component Weights'!$B$17:$J$17)),IF(ISBLANK(F7),,LOOKUP(F7,'Component Weights'!$B$16:$J$16,'Component Weights'!$B$17:$J$17)),IF(ISBLANK(G7),,LOOKUP(G7,'Component Weights'!$B$16:$J$16,'Component Weights'!$B$17:$J$17)),IF(ISBLANK(B7),,LOOKUP(B7,'Component Weights'!$B$16:$J$16,'Component Weights'!$B$17:$J$17)),IF(ISBLANK(H7),,LOOKUP(H7,'Component Weights'!$B$16:$J$16,'Component Weights'!$B$17:$J$17)),IF(ISBLANK(I7),,LOOKUP(I7,'Component Weights'!$B$16:$J$16,'Component Weights'!$B$17:$J$17)),IF(ISBLANK(J7),,LOOKUP(J7,'Component Weights'!$B$16:$J$16,'Component Weights'!$B$17:$J$17)))","v":18},{"$f":"IF(ISBLANK(C7),\" \",(LOOKUP(C7,'Component Weights'!$B$16:$J$16,'Component Weights'!$B$17:$J$17)*$AA$4))","v":" "},{"$f":"IF(ISBLANK(D7),\" \",(LOOKUP(D7,'Component Weights'!$B$16:$J$16,'Component Weights'!$B$17:$J$17)*$AA$5))","v":0.24},{"$f":"IF(ISBLANK(E7),\" \",(LOOKUP(E7,'Component Weights'!$B$16:$J$16,'Component Weights'!$B$17:$J$17)*$AA$6))","v":0.24},{"$f":"IF(ISBLANK(F7),\" \",(LOOKUP(F7,'Component Weights'!$B$16:$J$16,'Component Weights'!$B$17:$J$17)*$AA$7))","v":0.24},{"$f":"IF(ISBLANK(G7),\" \",(LOOKUP(G7,'Component Weights'!$B$16:$J$16,'Component Weights'!$B$17:$J$17)*$AA$8))","v":0.15000000000000002},{"$f":"IF(ISBLANK(B7),\" \",(LOOKUP(B7,'Component Weights'!$B$16:$J$16,'Component Weights'!$B$17:$J$17)*$AA$9))","v":" "},{"$f":"IF(ISBLANK(H7),\" \",(LOOKUP(H7,'Component Weights'!$B$16:$J$16,'Component Weights'!$B$17:$J$17)*$AA$10))","v":0.24},{"$f":"IF(ISBLANK(I7),\" \",(LOOKUP(I7,'Component Weights'!$B$16:$J$16,'Component Weights'!$B$17:$J$17)*$AA$11))","v":0.24},{"$f":"IF(ISBLANK(J7),\" \",(LOOKUP(J7,'Component Weights'!$B$16:$J$16,'Component Weights'!$B$17:$J$17)*$AA$12))","v":0.36},1.71,6,null,1.71,null,"Easily Biodegradable",0.12,"H","The amount of time it will take the product to degrade once its useful life is over."]
["Hardwood Flooring",null,null,"M","M","M","M","H","H","H",{"$f":"SUM(IF(ISBLANK(C8),,LOOKUP(C8,'Component Weights'!$B$16:$J$16,'Component Weights'!$B$17:$J$17)),IF(ISBLANK(D8),,LOOKUP(D8,'Component Weights'!$B$16:$J$16,'Component Weights'!$B$17:$J$17)),IF(ISBLANK(E8),,LOOKUP(E8,'Component Weights'!$B$16:$J$16,'Component Weights'!$B$17:$J$17)),IF(ISBLANK(F8),,LOOKUP(F8,'Component Weights'!$B$16:$J$16,'Component Weights'!$B$17:$J$17)),IF(ISBLANK(G8),,LOOKUP(G8,'Component Weights'!$B$16:$J$16,'Component Weights'!$B$17:$J$17)),IF(ISBLANK(B8),,LOOKUP(B8,'Component Weights'!$B$16:$J$16,'Component Weights'!$B$17:$J$17)),IF(ISBLANK(H8),,LOOKUP(H8,'Component Weights'!$B$16:$J$16,'Component Weights'!$B$17:$J$17)),IF(ISBLANK(I8),,LOOKUP(I8,'Component Weights'!$B$16:$J$16,'Component Weights'!$B$17:$J$17)),IF(ISBLANK(J8),,LOOKUP(J8,'Component Weights'!$B$16:$J$16,'Component Weights'!$B$17:$J$17)))","v":17},{"$f":"IF(ISBLANK(C8),\" \",(LOOKUP(C8,'Component Weights'!$B$16:$J$16,'Component Weights'!$B$17:$J$17)*$AA$4))","v":" "},{"$f":"IF(ISBLANK(D8),\" \",(LOOKUP(D8,'Component Weights'!$B$16:$J$16,'Component Weights'!$B$17:$J$17)*$AA$5))","v":0.24},{"$f":"IF(ISBLANK(E8),\" \",(LOOKUP(E8,'Component Weights'!$B$16:$J$16,'Component Weights'!$B$17:$J$17)*$AA$6))","v":0.16},{"$f":"IF(ISBLANK(F8),\" \",(LOOKUP(F8,'Component Weights'!$B$16:$J$16,'Component Weights'!$B$17:$J$17)*$AA$7))","v":0.24},{"$f":"IF(ISBLANK(G8),\" \",(LOOKUP(G8,'Component Weights'!$B$16:$J$16,'Component Weights'!$B$17:$J$17)*$AA$8))","v":0.1},{"$f":"IF(ISBLANK(B8),\" \",(LOOKUP(B8,'Component Weights'!$B$16:$J$16,'Component Weights'!$B$17:$J$17)*$AA$9))","v":" "},{"$f":"IF(ISBLANK(H8),\" \",(LOOKUP(H8,'Component Weights'!$B$16:$J$16,'Component Weights'!$B$17:$J$17)*$AA$10))","v":0.36},{"$f":"IF(ISBLANK(I8),\" \",(LOOKUP(I8,'Component Weights'!$B$16:$J$16,'Component Weights'!$B$17:$J$17)*$AA$11))","v":0.24},{"$f":"IF(ISBLANK(J8),\" \",(LOOKUP(J8,'Component Weights'!$B$16:$J$16,'Component Weights'!$B$17:$J$17)*$AA$12))","v":0.36},1.7000000000000002,7,null,1.7000000000000002,null,"Made from Natural Materials",0.05,"L","The amount, expressed as a percentage, of natural (not man-made) materials used to make the product."]
["Recycled Content Tile",null,null,"H","M","L","M","M","H","M",{"$f":"SUM(IF(ISBLANK(C9),,LOOKUP(C9,'Component Weights'!$B$16:$J$16,'Component Weights'!$B$17:$J$17)),IF(ISBLANK(D9),,LOOKUP(D9,'Component Weights'!$B$16:$J$16,'Component Weights'!$B$17:$J$17)),IF(ISBLANK(E9),,LOOKUP(E9,'Component Weights'!$B$16:$J$16,'Component Weights'!$B$17:$J$17)),IF(ISBLANK(F9),,LOOKUP(F9,'Component Weights'!$B$16:$J$16,'Component Weights'!$B$17:$J$17)),IF(ISBLANK(G9),,LOOKUP(G9,'Component Weights'!$B$16:$J$16,'Component Weights'!$B$17:$J$17)),IF(ISBLANK(B9),,LOOKUP(B9,'Component Weights'!$B$16:$J$16,'Component Weights'!$B$17:$J$17)),IF(ISBLANK(H9),,LOOKUP(H9,'Component Weights'!$B$16:$J$16,'Component Weights'!$B$17:$J$17)),IF(ISBLANK(I9),,LOOKUP(I9,'Component Weights'!$B$16:$J$16,'Component Weights'!$B$17:$J$17)),IF(ISBLANK(J9),,LOOKUP(J9,'Component Weights'!$B$16:$J$16,'Component Weights'!$B$17:$J$17)))","v":15},{"$f":"IF(ISBLANK(C9),\" \",(LOOKUP(C9,'Component Weights'!$B$16:$J$16,'Component Weights'!$B$17:$J$17)*$AA$4))","v":" "},{"$f":"IF(ISBLANK(D9),\" \",(LOOKUP(D9,'Component Weights'!$B$16:$J$16,'Component Weights'!$B$17:$J$17)*$AA$5))","v":0.36},{"$f":"IF(ISBLANK(E9),\" \",(LOOKUP(E9,'Component Weights'!$B$16:$J$16,'Component Weights'!$B$17:$J$17)*$AA$6))","v":0.16},{"$f":"IF(ISBLANK(F9),\" \",(LOOKUP(F9,'Component Weights'!$B$16:$J$16,'Component Weights'!$B$17:$J$17)*$AA$7))","v":0.12},{"$f":"IF(ISBLANK(G9),\" \",(LOOKUP(G9,'Component Weights'!$B$16:$J$16,'Component Weights'!$B$17:$J$17)*$AA$8))","v":0.1},{"$f":"IF(ISBLANK(B9),\" \",(LOOKUP(B9,'Component Weights'!$B$16:$J$16,'Component Weights'!$B$17:$J$17)*$AA$9))","v":" "},{"$f":"IF(ISBLANK(H9),\" \",(LOOKUP(H9,'Component Weights'!$B$16:$J$16,'Component Weights'!$B$17:$J$17)*$AA$10))","v":0.24},{"$f":"IF(ISBLANK(I9),\" \",(LOOKUP(I9,'Component Weights'!$B$16:$J$16,'Component Weights'!$B$17:$J$17)*$AA$11))","v":0.24},{"$f":"IF(ISBLANK(J9),\" \",(LOOKUP(J9,'Component Weights'!$B$16:$J$16,'Component Weights'!$B$17:$J$17)*$AA$12))","v":0.24},1.46,8,null,1.46,null,"Available Locally",0.23,"H+","The distance in miles that the product must travel to the destination of final use."]
["Hardwood-like Wood Substitute Flooring",null,null,"M","M","L","M","M","M","H",{"$f":"SUM(IF(ISBLANK(C10),,LOOKUP(C10,'Component Weights'!$B$16:$J$16,'Component Weights'!$B$17:$J$17)),IF(ISBLANK(D10),,LOOKUP(D10,'Component Weights'!$B$16:$J$16,'Component Weights'!$B$17:$J$17)),IF(ISBLANK(E10),,LOOKUP(E10,'Component Weights'!$B$16:$J$16,'Component Weights'!$B$17:$J$17)),IF(ISBLANK(F10),,LOOKUP(F10,'Component Weights'!$B$16:$J$16,'Component Weights'!$B$17:$J$17)),IF(ISBLANK(G10),,LOOKUP(G10,'Component Weights'!$B$16:$J$16,'Component Weights'!$B$17:$J$17)),IF(ISBLANK(B10),,LOOKUP(B10,'Component Weights'!$B$16:$J$16,'Component Weights'!$B$17:$J$17)),IF(ISBLANK(H10),,LOOKUP(H10,'Component Weights'!$B$16:$J$16,'Component Weights'!$B$17:$J$17)),IF(ISBLANK(I10),,LOOKUP(I10,'Component Weights'!$B$16:$J$16,'Component Weights'!$B$17:$J$17)),IF(ISBLANK(J10),,LOOKUP(J10,'Component Weights'!$B$16:$J$16,'Component Weights'!$B$17:$J$17)))","v":14},{"$f":"IF(ISBLANK(C10),\" \",(LOOKUP(C10,'Component Weights'!$B$16:$J$16,'Component Weights'!$B$17:$J$17)*$AA$4))","v":" "},{"$f":"IF(ISBLANK(D10),\" \",(LOOKUP(D10,'Component Weights'!$B$16:$J$16,'Component Weights'!$B$17:$J$17)*$AA$5))","v":0.24},{"$f":"IF(ISBLANK(E10),\" \",(LOOKUP(E10,'Component Weights'!$B$16:$J$16,'Component Weights'!$B$17:$J$17)*$AA$6))","v":0.16},{"$f":"IF(ISBLANK(F10),\" \",(LOOKUP(F10,'Component Weights'!$B$16:$J$16,'Component Weights'!$B$17:$J$17)*$AA$7))","v":0.12},{"$f":"IF(ISBLANK(G10),\" \",(LOOKUP(G10,'Component Weights'!$B$16:$J$16,'Component Weights'!$B$17:$J$17)*$AA$8))","v":0.1},{"$f":"IF(ISBLANK(B10),\" \",(LOOKUP(B10,'Component Weights'!$B$16:$J$16,'Component Weights'!$B$17:$J$17)*$AA$9))","v":" "},{"$f":"IF(ISBLANK(H10),\" \",(LOOKUP(H10,'Component Weights'!$B$16:$J$16,'Component Weights'!$B$17:$J$17)*$AA$10))","v":0.24},{"$f":"IF(ISBLANK(I10),\" \",(LOOKUP(I10,'Component Weights'!$B$16:$J$16,'Component Weights'!$B$17:$J$17)*$AA$11))","v":0.16},{"$f":"IF(ISBLANK(J10),\" \",(LOOKUP(J10,'Component Weights'!$B$16:$J$16,'Component Weights'!$B$17:$J$17)*$AA$12))","v":0.36},1.38,9,null,1.38,null,"Low Emissions Potential",0.12,"H","The amount of time it will take the product to stop outgassing."]
["Marmoleum Linoleum",null,null,"M","M","M","N","M","M","M",{"$f":"SUM(IF(ISBLANK(C11),,LOOKUP(C11,'Component Weights'!$B$16:$J$16,'Component Weights'!$B$17:$J$17)),IF(ISBLANK(D11),,LOOKUP(D11,'Component Weights'!$B$16:$J$16,'Component Weights'!$B$17:$J$17)),IF(ISBLANK(E11),,LOOKUP(E11,'Component Weights'!$B$16:$J$16,'Component Weights'!$B$17:$J$17)),IF(ISBLANK(F11),,LOOKUP(F11,'Component Weights'!$B$16:$J$16,'Component Weights'!$B$17:$J$17)),IF(ISBLANK(G11),,LOOKUP(G11,'Component Weights'!$B$16:$J$16,'Component Weights'!$B$17:$J$17)),IF(ISBLANK(B11),,LOOKUP(B11,'Component Weights'!$B$16:$J$16,'Component Weights'!$B$17:$J$17)),IF(ISBLANK(H11),,LOOKUP(H11,'Component Weights'!$B$16:$J$16,'Component Weights'!$B$17:$J$17)),IF(ISBLANK(I11),,LOOKUP(I11,'Component Weights'!$B$16:$J$16,'Component Weights'!$B$17:$J$17)),IF(ISBLANK(J11),,LOOKUP(J11,'Component Weights'!$B$16:$J$16,'Component Weights'!$B$17:$J$17)))","v":12},{"$f":"IF(ISBLANK(C11),\" \",(LOOKUP(C11,'Component Weights'!$B$16:$J$16,'Component Weights'!$B$17:$J$17)*$AA$4))","v":" "},{"$f":"IF(ISBLANK(D11),\" \",(LOOKUP(D11,'Component Weights'!$B$16:$J$16,'Component Weights'!$B$17:$J$17)*$AA$5))","v":0.24},{"$f":"IF(ISBLANK(E11),\" \",(LOOKUP(E11,'Component Weights'!$B$16:$J$16,'Component Weights'!$B$17:$J$17)*$AA$6))","v":0.16},{"$f":"IF(ISBLANK(F11),\" \",(LOOKUP(F11,'Component Weights'!$B$16:$J$16,'Component Weights'!$B$17:$J$17)*$AA$7))","v":0.24},{"$f":"IF(ISBLANK(G11),\" \",(LOOKUP(G11,'Component Weights'!$B$16:$J$16,'Component Weights'!$B$17:$J$17)*$AA$8))","v":0},{"$f":"IF(ISBLANK(B11),\" \",(LOOKUP(B11,'Component Weights'!$B$16:$J$16,'Component Weights'!$B$17:$J$17)*$AA$9))","v":" "},{"$f":"IF(ISBLANK(H11),\" \",(LOOKUP(H11,'Component Weights'!$B$16:$J$16,'Component Weights'!$B$17:$J$17)*$AA$10))","v":0.24},{"$f":"IF(ISBLANK(I11),\" \",(LOOKUP(I11,'Component Weights'!$B$16:$J$16,'Component Weights'!$B$17:$J$17)*$AA$11))","v":0.16},{"$f":"IF(ISBLANK(J11),\" \",(LOOKUP(J11,'Component Weights'!$B$16:$J$16,'Component Weights'!$B$17:$J$17)*$AA$12))","v":0.24},1.28,10,null,1.28,null,"Listed in Other Programs (e.g. EnergyStar)",0.08,"M","The level of product recommendation in recognized energy and environmental programs."]
["Cut Stone Tile",null,null,"N","M","N","H","H","H","H",{"$f":"SUM(IF(ISBLANK(C12),,LOOKUP(C12,'Component Weights'!$B$16:$J$16,'Component Weights'!$B$17:$J$17)),IF(ISBLANK(D12),,LOOKUP(D12,'Component Weights'!$B$16:$J$16,'Component Weights'!$B$17:$J$17)),IF(ISBLANK(E12),,LOOKUP(E12,'Component Weights'!$B$16:$J$16,'Component Weights'!$B$17:$J$17)),IF(ISBLANK(F12),,LOOKUP(F12,'Component Weights'!$B$16:$J$16,'Component Weights'!$B$17:$J$17)),IF(ISBLANK(G12),,LOOKUP(G12,'Component Weights'!$B$16:$J$16,'Component Weights'!$B$17:$J$17)),IF(ISBLANK(B12),,LOOKUP(B12,'Component Weights'!$B$16:$J$16,'Component Weights'!$B$17:$J$17)),IF(ISBLANK(H12),,LOOKUP(H12,'Component Weights'!$B$16:$J$16,'Component Weights'!$B$17:$J$17)),IF(ISBLANK(I12),,LOOKUP(I12,'Component Weights'!$B$16:$J$16,'Component Weights'!$B$17:$J$17)),IF(ISBLANK(J12),,LOOKUP(J12,'Component Weights'!$B$16:$J$16,'Component Weights'!$B$17:$J$17)))","v":14},{"$f":"IF(ISBLANK(C12),\" \",(LOOKUP(C12,'Component Weights'!$B$16:$J$16,'Component Weights'!$B$17:$J$17)*$AA$4))","v":" "},{"$f":"IF(ISBLANK(D12),\" \",(LOOKUP(D12,'Component Weights'!$B$16:$J$16,'Component Weights'!$B$17:$J$17)*$AA$5))","v":0},{"$f":"IF(ISBLANK(E12),\" \",(LOOKUP(E12,'Component Weights'!$B$16:$J$16,'Component Weights'!$B$17:$J$17)*$AA$6))","v":0.16},{"$f":"IF(ISBLANK(F12),\" \",(LOOKUP(F12,'Component Weights'!$B$16:$J$16,'Component Weights'!$B$17:$J$17)*$AA$7))","v":0},{"$f":"IF(ISBLANK(G12),\" \",(LOOKUP(G12,'Component Weights'!$B$16:$J$16,'Component Weights'!$B$17:$J$17)*$AA$8))","v":0.15000000000000002},{"$f":"IF(ISBLANK(B12),\" \",(LOOKUP(B12,'Component Weights'!$B$16:$J$16,'Component Weights'!$B$17:$J$17)*$AA$9))","v":" "},{"$f":"IF(ISBLANK(H12),\" \",(LOOKUP(H12,'Component Weights'!$B$16:$J$16,'Component Weights'!$B$17:$J$17)*$AA$10))","v":0.36},{"$f":"IF(ISBLANK(I12),\" \",(LOOKUP(I12,'Component Weights'!$B$16:$J$16,'Component Weights'!$B$17:$J$17)*$AA$11))","v":0.24},{"$f":"IF(ISBLANK(J12),\" \",(LOOKUP(J12,'Component Weights'!$B$16:$J$16,'Component Weights'!$B$17:$J$17)*$AA$12))","v":0.36},1.27,11,null,1.27,null,"Non Hazardous as Waste",0.12,"H","The amount of hazardous materials and components found in the product."]
["PET (Polyethylene Terephthalate) Carpeting",null,null,"H","L","N","N","M","H","M",{"$f":"SUM(IF(ISBLANK(C13),,LOOKUP(C13,'Component Weights'!$B$16:$J$16,'Component Weights'!$B$17:$J$17)),IF(ISBLANK(D13),,LOOKUP(D13,'Component Weights'!$B$16:$J$16,'Component Weights'!$B$17:$J$17)),IF(ISBLANK(E13),,LOOKUP(E13,'Component Weights'!$B$16:$J$16,'Component Weights'!$B$17:$J$17)),IF(ISBLANK(F13),,LOOKUP(F13,'Component Weights'!$B$16:$J$16,'Component Weights'!$B$17:$J$17)),IF(ISBLANK(G13),,LOOKUP(G13,'Component Weights'!$B$16:$J$16,'Component Weights'!$B$17:$J$17)),IF(ISBLANK(B13),,LOOKUP(B13,'Component Weights'!$B$16:$J$16,'Component Weights'!$B$17:$J$17)),IF(ISBLANK(H13),,LOOKUP(H13,'Component Weights'!$B$16:$J$16,'Component Weights'!$B$17:$J$17)),IF(ISBLANK(I13),,LOOKUP(I13,'Component Weights'!$B$16:$J$16,'Component Weights'!$B$17:$J$17)),IF(ISBLANK(J13),,LOOKUP(J13,'Component Weights'!$B$16:$J$16,'Component Weights'!$B$17:$J$17)))","v":11},{"$f":"IF(ISBLANK(C13),\" \",(LOOKUP(C13,'Component Weights'!$B$16:$J$16,'Component Weights'!$B$17:$J$17)*$AA$4))","v":" "},{"$f":"IF(ISBLANK(D13),\" \",(LOOKUP(D13,'Component Weights'!$B$16:$J$16,'Component Weights'!$B$17:$J$17)*$AA$5))","v":0.36},{"$f":"IF(ISBLANK(E13),\" \",(LOOKUP(E13,'Component Weights'!$B$16:$J$16,'Component Weights'!$B$17:$J$17)*$AA$6))","v":0.08},{"$f":"IF(ISBLANK(F13),\" \",(LOOKUP(F13,'Component Weights'!$B$16:$J$16,'Component Weights'!$B$17:$J$17)*$AA$7))","v":0},{"$f":"IF(ISBLANK(G13),\" \",(LOOKUP(G13,'Component Weights'!$B$16:$J$16,'Component Weights'!$B$17:$J$17)*$AA$8))","v":0},{"$f":"IF(ISBLANK(B13),\" \",(LOOKUP(B13,'Component Weights'!$B$16:$J$16,'Component Weights'!$B$17:$J$17)*$AA$9))","v":" "},{"$f":"IF(ISBLANK(H13),\" \",(LOOKUP(H13,'Component Weights'!$B$16:$J$16,'Component Weights'!$B$17:$J$17)*$AA$10))","v":0.24},{"$f":"IF(ISBLANK(I13),\" \",(LOOKUP(I13,'Component Weights'!$B$16:$J$16,'Component Weights'!$B$17:$J$17)*$AA$11))","v":0.24},{"$f":"IF(ISBLANK(J13),\" \",(LOOKUP(J13,'Component Weights'!$B$16:$J$16,'Component Weights'!$B$17:$J$17)*$AA$12))","v":0.24},1.1599999999999999,12,null,1.1599999999999999,null,"Total Weightings Must Equal 100%",{"$f":"SUM(AA4:AA12)","v":1},null,{"$f":"IF(AA13<>100%,\"Keep Working - Weightings must equal 100%\",\" \")","v":" "}]
["PET (Polyethylene Terephthalate) Area Rugs",null,null,"H","L","N","N","M","H","M",{"$f":"SUM(IF(ISBLANK(C14),,LOOKUP(C14,'Component Weights'!$B$16:$J$16,'Component Weights'!$B$17:$J$17)),IF(ISBLANK(D14),,LOOKUP(D14,'Component Weights'!$B$16:$J$16,'Component Weights'!$B$17:$J$17)),IF(ISBLANK(E14),,LOOKUP(E14,'Component Weights'!$B$16:$J$16,'Component Weights'!$B$17:$J$17)),IF(ISBLANK(F14),,LOOKUP(F14,'Component Weights'!$B$16:$J$16,'Component Weights'!$B$17:$J$17)),IF(ISBLANK(G14),,LOOKUP(G14,'Component Weights'!$B$16:$J$16,'Component Weights'!$B$17:$J$17)),IF(ISBLANK(B14),,LOOKUP(B14,'Component Weights'!$B$16:$J$16,'Component Weights'!$B$17:$J$17)),IF(ISBLANK(H14),,LOOKUP(H14,'Component Weights'!$B$16:$J$16,'Component Weights'!$B$17:$J$17)),IF(ISBLANK(I14),,LOOKUP(I14,'Component Weights'!$B$16:$J$16,'Component Weights'!$B$17:$J$17)),IF(ISBLANK(J14),,LOOKUP(J14,'Component Weights'!$B$16:$J$16,'Component Weights'!$B$17:$J$17)))","v":11},{"$f":"IF(ISBLANK(C14),\" \",(LOOKUP(C14,'Component Weights'!$B$16:$J$16,'Component Weights'!$B$17:$J$17)*$AA$4))","v":" "},{"$f":"IF(ISBLANK(D14),\" \",(LOOKUP(D14,'Component Weights'!$B$16:$J$16,'Component Weights'!$B$17:$J$17)*$AA$5))","v":0.36},{"$f":"IF(ISBLANK(E14),\" \",(LOOKUP(E14,'Component Weights'!$B$16:$J$16,'Component Weights'!$B$17:$J$17)*$AA$6))","v":0.08},{"$f":"IF(ISBLANK(F14),\" \",(LOOKUP(F14,'Component Weights'!$B$16:$J$16,'Component Weights'!$B$17:$J$17)*$AA$7))","v":0},{"$f":"IF(ISBLANK(G14),\" \",(LOOKUP(G14,'Component Weights'!$B$16:$J$16,'Component Weights'!$B$17:$J$17)*$AA$8))","v":0},{"$f":"IF(ISBLANK(B14),\" \",(LOOKUP(B14,'Component Weights'!$B$16:$J$16,'Component Weights'!$B$17:$J$17)*$AA$9))","v":" "},{"$f":"IF(ISBLANK(H14),\" \",(LOOKUP(H14,'Component Weights'!$B$16:$J$16,'Component Weights'!$B$17:$J$17)*$AA$10))","v":0.24},{"$f":"IF(ISBLANK(I14),\" \",(LOOKUP(I14,'Component Weights'!$B$16:$J$16,'Component Weights'!$B$17:$J$17)*$AA$11))","v":0.24},{"$f":"IF(ISBLANK(J14),\" \",(LOOKUP(J14,'Component Weights'!$B$16:$J$16,'Component Weights'!$B$17:$J$17)*$AA$12))","v":0.24},1.1599999999999999,12,null,1.1599999999999999]
["Ceramic/Terra Cotta Tile",null,null,"N","M","L","M","M","M","H",{"$f":"SUM(IF(ISBLANK(C15),,LOOKUP(C15,'Component Weights'!$B$16:$J$16,'Component Weights'!$B$17:$J$17)),IF(ISBLANK(D15),,LOOKUP(D15,'Component Weights'!$B$16:$J$16,'Component Weights'!$B$17:$J$17)),IF(ISBLANK(E15),,LOOKUP(E15,'Component Weights'!$B$16:$J$16,'Component Weights'!$B$17:$J$17)),IF(ISBLANK(F15),,LOOKUP(F15,'Component Weights'!$B$16:$J$16,'Component Weights'!$B$17:$J$17)),IF(ISBLANK(G15),,LOOKUP(G15,'Component Weights'!$B$16:$J$16,'Component Weights'!$B$17:$J$17)),IF(ISBLANK(B15),,LOOKUP(B15,'Component Weights'!$B$16:$J$16,'Component Weights'!$B$17:$J$17)),IF(ISBLANK(H15),,LOOKUP(H15,'Component Weights'!$B$16:$J$16,'Component Weights'!$B$17:$J$17)),IF(ISBLANK(I15),,LOOKUP(I15,'Component Weights'!$B$16:$J$16,'Component Weights'!$B$17:$J$17)),IF(ISBLANK(J15),,LOOKUP(J15,'Component Weights'!$B$16:$J$16,'Component Weights'!$B$17:$J$17)))","v":12},{"$f":"IF(ISBLANK(C15),\" \",(LOOKUP(C15,'Component Weights'!$B$16:$J$16,'Component Weights'!$B$17:$J$17)*$AA$4))","v":" "},{"$f":"IF(ISBLANK(D15),\" \",(LOOKUP(D15,'Component Weights'!$B$16:$J$16,'Component Weights'!$B$17:$J$17)*$AA$5))","v":0},{"$f":"IF(ISBLANK(E15),\" \",(LOOKUP(E15,'Component Weights'!$B$16:$J$16,'Component Weights'!$B$17:$J$17)*$AA$6))","v":0.16},{"$f":"IF(ISBLANK(F15),\" \",(LOOKUP(F15,'Component Weights'!$B$16:$J$16,'Component Weights'!$B$17:$J$17)*$AA$7))","v":0.12},{"$f":"IF(ISBLANK(G15),\" \",(LOOKUP(G15,'Component Weights'!$B$16:$J$16,'Component Weights'!$B$17:$J$17)*$AA$8))","v":0.1},{"$f":"IF(ISBLANK(B15),\" \",(LOOKUP(B15,'Component Weights'!$B$16:$J$16,'Component Weights'!$B$17:$J$17)*$AA$9))","v":" "},{"$f":"IF(ISBLANK(H15),\" \",(LOOKUP(H15,'Component Weights'!$B$16:$J$16,'Component Weights'!$B$17:$J$17)*$AA$10))","v":0.24},{"$f":"IF(ISBLANK(I15),\" \",(LOOKUP(I15,'Component Weights'!$B$16:$J$16,'Component Weights'!$B$17:$J$17)*$AA$11))","v":0.16},{"$f":"IF(ISBLANK(J15),\" \",(LOOKUP(J15,'Component Weights'!$B$16:$J$16,'Component Weights'!$B$17:$J$17)*$AA$12))","v":0.36},1.1400000000000001,14,null,1.1400000000000001]
["Quarry Tile",null,null,"N","M","N","M","M","L","H",{"$f":"SUM(IF(ISBLANK(C16),,LOOKUP(C16,'Component Weights'!$B$16:$J$16,'Component Weights'!$B$17:$J$17)),IF(ISBLANK(D16),,LOOKUP(D16,'Component Weights'!$B$16:$J$16,'Component Weights'!$B$17:$J$17)),IF(ISBLANK(E16),,LOOKUP(E16,'Component Weights'!$B$16:$J$16,'Component Weights'!$B$17:$J$17)),IF(ISBLANK(F16),,LOOKUP(F16,'Component Weights'!$B$16:$J$16,'Component Weights'!$B$17:$J$17)),IF(ISBLANK(G16),,LOOKUP(G16,'Component Weights'!$B$16:$J$16,'Component Weights'!$B$17:$J$17)),IF(ISBLANK(B16),,LOOKUP(B16,'Component Weights'!$B$16:$J$16,'Component Weights'!$B$17:$J$17)),IF(ISBLANK(H16),,LOOKUP(H16,'Component Weights'!$B$16:$J$16,'Component Weights'!$B$17:$J$17)),IF(ISBLANK(I16),,LOOKUP(I16,'Component Weights'!$B$16:$J$16,'Component Weights'!$B$17:$J$17)),IF(ISBLANK(J16),,LOOKUP(J16,'Component Weights'!$B$16:$J$16,'Component Weights'!$B$17:$J$17)))","v":10},{"$f":"IF(ISBLANK(C16),\" \",(LOOKUP(C16,'Component Weights'!$B$16:$J$16,'Component Weights'!$B$17:$J$17)*$AA$4))","v":" "},{"$f":"IF(ISBLANK(D16),\" \",(LOOKUP(D16,'Component Weights'!$B$16:$J$16,'Component Weights'!$B$17:$J$17)*$AA$5))","v":0},{"$f":"IF(ISBLANK(E16),\" \",(LOOKUP(E16,'Component Weights'!$B$16:$J$16,'Component Weights'!$B$17:$J$17)*$AA$6))","v":0.16},{"$f":"IF(ISBLANK(F16),\" \",(LOOKUP(F16,'Component Weights'!$B$16:$J$16,'Component Weights'!$B$17:$J$17)*$AA$7))","v":0},{"$f":"IF(ISBLANK(G16),\" \",(LOOKUP(G16,'Component Weights'!$B$16:$J$16,'Component Weights'!$B$17:$J$17)*$AA$8))","v":0.1},{"$f":"IF(ISBLANK(B16),\" \",(LOOKUP(B16,'Component Weights'!$B$16:$J$16,'Component Weights'!$B$17:$J$17)*$AA$9))","v":" "},{"$f":"IF(ISBLANK(H16),\" \",(LOOKUP(H16,'Component Weights'!$B$16:$J$16,'Component Weights'!$B$17:$J$17)*$AA$10))","v":0.24},{"$f":"IF(ISBLANK(I16),\" \",(LOOKUP(I16,'Component Weights'!$B$16:$J$16,'Component Weights'!$B$17:$J$17)*$AA$11))","v":0.08},{"$f":"IF(ISBLANK(J16),\" \",(LOOKUP(J16,'Component Weights'!$B$16:$J$16,'Component Weights'!$B$17:$J$17)*$AA$12))","v":0.36},0.94,15,null,0.94]
["Stained/Colored Concrete Smooth",null,null,"N","L","N","L","M","M","H",{"$f":"SUM(IF(ISBLANK(C17),,LOOKUP(C17,'Component Weights'!$B$16:$J$16,'Component Weights'!$B$17:$J$17)),IF(ISBLANK(D17),,LOOKUP(D17,'Component Weights'!$B$16:$J$16,'Component Weights'!$B$17:$J$17)),IF(ISBLANK(E17),,LOOKUP(E17,'Component Weights'!$B$16:$J$16,'Component Weights'!$B$17:$J$17)),IF(ISBLANK(F17),,LOOKUP(F17,'Component Weights'!$B$16:$J$16,'Component Weights'!$B$17:$J$17)),IF(ISBLANK(G17),,LOOKUP(G17,'Component Weights'!$B$16:$J$16,'Component Weights'!$B$17:$J$17)),IF(ISBLANK(B17),,LOOKUP(B17,'Component Weights'!$B$16:$J$16,'Component Weights'!$B$17:$J$17)),IF(ISBLANK(H17),,LOOKUP(H17,'Component Weights'!$B$16:$J$16,'Component Weights'!$B$17:$J$17)),IF(ISBLANK(I17),,LOOKUP(I17,'Component Weights'!$B$16:$J$16,'Component Weights'!$B$17:$J$17)),IF(ISBLANK(J17),,LOOKUP(J17,'Component Weights'!$B$16:$J$16,'Component Weights'!$B$17:$J$17)))","v":9},{"$f":"IF(ISBLANK(C17),\" \",(LOOKUP(C17,'Component Weights'!$B$16:$J$16,'Component Weights'!$B$17:$J$17)*$AA$4))","v":" "},{"$f":"IF(ISBLANK(D17),\" \",(LOOKUP(D17,'Component Weights'!$B$16:$J$16,'Component Weights'!$B$17:$J$17)*$AA$5))","v":0},{"$f":"IF(ISBLANK(E17),\" \",(LOOKUP(E17,'Component Weights'!$B$16:$J$16,'Component Weights'!$B$17:$J$17)*$AA$6))","v":0.08},{"$f":"IF(ISBLANK(F17),\" \",(LOOKUP(F17,'Component Weights'!$B$16:$J$16,'Component Weights'!$B$17:$J$17)*$AA$7))","v":0},{"$f":"IF(ISBLANK(G17),\" \",(LOOKUP(G17,'Component Weights'!$B$16:$J$16,'Component Weights'!$B$17:$J$17)*$AA$8))","v":0.05},{"$f":"IF(ISBLANK(B17),\" \",(LOOKUP(B17,'Component Weights'!$B$16:$J$16,'Component Weights'!$B$17:$J$17)*$AA$9))","v":" "},{"$f":"IF(ISBLANK(H17),\" \",(LOOKUP(H17,'Component Weights'!$B$16:$J$16,'Component Weights'!$B$17:$J$17)*$AA$10))","v":0.24},{"$f":"IF(ISBLANK(I17),\" \",(LOOKUP(I17,'Component Weights'!$B$16:$J$16,'Component Weights'!$B$17:$J$17)*$AA$11))","v":0.16},{"$f":"IF(ISBLANK(J17),\" \",(LOOKUP(J17,'Component Weights'!$B$16:$J$16,'Component Weights'!$B$17:$J$17)*$AA$12))","v":0.36},0.89,16,null,0.89]
["Stained/Colored Concrete Textured",null,null,"N","L","N","L","M","M","H",{"$f":"SUM(IF(ISBLANK(C18),,LOOKUP(C18,'Component Weights'!$B$16:$J$16,'Component Weights'!$B$17:$J$17)),IF(ISBLANK(D18),,LOOKUP(D18,'Component Weights'!$B$16:$J$16,'Component Weights'!$B$17:$J$17)),IF(ISBLANK(E18),,LOOKUP(E18,'Component Weights'!$B$16:$J$16,'Component Weights'!$B$17:$J$17)),IF(ISBLANK(F18),,LOOKUP(F18,'Component Weights'!$B$16:$J$16,'Component Weights'!$B$17:$J$17)),IF(ISBLANK(G18),,LOOKUP(G18,'Component Weights'!$B$16:$J$16,'Component Weights'!$B$17:$J$17)),IF(ISBLANK(B18),,LOOKUP(B18,'Component Weights'!$B$16:$J$16,'Component Weights'!$B$17:$J$17)),IF(ISBLANK(H18),,LOOKUP(H18,'Component Weights'!$B$16:$J$16,'Component Weights'!$B$17:$J$17)),IF(ISBLANK(I18),,LOOKUP(I18,'Component Weights'!$B$16:$J$16,'Component Weights'!$B$17:$J$17)),IF(ISBLANK(J18),,LOOKUP(J18,'Component Weights'!$B$16:$J$16,'Component Weights'!$B$17:$J$17)))","v":9},{"$f":"IF(ISBLANK(C18),\" \",(LOOKUP(C18,'Component Weights'!$B$16:$J$16,'Component Weights'!$B$17:$J$17)*$AA$4))","v":" "},{"$f":"IF(ISBLANK(D18),\" \",(LOOKUP(D18,'Component Weights'!$B$16:$J$16,'Component Weights'!$B$17:$J$17)*$AA$5))","v":0},{"$f":"IF(ISBLANK(E18),\" \",(LOOKUP(E18,'Component Weights'!$B$16:$J$16,'Component Weights'!$B$17:$J$17)*$AA$6))","v":0.08},{"$f":"IF(ISBLANK(F18),\" \",(LOOKUP(F18,'Component Weights'!$B$16:$J$16,'Component Weights'!$B$17:$J$17)*$AA$7))","v":0},{"$f":"IF(ISBLANK(G18),\" \",(LOOKUP(G18,'Component Weights'!$B$16:$J$16,'Component Weights'!$B$17:$J$17)*$AA$8))","v":0.05},{"$f":"IF(ISBLANK(B18),\" \",(LOOKUP(B18,'Component Weights'!$B$16:$J$16,'Component Weights'!$B$17:$J$17)*$AA$9))","v":" "},{"$f":"IF(ISBLANK(H18),\" \",(LOOKUP(H18,'Component Weights'!$B$16:$J$16,'Component Weights'!$B$17:$J$17)*$AA$10))","v":0.24},{"$f":"IF(ISBLANK(I18),\" \",(LOOKUP(I18,'Component Weights'!$B$16:$J$16,'Component Weights'!$B$17:$J$17)*$AA$11))","v":0.16},{"$f":"IF(ISBLANK(J18),\" \",(LOOKUP(J18,'Component Weights'!$B$16:$J$16,'Component Weights'!$B$17:$J$17)*$AA$12))","v":0.36},0.89,16,null,0.89]
["Synthetic Fiber Area Rugs",null,null,"N","L","N","N","L","N","M",{"$f":"SUM(IF(ISBLANK(C19),,LOOKUP(C19,'Component Weights'!$B$16:$J$16,'Component Weights'!$B$17:$J$17)),IF(ISBLANK(D19),,LOOKUP(D19,'Component Weights'!$B$16:$J$16,'Component Weights'!$B$17:$J$17)),IF(ISBLANK(E19),,LOOKUP(E19,'Component Weights'!$B$16:$J$16,'Component Weights'!$B$17:$J$17)),IF(ISBLANK(F19),,LOOKUP(F19,'Component Weights'!$B$16:$J$16,'Component Weights'!$B$17:$J$17)),IF(ISBLANK(G19),,LOOKUP(G19,'Component Weights'!$B$16:$J$16,'Component Weights'!$B$17:$J$17)),IF(ISBLANK(B19),,LOOKUP(B19,'Component Weights'!$B$16:$J$16,'Component Weights'!$B$17:$J$17)),IF(ISBLANK(H19),,LOOKUP(H19,'Component Weights'!$B$16:$J$16,'Component Weights'!$B$17:$J$17)),IF(ISBLANK(I19),,LOOKUP(I19,'Component Weights'!$B$16:$J$16,'Component Weights'!$B$17:$J$17)),IF(ISBLANK(J19),,LOOKUP(J19,'Component Weights'!$B$16:$J$16,'Component Weights'!$B$17:$J$17)))","v":4},{"$f":"IF(ISBLANK(C19),\" \",(LOOKUP(C19,'Component Weights'!$B$16:$J$16,'Component Weights'!$B$17:$J$17)*$AA$4))","v":" "},{"$f":"IF(ISBLANK(D19),\" \",(LOOKUP(D19,'Component Weights'!$B$16:$J$16,'Component Weights'!$B$17:$J$17)*$AA$5))","v":0},{"$f":"IF(ISBLANK(E19),\" \",(LOOKUP(E19,'Component Weights'!$B$16:$J$16,'Component Weights'!$B$17:$J$17)*$AA$6))","v":0.08},{"$f":"IF(ISBLANK(F19),\" \",(LOOKUP(F19,'Component Weights'!$B$16:$J$16,'Component Weights'!$B$17:$J$17)*$AA$7))","v":0},{"$f":"IF(ISBLANK(G19),\" \",(LOOKUP(G19,'Component Weights'!$B$16:$J$16,'Component Weights'!$B$17:$J$17)*$AA$8))","v":0},{"$f":"IF(ISBLANK(B19),\" \",(LOOKUP(B19,'Component Weights'!$B$16:$J$16,'Component Weights'!$B$17:$J$17)*$AA$9))","v":" "},{"$f":"IF(ISBLANK(H19),\" \",(LOOKUP(H19,'Component Weights'!$B$16:$J$16,'Component Weights'!$B$17:$J$17)*$AA$10))","v":0.12},{"$f":"IF(ISBLANK(I19),\" \",(LOOKUP(I19,'Component Weights'!$B$16:$J$16,'Component Weights'!$B$17:$J$17)*$AA$11))","v":0},{"$f":"IF(ISBLANK(J19),\" \",(LOOKUP(J19,'Component Weights'!$B$16:$J$16,'Component Weights'!$B$17:$J$17)*$AA$12))","v":0.24},0.44,18,null,0.44]
["Synthetic Fiber Carpeting",null,null,"N","N","N","N","L","N","M",{"$f":"SUM(IF(ISBLANK(C20),,LOOKUP(C20,'Component Weights'!$B$16:$J$16,'Component Weights'!$B$17:$J$17)),IF(ISBLANK(D20),,LOOKUP(D20,'Component Weights'!$B$16:$J$16,'Component Weights'!$B$17:$J$17)),IF(ISBLANK(E20),,LOOKUP(E20,'Component Weights'!$B$16:$J$16,'Component Weights'!$B$17:$J$17)),IF(ISBLANK(F20),,LOOKUP(F20,'Component Weights'!$B$16:$J$16,'Component Weights'!$B$17:$J$17)),IF(ISBLANK(G20),,LOOKUP(G20,'Component Weights'!$B$16:$J$16,'Component Weights'!$B$17:$J$17)),IF(ISBLANK(B20),,LOOKUP(B20,'Component Weights'!$B$16:$J$16,'Component Weights'!$B$17:$J$17)),IF(ISBLANK(H20),,LOOKUP(H20,'Component Weights'!$B$16:$J$16,'Component Weights'!$B$17:$J$17)),IF(ISBLANK(I20),,LOOKUP(I20,'Component Weights'!$B$16:$J$16,'Component Weights'!$B$17:$J$17)),IF(ISBLANK(J20),,LOOKUP(J20,'Component Weights'!$B$16:$J$16,'Component Weights'!$B$17:$J$17)))","v":3},{"$f":"IF(ISBLANK(C20),\" \",(LOOKUP(C20,'Component Weights'!$B$16:$J$16,'Component Weights'!$B$17:$J$17)*$AA$4))","v":" "},{"$f":"IF(ISBLANK(D20),\" \",(LOOKUP(D20,'Component Weights'!$B$16:$J$16,'Component Weights'!$B$17:$J$17)*$AA$5))","v":0},{"$f":"IF(ISBLANK(E20),\" \",(LOOKUP(E20,'Component Weights'!$B$16:$J$16,'Component Weights'!$B$17:$J$17)*$AA$6))","v":0},{"$f":"IF(ISBLANK(F20),\" \",(LOOKUP(F20,'Component Weights'!$B$16:$J$16,'Component Weights'!$B$17:$J$17)*$AA$7))","v":0},{"$f":"IF(ISBLANK(G20),\" \",(LOOKUP(G20,'Component Weights'!$B$16:$J$16,'Component Weights'!$B$17:$J$17)*$AA$8))","v":0},{"$f":"IF(ISBLANK(B20),\" \",(LOOKUP(B20,'Component Weights'!$B$16:$J$16,'Component Weights'!$B$17:$J$17)*$AA$9))","v":" "},{"$f":"IF(ISBLANK(H20),\" \",(LOOKUP(H20,'Component Weights'!$B$16:$J$16,'Component Weights'!$B$17:$J$17)*$AA$10))","v":0.12},{"$f":"IF(ISBLANK(I20),\" \",(LOOKUP(I20,'Component Weights'!$B$16:$J$16,'Component Weights'!$B$17:$J$17)*$AA$11))","v":0},{"$f":"IF(ISBLANK(J20),\" \",(LOOKUP(J20,'Component Weights'!$B$16:$J$16,'Component Weights'!$B$17:$J$17)*$AA$12))","v":0.24},0.36,19,null,0.36]
["Vinyl Linoleum",null,null,"N","N","N","N","L","N","L",{"$f":"SUM(IF(ISBLANK(C21),,LOOKUP(C21,'Component Weights'!$B$16:$J$16,'Component Weights'!$B$17:$J$17)),IF(ISBLANK(D21),,LOOKUP(D21,'Component Weights'!$B$16:$J$16,'Component Weights'!$B$17:$J$17)),IF(ISBLANK(E21),,LOOKUP(E21,'Component Weights'!$B$16:$J$16,'Component Weights'!$B$17:$J$17)),IF(ISBLANK(F21),,LOOKUP(F21,'Component Weights'!$B$16:$J$16,'Component Weights'!$B$17:$J$17)),IF(ISBLANK(G21),,LOOKUP(G21,'Component Weights'!$B$16:$J$16,'Component Weights'!$B$17:$J$17)),IF(ISBLANK(B21),,LOOKUP(B21,'Component Weights'!$B$16:$J$16,'Component Weights'!$B$17:$J$17)),IF(ISBLANK(H21),,LOOKUP(H21,'Component Weights'!$B$16:$J$16,'Component Weights'!$B$17:$J$17)),IF(ISBLANK(I21),,LOOKUP(I21,'Component Weights'!$B$16:$J$16,'Component Weights'!$B$17:$J$17)),IF(ISBLANK(J21),,LOOKUP(J21,'Component Weights'!$B$16:$J$16,'Component Weights'!$B$17:$J$17)))","v":2},{"$f":"IF(ISBLANK(C21),\" \",(LOOKUP(C21,'Component Weights'!$B$16:$J$16,'Component Weights'!$B$17:$J$17)*$AA$4))","v":" "},{"$f":"IF(ISBLANK(D21),\" \",(LOOKUP(D21,'Component Weights'!$B$16:$J$16,'Component Weights'!$B$17:$J$17)*$AA$5))","v":0},{"$f":"IF(ISBLANK(E21),\" \",(LOOKUP(E21,'Component Weights'!$B$16:$J$16,'Component Weights'!$B$17:$J$17)*$AA$6))","v":0},{"$f":"IF(ISBLANK(F21),\" \",(LOOKUP(F21,'Component Weights'!$B$16:$J$16,'Component Weights'!$B$17:$J$17)*$AA$7))","v":0},{"$f":"IF(ISBLANK(G21),\" \",(LOOKUP(G21,'Component Weights'!$B$16:$J$16,'Component Weights'!$B$17:$J$17)*$AA$8))","v":0},{"$f":"IF(ISBLANK(B21),\" \",(LOOKUP(B21,'Component Weights'!$B$16:$J$16,'Component Weights'!$B$17:$J$17)*$AA$9))","v":" "},{"$f":"IF(ISBLANK(H21),\" \",(LOOKUP(H21,'Component Weights'!$B$16:$J$16,'Component Weights'!$B$17:$J$17)*$AA$10))","v":0.12},{"$f":"IF(ISBLANK(I21),\" \",(LOOKUP(I21,'Component Weights'!$B$16:$J$16,'Component Weights'!$B$17:$J$17)*$AA$11))","v":0},{"$f":"IF(ISBLANK(J21),\" \",(LOOKUP(J21,'Component Weights'!$B$16:$J$16,'Component Weights'!$B$17:$J$17)*$AA$12))","v":0.12},0.24,20,null,0.24]
["Petroleum-based Linoleum",null,null,"N","N","N","N","N","N","L",{"$f":"SUM(IF(ISBLANK(C22),,LOOKUP(C22,'Component Weights'!$B$16:$J$16,'Component Weights'!$B$17:$J$17)),IF(ISBLANK(D22),,LOOKUP(D22,'Component Weights'!$B$16:$J$16,'Component Weights'!$B$17:$J$17)),IF(ISBLANK(E22),,LOOKUP(E22,'Component Weights'!$B$16:$J$16,'Component Weights'!$B$17:$J$17)),IF(ISBLANK(F22),,LOOKUP(F22,'Component Weights'!$B$16:$J$16,'Component Weights'!$B$17:$J$17)),IF(ISBLANK(G22),,LOOKUP(G22,'Component Weights'!$B$16:$J$16,'Component Weights'!$B$17:$J$17)),IF(ISBLANK(B22),,LOOKUP(B22,'Component Weights'!$B$16:$J$16,'Component Weights'!$B$17:$J$17)),IF(ISBLANK(H22),,LOOKUP(H22,'Component Weights'!$B$16:$J$16,'Component Weights'!$B$17:$J$17)),IF(ISBLANK(I22),,LOOKUP(I22,'Component Weights'!$B$16:$J$16,'Component Weights'!$B$17:$J$17)),IF(ISBLANK(J22),,LOOKUP(J22,'Component Weights'!$B$16:$J$16,'Component Weights'!$B$17:$J$17)))","v":1},{"$f":"IF(ISBLANK(C22),\" \",(LOOKUP(C22,'Component Weights'!$B$16:$J$16,'Component Weights'!$B$17:$J$17)*$AA$4))","v":" "},{"$f":"IF(ISBLANK(D22),\" \",(LOOKUP(D22,'Component Weights'!$B$16:$J$16,'Component Weights'!$B$17:$J$17)*$AA$5))","v":0},{"$f":"IF(ISBLANK(E22),\" \",(LOOKUP(E22,'Component Weights'!$B$16:$J$16,'Component Weights'!$B$17:$J$17)*$AA$6))","v":0},{"$f":"IF(ISBLANK(F22),\" \",(LOOKUP(F22,'Component Weights'!$B$16:$J$16,'Component Weights'!$B$17:$J$17)*$AA$7))","v":0},{"$f":"IF(ISBLANK(G22),\" \",(LOOKUP(G22,'Component Weights'!$B$16:$J$16,'Component Weights'!$B$17:$J$17)*$AA$8))","v":0},{"$f":"IF(ISBLANK(B22),\" \",(LOOKUP(B22,'Component Weights'!$B$16:$J$16,'Component Weights'!$B$17:$J$17)*$AA$9))","v":" "},{"$f":"IF(ISBLANK(H22),\" \",(LOOKUP(H22,'Component Weights'!$B$16:$J$16,'Component Weights'!$B$17:$J$17)*$AA$10))","v":0},{"$f":"IF(ISBLANK(I22),\" \",(LOOKUP(I22,'Component Weights'!$B$16:$J$16,'Component Weights'!$B$17:$J$17)*$AA$11))","v":0},{"$f":"IF(ISBLANK(J22),\" \",(LOOKUP(J22,'Component Weights'!$B$16:$J$16,'Component Weights'!$B$17:$J$17)*$AA$12))","v":0.12},0.12,21,null,0.12]
["(Enter Custom Product Here)",null,null,null,null,null,null,null,null,null,{"$f":"SUM(IF(ISBLANK(C23),,LOOKUP(C23,'Component Weights'!$B$16:$J$16,'Component Weights'!$B$17:$J$17)),IF(ISBLANK(D23),,LOOKUP(D23,'Component Weights'!$B$16:$J$16,'Component Weights'!$B$17:$J$17)),IF(ISBLANK(E23),,LOOKUP(E23,'Component Weights'!$B$16:$J$16,'Component Weights'!$B$17:$J$17)),IF(ISBLANK(F23),,LOOKUP(F23,'Component Weights'!$B$16:$J$16,'Component Weights'!$B$17:$J$17)),IF(ISBLANK(G23),,LOOKUP(G23,'Component Weights'!$B$16:$J$16,'Component Weights'!$B$17:$J$17)),IF(ISBLANK(B23),,LOOKUP(B23,'Component Weights'!$B$16:$J$16,'Component Weights'!$B$17:$J$17)),IF(ISBLANK(H23),,LOOKUP(H23,'Component Weights'!$B$16:$J$16,'Component Weights'!$B$17:$J$17)),IF(ISBLANK(I23),,LOOKUP(I23,'Component Weights'!$B$16:$J$16,'Component Weights'!$B$17:$J$17)),IF(ISBLANK(J23),,LOOKUP(J23,'Component Weights'!$B$16:$J$16,'Component Weights'!$B$17:$J$17)))","v":0},{"$f":"IF(ISBLANK(C23),\" \",(LOOKUP(C23,'Component Weights'!$B$16:$J$16,'Component Weights'!$B$17:$J$17)*$AA$4))","v":" "},{"$f":"IF(ISBLANK(D23),\" \",(LOOKUP(D23,'Component Weights'!$B$16:$J$16,'Component Weights'!$B$17:$J$17)*$AA$5))","v":" "},{"$f":"IF(ISBLANK(E23),\" \",(LOOKUP(E23,'Component Weights'!$B$16:$J$16,'Component Weights'!$B$17:$J$17)*$AA$6))","v":" "},{"$f":"IF(ISBLANK(F23),\" \",(LOOKUP(F23,'Component Weights'!$B$16:$J$16,'Component Weights'!$B$17:$J$17)*$AA$7))","v":" "},{"$f":"IF(ISBLANK(G23),\" \",(LOOKUP(G23,'Component Weights'!$B$16:$J$16,'Component Weights'!$B$17:$J$17)*$AA$8))","v":" "},{"$f":"IF(ISBLANK(B23),\" \",(LOOKUP(B23,'Component Weights'!$B$16:$J$16,'Component Weights'!$B$17:$J$17)*$AA$9))","v":" "},{"$f":"IF(ISBLANK(H23),\" \",(LOOKUP(H23,'Component Weights'!$B$16:$J$16,'Component Weights'!$B$17:$J$17)*$AA$10))","v":" "},{"$f":"IF(ISBLANK(I23),\" \",(LOOKUP(I23,'Component Weights'!$B$16:$J$16,'Component Weights'!$B$17:$J$17)*$AA$11))","v":" "},{"$f":"IF(ISBLANK(J23),\" \",(LOOKUP(J23,'Component Weights'!$B$16:$J$16,'Component Weights'!$B$17:$J$17)*$AA$12))","v":" "},0,99,null,0]
["(Enter Custom Product Here)",null,null,null,null,null,null,null,null,null,{"$f":"SUM(IF(ISBLANK(C24),,LOOKUP(C24,'Component Weights'!$B$16:$J$16,'Component Weights'!$B$17:$J$17)),IF(ISBLANK(D24),,LOOKUP(D24,'Component Weights'!$B$16:$J$16,'Component Weights'!$B$17:$J$17)),IF(ISBLANK(E24),,LOOKUP(E24,'Component Weights'!$B$16:$J$16,'Component Weights'!$B$17:$J$17)),IF(ISBLANK(F24),,LOOKUP(F24,'Component Weights'!$B$16:$J$16,'Component Weights'!$B$17:$J$17)),IF(ISBLANK(G24),,LOOKUP(G24,'Component Weights'!$B$16:$J$16,'Component Weights'!$B$17:$J$17)),IF(ISBLANK(B24),,LOOKUP(B24,'Component Weights'!$B$16:$J$16,'Component Weights'!$B$17:$J$17)),IF(ISBLANK(H24),,LOOKUP(H24,'Component Weights'!$B$16:$J$16,'Component Weights'!$B$17:$J$17)),IF(ISBLANK(I24),,LOOKUP(I24,'Component Weights'!$B$16:$J$16,'Component Weights'!$B$17:$J$17)),IF(ISBLANK(J24),,LOOKUP(J24,'Component Weights'!$B$16:$J$16,'Component Weights'!$B$17:$J$17)))","v":0},{"$f":"IF(ISBLANK(C24),\" \",(LOOKUP(C24,'Component Weights'!$B$16:$J$16,'Component Weights'!$B$17:$J$17)*$AA$4))","v":" "},{"$f":"IF(ISBLANK(D24),\" \",(LOOKUP(D24,'Component Weights'!$B$16:$J$16,'Component Weights'!$B$17:$J$17)*$AA$5))","v":" "},{"$f":"IF(ISBLANK(E24),\" \",(LOOKUP(E24,'Component Weights'!$B$16:$J$16,'Component Weights'!$B$17:$J$17)*$AA$6))","v":" "},{"$f":"IF(ISBLANK(F24),\" \",(LOOKUP(F24,'Component Weights'!$B$16:$J$16,'Component Weights'!$B$17:$J$17)*$AA$7))","v":" "},{"$f":"IF(ISBLANK(G24),\" \",(LOOKUP(G24,'Component Weights'!$B$16:$J$16,'Component Weights'!$B$17:$J$17)*$AA$8))","v":" "},{"$f":"IF(ISBLANK(B24),\" \",(LOOKUP(B24,'Component Weights'!$B$16:$J$16,'Component Weights'!$B$17:$J$17)*$AA$9))","v":" "},{"$f":"IF(ISBLANK(H24),\" \",(LOOKUP(H24,'Component Weights'!$B$16:$J$16,'Component Weights'!$B$17:$J$17)*$AA$10))","v":" "},{"$f":"IF(ISBLANK(I24),\" \",(LOOKUP(I24,'Component Weights'!$B$16:$J$16,'Component Weights'!$B$17:$J$17)*$AA$11))","v":" "},{"$f":"IF(ISBLANK(J24),\" \",(LOOKUP(J24,'Component Weights'!$B$16:$J$16,'Component Weights'!$B$17:$J$17)*$AA$12))","v":" "},0,99,null,{"$f":"U24","v":0}]
["(Enter Custom Product Here)",null,null,null,null,null,null,null,null,null,{"$f":"SUM(IF(ISBLANK(C25),,LOOKUP(C25,'Component Weights'!$B$16:$J$16,'Component Weights'!$B$17:$J$17)),IF(ISBLANK(D25),,LOOKUP(D25,'Component Weights'!$B$16:$J$16,'Component Weights'!$B$17:$J$17)),IF(ISBLANK(E25),,LOOKUP(E25,'Component Weights'!$B$16:$J$16,'Component Weights'!$B$17:$J$17)),IF(ISBLANK(F25),,LOOKUP(F25,'Component Weights'!$B$16:$J$16,'Component Weights'!$B$17:$J$17)),IF(ISBLANK(G25),,LOOKUP(G25,'Component Weights'!$B$16:$J$16,'Component Weights'!$B$17:$J$17)),IF(ISBLANK(B25),,LOOKUP(B25,'Component Weights'!$B$16:$J$16,'Component Weights'!$B$17:$J$17)),IF(ISBLANK(H25),,LOOKUP(H25,'Component Weights'!$B$16:$J$16,'Component Weights'!$B$17:$J$17)),IF(ISBLANK(I25),,LOOKUP(I25,'Component Weights'!$B$16:$J$16,'Component Weights'!$B$17:$J$17)),IF(ISBLANK(J25),,LOOKUP(J25,'Component Weights'!$B$16:$J$16,'Component Weights'!$B$17:$J$17)))","v":0},{"$f":"IF(ISBLANK(C25),\" \",(LOOKUP(C25,'Component Weights'!$B$16:$J$16,'Component Weights'!$B$17:$J$17)*$AA$4))","v":" "},{"$f":"IF(ISBLANK(D25),\" \",(LOOKUP(D25,'Component Weights'!$B$16:$J$16,'Component Weights'!$B$17:$J$17)*$AA$5))","v":" "},{"$f":"IF(ISBLANK(E25),\" \",(LOOKUP(E25,'Component Weights'!$B$16:$J$16,'Component Weights'!$B$17:$J$17)*$AA$6))","v":" "},{"$f":"IF(ISBLANK(F25),\" \",(LOOKUP(F25,'Component Weights'!$B$16:$J$16,'Component Weights'!$B$17:$J$17)*$AA$7))","v":" "},{"$f":"IF(ISBLANK(G25),\" \",(LOOKUP(G25,'Component Weights'!$B$16:$J$16,'Component Weights'!$B$17:$J$17)*$AA$8))","v":" "},{"$f":"IF(ISBLANK(B25),\" \",(LOOKUP(B25,'Component Weights'!$B$16:$J$16,'Component Weights'!$B$17:$J$17)*$AA$9))","v":" "},{"$f":"IF(ISBLANK(H25),\" \",(LOOKUP(H25,'Component Weights'!$B$16:$J$16,'Component Weights'!$B$17:$J$17)*$AA$10))","v":" "},{"$f":"IF(ISBLANK(I25),\" \",(LOOKUP(I25,'Component Weights'!$B$16:$J$16,'Component Weights'!$B$17:$J$17)*$AA$11))","v":" "},{"$f":"IF(ISBLANK(J25),\" \",(LOOKUP(J25,'Component Weights'!$B$16:$J$16,'Component Weights'!$B$17:$J$17)*$AA$12))","v":" "},0,99,null,{"$f":"U25","v":0}]
["(Enter Custom Product Here)",null,null,null,null,null,null,null,null,null,{"$f":"SUM(IF(ISBLANK(C26),,LOOKUP(C26,'Component Weights'!$B$16:$J$16,'Component Weights'!$B$17:$J$17)),IF(ISBLANK(D26),,LOOKUP(D26,'Component Weights'!$B$16:$J$16,'Component Weights'!$B$17:$J$17)),IF(ISBLANK(E26),,LOOKUP(E26,'Component Weights'!$B$16:$J$16,'Component Weights'!$B$17:$J$17)),IF(ISBLANK(F26),,LOOKUP(F26,'Component Weights'!$B$16:$J$16,'Component Weights'!$B$17:$J$17)),IF(ISBLANK(G26),,LOOKUP(G26,'Component Weights'!$B$16:$J$16,'Component Weights'!$B$17:$J$17)),IF(ISBLANK(B26),,LOOKUP(B26,'Component Weights'!$B$16:$J$16,'Component Weights'!$B$17:$J$17)),IF(ISBLANK(H26),,LOOKUP(H26,'Component Weights'!$B$16:$J$16,'Component Weights'!$B$17:$J$17)),IF(ISBLANK(I26),,LOOKUP(I26,'Component Weights'!$B$16:$J$16,'Component Weights'!$B$17:$J$17)),IF(ISBLANK(J26),,LOOKUP(J26,'Component Weights'!$B$16:$J$16,'Component Weights'!$B$17:$J$17)))","v":0},{"$f":"IF(ISBLANK(C26),\" \",(LOOKUP(C26,'Component Weights'!$B$16:$J$16,'Component Weights'!$B$17:$J$17)*$AA$4))","v":" "},{"$f":"IF(ISBLANK(D26),\" \",(LOOKUP(D26,'Component Weights'!$B$16:$J$16,'Component Weights'!$B$17:$J$17)*$AA$5))","v":" "},{"$f":"IF(ISBLANK(E26),\" \",(LOOKUP(E26,'Component Weights'!$B$16:$J$16,'Component Weights'!$B$17:$J$17)*$AA$6))","v":" "},{"$f":"IF(ISBLANK(F26),\" \",(LOOKUP(F26,'Component Weights'!$B$16:$J$16,'Component Weights'!$B$17:$J$17)*$AA$7))","v":" "},{"$f":"IF(ISBLANK(G26),\" \",(LOOKUP(G26,'Component Weights'!$B$16:$J$16,'Component Weights'!$B$17:$J$17)*$AA$8))","v":" "},{"$f":"IF(ISBLANK(B26),\" \",(LOOKUP(B26,'Component Weights'!$B$16:$J$16,'Component Weights'!$B$17:$J$17)*$AA$9))","v":" "},{"$f":"IF(ISBLANK(H26),\" \",(LOOKUP(H26,'Component Weights'!$B$16:$J$16,'Component Weights'!$B$17:$J$17)*$AA$10))","v":" "},{"$f":"IF(ISBLANK(I26),\" \",(LOOKUP(I26,'Component Weights'!$B$16:$J$16,'Component Weights'!$B$17:$J$17)*$AA$11))","v":" "},{"$f":"IF(ISBLANK(J26),\" \",(LOOKUP(J26,'Component Weights'!$B$16:$J$16,'Component Weights'!$B$17:$J$17)*$AA$12))","v":" "},0,99,null,{"$f":"U26","v":0}]
["(Enter Custom Product Here)",null,null,null,null,null,null,null,null,null,{"$f":"SUM(IF(ISBLANK(C27),,LOOKUP(C27,'Component Weights'!$B$16:$J$16,'Component Weights'!$B$17:$J$17)),IF(ISBLANK(D27),,LOOKUP(D27,'Component Weights'!$B$16:$J$16,'Component Weights'!$B$17:$J$17)),IF(ISBLANK(E27),,LOOKUP(E27,'Component Weights'!$B$16:$J$16,'Component Weights'!$B$17:$J$17)),IF(ISBLANK(F27),,LOOKUP(F27,'Component Weights'!$B$16:$J$16,'Component Weights'!$B$17:$J$17)),IF(ISBLANK(G27),,LOOKUP(G27,'Component Weights'!$B$16:$J$16,'Component Weights'!$B$17:$J$17)),IF(ISBLANK(B27),,LOOKUP(B27,'Component Weights'!$B$16:$J$16,'Component Weights'!$B$17:$J$17)),IF(ISBLANK(H27),,LOOKUP(H27,'Component Weights'!$B$16:$J$16,'Component Weights'!$B$17:$J$17)),IF(ISBLANK(I27),,LOOKUP(I27,'Component Weights'!$B$16:$J$16,'Component Weights'!$B$17:$J$17)),IF(ISBLANK(J27),,LOOKUP(J27,'Component Weights'!$B$16:$J$16,'Component Weights'!$B$17:$J$17)))","v":0},{"$f":"IF(ISBLANK(C27),\" \",(LOOKUP(C27,'Component Weights'!$B$16:$J$16,'Component Weights'!$B$17:$J$17)*$AA$4))","v":" "},{"$f":"IF(ISBLANK(D27),\" \",(LOOKUP(D27,'Component Weights'!$B$16:$J$16,'Component Weights'!$B$17:$J$17)*$AA$5))","v":" "},{"$f":"IF(ISBLANK(E27),\" \",(LOOKUP(E27,'Component Weights'!$B$16:$J$16,'Component Weights'!$B$17:$J$17)*$AA$6))","v":" "},{"$f":"IF(ISBLANK(F27),\" \",(LOOKUP(F27,'Component Weights'!$B$16:$J$16,'Component Weights'!$B$17:$J$17)*$AA$7))","v":" "},{"$f":"IF(ISBLANK(G27),\" \",(LOOKUP(G27,'Component Weights'!$B$16:$J$16,'Component Weights'!$B$17:$J$17)*$AA$8))","v":" "},{"$f":"IF(ISBLANK(B27),\" \",(LOOKUP(B27,'Component Weights'!$B$16:$J$16,'Component Weights'!$B$17:$J$17)*$AA$9))","v":" "},{"$f":"IF(ISBLANK(H27),\" \",(LOOKUP(H27,'Component Weights'!$B$16:$J$16,'Component Weights'!$B$17:$J$17)*$AA$10))","v":" "},{"$f":"IF(ISBLANK(I27),\" \",(LOOKUP(I27,'Component Weights'!$B$16:$J$16,'Component Weights'!$B$17:$J$17)*$AA$11))","v":" "},{"$f":"IF(ISBLANK(J27),\" \",(LOOKUP(J27,'Component Weights'!$B$16:$J$16,'Component Weights'!$B$17:$J$17)*$AA$12))","v":" "},0,99,null,{"$f":"U27","v":0}]
["(Enter Custom Product Here)",null,null,null,null,null,null,null,null,null,{"$f":"SUM(IF(ISBLANK(C28),,LOOKUP(C28,'Component Weights'!$B$16:$J$16,'Component Weights'!$B$17:$J$17)),IF(ISBLANK(D28),,LOOKUP(D28,'Component Weights'!$B$16:$J$16,'Component Weights'!$B$17:$J$17)),IF(ISBLANK(E28),,LOOKUP(E28,'Component Weights'!$B$16:$J$16,'Component Weights'!$B$17:$J$17)),IF(ISBLANK(F28),,LOOKUP(F28,'Component Weights'!$B$16:$J$16,'Component Weights'!$B$17:$J$17)),IF(ISBLANK(G28),,LOOKUP(G28,'Component Weights'!$B$16:$J$16,'Component Weights'!$B$17:$J$17)),IF(ISBLANK(B28),,LOOKUP(B28,'Component Weights'!$B$16:$J$16,'Component Weights'!$B$17:$J$17)),IF(ISBLANK(H28),,LOOKUP(H28,'Component Weights'!$B$16:$J$16,'Component Weights'!$B$17:$J$17)),IF(ISBLANK(I28),,LOOKUP(I28,'Component Weights'!$B$16:$J$16,'Component Weights'!$B$17:$J$17)),IF(ISBLANK(J28),,LOOKUP(J28,'Component Weights'!$B$16:$J$16,'Component Weights'!$B$17:$J$17)))","v":0},{"$f":"IF(ISBLANK(C28),\" \",(LOOKUP(C28,'Component Weights'!$B$16:$J$16,'Component Weights'!$B$17:$J$17)*$AA$4))","v":" "},{"$f":"IF(ISBLANK(D28),\" \",(LOOKUP(D28,'Component Weights'!$B$16:$J$16,'Component Weights'!$B$17:$J$17)*$AA$5))","v":" "},{"$f":"IF(ISBLANK(E28),\" \",(LOOKUP(E28,'Component Weights'!$B$16:$J$16,'Component Weights'!$B$17:$J$17)*$AA$6))","v":" "},{"$f":"IF(ISBLANK(F28),\" \",(LOOKUP(F28,'Component Weights'!$B$16:$J$16,'Component Weights'!$B$17:$J$17)*$AA$7))","v":" "},{"$f":"IF(ISBLANK(G28),\" \",(LOOKUP(G28,'Component Weights'!$B$16:$J$16,'Component Weights'!$B$17:$J$17)*$AA$8))","v":" "},{"$f":"IF(ISBLANK(B28),\" \",(LOOKUP(B28,'Component Weights'!$B$16:$J$16,'Component Weights'!$B$17:$J$17)*$AA$9))","v":" "},{"$f":"IF(ISBLANK(H28),\" \",(LOOKUP(H28,'Component Weights'!$B$16:$J$16,'Component Weights'!$B$17:$J$17)*$AA$10))","v":" "},{"$f":"IF(ISBLANK(I28),\" \",(LOOKUP(I28,'Component Weights'!$B$16:$J$16,'Component Weights'!$B$17:$J$17)*$AA$11))","v":" "},{"$f":"IF(ISBLANK(J28),\" \",(LOOKUP(J28,'Component Weights'!$B$16:$J$16,'Component Weights'!$B$17:$J$17)*$AA$12))","v":" "},0,99,null,0]
[null,null,null,null,null,null,null,null,null,null,{"$f":"AVERAGE(K$2:K22)","v":12.285714285714286},{"$f":"AVERAGE(L$2:L22)","v":{"$error":"#DIV/0!"}},{"$f":"AVERAGE(M$2:M22)","v":0.1542857142857143},{"$f":"AVERAGE(N$2:N22)","v":0.14095238095238097},{"$f":"AVERAGE(O$2:O22)","v":0.12571428571428575},{"$f":"AVERAGE(P$2:P22)","v":7.6190476190476211E-2},{"$f":"AVERAGE(Q$2:Q22)","v":{"$error":"#DIV/0!"}},{"$f":"AVERAGE(R$2:R22)","v":0.24571428571428577},{"$f":"AVERAGE(S$2:S22)","v":0.1676190476190477},{"$f":"AVERAGE(T$2:T22)","v":0.30285714285714294},{"$f":"AVERAGE(U$2:U22)","v":1.2133333333333336},{"$f":"IF(AND(OR(#REF!=72,#REF!=73,#REF!=74,#REF!=75,#REF!=76),$U29>0),RANK($U29,Y$3:Y$43,0),\" \")","v":{"$error":"#REF!"}}]

{"sheet":"Top Picks","index":19,"n_rows":58,"n_cols":6,"rows_kept":58,"cut":false,"hidden":false,"merged":[]}
["Instructions:\nPress the Import Top Picks button to sort and import the five products in each category that best match your priorities.  Click on the printer icon or select File/Print to print your Top Picks report.\n\n",null,null,"Detailed instructions and options for using this tool are found in the Using the DYO(R) GBD Kit Decision Matrix Software Section in your DYO(R) Green Building Decision Kit."]
["My Overall Priorities:"]
[]
["Components","Weight"]
[]
["Incremental Energy Savings",0.08]
["Use of Recycled Content",0.12]
["Low Energy Usage Manufacturing Process",0.08]
["Easily Biodegradable",0.12]
["Made from Natural Materials",0.05]
["Available Locally",0.23]
["Low Emissions Potential",0.12]
["Listed in Other Programs (e.g. EnergyStar)",0.08]
["Non Hazardous as Waste",0.12]
[]
["My Top Picks:"]
[]
["Structural Building Materials",null,null,"Exteriors",null,"Windows"]
["Straw Bale Construction",null,null,"Wood",null,"Composite - Double Pane w/Low-E"]
["Rammed Earth",null,null,"Artificial Stone",null,"Composite - Double Pane w/Low-E & Argon"]
["Wood Framing - \"Stick Built\"",null,null,"Composite",null,"Composite - Double Pane w/Argon"]
["Adobe",null,null,"Brick",null,"Composite - Triple Pane w/Low-E & Argon"]
["Engineered Wood – Trusses – Laminated Beams",null,null,"Masonry",null,"Composite - Triple Pane w/Argon"]
[]
["Roofing",null,null,"Insulation",null,"Flooring"]
["Plant based “Green” Roof",null,null,"Cellulose",null,"Wool/Cotton Carpeting"]
["Wood",null,null,"Recycled Denim",null,"Wool/Cotton Area Rugs"]
["Eco Slate (made from recycled materials)",null,null,"Cotton ",null,"Recycled/Reclaimed Wood Flooring"]
["Slate (natural stone)",null,null,"Soy Foam",null,"Bamboo Flooring"]
["Clay Tile",null,null,"Vermiculite",null,"Natural Linoleum"]
[]
["Heating",null,null,"Cooling",null,"Water Heating"]
["Radiant Heat System/Hydronic",null,null,"Ceiling Fans",null,"Instantaneous/Tankless Style - Gas"]
["External Heat Source",null,null,"Heat Pump",null,"Instantaneous/Tankless Style - Electric"]
["Geothermal System",null,null,"Central Air Conditioning, Eco-Friendly Refrigerant",null,"Ground Source Heat Pump - Desuperheater"]
["Radiant Heat System/Electric",null,null,"Window Air Conditioners, Eco-Friendly Refrigerant",null,"Heat Pump Water Heater - COP 2+"]
["Fireplace Insert",null,null,"Evaporative Cooling System",null,"Standard Tank Style - Gas"]
[]
["Fuel Types",null,null,"Interior Finishes",null,"Wood Finishes"]
["Bio-Mass Burning",null,null,"Water Based",null,"Natural Oils"]
["Pellet Burning",null,null,"Low VOC",null,"Water Based"]
["Maize Burning",null,null,"No VOC",null,"Low VOC"]
["Solar Thermal",null,null,"Oil Based",null,"No VOC"]
["Electric – Direct Current (DC) - from Solar, Wind, Hydrogen, Water (on-site) ",null,null,"(Enter Custom Product Here)",null,"Alcohol Based"]
[]
["Ventilation",null,null,"Ventilation Filters",null,"Lighting"]
["Heat Recovery Ventilator",null,null,"High-Efficiency Pleated",null,"LED (Light Emitting Diode)"]
["Energy Recovery Ventilator",null,null,"Medium-Efficiency Pleated",null,"Compact Fluorescent"]
["Passive Wall Vents",null,null,"Carbon/Charcoal",null,"Metal Halides (exterior)"]
["Atmospheric Dampers",null,null,"Low-Efficiency Pleated",null,"Standard Fluorescent"]
["Combustion Air Supply/Outside Combustion Air Ports",null,null,"HEPA",null,"Low Pressure Sodium (exterior)"]
[]
["Rainwater Catchment",null,null,"Water Pipes",null,"Plumbing Fixtures"]
["Cistern/Above Ground",null,null,"Galvanized Steel",null,"Composting Toilet"]
["Cistern/Below Ground",null,null,"Copper",null,"Waterless Urinal"]
["Metal Drums",null,null,"PEX",null,"Dual Flush Toilet"]
["Fiberglass Tanks",null,null,"PVC",null,"Low-flow Gravity Toilet"]
["Plastic Barrels",null,null,"Chlorinated PVC",null,"Standard Urinal"]